Workbook
Name _c: #REF!
Name _r: #REF!
Name A: #REF!
Name AX: #REF!
Name AY: #REF!
Name AZ: #REF!
Name BA: #REF!
Name BB: #REF!
Name BC: #REF!
Name BD: #REF!
Name BE: #REF!
Name BF: #REF!
Name BG: #REF!
Name BH: #REF!
Name BI: #REF!
Name BJ: #REF!
Name BK: #REF!
Name BL: #REF!
Name BM: #REF!
Name BN: #REF!
Name BO: #REF!
Name BP: #REF!
Name BQ: #REF!
Name BR: #REF!
Name BS: #REF!
Name BT: #REF!
Name BU: #REF!
Name BV: #REF!
Name BW: #REF!
Name BX: #REF!
Name BY: #REF!
Name BZ: #REF!
Name CA: #REF!
Name CB: #REF!
Name CCC: #REF!
Name CD: #REF!
Name CE: #REF!
Name CF: #REF!
Name CG: #REF!
Name CH: #REF!
Name CI: #REF!
Name CJ: #REF!
Name CK: #REF!
Name CL: #REF!
Name CM: #REF!
Name CN: #REF!
Name CO: #REF!
Name CP: #REF!
Name CQ: #REF!
Name CR: #REF!
Name CS: #REF!
Name CT: #REF!
Name CTO: #REF!
Name CU: #REF!
Name CV: #REF!
Name CW: #REF!
Name CX: #REF!
Name CY: #REF!
Name CZ: #REF!
Name C일: #REF!

Sheet 원가
A1: 원 가 계 산 | E1: 공 사 명 : | F1: 가야동 가야여중 주변 상수도관 정비공사 | J1: 0
A3: 공 사 명 : | C3: =#REF! -> #REF! | O3: =IF(OR(E55=[9]총내!F43,원가!E56=[9]총내!F44),"그 래","NO") -> #REF!
C5: 구 분 | E5: 금 액 | G5: 구 성 비 | I5: 비 고
A6: 비 목
A7: 순 공 사 비 원 가 | B7: 재 료 비 | C7: 직 접 재 료 비
C9: 소 계
B11: 노 무 비 | C11: 직 접 노 무 비
C13: 간 접 노 무 비 | F13: =IF(E13>0,F14,0) -> 0 | G13: =IF(E13=0,0,G14) -> 0
F14: 0.116 | G14: × ( 직접노무비 )
C15: 소 계
B17: 경 비 | C17: 기 계 경 비
C19: 산 재 보 험 료 | F19: =IF(E19>0,F20,0) -> 0 | G19: =IF(E19=0,0,G20) -> 0 | H19: =IF(E19=0,0,H20) -> 0
F20: 0.039 | G20: × ( 노무비 )
C21: 고 용 보 험 료 | F21: =IF(E21>0,F22,0) -> 0 | G21: =IF(E21=0,0,G22) -> 0
F22: 0.0087 | G22: × ( 노무비 )
C23: 건 강 보 험 료 | F23: =IF(E23>0,F24,0) -> 0 | G23: =IF(E23=0,0,G24) -> 0 | H23: =IF(E23=0,0,H24) -> 0
F24: 0.017 | G24: =IF(E24=0,0,"× (직접노무비)") -> 0 | J24: =IF([9]수탁!P1>0,[9]수탁!P1) -> FALSE
C25: 노인장기요양보험료 | F25: =IF(E25>0,F26,0) -> 0 | G25: =IF(E25=0,0,G26) -> 0 | H25: =IF(E25=0,0,H26) -> 0
F26: 0.0655 | G26: × ( 건강보험료 )
C27: 연 금 보 험 료 | F27: =IF(E27>0,F28,0) -> 0 | G27: =IF(E27=0,0,G28) -> 0 | H27: =IF(E27=0,0,H28) -> 0
F28: 0.0249 | G28: =IF(E28=0,0,"× (직접노무비)") -> 0
C29: 안 전 관 리 비 | G29: =IF(E29=0,0,G30) -> 0
F30: =IF(J1=1,0,IF(J1=2,0,2.93%)) -> 0.0293 | G30: =IF(E30>0,"× ( 재료비 + 직접노무비 )",0) -> 0 | J30: =INT((E8+E12)*K30*1.2) -> 0 | K30: 0.0293 | N30: (재료비 + 노무비) | Q30: =ROUNDDOWN(J30/S30,0) -> #REF! | S30: =내역!#REF! -> #REF! | T30: =S30*Q30 -> #REF! | U30: =IF(T30>J28,ROUND(J28/S30,1),R30) -> #REF!
C31: 환 경 보 존 비 | G31: =IF(E31=0,0,G32) -> 0
F32: =IF(J1=1,0,0.5%) -> 0.005 | G32: =IF(E32>0,"× ( 재료비 + 직접노무비 + 경비 )",0) -> 0
C33: 기 타 경 비 | F33: =IF(E33>0,F34,0) -> 0 | G33: =IF(E33=0,0,G34) -> 0
F34: 0.06 | G34: × ( 재료비 + 노무비 )
C35: 퇴직공제부금 | F35: =IF(E35>0,F36,0) -> 0 | G35: =IF(E35=0,0,G36) -> 0
F36: 0 | G36: × ( 직접노무비 ) | J36: =IF([9]수탁!P1>0,[9]수탁!P1) -> FALSE
C37: 건설기계대여대금 | F37: =IF(E37>0,F38,0) -> 0 | G37: =IF(E37=0,0,G38) -> 0
F38: =IF(J1=1,0,0.49%) -> 0.0049 | G38: × (재 + 직노 + 산경) | J38: =IF([9]입력!B21=인력,FALSE,0) -> #NAME?
C39: 소 계
A41: 합 계
A43: 일 반 관 리 비 | F43: =IF(E43>0,F44,0) -> 0 | G43: =IF(E43=0,0,G44) -> 0
F44: 0.06 | G44: × (합계)
A45: 이 윤 | F45: =IF(E45>0,F46,0) -> 0 | G45: =IF(E45=0,0,G46) -> 0
F46: 0.15 | G46: 이내 × ( 합계 + 일반관리비 - 재료비 ) | J46: =INT((E42+E44-E10)*F46) -> 0 | L46: 이윤 | N46: 이윤 | P46: =E46 -> 0 | R46: =INT((SUM(E42,E44,-E10)*F46)-J50) -> 0
A47: 폐 기 물 처 리 비 | M47: =MOD(K47,1000) -> 0
J48: =SUM(E42,E44,J46,E48,E50) -> 0 | L48: 총원가 | N48: 총원가 | P48: =E46/(E42+E44-E10) -> #DIV/0!
A49: 고 철 공 제 비
...

Sheet 내역
A1: 1 | B1: =[9]입력!J78 -> 2 | Q1: =SUBTOTAL(9,Q1544,Q1640,Q1724,Q1780,Q1864) -> 0
A2: =IF([9]입력!V19=TRUE,1,0) -> 0 | B2: =CHOOSE([9]입력!P79,0,45,90,135,180) -> 180 | D2: =[9]입력!N87 -> 5 | E2: 1
E3: =[9]입력!U38 -> 0
I4: 2490 | J4: 1650
E5: 1 | F5: =[9]입력!G89 -> 1 | G5: 품 명 | H5: 규 격 | J5: 수 량 | K5: 단 | L5: 총 액 | N5: 재 료 비 | P5: 노 무 비 | R5: 경 비 | T5: 비고
E6: 1 | K6: 위 | L6: 단 가 | M6: 금 액 | N6: 단 가 | O6: 금 액 | P6: 단 가 | Q6: 금 액 | R6: 단 가 | S6: 금 액
E7: =IF(M8>0,2,"") | M7: =SUM(N7:S7) -> 0 | O7: =SUMPRODUCT((MOD(ROW(O9:O576),2)=1)*O9:O576) -> 0 | Q7: =SUMPRODUCT((MOD(ROW(Q9:Q576),2)=1)*Q9:Q576) -> 0 | S7: =SUMPRODUCT((MOD(ROW(S9:S576),2)=1)*S9:S576) -> 0
A8: 1토공 | B8: =IF(M8>0,1,0) -> 0 | E8: =IF(M8>0,1,0) -> 0 | F8: =SUM($B$8) -> 0 | G8: 토 공
E9: =IF(OR(M9>0,M10>0),2,"") | J9: 0 | L9: =SUM(N9,P9,R9) -> 0 | M9: =SUM(O9,Q9,S9) -> 0 | N9: =IF(J9=0,0,N10*$E$3) -> 0 | O9: =INT($J9*N9) -> 0 | P9: =IF(J9=0,0,P10*$E$3) -> 0 | Q9: =INT($J9*P9) -> 0 | R9: =IF(J9=0,0,R10*$E$3) -> 0 | S9: =INT($J9*R9) -> 0
D10: =CHOOSE(IF(C10>0,C10,$F$5),0,"(야)","(지세별)","(지+소)","(누.불)","(야+소)","(원내역)") -> 0 | E10: =IF(OR(M9>0,M10>0),1,0) -> 0 | F10: 토공1 | G10: ASP 포장캇트 | H10: 2차로 | I10: =CHOOSE(IF(C10>0,C10,$F$5),0,"(야간)","(지세별)","(소규모)","(누수)","(야+소)","") -> 0 | J10: 862.8 | K10: m
E11: =IF(OR(M11>0,M12>0),2,"") | J11: 0 | L11: =SUM(N11,P11,R11) -> 0 | M11: =SUM(O11,Q11,S11) -> 0 | N11: =IF(J11=0,0,N12*$E$3) -> 0 | O11: =INT($J11*N11) -> 0 | P11: =IF(J11=0,0,P12*$E$3) -> 0 | Q11: =INT($J11*P11) -> 0 | R11: =IF(J11=0,0,R12*$E$3) -> 0 | S11: =INT($J11*R11) -> 0
C12: 2 | D12: =CHOOSE(IF(C12>0,C12,$F$5),0,"(야)","(지세별)","(지+소)","(누.불)","(야+소)","(원내역)") -> (야) | E12: =IF(OR(M11>0,M12>0),1,0) -> 0 | F12: 토공1 | G12: ASP 포장캇트 | H12: 2차로 | I12: =CHOOSE(IF(C12>0,C12,$F$5),0,"(야간)","(지세별)","(지+소)","(누.불)","(야+소)","") -> (야간) | J12: 189.1 | K12: m
E13: =IF(OR(M13>0,M14>0),2,"") | J13: 0 | L13: =SUM(N13,P13,R13) -> 0 | M13: =SUM(O13,Q13,S13) -> 0 | N13: =IF(J13=0,0,N14*$E$3) -> 0 | O13: =INT($J13*N13) -> 0 | P13: =IF(J13=0,0,P14*$E$3) -> 0 | Q13: =INT($J13*P13) -> 0 | R13: =IF(J13=0,0,R14*$E$3) -> 0 | S13: =INT($J13*R13) -> 0
D14: =CHOOSE(IF(C14>0,C14,$F$5),0,"(야)","(지세별)","(지+소)","(누.불)","(야+소)","(원내역)") -> 0 | E14: =IF(OR(M13>0,M14>0),1,0) -> 0 | G14: CON'C 포장캇트 | H14: 2차로 | I14: =CHOOSE(IF(C14>0,C14,$F$5),0,"(야간)","(지세별)","(소규모)","(누수)","(야+소)","") -> 0 | J14: 0 | K14: m | L14: =SUM(N14,P14,R14) -> 0 | M14: =SUM(O14,Q14,S14) -> 0 | N14: =IF(AND(J13=0,J14=0),0,INT(CHOOSE(IF(C14>0,C14,$F$5),#REF!,#REF!,#REF!,#REF!,#REF!,#REF!,#REF!))) -> 0 | O14: =INT($J14*N14) -> 0 | P14: =IF(AND(J13=0,J14=0),0,INT(CHOOSE(IF(C14>0,C14,$F$5),#REF!,#REF!,#REF!,#REF!,#REF!,#REF!,#REF!))) -> 0 | Q14: =INT($J14*P14) -> 0 | R14: =IF(AND(J13=0,J14=0),0,INT(CHOOSE(IF(C14>0,C14,$F$5),#REF!,#REF!,#REF!,#REF!,#REF!,#REF!,#REF!))) -> 0 | S14: =INT($J14*R14) -> 0
E15: =IF(OR(M15>0,M16>0),2,"") | J15: 0 | L15: =SUM(N15,P15,R15) -> 0 | M15: =SUM(O15,Q15,S15) -> 0 | N15: =IF(J15=0,0,N16*$E$3) -> 0 | O15: =INT($J15*N15) -> 0 | P15: =IF(J15=0,0,P16*$E$3) -> 0 | Q15: =INT($J15*P15) -> 0 | R15: =IF(J15=0,0,R16*$E$3) -> 0 | S15: =INT($J15*R15) -> 0
C16: 2 | D16: =CHOOSE(IF(C16>0,C16,$F$5),0,"(야)","(지세별)","(지+소)","(누.불)","(야+소)","(원내역)") -> (야) | E16: =IF(OR(M15>0,M16>0),1,0) -> 0 | G16: CON'C 포장캇트 | H16: 2차로 | I16: =CHOOSE(IF(C16>0,C16,$F$5),0,"(야간)","(지세별)","(지+소)","(누.불)","(야+소)","") -> (야간) | J16: 0 | K16: m | L16: =SUM(N16,P16,R16) -> 0 | M16: =SUM(O16,Q16,S16) -> 0 | N16: =IF(AND(J15=0,J16=0),0,INT(CHOOSE(IF(C16>0,C16,$F$5),#REF!,#REF!,#REF!,#REF!,#REF!,#REF!,#REF!))) -> 0 | O16: =INT($J16*N16) -> 0 | P16: =IF(AND(J15=0,J16=0),0,INT(CHOOSE(IF(C16>0,C16,$F$5),#REF!,#REF!,#REF!,#REF!,#REF!,#REF!,#REF!))) -> 0 | Q16: =INT($J16*P16) -> 0 | R16: =IF(AND(J15=0,J16=0),0,INT(CHOOSE(IF(C16>0,C16,$F$5),#REF!,#REF!,#REF!,#REF!,#REF!,#REF!,#REF!))) -> 0 | S16: =INT($J16*R16) -> 0
E17: =IF(OR(M17>0,M18>0),2,"") | J17: 0 | L17: =SUM(N17,P17,R17) -> 0 | M17: =SUM(O17,Q17,S17) -> 0 | N17: =IF(J17=0,0,N18*$E$3) -> 0 | O17: =INT($J17*N17) -> 0 | P17: =IF(J17=0,0,P18*$E$3) -> 0 | Q17: =INT($J17*P17) -> 0 | R17: =IF(J17=0,0,R18*$E$3) -> 0 | S17: =INT($J17*R17) -> 0
D18: =CHOOSE(IF(C18>0,C18,$F$5),0,"(야)","(지세별)","(지+소)","(누.불)","(야+소)","(원내역)") -> 0 | E18: =IF(OR(M17>0,M18>0),1,0) -> 0 | G18: ASP 포장도깨기 및 싣기 | H18: 소형브레이카+콤프레사 | I18: =CHOOSE(IF(C18>0,C18,$F$5),0,"(야간)","(지세별)","(소규모)","(누수)","(야+소)","") -> 0 | K18: ㎥ | L18: =SUM(N18,P18,R18) -> 0 | M18: =SUM(O18,Q18,S18) -> 0 | N18: =IF(AND(J17=0,J18=0),0,INT(CHOOSE(IF(C18>0,C18,$F$5),#REF!,#REF!,#REF!,#REF!,#REF!,#REF!,#REF!))) -> 0 | O18: =INT($J18*N18) -> 0 | P18: =IF(AND(J17=0,J18=0),0,INT(CHOOSE(IF(C18>0,C18,$F$5),#REF!,#REF!,#REF!,#REF!,#REF!,#REF!,#REF!))) -> 0 | Q18: =INT($J18*P18) -> 0 | R18: =IF(AND(J17=0,J18=0),0,INT(CHOOSE(IF(C18>0,C18,$F$5),#REF!,#REF!,#REF!,#REF!,#REF!,#REF!,#REF!))) -> 0 | S18: =INT($J18*R18) -> 0
E19: =IF(OR(M19>0,M20>0),2,"") | J19: 0 | L19: =SUM(N19,P19,R19) -> 0 | M19: =SUM(O19,Q19,S19) -> 0 | N19: =IF(J19=0,0,N20*$E$3) -> 0 | O19: =INT($J19*N19) -> 0 | P19: =IF(J19=0,0,P20*$E$3) -> 0 | Q19: =INT($J19*P19) -> 0 | R19: =IF(J19=0,0,R20*$E$3) -> 0 | S19: =INT($J19*R19) -> 0
C20: 2 | D20: =CHOOSE(IF(C20>0,C20,$F$5),0,"(야)","(지세별)","(지+소)","(누.불)","(야+소)","(원내역)") -> (야) | E20: =IF(OR(M19>0,M20>0),1,0) -> 0 | G20: =G18 -> ASP 포장도깨기 및 싣기 | H20: 소형브레이카+콤프레사 | I20: =CHOOSE(IF(C20>0,C20,$F$5),0,"(야간)","(지세별)","(지+소)","(누.불)","(야+소)","") -> (야간) | K20: ㎥ | L20: =SUM(N20,P20,R20) -> 0 | M20: =SUM(O20,Q20,S20) -> 0 | N20: =IF(AND(J19=0,J20=0),0,INT(CHOOSE(IF(C20>0,C20,$F$5),#REF!,#REF!,#REF!,#REF!,#REF!,#REF!,#REF!))) -> 0 | O20: =INT($J20*N20) -> 0 | P20: =IF(AND(J19=0,J20=0),0,INT(CHOOSE(IF(C20>0,C20,$F$5),#REF!,#REF!,#REF!,#REF!,#REF!,#REF!,#REF!))) -> 0 | Q20: =INT($J20*P20) -> 0 | R20: =IF(AND(J19=0,J20=0),0,INT(CHOOSE(IF(C20>0,C20,$F$5),#REF!,#REF!,#REF!,#REF!,#REF!,#REF!,#REF!))) -> 0 | S20: =INT($J20*R20) -> 0
E21: =IF(OR(M21>0,M22>0),2,"") | J21: 0 | L21: =SUM(N21,P21,R21) -> 0 | M21: =SUM(O21,Q21,S21) -> 0 | N21: =IF(J21=0,0,N22*$E$3) -> 0 | O21: =INT($J21*N21) -> 0 | P21: =IF(J21=0,0,P22*$E$3) -> 0 | Q21: =INT($J21*P21) -> 0 | R21: =IF(J21=0,0,R22*$E$3) -> 0 | S21: =INT($J21*R21) -> 0
D22: =CHOOSE(IF(C22>0,C22,$F$5),0,"(야)","(지세별)","(지+소)","(누.불)","(야+소)","(원내역)") -> 0 | E22: =IF(OR(M21>0,M22>0),1,0) -> 0 | G22: CON'C 포장도깨기 및 싣기 | H22: 소형브레이카+콤프레사 | I22: =CHOOSE(IF(C22>0,C22,$F$5),0,"(야간)","(지세별)","(소규모)","(누수)","(야+소)","") -> 0 | J22: 0 | K22: ㎥ | L22: =SUM(N22,P22,R22) -> 0 | M22: =SUM(O22,Q22,S22) -> 0 | N22: =IF(AND(J21=0,J22=0),0,INT(CHOOSE(IF(C22>0,C22,$F$5),#REF!,#REF!,#REF!,#REF!,#REF!,#REF!,#REF!))) -> 0 | O22: =INT($J22*N22) -> 0 | P22: =IF(AND(J21=0,J22=0),0,INT(CHOOSE(IF(C22>0,C22,$F$5),#REF!,#REF!,#REF!,#REF!,#REF!,#REF!,#REF!))) -> 0 | Q22: =INT($J22*P22) -> 0 | R22: =IF(AND(J21=0,J22=0),0,INT(CHOOSE(IF(C22>0,C22,$F$5),#REF!,#REF!,#REF!,#REF!,#REF!,#REF!,#REF!))) -> 0 | S22: =INT($J22*R22) -> 0
E23: =IF(OR(M23>0,M24>0),2,"") | J23: 0 | L23: =SUM(N23,P23,R23) -> 0 | M23: =SUM(O23,Q23,S23) -> 0 | N23: =IF(J23=0,0,N24*$E$3) -> 0 | O23: =INT($J23*N23) -> 0 | P23: =IF(J23=0,0,P24*$E$3) -> 0 | Q23: =INT($J23*P23) -> 0 | R23: =IF(J23=0,0,R24*$E$3) -> 0 | S23: =INT($J23*R23) -> 0
C24: 2 | D24: =CHOOSE(IF(C24>0,C24,$F$5),0,"(야)","(지세별)","(지+소)","(누.불)","(야+소)","(원내역)") -> (야) | E24: =IF(OR(M23>0,M24>0),1,0) -> 0 | G24: =G22 -> CON'C 포장도깨기 및 싣기 | H24: 소형브레이카+콤프레사 | I24: =CHOOSE(IF(C24>0,C24,$F$5),0,"(야간)","(지세별)","(지+소)","(누.불)","(야+소)","") -> (야간) | J24: 0 | K24: ㎥ | L24: =SUM(N24,P24,R24) -> 0 | M24: =SUM(O24,Q24,S24) -> 0 | N24: =IF(AND(J23=0,J24=0),0,INT(CHOOSE(IF(C24>0,C24,$F$5),#REF!,#REF!,#REF!,#REF!,#REF!,#REF!,#REF!))) -> 0 | O24: =INT($J24*N24) -> 0 | P24: =IF(AND(J23=0,J24=0),0,INT(CHOOSE(IF(C24>0,C24,$F$5),#REF!,#REF!,#REF!,#REF!,#REF!,#REF!,#REF!))) -> 0 | Q24: =INT($J24*P24) -> 0 | R24: =IF(AND(J23=0,J24=0),0,INT(CHOOSE(IF(C24>0,C24,$F$5),#REF!,#REF!,#REF!,#REF!,#REF!,#REF!,#REF!))) -> 0 | S24: =INT($J24*R24) -> 0
E25: =IF(OR(M25>0,M26>0),2,"") | J25: 0 | L25: =SUM(N25,P25,R25) -> 0 | M25: =SUM(O25,Q25,S25) -> 0 | N25: =IF(J25=0,0,N26*$E$3) -> 0 | O25: =INT($J25*N25) -> 0 | P25: =IF(J25=0,0,P26*$E$3) -> 0 | Q25: =INT($J25*P25) -> 0 | R25: =IF(J25=0,0,R26*$E$3) -> 0 | S25: =INT($J25*R25) -> 0
D26: =CHOOSE(IF(C26>0,C26,$F$5),0,"(야)","(지세별)","(지+소)","(누.불)","(야+소)","(원내역)") -> 0 | E26: =IF(OR(M25>0,M26>0),1,0) -> 0 | G26: ASP 포장깨기 | H26: (0.12 ㎥ B.H) | I26: =CHOOSE(IF(C26>0,C26,$F$5),0,"(야간)","(지세별)","(지+소)","(누.불)","(야+소)","") -> 0 | J26: 0 | K26: ㎥ | L26: =SUM(N26,P26,R26) -> 0 | M26: =SUM(O26,Q26,S26) -> 0 | N26: =IF(AND(J25=0,J26=0),0,INT(CHOOSE(IF(C26>0,C26,$F$5),#REF!,#REF!,#REF!,#REF!,#REF!,#REF!,#REF!))) -> 0 | O26: =INT($J26*N26) -> 0 | P26: =IF(AND(J25=0,J26=0),0,INT(CHOOSE(IF(C26>0,C26,$F$5),#REF!,#REF!,#REF!,#REF!,#REF!,#REF!,#REF!))) -> 0 | Q26: =INT($J26*P26) -> 0 | R26: =IF(AND(J25=0,J26=0),0,INT(CHOOSE(IF(C26>0,C26,$F$5),#REF!,#REF!,#REF!,#REF!,#REF!,#REF!,#REF!))) -> 0 | S26: =INT($J26*R26) -> 0
E27: =IF(OR(M27>0,M28>0),2,"") | J27: 0 | L27: =SUM(N27,P27,R27) -> 0 | M27: =SUM(O27,Q27,S27) -> 0 | N27: =IF(J27=0,0,N28*$E$3) -> 0 | O27: =INT($J27*N27) -> 0 | P27: =IF(J27=0,0,P28*$E$3) -> 0 | Q27: =INT($J27*P27) -> 0 | R27: =IF(J27=0,0,R28*$E$3) -> 0 | S27: =INT($J27*R27) -> 0
C28: 2 | D28: =CHOOSE(IF(C28>0,C28,$F$5),0,"(야)","(지세별)","(지+소)","(누.불)","(야+소)","(원내역)") -> (야) | E28: =IF(OR(M27>0,M28>0),1,0) -> 0 | G28: ASP 포장깨기 | H28: =H26 -> (0.12 ㎥ B.H) | I28: =CHOOSE(IF(C28>0,C28,$F$5),0,"(야간)","(지세별)","(지+소)","(누.불)","(야+소)","") -> (야간) | J28: 0 | K28: ㎥ | L28: =SUM(N28,P28,R28) -> 0 | M28: =SUM(O28,Q28,S28) -> 0 | N28: =IF(AND(J27=0,J28=0),0,INT(CHOOSE(IF(C28>0,C28,$F$5),#REF!,#REF!,#REF!,#REF!,#REF!,#REF!,#REF!))) -> 0 | O28: =INT($J28*N28) -> 0 | P28: =IF(AND(J27=0,J28=0),0,INT(CHOOSE(IF(C28>0,C28,$F$5),#REF!,#REF!,#REF!,#REF!,#REF!,#REF!,#REF!))) -> 0 | Q28: =INT($J28*P28) -> 0 | R28: =IF(AND(J27=0,J28=0),0,INT(CHOOSE(IF(C28>0,C28,$F$5),#REF!,#REF!,#REF!,#REF!,#REF!,#REF!,#REF!))) -> 0 | S28: =INT($J28*R28) -> 0
E29: =IF(OR(M29>0,M30>0),2,"") | J29: 0 | L29: =SUM(N29,P29,R29) -> 0 | M29: =SUM(O29,Q29,S29) -> 0 | N29: =IF(J29=0,0,N30*$E$3) -> 0 | O29: =INT($J29*N29) -> 0 | P29: =IF(J29=0,0,P30*$E$3) -> 0 | Q29: =INT($J29*P29) -> 0 | R29: =IF(J29=0,0,R30*$E$3) -> 0 | S29: =INT($J29*R29) -> 0
C30: 1 | D30: =CHOOSE(IF(C30>0,C30,$F$5),0,"(야)","(지세별)","(지+소)","(누.불)","(야+소)","(원내역)") -> 0 | E30: =IF(OR(M29>0,M30>0),1,0) -> 0 | G30: CON'C 포장깨기 | H30: =H28 -> (0.12 ㎥ B.H) | I30: =CHOOSE(IF(C30>0,C30,$F$5),0,"(야간)","(지세별)","(지+소)","(누.불)","(야+소)","") -> 0 | J30: 0 | K30: ㎥ | L30: =SUM(N30,P30,R30) -> 0 | M30: =SUM(O30,Q30,S30) -> 0 | N30: =IF(AND(J29=0,J30=0),0,INT(CHOOSE(IF(C30>0,C30,$F$5),#REF!,#REF!,#REF!,#REF!,#REF!,#REF!,#REF!))) -> 0 | O30: =INT($J30*N30) -> 0 | P30: =IF(AND(J29=0,J30=0),0,INT(CHOOSE(IF(C30>0,C30,$F$5),#REF!,#REF!,#REF!,#REF!,#REF!,#REF!,#REF!))) -> 0 | Q30: =INT($J30*P30) -> 0 | R30: =IF(AND(J29=0,J30=0),0,INT(CHOOSE(IF(C30>0,C30,$F$5),#REF!,#REF!,#REF!,#REF!,#REF!,#REF!,#REF!))) -> 0 | S30: =INT($J30*R30) -> 0
E31: =IF(OR(M31>0,M32>0),2,"") | J31: 0 | L31: =SUM(N31,P31,R31) -> 0 | M31: =SUM(O31,Q31,S31) -> 0 | N31: =IF(J31=0,0,N32*$E$3) -> 0 | O31: =INT($J31*N31) -> 0 | P31: =IF(J31=0,0,P32*$E$3) -> 0 | Q31: =INT($J31*P31) -> 0 | R31: =IF(J31=0,0,R32*$E$3) -> 0 | S31: =INT($J31*R31) -> 0
C32: 2 | D32: =CHOOSE(IF(C32>0,C32,$F$5),0,"(야)","(지세별)","(지+소)","(누.불)","(야+소)","(원내역)") -> (야) | E32: =IF(OR(M31>0,M32>0),1,0) -> 0 | G32: CON'C 포장깨기 | H32: =H30 -> (0.12 ㎥ B.H) | I32: =CHOOSE(IF(C32>0,C32,$F$5),0,"(야간)","(지세별)","(지+소)","(누.불)","(야+소)","") -> (야간) | J32: 0 | K32: ㎥ | L32: =SUM(N32,P32,R32) -> 0 | M32: =SUM(O32,Q32,S32) -> 0 | N32: =IF(AND(J31=0,J32=0),0,INT(CHOOSE(IF(C32>0,C32,$F$5),#REF!,#REF!,#REF!,#REF!,#REF!,#REF!,#REF!))) -> 0 | O32: =INT($J32*N32) -> 0 | P32: =IF(AND(J31=0,J32=0),0,INT(CHOOSE(IF(C32>0,C32,$F$5),#REF!,#REF!,#REF!,#REF!,#REF!,#REF!,#REF!))) -> 0 | Q32: =INT($J32*P32) -> 0 | R32: =IF(AND(J31=0,J32=0),0,INT(CHOOSE(IF(C32>0,C32,$F$5),#REF!,#REF!,#REF!,#REF!,#REF!,#REF!,#REF!))) -> 0 | S32: =INT($J32*R32) -> 0
E33: =IF(OR(M33>0,M34>0),2,"") | J33: 0 | L33: =SUM(N33,P33,R33) -> 0 | M33: =SUM(O33,Q33,S33) -> 0 | N33: =IF(J33=0,0,N34*$E$3) -> 0 | O33: =INT($J33*N33) -> 0 | P33: =IF(J33=0,0,P34*$E$3) -> 0 | Q33: =INT($J33*P33) -> 0 | R33: =IF(J33=0,0,R34*$E$3) -> 0 | S33: =INT($J33*R33) -> 0
D34: =CHOOSE(IF(C34>0,C34,$F$5),0,"(야)","(지세별)","(지+소)","(누.불)","(야+소)","(원내역)") -> 0 | E34: =IF(OR(M33>0,M34>0),1,0) -> 0 | G34: ASP 포장깨기 | H34: (0.18 ㎥ B.H) | I34: =CHOOSE(IF(C34>0,C34,$F$5),0,"(야간)","(지세별)","(지+소)","(누.불)","(야+소)","") -> 0 | J34: 61.6 | K34: ㎥
E35: =IF(OR(M35>0,M36>0),2,"") | J35: 0 | L35: =SUM(N35,P35,R35) -> 0 | M35: =SUM(O35,Q35,S35) -> 0 | N35: =IF(J35=0,0,N36*$E$3) -> 0 | O35: =INT($J35*N35) -> 0 | P35: =IF(J35=0,0,P36*$E$3) -> 0 | Q35: =INT($J35*P35) -> 0 | R35: =IF(J35=0,0,R36*$E$3) -> 0 | S35: =INT($J35*R35) -> 0
C36: 2 | D36: =CHOOSE(IF(C36>0,C36,$F$5),0,"(야)","(지세별)","(지+소)","(누.불)","(야+소)","(원내역)") -> (야) | E36: =IF(OR(M35>0,M36>0),1,0) -> 0 | G36: ASP 포장깨기 | H36: (0.18 ㎥ B.H) | I36: =CHOOSE(IF(C36>0,C36,$F$5),0,"(야간)","(지세별)","(지+소)","(누.불)","(야+소)","") -> (야간) | J36: 13.41 | K36: ㎥
E37: =IF(OR(M37>0,M38>0),2,"") | J37: 0 | L37: =SUM(N37,P37,R37) -> 0 | M37: =SUM(O37,Q37,S37) -> 0 | N37: =IF(J37=0,0,N38*$E$3) -> 0 | O37: =INT($J37*N37) -> 0 | P37: =IF(J37=0,0,P38*$E$3) -> 0 | Q37: =INT($J37*P37) -> 0 | R37: =IF(J37=0,0,R38*$E$3) -> 0 | S37: =INT($J37*R37) -> 0
D38: =CHOOSE(IF(C38>0,C38,$F$5),0,"(야)","(지세별)","(지+소)","(누.불)","(야+소)","(원내역)") -> 0 | E38: =IF(OR(M37>0,M38>0),1,0) -> 0 | G38: CON'C 포장깨기 | H38: (0.18 ㎥ B.H) | I38: =CHOOSE(IF(C38>0,C38,$F$5),0,"(야간)","(지세별)","(지+소)","(누.불)","(야+소)","") -> 0 | J38: 4.83 | K38: ㎥
E39: =IF(OR(M39>0,M40>0),2,"") | J39: 0 | L39: =SUM(N39,P39,R39) -> 0 | M39: =SUM(O39,Q39,S39) -> 0 | N39: =IF(J39=0,0,N40*$E$3) -> 0 | O39: =INT($J39*N39) -> 0 | P39: =IF(J39=0,0,P40*$E$3) -> 0 | Q39: =INT($J39*P39) -> 0 | R39: =IF(J39=0,0,R40*$E$3) -> 0 | S39: =INT($J39*R39) -> 0
C40: 2 | D40: =CHOOSE(IF(C40>0,C40,$F$5),0,"(야)","(지세별)","(지+소)","(누.불)","(야+소)","(원내역)") -> (야) | E40: =IF(OR(M39>0,M40>0),1,0) -> 0 | G40: CON'C 포장깨기 | H40: (0.18 ㎥ B.H) | I40: =CHOOSE(IF(C40>0,C40,$F$5),0,"(야간)","(지세별)","(지+소)","(누.불)","(야+소)","") -> (야간) | J40: 3.74 | K40: ㎥
...
