Workbook
Name _c: #REF!
Name _r: #REF!
Name A: #REF!
Name AX: #REF!
Name AY: #REF!
Name AZ: #REF!
Name BA: #REF!
Name BB: #REF!
Name BC: #REF!
Name BD: #REF!
Name BE: #REF!
Name BF: #REF!
Name BG: #REF!
Name BH: #REF!
Name BI: #REF!
Name BJ: #REF!
Name BK: #REF!
Name BL: #REF!
Name BM: #REF!
Name BN: #REF!
Name BO: #REF!
Name BP: #REF!
Name BQ: #REF!
Name BR: #REF!
Name BS: #REF!
Name BT: #REF!
Name BU: #REF!
Name BV: #REF!
Name BW: #REF!
Name BX: #REF!
Name BY: #REF!
Name BZ: #REF!
Name CA: #REF!
Name CB: #REF!
Name CCC: #REF!
Name CD: #REF!
Name CE: #REF!
Name CF: #REF!
Name CG: #REF!
Name CH: #REF!
Name CI: #REF!
Name CJ: #REF!
Name CK: #REF!
Name CL: #REF!
Name CM: #REF!
Name CN: #REF!
Name CO: #REF!
Name CP: #REF!
Name CQ: #REF!
Name CR: #REF!
Name CS: #REF!
Name CT: #REF!
Name CTO: #REF!
Name CU: #REF!
Name CV: #REF!
Name CW: #REF!
Name CX: #REF!
Name CY: #REF!
Name CZ: #REF!
Name C일: #REF!

Sheet 원가
A1: 원 가 계 산 | E1: 공 사 명 : | F1: 가야동 가야여중 주변 상수도관 정비공사 | J1: 0
A3: 공 사 명 : | C3: =#REF! -> #REF! | O3: =IF(OR(E55=[9]총내!F43,원가!E56=[9]총내!F44),"그 래","NO") -> #REF!
C5: 구 분 | E5: 금 액 | G5: 구 성 비 | I5: 비 고
A6: 비 목
A7: 순 공 사 비 원 가 | B7: 재 료 비 | C7: 직 접 재 료 비
C9: 소 계
B11: 노 무 비 | C11: 직 접 노 무 비
C13: 간 접 노 무 비 | F13: =IF(E13>0,F14,0) -> 0 | G13: =IF(E13=0,0,G14) -> 0
F14: 0.116 | G14: × ( 직접노무비 )
C15: 소 계
B17: 경 비 | C17: 기 계 경 비
C19: 산 재 보 험 료 | F19: =IF(E19>0,F20,0) -> 0 | G19: =IF(E19=0,0,G20) -> 0 | H19: =IF(E19=0,0,H20) -> 0
F20: 0.039 | G20: × ( 노무비 )
C21: 고 용 보 험 료 | F21: =IF(E21>0,F22,0) -> 0 | G21: =IF(E21=0,0,G22) -> 0
F22: 0.0087 | G22: × ( 노무비 )
C23: 건 강 보 험 료 | F23: =IF(E23>0,F24,0) -> 0 | G23: =IF(E23=0,0,G24) -> 0 | H23: =IF(E23=0,0,H24) -> 0
F24: 0.017 | G24: =IF(E24=0,0,"× (직접노무비)") -> 0 | J24: =IF([9]수탁!P1>0,[9]수탁!P1) -> FALSE
C25: 노인장기요양보험료 | F25: =IF(E25>0,F26,0) -> 0 | G25: =IF(E25=0,0,G26) -> 0 | H25: =IF(E25=0,0,H26) -> 0
F26: 0.0655 | G26: × ( 건강보험료 )
C27: 연 금 보 험 료 | F27: =IF(E27>0,F28,0) -> 0 | G27: =IF(E27=0,0,G28) -> 0 | H27: =IF(E27=0,0,H28) -> 0
F28: 0.0249 | G28: =IF(E28=0,0,"× (직접노무비)") -> 0
C29: 안 전 관 리 비 | G29: =IF(E29=0,0,G30) -> 0
F30: =IF(J1=1,0,IF(J1=2,0,2.93%)) -> 0.0293 | G30: =IF(E30>0,"× ( 재료비 + 직접노무비 )",0) -> 0 | J30: =INT((E8+E12)*K30*1.2) -> 0 | K30: 0.0293 | N30: (재료비 + 노무비) | Q30: =ROUNDDOWN(J30/S30,0) -> #REF! | S30: =내역!#REF! -> #REF! | T30: =S30*Q30 -> #REF! | U30: =IF(T30>J28,ROUND(J28/S30,1),R30) -> #REF!
C31: 환 경 보 존 비 | G31: =IF(E31=0,0,G32) -> 0
F32: =IF(J1=1,0,0.5%) -> 0.005 | G32: =IF(E32>0,"× ( 재료비 + 직접노무비 + 경비 )",0) -> 0
C33: 기 타 경 비 | F33: =IF(E33>0,F34,0) -> 0 | G33: =IF(E33=0,0,G34) -> 0
F34: 0.06 | G34: × ( 재료비 + 노무비 )
C35: 퇴직공제부금 | F35: =IF(E35>0,F36,0) -> 0 | G35: =IF(E35=0,0,G36) -> 0
F36: 0 | G36: × ( 직접노무비 ) | J36: =IF([9]수탁!P1>0,[9]수탁!P1) -> FALSE
C37: 건설기계대여대금 | F37: =IF(E37>0,F38,0) -> 0 | G37: =IF(E37=0,0,G38) -> 0
F38: =IF(J1=1,0,0.49%) -> 0.0049 | G38: × (재 + 직노 + 산경) | J38: =IF([9]입력!B21=인력,FALSE,0) -> #NAME?
C39: 소 계
A41: 합 계
A43: 일 반 관 리 비 | F43: =IF(E43>0,F44,0) -> 0 | G43: =IF(E43=0,0,G44) -> 0
F44: 0.06 | G44: × (합계)
A45: 이 윤 | F45: =IF(E45>0,F46,0) -> 0 | G45: =IF(E45=0,0,G46) -> 0
F46: 0.15 | G46: 이내 × ( 합계 + 일반관리비 - 재료비 ) | J46: =INT((E42+E44-E10)*F46) -> 0 | L46: 이윤 | N46: 이윤 | P46: =E46 -> 0 | R46: =INT((SUM(E42,E44,-E10)*F46)-J50) -> 0
A47: 폐 기 물 처 리 비 | M47: =MOD(K47,1000) -> 0
J48: =SUM(E42,E44,J46,E48,E50) -> 0 | L48: 총원가 | N48: 총원가 | P48: =E46/(E42+E44-E10) -> #DIV/0!
A49: 고 철 공 제 비
J50: =MOD(J48,1000) -> 0 | L50: 계상 | N50: 계상
A51: 총 원 가
J52: =ROUNDDOWN(E42+E44+R46,0) -> 0 | K52: =ROUNDDOWN(K56/1.1,0) -> 0
A53: 부 가 가 치 세 | F53: =IF(E53>0,F54,0) -> 0 | G53: =IF(E53=0,0,G54) -> 0
F54: 0.1 | G54: × (총원가) | J54: =ROUNDDOWN(J52*0.1,0) -> 0 | K54: =ROUNDDOWN(K56-K52,0) -> 0
A55: =IF([9]입력!T77=1,"도 급 액","도 급 예 정 액") -> 도 급 액
J56: =J52+J54 -> 0 | K56: =ROUNDDOWN(J56,-3) -> 0
A57: 관 급 액
A59: 폐 기 물 처 리 용 역
A61: 도 로 굴 착 복 구 비
A63: 방 수 액
A65: 물 이 용 부 담 금
A67: U I S D B 구 축 용 역
A69: 설 계 수 수 료
A71: 검 사 수 수 료
A73: 총 공 사 비

Sheet 내역
A1: 1 | B1: =[9]입력!J78 -> 2 | Q1: =SUBTOTAL(9,Q1544,Q1640,Q1724,Q1780,Q1864) -> 0
A2: =IF([9]입력!V19=TRUE,1,0) -> 0 | B2: =CHOOSE([9]입력!P79,0,45,90,135,180) -> 180 | D2: =[9]입력!N87 -> 5 | E2: 1
E3: =[9]입력!U38 -> 0
I4: 2490 | J4: 1650
E5: 1 | F5: =[9]입력!G89 -> 1 | G5: 품 명 | H5: 규 격 | J5: 수 량 | K5: 단 | L5: 총 액 | N5: 재 료 비 | P5: 노 무 비 | R5: 경 비 | T5: 비고
E6: 1 | K6: 위 | L6: 단 가 | M6: 금 액 | N6: 단 가 | O6: 금 액 | P6: 단 가 | Q6: 금 액 | R6: 단 가 | S6: 금 액
E7: =IF(M8>0,2,"") | M7: =SUM(N7:S7) -> 0 | O7: =SUMPRODUCT((MOD(ROW(O9:O576),2)=1)*O9:O576) -> 0 | Q7: =SUMPRODUCT((MOD(ROW(Q9:Q576),2)=1)*Q9:Q576) -> 0 | S7: =SUMPRODUCT((MOD(ROW(S9:S576),2)=1)*S9:S576) -> 0
A8: 1토공 | B8: =IF(M8>0,1,0) -> 0 | E8: =IF(M8>0,1,0) -> 0 | F8: =SUM($B$8) -> 0 | G8: 토 공
E9: =IF(OR(M9>0,M10>0),2,"") | J9: 0 | L9: =SUM(N9,P9,R9) -> 0 | M9: =SUM(O9,Q9,S9) -> 0 | N9: =IF(J9=0,0,N10*$E$3) -> 0 | O9: =INT($J9*N9) -> 0 | P9: =IF(J9=0,0,P10*$E$3) -> 0 | Q9: =INT($J9*P9) -> 0 | R9: =IF(J9=0,0,R10*$E$3) -> 0 | S9: =INT($J9*R9) -> 0
D10: =CHOOSE(IF(C10>0,C10,$F$5),0,"(야)","(지세별)","(지+소)","(누.불)","(야+소)","(원내역)") -> 0 | E10: =IF(OR(M9>0,M10>0),1,0) -> 0 | F10: 토공1 | G10: ASP 포장캇트 | H10: 2차로 | I10: =CHOOSE(IF(C10>0,C10,$F$5),0,"(야간)","(지세별)","(소규모)","(누수)","(야+소)","") -> 0 | J10: 862.8 | K10: m
E11: =IF(OR(M11>0,M12>0),2,"") | J11: 0 | L11: =SUM(N11,P11,R11) -> 0 | M11: =SUM(O11,Q11,S11) -> 0 | N11: =IF(J11=0,0,N12*$E$3) -> 0 | O11: =INT($J11*N11) -> 0 | P11: =IF(J11=0,0,P12*$E$3) -> 0 | Q11: =INT($J11*P11) -> 0 | R11: =IF(J11=0,0,R12*$E$3) -> 0 | S11: =INT($J11*R11) -> 0
C12: 2 | D12: =CHOOSE(IF(C12>0,C12,$F$5),0,"(야)","(지세별)","(지+소)","(누.불)","(야+소)","(원내역)") -> (야) | E12: =IF(OR(M11>0,M12>0),1,0) -> 0 | F12: 토공1 | G12: ASP 포장캇트 | H12: 2차로 | I12: =CHOOSE(IF(C12>0,C12,$F$5),0,"(야간)","(지세별)","(지+소)","(누.불)","(야+소)","") -> (야간) | J12: 189.1 | K12: m
E13: =IF(OR(M13>0,M14>0),2,"") | J13: 0 | L13: =SUM(N13,P13,R13) -> 0 | M13: =SUM(O13,Q13,S13) -> 0 | N13: =IF(J13=0,0,N14*$E$3) -> 0 | O13: =INT($J13*N13) -> 0 | P13: =IF(J13=0,0,P14*$E$3) -> 0 | Q13: =INT($J13*P13) -> 0 | R13: =IF(J13=0,0,R14*$E$3) -> 0 | S13: =INT($J13*R13) -> 0
D14: =CHOOSE(IF(C14>0,C14,$F$5),0,"(야)","(지세별)","(지+소)","(누.불)","(야+소)","(원내역)") -> 0 | E14: =IF(OR(M13>0,M14>0),1,0) -> 0 | G14: CON'C 포장캇트 | H14: 2차로 | I14: =CHOOSE(IF(C14>0,C14,$F$5),0,"(야간)","(지세별)","(소규모)","(누수)","(야+소)","") -> 0 | J14: 0 | K14: m | L14: =SUM(N14,P14,R14) -> 0 | M14: =SUM(O14,Q14,S14) -> 0 | N14: =IF(AND(J13=0,J14=0),0,INT(CHOOSE(IF(C14>0,C14,$F$5),#REF!,#REF!,#REF!,#REF!,#REF!,#REF!,#REF!))) -> 0 | O14: =INT($J14*N14) -> 0 | P14: =IF(AND(J13=0,J14=0),0,INT(CHOOSE(IF(C14>0,C14,$F$5),#REF!,#REF!,#REF!,#REF!,#REF!,#REF!,#REF!))) -> 0 | Q14: =INT($J14*P14) -> 0 | R14: =IF(AND(J13=0,J14=0),0,INT(CHOOSE(IF(C14>0,C14,$F$5),#REF!,#REF!,#REF!,#REF!,#REF!,#REF!,#REF!))) -> 0 | S14: =INT($J14*R14) -> 0
E15: =IF(OR(M15>0,M16>0),2,"") | J15: 0 | L15: =SUM(N15,P15,R15) -> 0 | M15: =SUM(O15,Q15,S15) -> 0 | N15: =IF(J15=0,0,N16*$E$3) -> 0 | O15: =INT($J15*N15) -> 0 | P15: =IF(J15=0,0,P16*$E$3) -> 0 | Q15: =INT($J15*P15) -> 0 | R15: =IF(J15=0,0,R16*$E$3) -> 0 | S15: =INT($J15*R15) -> 0
C16: 2 | D16: =CHOOSE(IF(C16>0,C16,$F$5),0,"(야)","(지세별)","(지+소)","(누.불)","(야+소)","(원내역)") -> (야) | E16: =IF(OR(M15>0,M16>0),1,0) -> 0 | G16: CON'C 포장캇트 | H16: 2차로 | I16: =CHOOSE(IF(C16>0,C16,$F$5),0,"(야간)","(지세별)","(지+소)","(누.불)","(야+소)","") -> (야간) | J16: 0 | K16: m | L16: =SUM(N16,P16,R16) -> 0 | M16: =SUM(O16,Q16,S16) -> 0 | N16: =IF(AND(J15=0,J16=0),0,INT(CHOOSE(IF(C16>0,C16,$F$5),#REF!,#REF!,#REF!,#REF!,#REF!,#REF!,#REF!))) -> 0 | O16: =INT($J16*N16) -> 0 | P16: =IF(AND(J15=0,J16=0),0,INT(CHOOSE(IF(C16>0,C16,$F$5),#REF!,#REF!,#REF!,#REF!,#REF!,#REF!,#REF!))) -> 0 | Q16: =INT($J16*P16) -> 0 | R16: =IF(AND(J15=0,J16=0),0,INT(CHOOSE(IF(C16>0,C16,$F$5),#REF!,#REF!,#REF!,#REF!,#REF!,#REF!,#REF!))) -> 0 | S16: =INT($J16*R16) -> 0
E17: =IF(OR(M17>0,M18>0),2,"") | J17: 0 | L17: =SUM(N17,P17,R17) -> 0 | M17: =SUM(O17,Q17,S17) -> 0 | N17: =IF(J17=0,0,N18*$E$3) -> 0 | O17: =INT($J17*N17) -> 0 | P17: =IF(J17=0,0,P18*$E$3) -> 0 | Q17: =INT($J17*P17) -> 0 | R17: =IF(J17=0,0,R18*$E$3) -> 0 | S17: =INT($J17*R17) -> 0
D18: =CHOOSE(IF(C18>0,C18,$F$5),0,"(야)","(지세별)","(지+소)","(누.불)","(야+소)","(원내역)") -> 0 | E18: =IF(OR(M17>0,M18>0),1,0) -> 0 | G18: ASP 포장도깨기 및 싣기 | H18: 소형브레이카+콤프레사 | I18: =CHOOSE(IF(C18>0,C18,$F$5),0,"(야간)","(지세별)","(소규모)","(누수)","(야+소)","") -> 0 | K18: ㎥ | L18: =SUM(N18,P18,R18) -> 0 | M18: =SUM(O18,Q18,S18) -> 0 | N18: =IF(AND(J17=0,J18=0),0,INT(CHOOSE(IF(C18>0,C18,$F$5),#REF!,#REF!,#REF!,#REF!,#REF!,#REF!,#REF!))) -> 0 | O18: =INT($J18*N18) -> 0 | P18: =IF(AND(J17=0,J18=0),0,INT(CHOOSE(IF(C18>0,C18,$F$5),#REF!,#REF!,#REF!,#REF!,#REF!,#REF!,#REF!))) -> 0 | Q18: =INT($J18*P18) -> 0 | R18: =IF(AND(J17=0,J18=0),0,INT(CHOOSE(IF(C18>0,C18,$F$5),#REF!,#REF!,#REF!,#REF!,#REF!,#REF!,#REF!))) -> 0 | S18: =INT($J18*R18) -> 0
E19: =IF(OR(M19>0,M20>0),2,"") | J19: 0 | L19: =SUM(N19,P19,R19) -> 0 | M19: =SUM(O19,Q19,S19) -> 0 | N19: =IF(J19=0,0,N20*$E$3) -> 0 | O19: =INT($J19*N19) -> 0 | P19: =IF(J19=0,0,P20*$E$3) -> 0 | Q19: =INT($J19*P19) -> 0 | R19: =IF(J19=0,0,R20*$E$3) -> 0 | S19: =INT($J19*R19) -> 0
C20: 2 | D20: =CHOOSE(IF(C20>0,C20,$F$5),0,"(야)","(지세별)","(지+소)","(누.불)","(야+소)","(원내역)") -> (야) | E20: =IF(OR(M19>0,M20>0),1,0) -> 0 | G20: =G18 -> ASP 포장도깨기 및 싣기 | H20: 소형브레이카+콤프레사 | I20: =CHOOSE(IF(C20>0,C20,$F$5),0,"(야간)","(지세별)","(지+소)","(누.불)","(야+소)","") -> (야간) | K20: ㎥ | L20: =SUM(N20,P20,R20) -> 0 | M20: =SUM(O20,Q20,S20) -> 0 | N20: =IF(AND(J19=0,J20=0),0,INT(CHOOSE(IF(C20>0,C20,$F$5),#REF!,#REF!,#REF!,#REF!,#REF!,#REF!,#REF!))) -> 0 | O20: =INT($J20*N20) -> 0 | P20: =IF(AND(J19=0,J20=0),0,INT(CHOOSE(IF(C20>0,C20,$F$5),#REF!,#REF!,#REF!,#REF!,#REF!,#REF!,#REF!))) -> 0 | Q20: =INT($J20*P20) -> 0 | R20: =IF(AND(J19=0,J20=0),0,INT(CHOOSE(IF(C20>0,C20,$F$5),#REF!,#REF!,#REF!,#REF!,#REF!,#REF!,#REF!))) -> 0 | S20: =INT($J20*R20) -> 0
E21: =IF(OR(M21>0,M22>0),2,"") | J21: 0 | L21: =SUM(N21,P21,R21) -> 0 | M21: =SUM(O21,Q21,S21) -> 0 | N21: =IF(J21=0,0,N22*$E$3) -> 0 | O21: =INT($J21*N21) -> 0 | P21: =IF(J21=0,0,P22*$E$3) -> 0 | Q21: =INT($J21*P21) -> 0 | R21: =IF(J21=0,0,R22*$E$3) -> 0 | S21: =INT($J21*R21) -> 0
D22: =CHOOSE(IF(C22>0,C22,$F$5),0,"(야)","(지세별)","(지+소)","(누.불)","(야+소)","(원내역)") -> 0 | E22: =IF(OR(M21>0,M22>0),1,0) -> 0 | G22: CON'C 포장도깨기 및 싣기 | H22: 소형브레이카+콤프레사 | I22: =CHOOSE(IF(C22>0,C22,$F$5),0,"(야간)","(지세별)","(소규모)","(누수)","(야+소)","") -> 0 | J22: 0 | K22: ㎥ | L22: =SUM(N22,P22,R22) -> 0 | M22: =SUM(O22,Q22,S22) -> 0 | N22: =IF(AND(J21=0,J22=0),0,INT(CHOOSE(IF(C22>0,C22,$F$5),#REF!,#REF!,#REF!,#REF!,#REF!,#REF!,#REF!))) -> 0 | O22: =INT($J22*N22) -> 0 | P22: =IF(AND(J21=0,J22=0),0,INT(CHOOSE(IF(C22>0,C22,$F$5),#REF!,#REF!,#REF!,#REF!,#REF!,#REF!,#REF!))) -> 0 | Q22: =INT($J22*P22) -> 0 | R22: =IF(AND(J21=0,J22=0),0,INT(CHOOSE(IF(C22>0,C22,$F$5),#REF!,#REF!,#REF!,#REF!,#REF!,#REF!,#REF!))) -> 0 | S22: =INT($J22*R22) -> 0
E23: =IF(OR(M23>0,M24>0),2,"") | J23: 0 | L23: =SUM(N23,P23,R23) -> 0 | M23: =SUM(O23,Q23,S23) -> 0 | N23: =IF(J23=0,0,N24*$E$3) -> 0 | O23: =INT($J23*N23) -> 0 | P23: =IF(J23=0,0,P24*$E$3) -> 0 | Q23: =INT($J23*P23) -> 0 | R23: =IF(J23=0,0,R24*$E$3) -> 0 | S23: =INT($J23*R23) -> 0
C24: 2 | D24: =CHOOSE(IF(C24>0,C24,$F$5),0,"(야)","(지세별)","(지+소)","(누.불)","(야+소)","(원내역)") -> (야) | E24: =IF(OR(M23>0,M24>0),1,0) -> 0 | G24: =G22 -> CON'C 포장도깨기 및 싣기 | H24: 소형브레이카+콤프레사 | I24: =CHOOSE(IF(C24>0,C24,$F$5),0,"(야간)","(지세별)","(지+소)","(누.불)","(야+소)","") -> (야간) | J24: 0 | K24: ㎥ | L24: =SUM(N24,P24,R24) -> 0 | M24: =SUM(O24,Q24,S24) -> 0 | N24: =IF(AND(J23=0,J24=0),0,INT(CHOOSE(IF(C24>0,C24,$F$5),#REF!,#REF!,#REF!,#REF!,#REF!,#REF!,#REF!))) -> 0 | O24: =INT($J24*N24) -> 0 | P24: =IF(AND(J23=0,J24=0),0,INT(CHOOSE(IF(C24>0,C24,$F$5),#REF!,#REF!,#REF!,#REF!,#REF!,#REF!,#REF!))) -> 0 | Q24: =INT($J24*P24) -> 0 | R24: =IF(AND(J23=0,J24=0),0,INT(CHOOSE(IF(C24>0,C24,$F$5),#REF!,#REF!,#REF!,#REF!,#REF!,#REF!,#REF!))) -> 0 | S24: =INT($J24*R24) -> 0
E25: =IF(OR(M25>0,M26>0),2,"") | J25: 0 | L25: =SUM(N25,P25,R25) -> 0 | M25: =SUM(O25,Q25,S25) -> 0 | N25: =IF(J25=0,0,N26*$E$3) -> 0 | O25: =INT($J25*N25) -> 0 | P25: =IF(J25=0,0,P26*$E$3) -> 0 | Q25: =INT($J25*P25) -> 0 | R25: =IF(J25=0,0,R26*$E$3) -> 0 | S25: =INT($J25*R25) -> 0
D26: =CHOOSE(IF(C26>0,C26,$F$5),0,"(야)","(지세별)","(지+소)","(누.불)","(야+소)","(원내역)") -> 0 | E26: =IF(OR(M25>0,M26>0),1,0) -> 0 | G26: ASP 포장깨기 | H26: (0.12 ㎥ B.H) | I26: =CHOOSE(IF(C26>0,C26,$F$5),0,"(야간)","(지세별)","(지+소)","(누.불)","(야+소)","") -> 0 | J26: 0 | K26: ㎥ | L26: =SUM(N26,P26,R26) -> 0 | M26: =SUM(O26,Q26,S26) -> 0 | N26: =IF(AND(J25=0,J26=0),0,INT(CHOOSE(IF(C26>0,C26,$F$5),#REF!,#REF!,#REF!,#REF!,#REF!,#REF!,#REF!))) -> 0 | O26: =INT($J26*N26) -> 0 | P26: =IF(AND(J25=0,J26=0),0,INT(CHOOSE(IF(C26>0,C26,$F$5),#REF!,#REF!,#REF!,#REF!,#REF!,#REF!,#REF!))) -> 0 | Q26: =INT($J26*P26) -> 0 | R26: =IF(AND(J25=0,J26=0),0,INT(CHOOSE(IF(C26>0,C26,$F$5),#REF!,#REF!,#REF!,#REF!,#REF!,#REF!,#REF!))) -> 0 | S26: =INT($J26*R26) -> 0
E27: =IF(OR(M27>0,M28>0),2,"") | J27: 0 | L27: =SUM(N27,P27,R27) -> 0 | M27: =SUM(O27,Q27,S27) -> 0 | N27: =IF(J27=0,0,N28*$E$3) -> 0 | O27: =INT($J27*N27) -> 0 | P27: =IF(J27=0,0,P28*$E$3) -> 0 | Q27: =INT($J27*P27) -> 0 | R27: =IF(J27=0,0,R28*$E$3) -> 0 | S27: =INT($J27*R27) -> 0
C28: 2 | D28: =CHOOSE(IF(C28>0,C28,$F$5),0,"(야)","(지세별)","(지+소)","(누.불)","(야+소)","(원내역)") -> (야) | E28: =IF(OR(M27>0,M28>0),1,0) -> 0 | G28: ASP 포장깨기 | H28: =H26 -> (0.12 ㎥ B.H) | I28: =CHOOSE(IF(C28>0,C28,$F$5),0,"(야간)","(지세별)","(지+소)","(누.불)","(야+소)","") -> (야간) | J28: 0 | K28: ㎥ | L28: =SUM(N28,P28,R28) -> 0 | M28: =SUM(O28,Q28,S28) -> 0 | N28: =IF(AND(J27=0,J28=0),0,INT(CHOOSE(IF(C28>0,C28,$F$5),#REF!,#REF!,#REF!,#REF!,#REF!,#REF!,#REF!))) -> 0 | O28: =INT($J28*N28) -> 0 | P28: =IF(AND(J27=0,J28=0),0,INT(CHOOSE(IF(C28>0,C28,$F$5),#REF!,#REF!,#REF!,#REF!,#REF!,#REF!,#REF!))) -> 0 | Q28: =INT($J28*P28) -> 0 | R28: =IF(AND(J27=0,J28=0),0,INT(CHOOSE(IF(C28>0,C28,$F$5),#REF!,#REF!,#REF!,#REF!,#REF!,#REF!,#REF!))) -> 0 | S28: =INT($J28*R28) -> 0
E29: =IF(OR(M29>0,M30>0),2,"") | J29: 0 | L29: =SUM(N29,P29,R29) -> 0 | M29: =SUM(O29,Q29,S29) -> 0 | N29: =IF(J29=0,0,N30*$E$3) -> 0 | O29: =INT($J29*N29) -> 0 | P29: =IF(J29=0,0,P30*$E$3) -> 0 | Q29: =INT($J29*P29) -> 0 | R29: =IF(J29=0,0,R30*$E$3) -> 0 | S29: =INT($J29*R29) -> 0
C30: 1 | D30: =CHOOSE(IF(C30>0,C30,$F$5),0,"(야)","(지세별)","(지+소)","(누.불)","(야+소)","(원내역)") -> 0 | E30: =IF(OR(M29>0,M30>0),1,0) -> 0 | G30: CON'C 포장깨기 | H30: =H28 -> (0.12 ㎥ B.H) | I30: =CHOOSE(IF(C30>0,C30,$F$5),0,"(야간)","(지세별)","(지+소)","(누.불)","(야+소)","") -> 0 | J30: 0 | K30: ㎥ | L30: =SUM(N30,P30,R30) -> 0 | M30: =SUM(O30,Q30,S30) -> 0 | N30: =IF(AND(J29=0,J30=0),0,INT(CHOOSE(IF(C30>0,C30,$F$5),#REF!,#REF!,#REF!,#REF!,#REF!,#REF!,#REF!))) -> 0 | O30: =INT($J30*N30) -> 0 | P30: =IF(AND(J29=0,J30=0),0,INT(CHOOSE(IF(C30>0,C30,$F$5),#REF!,#REF!,#REF!,#REF!,#REF!,#REF!,#REF!))) -> 0 | Q30: =INT($J30*P30) -> 0 | R30: =IF(AND(J29=0,J30=0),0,INT(CHOOSE(IF(C30>0,C30,$F$5),#REF!,#REF!,#REF!,#REF!,#REF!,#REF!,#REF!))) -> 0 | S30: =INT($J30*R30) -> 0
E31: =IF(OR(M31>0,M32>0),2,"") | J31: 0 | L31: =SUM(N31,P31,R31) -> 0 | M31: =SUM(O31,Q31,S31) -> 0 | N31: =IF(J31=0,0,N32*$E$3) -> 0 | O31: =INT($J31*N31) -> 0 | P31: =IF(J31=0,0,P32*$E$3) -> 0 | Q31: =INT($J31*P31) -> 0 | R31: =IF(J31=0,0,R32*$E$3) -> 0 | S31: =INT($J31*R31) -> 0
C32: 2 | D32: =CHOOSE(IF(C32>0,C32,$F$5),0,"(야)","(지세별)","(지+소)","(누.불)","(야+소)","(원내역)") -> (야) | E32: =IF(OR(M31>0,M32>0),1,0) -> 0 | G32: CON'C 포장깨기 | H32: =H30 -> (0.12 ㎥ B.H) | I32: =CHOOSE(IF(C32>0,C32,$F$5),0,"(야간)","(지세별)","(지+소)","(누.불)","(야+소)","") -> (야간) | J32: 0 | K32: ㎥ | L32: =SUM(N32,P32,R32) -> 0 | M32: =SUM(O32,Q32,S32) -> 0 | N32: =IF(AND(J31=0,J32=0),0,INT(CHOOSE(IF(C32>0,C32,$F$5),#REF!,#REF!,#REF!,#REF!,#REF!,#REF!,#REF!))) -> 0 | O32: =INT($J32*N32) -> 0 | P32: =IF(AND(J31=0,J32=0),0,INT(CHOOSE(IF(C32>0,C32,$F$5),#REF!,#REF!,#REF!,#REF!,#REF!,#REF!,#REF!))) -> 0 | Q32: =INT($J32*P32) -> 0 | R32: =IF(AND(J31=0,J32=0),0,INT(CHOOSE(IF(C32>0,C32,$F$5),#REF!,#REF!,#REF!,#REF!,#REF!,#REF!,#REF!))) -> 0 | S32: =INT($J32*R32) -> 0
E33: =IF(OR(M33>0,M34>0),2,"") | J33: 0 | L33: =SUM(N33,P33,R33) -> 0 | M33: =SUM(O33,Q33,S33) -> 0 | N33: =IF(J33=0,0,N34*$E$3) -> 0 | O33: =INT($J33*N33) -> 0 | P33: =IF(J33=0,0,P34*$E$3) -> 0 | Q33: =INT($J33*P33) -> 0 | R33: =IF(J33=0,0,R34*$E$3) -> 0 | S33: =INT($J33*R33) -> 0
D34: =CHOOSE(IF(C34>0,C34,$F$5),0,"(야)","(지세별)","(지+소)","(누.불)","(야+소)","(원내역)") -> 0 | E34: =IF(OR(M33>0,M34>0),1,0) -> 0 | G34: ASP 포장깨기 | H34: (0.18 ㎥ B.H) | I34: =CHOOSE(IF(C34>0,C34,$F$5),0,"(야간)","(지세별)","(지+소)","(누.불)","(야+소)","") -> 0 | J34: 61.6 | K34: ㎥
E35: =IF(OR(M35>0,M36>0),2,"") | J35: 0 | L35: =SUM(N35,P35,R35) -> 0 | M35: =SUM(O35,Q35,S35) -> 0 | N35: =IF(J35=0,0,N36*$E$3) -> 0 | O35: =INT($J35*N35) -> 0 | P35: =IF(J35=0,0,P36*$E$3) -> 0 | Q35: =INT($J35*P35) -> 0 | R35: =IF(J35=0,0,R36*$E$3) -> 0 | S35: =INT($J35*R35) -> 0
C36: 2 | D36: =CHOOSE(IF(C36>0,C36,$F$5),0,"(야)","(지세별)","(지+소)","(누.불)","(야+소)","(원내역)") -> (야) | E36: =IF(OR(M35>0,M36>0),1,0) -> 0 | G36: ASP 포장깨기 | H36: (0.18 ㎥ B.H) | I36: =CHOOSE(IF(C36>0,C36,$F$5),0,"(야간)","(지세별)","(지+소)","(누.불)","(야+소)","") -> (야간) | J36: 13.41 | K36: ㎥
E37: =IF(OR(M37>0,M38>0),2,"") | J37: 0 | L37: =SUM(N37,P37,R37) -> 0 | M37: =SUM(O37,Q37,S37) -> 0 | N37: =IF(J37=0,0,N38*$E$3) -> 0 | O37: =INT($J37*N37) -> 0 | P37: =IF(J37=0,0,P38*$E$3) -> 0 | Q37: =INT($J37*P37) -> 0 | R37: =IF(J37=0,0,R38*$E$3) -> 0 | S37: =INT($J37*R37) -> 0
D38: =CHOOSE(IF(C38>0,C38,$F$5),0,"(야)","(지세별)","(지+소)","(누.불)","(야+소)","(원내역)") -> 0 | E38: =IF(OR(M37>0,M38>0),1,0) -> 0 | G38: CON'C 포장깨기 | H38: (0.18 ㎥ B.H) | I38: =CHOOSE(IF(C38>0,C38,$F$5),0,"(야간)","(지세별)","(지+소)","(누.불)","(야+소)","") -> 0 | J38: 4.83 | K38: ㎥
E39: =IF(OR(M39>0,M40>0),2,"") | J39: 0 | L39: =SUM(N39,P39,R39) -> 0 | M39: =SUM(O39,Q39,S39) -> 0 | N39: =IF(J39=0,0,N40*$E$3) -> 0 | O39: =INT($J39*N39) -> 0 | P39: =IF(J39=0,0,P40*$E$3) -> 0 | Q39: =INT($J39*P39) -> 0 | R39: =IF(J39=0,0,R40*$E$3) -> 0 | S39: =INT($J39*R39) -> 0
C40: 2 | D40: =CHOOSE(IF(C40>0,C40,$F$5),0,"(야)","(지세별)","(지+소)","(누.불)","(야+소)","(원내역)") -> (야) | E40: =IF(OR(M39>0,M40>0),1,0) -> 0 | G40: CON'C 포장깨기 | H40: (0.18 ㎥ B.H) | I40: =CHOOSE(IF(C40>0,C40,$F$5),0,"(야간)","(지세별)","(지+소)","(누.불)","(야+소)","") -> (야간) | J40: 3.74 | K40: ㎥
E41: =IF(OR(M41>0,M42>0),2,"") | J41: 0 | L41: =SUM(N41,P41,R41) -> 0 | M41: =SUM(O41,Q41,S41) -> 0 | N41: =IF(J41=0,0,N42*$E$3) -> 0 | O41: =INT($J41*N41) -> 0 | P41: =IF(J41=0,0,P42*$E$3) -> 0 | Q41: =INT($J41*P41) -> 0 | R41: =IF(J41=0,0,R42*$E$3) -> 0 | S41: =INT($J41*R41) -> 0
D42: =CHOOSE(IF(C42>0,C42,$F$5),0,"(야)","(지세별)","(지+소)","(누.불)","(야+소)","(원내역)") -> 0 | E42: =IF(OR(M41>0,M42>0),1,0) -> 0 | G42: ASP 포장깨기 | H42: (0.4 ㎥ B.H) | I42: =CHOOSE(IF(C42>0,C42,$F$5),0,"(야간)","(지세별)","(지+소)","(누.불)","(야+소)","") -> 0 | J42: 0 | K42: ㎥ | L42: =SUM(N42,P42,R42) -> 0 | M42: =SUM(O42,Q42,S42) -> 0 | N42: =IF(AND(J41=0,J42=0),0,INT(CHOOSE(IF(C42>0,C42,$F$5),#REF!,#REF!,#REF!,#REF!,#REF!,#REF!,#REF!))) -> 0 | O42: =INT($J42*N42) -> 0 | P42: =IF(AND(J41=0,J42=0),0,INT(CHOOSE(IF(C42>0,C42,$F$5),#REF!,#REF!,#REF!,#REF!,#REF!,#REF!,#REF!))) -> 0 | Q42: =INT($J42*P42) -> 0 | R42: =IF(AND(J41=0,J42=0),0,INT(CHOOSE(IF(C42>0,C42,$F$5),#REF!,#REF!,#REF!,#REF!,#REF!,#REF!,#REF!))) -> 0 | S42: =INT($J42*R42) -> 0
E43: =IF(OR(M43>0,M44>0),2,"") | J43: 0 | L43: =SUM(N43,P43,R43) -> 0 | M43: =SUM(O43,Q43,S43) -> 0 | N43: =IF(J43=0,0,N44*$E$3) -> 0 | O43: =INT($J43*N43) -> 0 | P43: =IF(J43=0,0,P44*$E$3) -> 0 | Q43: =INT($J43*P43) -> 0 | R43: =IF(J43=0,0,R44*$E$3) -> 0 | S43: =INT($J43*R43) -> 0
C44: 2 | D44: =CHOOSE(IF(C44>0,C44,$F$5),0,"(야)","(지세별)","(지+소)","(누.불)","(야+소)","(원내역)") -> (야) | E44: =IF(OR(M43>0,M44>0),1,0) -> 0 | G44: ASP 포장깨기 | H44: =H42 -> (0.4 ㎥ B.H) | I44: =CHOOSE(IF(C44>0,C44,$F$5),0,"(야간)","(지세별)","(지+소)","(누.불)","(야+소)","") -> (야간) | J44: 0 | K44: ㎥ | L44: =SUM(N44,P44,R44) -> 0 | M44: =SUM(O44,Q44,S44) -> 0 | N44: =IF(AND(J43=0,J44=0),0,INT(CHOOSE(IF(C44>0,C44,$F$5),#REF!,#REF!,#REF!,#REF!,#REF!,#REF!,#REF!))) -> 0 | O44: =INT($J44*N44) -> 0 | P44: =IF(AND(J43=0,J44=0),0,INT(CHOOSE(IF(C44>0,C44,$F$5),#REF!,#REF!,#REF!,#REF!,#REF!,#REF!,#REF!))) -> 0 | Q44: =INT($J44*P44) -> 0 | R44: =IF(AND(J43=0,J44=0),0,INT(CHOOSE(IF(C44>0,C44,$F$5),#REF!,#REF!,#REF!,#REF!,#REF!,#REF!,#REF!))) -> 0 | S44: =INT($J44*R44) -> 0
E45: =IF(OR(M45>0,M46>0),2,"") | J45: 0 | L45: =SUM(N45,P45,R45) -> 0 | M45: =SUM(O45,Q45,S45) -> 0 | N45: =IF(J45=0,0,N46*$E$3) -> 0 | O45: =INT($J45*N45) -> 0 | P45: =IF(J45=0,0,P46*$E$3) -> 0 | Q45: =INT($J45*P45) -> 0 | R45: =IF(J45=0,0,R46*$E$3) -> 0 | S45: =INT($J45*R45) -> 0
D46: =CHOOSE(IF(C46>0,C46,$F$5),0,"(야)","(지세별)","(지+소)","(누.불)","(야+소)","(원내역)") -> 0 | E46: =IF(OR(M45>0,M46>0),1,0) -> 0 | G46: CON'C 포장깨기 | H46: =H44 -> (0.4 ㎥ B.H) | I46: =CHOOSE(IF(C46>0,C46,$F$5),0,"(야간)","(지세별)","(지+소)","(누.불)","(야+소)","") -> 0 | J46: 0 | K46: ㎥ | L46: =SUM(N46,P46,R46) -> 0 | M46: =SUM(O46,Q46,S46) -> 0 | N46: =IF(AND(J45=0,J46=0),0,INT(CHOOSE(IF(C46>0,C46,$F$5),#REF!,#REF!,#REF!,#REF!,#REF!,#REF!,#REF!))) -> 0 | O46: =INT($J46*N46) -> 0 | P46: =IF(AND(J45=0,J46=0),0,INT(CHOOSE(IF(C46>0,C46,$F$5),#REF!,#REF!,#REF!,#REF!,#REF!,#REF!,#REF!))) -> 0 | Q46: =INT($J46*P46) -> 0 | R46: =IF(AND(J45=0,J46=0),0,INT(CHOOSE(IF(C46>0,C46,$F$5),#REF!,#REF!,#REF!,#REF!,#REF!,#REF!,#REF!))) -> 0 | S46: =INT($J46*R46) -> 0
E47: =IF(OR(M47>0,M48>0),2,"") | J47: 0 | L47: =SUM(N47,P47,R47) -> 0 | M47: =SUM(O47,Q47,S47) -> 0 | N47: =IF(J47=0,0,N48*$E$3) -> 0 | O47: =INT($J47*N47) -> 0 | P47: =IF(J47=0,0,P48*$E$3) -> 0 | Q47: =INT($J47*P47) -> 0 | R47: =IF(J47=0,0,R48*$E$3) -> 0 | S47: =INT($J47*R47) -> 0
C48: 2 | D48: =CHOOSE(IF(C48>0,C48,$F$5),0,"(야)","(지세별)","(지+소)","(누.불)","(야+소)","(원내역)") -> (야) | E48: =IF(OR(M47>0,M48>0),1,0) -> 0 | G48: CON'C 포장깨기 | H48: =H46 -> (0.4 ㎥ B.H) | I48: =CHOOSE(IF(C48>0,C48,$F$5),0,"(야간)","(지세별)","(지+소)","(누.불)","(야+소)","") -> (야간) | J48: 0 | K48: ㎥ | L48: =SUM(N48,P48,R48) -> 0 | M48: =SUM(O48,Q48,S48) -> 0 | N48: =IF(AND(J47=0,J48=0),0,INT(CHOOSE(IF(C48>0,C48,$F$5),#REF!,#REF!,#REF!,#REF!,#REF!,#REF!,#REF!))) -> 0 | O48: =INT($J48*N48) -> 0 | P48: =IF(AND(J47=0,J48=0),0,INT(CHOOSE(IF(C48>0,C48,$F$5),#REF!,#REF!,#REF!,#REF!,#REF!,#REF!,#REF!))) -> 0 | Q48: =INT($J48*P48) -> 0 | R48: =IF(AND(J47=0,J48=0),0,INT(CHOOSE(IF(C48>0,C48,$F$5),#REF!,#REF!,#REF!,#REF!,#REF!,#REF!,#REF!))) -> 0 | S48: =INT($J48*R48) -> 0
E49: =IF(OR(M49>0,M50>0),2,"") | J49: 0 | L49: =SUM(N49,P49,R49) -> 0 | M49: =SUM(O49,Q49,S49) -> 0 | N49: =IF(J49=0,0,N50*$E$3) -> 0 | O49: =INT($J49*N49) -> 0 | P49: =IF(J49=0,0,P50*$E$3) -> 0 | Q49: =INT($J49*P49) -> 0 | R49: =IF(J49=0,0,R50*$E$3) -> 0 | S49: =INT($J49*R49) -> 0
D50: =CHOOSE(IF(C50>0,C50,$F$5),0,"(야)","(지세별)","(지+소)","(누.불)","(야+소)","(원내역)") -> 0 | E50: =IF(OR(M49>0,M50>0),1,0) -> 0 | G50: ASP 포장깨기 | H50: (0.7 ㎥ B.H) | I50: =CHOOSE(IF(C50>0,C50,$F$5),0,"(야간)","(지세별)","(지+소)","(누.불)","(야+소)","") -> 0 | J50: 0 | K50: ㎥ | L50: =SUM(N50,P50,R50) -> 0 | M50: =SUM(O50,Q50,S50) -> 0 | N50: =IF(AND(J49=0,J50=0),0,INT(CHOOSE(IF(C50>0,C50,$F$5),#REF!,#REF!,#REF!,#REF!,#REF!,#REF!,#REF!))) -> 0 | O50: =INT($J50*N50) -> 0 | P50: =IF(AND(J49=0,J50=0),0,INT(CHOOSE(IF(C50>0,C50,$F$5),#REF!,#REF!,#REF!,#REF!,#REF!,#REF!,#REF!))) -> 0 | Q50: =INT($J50*P50) -> 0 | R50: =IF(AND(J49=0,J50=0),0,INT(CHOOSE(IF(C50>0,C50,$F$5),#REF!,#REF!,#REF!,#REF!,#REF!,#REF!,#REF!))) -> 0 | S50: =INT($J50*R50) -> 0
E51: =IF(OR(M51>0,M52>0),2,"") | J51: 0 | L51: =SUM(N51,P51,R51) -> 0 | M51: =SUM(O51,Q51,S51) -> 0 | N51: =IF(J51=0,0,N52*$E$3) -> 0 | O51: =INT($J51*N51) -> 0 | P51: =IF(J51=0,0,P52*$E$3) -> 0 | Q51: =INT($J51*P51) -> 0 | R51: =IF(J51=0,0,R52*$E$3) -> 0 | S51: =INT($J51*R51) -> 0
C52: 2 | D52: =CHOOSE(IF(C52>0,C52,$F$5),0,"(야)","(지세별)","(지+소)","(누.불)","(야+소)","(원내역)") -> (야) | E52: =IF(OR(M51>0,M52>0),1,0) -> 0 | G52: ASP 포장깨기 | H52: =H50 -> (0.7 ㎥ B.H) | I52: =CHOOSE(IF(C52>0,C52,$F$5),0,"(야간)","(지세별)","(지+소)","(누.불)","(야+소)","") -> (야간) | J52: 0 | K52: ㎥ | L52: =SUM(N52,P52,R52) -> 0 | M52: =SUM(O52,Q52,S52) -> 0 | N52: =IF(AND(J51=0,J52=0),0,INT(CHOOSE(IF(C52>0,C52,$F$5),#REF!,#REF!,#REF!,#REF!,#REF!,#REF!,#REF!))) -> 0 | O52: =INT($J52*N52) -> 0 | P52: =IF(AND(J51=0,J52=0),0,INT(CHOOSE(IF(C52>0,C52,$F$5),#REF!,#REF!,#REF!,#REF!,#REF!,#REF!,#REF!))) -> 0 | Q52: =INT($J52*P52) -> 0 | R52: =IF(AND(J51=0,J52=0),0,INT(CHOOSE(IF(C52>0,C52,$F$5),#REF!,#REF!,#REF!,#REF!,#REF!,#REF!,#REF!))) -> 0 | S52: =INT($J52*R52) -> 0
E53: =IF(OR(M53>0,M54>0),2,"") | J53: 0 | L53: =SUM(N53,P53,R53) -> 0 | M53: =SUM(O53,Q53,S53) -> 0 | N53: =IF(J53=0,0,N54*$E$3) -> 0 | O53: =INT($J53*N53) -> 0 | P53: =IF(J53=0,0,P54*$E$3) -> 0 | Q53: =INT($J53*P53) -> 0 | R53: =IF(J53=0,0,R54*$E$3) -> 0 | S53: =INT($J53*R53) -> 0
D54: =CHOOSE(IF(C54>0,C54,$F$5),0,"(야)","(지세별)","(지+소)","(누.불)","(야+소)","(원내역)") -> 0 | E54: =IF(OR(M53>0,M54>0),1,0) -> 0 | G54: CON'C 포장깨기 | H54: =H52 -> (0.7 ㎥ B.H) | I54: =CHOOSE(IF(C54>0,C54,$F$5),0,"(야간)","(지세별)","(지+소)","(누.불)","(야+소)","") -> 0 | J54: 0 | K54: ㎥ | L54: =SUM(N54,P54,R54) -> 0 | M54: =SUM(O54,Q54,S54) -> 0 | N54: =IF(AND(J53=0,J54=0),0,INT(CHOOSE(IF(C54>0,C54,$F$5),#REF!,#REF!,#REF!,#REF!,#REF!,#REF!,#REF!))) -> 0 | O54: =INT($J54*N54) -> 0 | P54: =IF(AND(J53=0,J54=0),0,INT(CHOOSE(IF(C54>0,C54,$F$5),#REF!,#REF!,#REF!,#REF!,#REF!,#REF!,#REF!))) -> 0 | Q54: =INT($J54*P54) -> 0 | R54: =IF(AND(J53=0,J54=0),0,INT(CHOOSE(IF(C54>0,C54,$F$5),#REF!,#REF!,#REF!,#REF!,#REF!,#REF!,#REF!))) -> 0 | S54: =INT($J54*R54) -> 0
E55: =IF(OR(M55>0,M56>0),2,"") | J55: 0 | L55: =SUM(N55,P55,R55) -> 0 | M55: =SUM(O55,Q55,S55) -> 0 | N55: =IF(J55=0,0,N56*$E$3) -> 0 | O55: =INT($J55*N55) -> 0 | P55: =IF(J55=0,0,P56*$E$3) -> 0 | Q55: =INT($J55*P55) -> 0 | R55: =IF(J55=0,0,R56*$E$3) -> 0 | S55: =INT($J55*R55) -> 0
C56: 2 | D56: =CHOOSE(IF(C56>0,C56,$F$5),0,"(야)","(지세별)","(지+소)","(누.불)","(야+소)","(원내역)") -> (야) | E56: =IF(OR(M55>0,M56>0),1,0) -> 0 | G56: CON'C 포장깨기 | H56: =H54 -> (0.7 ㎥ B.H) | I56: =CHOOSE(IF(C56>0,C56,$F$5),0,"(야간)","(지세별)","(지+소)","(누.불)","(야+소)","") -> (야간) | J56: 0 | K56: ㎥ | L56: =SUM(N56,P56,R56) -> 0 | M56: =SUM(O56,Q56,S56) -> 0 | N56: =IF(AND(J55=0,J56=0),0,INT(CHOOSE(IF(C56>0,C56,$F$5),#REF!,#REF!,#REF!,#REF!,#REF!,#REF!,#REF!))) -> 0 | O56: =INT($J56*N56) -> 0 | P56: =IF(AND(J55=0,J56=0),0,INT(CHOOSE(IF(C56>0,C56,$F$5),#REF!,#REF!,#REF!,#REF!,#REF!,#REF!,#REF!))) -> 0 | Q56: =INT($J56*P56) -> 0 | R56: =IF(AND(J55=0,J56=0),0,INT(CHOOSE(IF(C56>0,C56,$F$5),#REF!,#REF!,#REF!,#REF!,#REF!,#REF!,#REF!))) -> 0 | S56: =INT($J56*R56) -> 0
E57: =IF(OR(M57>0,M58>0),2,"") | J57: 0 | L57: =SUM(N57,P57,R57) -> 0 | M57: =SUM(O57,Q57,S57) -> 0 | N57: =IF(J57=0,0,N58*$E$3) -> 0 | O57: =INT($J57*N57) -> 0 | P57: =IF(J57=0,0,P58*$E$3) -> 0 | Q57: =INT($J57*P57) -> 0 | R57: =IF(J57=0,0,R58*$E$3) -> 0 | S57: =INT($J57*R57) -> 0
D58: =CHOOSE(IF(C58>0,C58,$F$5),0,"(야)","(지세별)","(지+소)","(누.불)","(야+소)","(원내역)") -> 0 | E58: =IF(OR(M57>0,M58>0),1,0) -> 0 | G58: 보도블럭 철거(재활용) | H58: 소형고압(t=6cm) | I58: =CHOOSE(IF(C58>0,C58,$F$5),0,"(야간)","(지세별)","(소규모)","(누.불)","(야+소)","") -> 0 | J58: 0 | K58: ㎡ | L58: =SUM(N58,P58,R58) -> 0 | M58: =SUM(O58,Q58,S58) -> 0 | N58: =IF(AND(J57=0,J58=0),0,INT(CHOOSE(IF(C58>0,C58,$F$5),#REF!,#REF!,#REF!,#REF!,#REF!,#REF!,#REF!))) -> 0 | O58: =INT($J58*N58) -> 0 | P58: =IF(AND(J57=0,J58=0),0,INT(CHOOSE(IF(C58>0,C58,$F$5),#REF!,#REF!,#REF!,#REF!,#REF!,#REF!,#REF!))) -> 0 | Q58: =INT($J58*P58) -> 0 | R58: =IF(AND(J57=0,J58=0),0,INT(CHOOSE(IF(C58>0,C58,$F$5),#REF!,#REF!,#REF!,#REF!,#REF!,#REF!,#REF!))) -> 0 | S58: =INT($J58*R58) -> 0
E59: =IF(OR(M59>0,M60>0),2,"") | J59: 0 | L59: =SUM(N59,P59,R59) -> 0 | M59: =SUM(O59,Q59,S59) -> 0 | N59: =IF(J59=0,0,N60*$E$3) -> 0 | O59: =INT($J59*N59) -> 0 | P59: =IF(J59=0,0,P60*$E$3) -> 0 | Q59: =INT($J59*P59) -> 0 | R59: =IF(J59=0,0,R60*$E$3) -> 0 | S59: =INT($J59*R59) -> 0
C60: 2 | D60: =CHOOSE(IF(C60>0,C60,$F$5),0,"(야)","(지세별)","(지+소)","(누.불)","(야+소)","(원내역)") -> (야) | E60: =IF(OR(M59>0,M60>0),1,0) -> 0 | G60: 보도블럭 철거 | H60: 소형고압(t=6cm) | I60: =CHOOSE(IF(C60>0,C60,$F$5),0,"(야간)","(지세별)","(지+소)","(누.불)","(야+소)","") -> (야간) | J60: 0 | K60: ㎡ | L60: =SUM(N60,P60,R60) -> 0 | M60: =SUM(O60,Q60,S60) -> 0 | N60: =IF(AND(J59=0,J60=0),0,INT(CHOOSE(IF(C60>0,C60,$F$5),#REF!,#REF!,#REF!,#REF!,#REF!,#REF!,#REF!))) -> 0 | O60: =INT($J60*N60) -> 0 | P60: =IF(AND(J59=0,J60=0),0,INT(CHOOSE(IF(C60>0,C60,$F$5),#REF!,#REF!,#REF!,#REF!,#REF!,#REF!,#REF!))) -> 0 | Q60: =INT($J60*P60) -> 0 | R60: =IF(AND(J59=0,J60=0),0,INT(CHOOSE(IF(C60>0,C60,$F$5),#REF!,#REF!,#REF!,#REF!,#REF!,#REF!,#REF!))) -> 0 | S60: =INT($J60*R60) -> 0
E61: =IF(OR(M61>0,M62>0),2,"") | J61: 0 | L61: =SUM(N61,P61,R61) -> 0 | M61: =SUM(O61,Q61,S61) -> 0 | N61: =IF(J61=0,0,N62*$E$3) -> 0 | O61: =INT($J61*N61) -> 0 | P61: =IF(J61=0,0,P62*$E$3) -> 0 | Q61: =INT($J61*P61) -> 0 | R61: =IF(J61=0,0,R62*$E$3) -> 0 | S61: =INT($J61*R61) -> 0
D62: =CHOOSE(IF(C62>0,C62,$F$5),0,"(야)","(지세별)","(지+소)","(누.불)","(야+소)","(원내역)") -> 0 | E62: =IF(OR(M61>0,M62>0),1,0) -> 0 | F62: 토공1 | G62: 인력 터파기 | H62: 보통토사(0∼1m) | I62: =CHOOSE(IF(C62>0,C62,$F$5),0,"(야간)","(지세별)","(지+소)","(누.불)","(야+소)","") -> 0 | J62: 0 | K62: ㎥ | L62: =SUM(N62,P62,R62) -> 0 | M62: =SUM(O62,Q62,S62) -> 0 | N62: =IF(AND(J61=0,J62=0),0,INT(CHOOSE(IF(C62>0,C62,$F$5),#REF!,#REF!,#REF!,#REF!,#REF!,#REF!,#REF!))) -> 0 | O62: =INT($J62*N62) -> 0 | P62: =IF(AND(J61=0,J62=0),0,INT(CHOOSE(IF(C62>0,C62,$F$5),#REF!,#REF!,#REF!,#REF!,#REF!,#REF!,#REF!))) -> 0 | Q62: =INT($J62*P62) -> 0 | R62: =IF(AND(J61=0,J62=0),0,INT(CHOOSE(IF(C62>0,C62,$F$5),#REF!,#REF!,#REF!,#REF!,#REF!,#REF!,#REF!))) -> 0 | S62: =INT($J62*R62) -> 0
E63: =IF(OR(M63>0,M64>0),2,"") | J63: 0 | L63: =SUM(N63,P63,R63) -> 0 | M63: =SUM(O63,Q63,S63) -> 0 | N63: =IF(J63=0,0,N64*$E$3) -> 0 | O63: =INT($J63*N63) -> 0 | P63: =IF(J63=0,0,P64*$E$3) -> 0 | Q63: =INT($J63*P63) -> 0 | R63: =IF(J63=0,0,R64*$E$3) -> 0 | S63: =INT($J63*R63) -> 0
C64: 2 | D64: =CHOOSE(IF(C64>0,C64,$F$5),0,"(야)","(지세별)","(지+소)","(누.불)","(야+소)","(원내역)") -> (야) | E64: =IF(OR(M63>0,M64>0),1,0) -> 0 | F64: 토공1 | G64: 인력 터파기 | H64: 보통토사(0∼1m) | I64: =CHOOSE(IF(C64>0,C64,$F$5),0,"(야간)","(지세별)","(지+소)","(누.불)","(야+소)","") -> (야간) | J64: 0 | K64: ㎥ | L64: =SUM(N64,P64,R64) -> 0 | M64: =SUM(O64,Q64,S64) -> 0 | N64: =IF(AND(J63=0,J64=0),0,INT(CHOOSE(IF(C64>0,C64,$F$5),#REF!,#REF!,#REF!,#REF!,#REF!,#REF!,#REF!))) -> 0 | O64: =INT($J64*N64) -> 0 | P64: =IF(AND(J63=0,J64=0),0,INT(CHOOSE(IF(C64>0,C64,$F$5),#REF!,#REF!,#REF!,#REF!,#REF!,#REF!,#REF!))) -> 0 | Q64: =INT($J64*P64) -> 0 | R64: =IF(AND(J63=0,J64=0),0,INT(CHOOSE(IF(C64>0,C64,$F$5),#REF!,#REF!,#REF!,#REF!,#REF!,#REF!,#REF!))) -> 0 | S64: =INT($J64*R64) -> 0
E65: =IF(OR(M65>0,M66>0),2,"") | J65: 0 | L65: =SUM(N65,P65,R65) -> 0 | M65: =SUM(O65,Q65,S65) -> 0 | N65: =IF(J65=0,0,N66*$E$3) -> 0 | O65: =INT($J65*N65) -> 0 | P65: =IF(J65=0,0,P66*$E$3) -> 0 | Q65: =INT($J65*P65) -> 0 | R65: =IF(J65=0,0,R66*$E$3) -> 0 | S65: =INT($J65*R65) -> 0
D66: =CHOOSE(IF(C66>0,C66,$F$5),0,"(야)","(지세별)","(지+소)","(누.불)","(야+소)","(원내역)") -> 0 | E66: =IF(OR(M65>0,M66>0),1,0) -> 0 | G66: 인력 터파기 | H66: 보통토사(1∼2m) | I66: =CHOOSE(IF(C66>0,C66,$F$5),0,"(야간)","(지세별)","(지+소)","(누.불)","(야+소)","") -> 0 | J66: 0 | K66: ㎥ | L66: =SUM(N66,P66,R66) -> 0 | M66: =SUM(O66,Q66,S66) -> 0 | N66: =IF(AND(J65=0,J66=0),0,INT(CHOOSE(IF(C66>0,C66,$F$5),#REF!,#REF!,#REF!,#REF!,#REF!,#REF!,#REF!))) -> 0 | O66: =INT($J66*N66) -> 0 | P66: =IF(AND(J65=0,J66=0),0,INT(CHOOSE(IF(C66>0,C66,$F$5),#REF!,#REF!,#REF!,#REF!,#REF!,#REF!,#REF!))) -> 0 | Q66: =INT($J66*P66) -> 0 | R66: =IF(AND(J65=0,J66=0),0,INT(CHOOSE(IF(C66>0,C66,$F$5),#REF!,#REF!,#REF!,#REF!,#REF!,#REF!,#REF!))) -> 0 | S66: =INT($J66*R66) -> 0
E67: =IF(OR(M67>0,M68>0),2,"") | J67: 0 | L67: =SUM(N67,P67,R67) -> 0 | M67: =SUM(O67,Q67,S67) -> 0 | N67: =IF(J67=0,0,N68*$E$3) -> 0 | O67: =INT($J67*N67) -> 0 | P67: =IF(J67=0,0,P68*$E$3) -> 0 | Q67: =INT($J67*P67) -> 0 | R67: =IF(J67=0,0,R68*$E$3) -> 0 | S67: =INT($J67*R67) -> 0
C68: 2 | D68: =CHOOSE(IF(C68>0,C68,$F$5),0,"(야)","(지세별)","(지+소)","(누.불)","(야+소)","(원내역)") -> (야) | E68: =IF(OR(M67>0,M68>0),1,0) -> 0 | G68: 인력 터파기 | H68: 보통토사(1∼2m) | I68: =CHOOSE(IF(C68>0,C68,$F$5),0,"(야간)","(지세별)","(지+소)","(누.불)","(야+소)","") -> (야간) | J68: 0 | K68: ㎥ | L68: =SUM(N68,P68,R68) -> 0 | M68: =SUM(O68,Q68,S68) -> 0 | N68: =IF(AND(J67=0,J68=0),0,INT(CHOOSE(IF(C68>0,C68,$F$5),#REF!,#REF!,#REF!,#REF!,#REF!,#REF!,#REF!))) -> 0 | O68: =INT($J68*N68) -> 0 | P68: =IF(AND(J67=0,J68=0),0,INT(CHOOSE(IF(C68>0,C68,$F$5),#REF!,#REF!,#REF!,#REF!,#REF!,#REF!,#REF!))) -> 0 | Q68: =INT($J68*P68) -> 0 | R68: =IF(AND(J67=0,J68=0),0,INT(CHOOSE(IF(C68>0,C68,$F$5),#REF!,#REF!,#REF!,#REF!,#REF!,#REF!,#REF!))) -> 0 | S68: =INT($J68*R68) -> 0
E69: =IF(OR(M69>0,M70>0),2,"") | J69: 0 | L69: =SUM(N69,P69,R69) -> 0 | M69: =SUM(O69,Q69,S69) -> 0 | N69: =IF(J69=0,0,N70*$E$3) -> 0 | O69: =INT($J69*N69) -> 0 | P69: =IF(J69=0,0,P70*$E$3) -> 0 | Q69: =INT($J69*P69) -> 0 | R69: =IF(J69=0,0,R70*$E$3) -> 0 | S69: =INT($J69*R69) -> 0
D70: =CHOOSE(IF(C70>0,C70,$F$5),0,"(야)","(지세별)","(지+소)","(누.불)","(야+소)","(원내역)") -> 0 | E70: =IF(OR(M69>0,M70>0),1,0) -> 0 | G70: 인력 터파기 | H70: 견질토사(0∼1m) | I70: =CHOOSE(IF(C70>0,C70,$F$5),0,"(야간)","(지세별)","(소규모)","(누.불)","(야+소)","") -> 0 | J70: 0.58 | K70: ㎥
E71: =IF(OR(M71>0,M72>0),2,"") | J71: 0 | L71: =SUM(N71,P71,R71) -> 0 | M71: =SUM(O71,Q71,S71) -> 0 | N71: =IF(J71=0,0,N72*$E$3) -> 0 | O71: =INT($J71*N71) -> 0 | P71: =IF(J71=0,0,P72*$E$3) -> 0 | Q71: =INT($J71*P71) -> 0 | R71: =IF(J71=0,0,R72*$E$3) -> 0 | S71: =INT($J71*R71) -> 0
C72: 2 | D72: =CHOOSE(IF(C72>0,C72,$F$5),0,"(야)","(지세별)","(지+소)","(누.불)","(야+소)","(원내역)") -> (야) | E72: =IF(OR(M71>0,M72>0),1,0) -> 0 | G72: 인력 터파기 | H72: 견질토사(0∼1m) | I72: =CHOOSE(IF(C72>0,C72,$F$5),0,"(야간)","(지세별)","(지+소)","(누.불)","(야+소)","") -> (야간) | J72: 0 | K72: ㎥ | L72: =SUM(N72,P72,R72) -> 0 | M72: =SUM(O72,Q72,S72) -> 0 | N72: =IF(AND(J71=0,J72=0),0,INT(CHOOSE(IF(C72>0,C72,$F$5),#REF!,#REF!,#REF!,#REF!,#REF!,#REF!,#REF!))) -> 0 | O72: =INT($J72*N72) -> 0 | P72: =IF(AND(J71=0,J72=0),0,INT(CHOOSE(IF(C72>0,C72,$F$5),#REF!,#REF!,#REF!,#REF!,#REF!,#REF!,#REF!))) -> 0 | Q72: =INT($J72*P72) -> 0 | R72: =IF(AND(J71=0,J72=0),0,INT(CHOOSE(IF(C72>0,C72,$F$5),#REF!,#REF!,#REF!,#REF!,#REF!,#REF!,#REF!))) -> 0 | S72: =INT($J72*R72) -> 0
E73: =IF(OR(M73>0,M74>0),2,"") | J73: 0 | L73: =SUM(N73,P73,R73) -> 0 | M73: =SUM(O73,Q73,S73) -> 0 | N73: =IF(J73=0,0,N74*$E$3) -> 0 | O73: =INT($J73*N73) -> 0 | P73: =IF(J73=0,0,P74*$E$3) -> 0 | Q73: =INT($J73*P73) -> 0 | R73: =IF(J73=0,0,R74*$E$3) -> 0 | S73: =INT($J73*R73) -> 0
D74: =CHOOSE(IF(C74>0,C74,$F$5),0,"(야)","(지세별)","(지+소)","(누.불)","(야+소)","(원내역)") -> 0 | E74: =IF(OR(M73>0,M74>0),1,0) -> 0 | G74: 인력 터파기 | H74: 견질토사(1∼2m) | I74: =CHOOSE(IF(C74>0,C74,$F$5),0,"(야간)","(지세별)","(소규모)","(누.불)","(야+소)","") -> 0 | J74: 43.9 | K74: ㎥
E75: =IF(OR(M75>0,M76>0),2,"") | J75: 0 | L75: =SUM(N75,P75,R75) -> 0 | M75: =SUM(O75,Q75,S75) -> 0 | N75: =IF(J75=0,0,N76*$E$3) -> 0 | O75: =INT($J75*N75) -> 0 | P75: =IF(J75=0,0,P76*$E$3) -> 0 | Q75: =INT($J75*P75) -> 0 | R75: =IF(J75=0,0,R76*$E$3) -> 0 | S75: =INT($J75*R75) -> 0
C76: 2 | D76: =CHOOSE(IF(C76>0,C76,$F$5),0,"(야)","(지세별)","(지+소)","(누.불)","(야+소)","(원내역)") -> (야) | E76: =IF(OR(M75>0,M76>0),1,0) -> 0 | G76: 인력 터파기 | H76: 견질토사(1∼2m) | I76: =CHOOSE(IF(C76>0,C76,$F$5),0,"(야간)","(지세별)","(지+소)","(누.불)","(야+소)","") -> (야간) | J76: 17.86 | K76: ㎥
E77: =IF(OR(M77>0,M78>0),2,"") | J77: 0 | L77: =SUM(N77,P77,R77) -> 0 | M77: =SUM(O77,Q77,S77) -> 0 | N77: =IF(J77=0,0,N78*$E$3) -> 0 | O77: =INT($J77*N77) -> 0 | P77: =IF(J77=0,0,P78*$E$3) -> 0 | Q77: =INT($J77*P77) -> 0 | R77: =IF(J77=0,0,R78*$E$3) -> 0 | S77: =INT($J77*R77) -> 0
D78: =CHOOSE(IF(C78>0,C78,$F$5),0,"(야)","(지세별)","(지+소)","(누.불)","(야+소)","(원내역)") -> 0 | E78: =IF(OR(M77>0,M78>0),1,0) -> 0 | G78: 인력 터파기 | H78: 고사점토+자갈썩인토사(0~1m) | I78: =CHOOSE(IF(C78>0,C78,$F$5),0,"(야간)","(지세별)","(지+소)","(누.불)","(야+소)","") -> 0 | J78: 0 | K78: ㎥ | L78: =SUM(N78,P78,R78) -> 0 | M78: =SUM(O78,Q78,S78) -> 0 | N78: =IF(AND(J77=0,J78=0),0,INT(CHOOSE(IF(C78>0,C78,$F$5),#REF!,#REF!,#REF!,#REF!,#REF!,#REF!,#REF!))) -> 0 | O78: =INT($J78*N78) -> 0 | P78: =IF(AND(J77=0,J78=0),0,INT(CHOOSE(IF(C78>0,C78,$F$5),#REF!,#REF!,#REF!,#REF!,#REF!,#REF!,#REF!))) -> 0 | Q78: =INT($J78*P78) -> 0 | R78: =IF(AND(J77=0,J78=0),0,INT(CHOOSE(IF(C78>0,C78,$F$5),#REF!,#REF!,#REF!,#REF!,#REF!,#REF!,#REF!))) -> 0 | S78: =INT($J78*R78) -> 0
E79: =IF(OR(M79>0,M80>0),2,"") | J79: 0 | L79: =SUM(N79,P79,R79) -> 0 | M79: =SUM(O79,Q79,S79) -> 0 | N79: =IF(J79=0,0,N80*$E$3) -> 0 | O79: =INT($J79*N79) -> 0 | P79: =IF(J79=0,0,P80*$E$3) -> 0 | Q79: =INT($J79*P79) -> 0 | R79: =IF(J79=0,0,R80*$E$3) -> 0 | S79: =INT($J79*R79) -> 0
C80: 2 | D80: =CHOOSE(IF(C80>0,C80,$F$5),0,"(야)","(지세별)","(지+소)","(누.불)","(야+소)","(원내역)") -> (야) | E80: =IF(OR(M79>0,M80>0),1,0) -> 0 | G80: 인력 터파기 | H80: 고사점토+자갈썩인토사(0~1m) | I80: =CHOOSE(IF(C80>0,C80,$F$5),0,"(야간)","(지세별)","(지+소)","(누.불)","(야+소)","") -> (야간) | J80: 0 | K80: ㎥ | L80: =SUM(N80,P80,R80) -> 0 | M80: =SUM(O80,Q80,S80) -> 0 | N80: =IF(AND(J79=0,J80=0),0,INT(CHOOSE(IF(C80>0,C80,$F$5),#REF!,#REF!,#REF!,#REF!,#REF!,#REF!,#REF!))) -> 0 | O80: =INT($J80*N80) -> 0 | P80: =IF(AND(J79=0,J80=0),0,INT(CHOOSE(IF(C80>0,C80,$F$5),#REF!,#REF!,#REF!,#REF!,#REF!,#REF!,#REF!))) -> 0 | Q80: =INT($J80*P80) -> 0 | R80: =IF(AND(J79=0,J80=0),0,INT(CHOOSE(IF(C80>0,C80,$F$5),#REF!,#REF!,#REF!,#REF!,#REF!,#REF!,#REF!))) -> 0 | S80: =INT($J80*R80) -> 0
E81: =IF(OR(M81>0,M82>0),2,"") | J81: 0 | L81: =SUM(N81,P81,R81) -> 0 | M81: =SUM(O81,Q81,S81) -> 0 | N81: =IF(J81=0,0,N82*$E$3) -> 0 | O81: =INT($J81*N81) -> 0 | P81: =IF(J81=0,0,P82*$E$3) -> 0 | Q81: =INT($J81*P81) -> 0 | R81: =IF(J81=0,0,R82*$E$3) -> 0 | S81: =INT($J81*R81) -> 0
D82: =CHOOSE(IF(C82>0,C82,$F$5),0,"(야)","(지세별)","(지+소)","(누.불)","(야+소)","(원내역)") -> 0 | E82: =IF(OR(M81>0,M82>0),1,0) -> 0 | G82: 인력 터파기 | H82: 고사점토+자갈썩인토사(1~2m) | I82: =CHOOSE(IF(C82>0,C82,$F$5),0,"(야간)","(지세별)","(지+소)","(누.불)","(야+소)","") -> 0 | J82: 0 | K82: ㎥ | L82: =SUM(N82,P82,R82) -> 0 | M82: =SUM(O82,Q82,S82) -> 0 | N82: =IF(AND(J81=0,J82=0),0,INT(CHOOSE(IF(C82>0,C82,$F$5),#REF!,#REF!,#REF!,#REF!,#REF!,#REF!,#REF!))) -> 0 | O82: =INT($J82*N82) -> 0 | P82: =IF(AND(J81=0,J82=0),0,INT(CHOOSE(IF(C82>0,C82,$F$5),#REF!,#REF!,#REF!,#REF!,#REF!,#REF!,#REF!))) -> 0 | Q82: =INT($J82*P82) -> 0 | R82: =IF(AND(J81=0,J82=0),0,INT(CHOOSE(IF(C82>0,C82,$F$5),#REF!,#REF!,#REF!,#REF!,#REF!,#REF!,#REF!))) -> 0 | S82: =INT($J82*R82) -> 0
E83: =IF(OR(M83>0,M84>0),2,"") | J83: 0 | L83: =SUM(N83,P83,R83) -> 0 | M83: =SUM(O83,Q83,S83) -> 0 | N83: =IF(J83=0,0,N84*$E$3) -> 0 | O83: =INT($J83*N83) -> 0 | P83: =IF(J83=0,0,P84*$E$3) -> 0 | Q83: =INT($J83*P83) -> 0 | R83: =IF(J83=0,0,R84*$E$3) -> 0 | S83: =INT($J83*R83) -> 0
C84: 2 | D84: =CHOOSE(IF(C84>0,C84,$F$5),0,"(야)","(지세별)","(지+소)","(누.불)","(야+소)","(원내역)") -> (야) | E84: =IF(OR(M83>0,M84>0),1,0) -> 0 | G84: 인력 터파기 | H84: 고사점토+자갈썩인토사(1~2m) | I84: =CHOOSE(IF(C84>0,C84,$F$5),0,"(야간)","(지세별)","(지+소)","(누.불)","(야+소)","") -> (야간) | J84: 0 | K84: ㎥ | L84: =SUM(N84,P84,R84) -> 0 | M84: =SUM(O84,Q84,S84) -> 0 | N84: =IF(AND(J83=0,J84=0),0,INT(CHOOSE(IF(C84>0,C84,$F$5),#REF!,#REF!,#REF!,#REF!,#REF!,#REF!,#REF!))) -> 0 | O84: =INT($J84*N84) -> 0 | P84: =IF(AND(J83=0,J84=0),0,INT(CHOOSE(IF(C84>0,C84,$F$5),#REF!,#REF!,#REF!,#REF!,#REF!,#REF!,#REF!))) -> 0 | Q84: =INT($J84*P84) -> 0 | R84: =IF(AND(J83=0,J84=0),0,INT(CHOOSE(IF(C84>0,C84,$F$5),#REF!,#REF!,#REF!,#REF!,#REF!,#REF!,#REF!))) -> 0 | S84: =INT($J84*R84) -> 0
E85: =IF(OR(M85>0,M86>0),2,"") | J85: 0 | L85: =SUM(N85,P85,R85) -> 0 | M85: =SUM(O85,Q85,S85) -> 0 | N85: =IF(J85=0,0,N86*$E$3) -> 0 | O85: =INT($J85*N85) -> 0 | P85: =IF(J85=0,0,P86*$E$3) -> 0 | Q85: =INT($J85*P85) -> 0 | R85: =IF(J85=0,0,R86*$E$3) -> 0 | S85: =INT($J85*R85) -> 0
D86: =CHOOSE(IF(C86>0,C86,$F$5),0,"(야)","(지세별)","(지+소)","(누.불)","(야+소)","(원내역)") -> 0 | E86: =IF(OR(M85>0,M86>0),1,0) -> 0 | G86: ASP 포장싣기 | H86: 인력 | I86: =CHOOSE(IF(C86>0,C86,$F$5),0,"(야간)","(지세별)","(지+소)","(누.불)","(야+소)","") -> 0 | K86: ㎥ | L86: =SUM(N86,P86,R86) -> 0 | M86: =SUM(O86,Q86,S86) -> 0 | N86: =IF(AND(J85=0,J86=0),0,INT(CHOOSE(IF(C86>0,C86,$F$5),#REF!,#REF!,#REF!,#REF!,#REF!,#REF!,#REF!))) -> 0 | O86: =INT($J86*N86) -> 0 | P86: =IF(AND(J85=0,J86=0),0,INT(CHOOSE(IF(C86>0,C86,$F$5),#REF!,#REF!,#REF!,#REF!,#REF!,#REF!,#REF!))) -> 0 | Q86: =INT($J86*P86) -> 0 | R86: =IF(AND(J85=0,J86=0),0,INT(CHOOSE(IF(C86>0,C86,$F$5),#REF!,#REF!,#REF!,#REF!,#REF!,#REF!,#REF!))) -> 0 | S86: =INT($J86*R86) -> 0
E87: =IF(OR(M87>0,M88>0),2,"") | J87: 0 | L87: =SUM(N87,P87,R87) -> 0 | M87: =SUM(O87,Q87,S87) -> 0 | N87: =IF(J87=0,0,N88*$E$3) -> 0 | O87: =INT($J87*N87) -> 0 | P87: =IF(J87=0,0,P88*$E$3) -> 0 | Q87: =INT($J87*P87) -> 0 | R87: =IF(J87=0,0,R88*$E$3) -> 0 | S87: =INT($J87*R87) -> 0
C88: 2 | D88: =CHOOSE(IF(C88>0,C88,$F$5),0,"(야)","(지세별)","(지+소)","(누.불)","(야+소)","(원내역)") -> (야) | E88: =IF(OR(M87>0,M88>0),1,0) -> 0 | G88: =G86 -> ASP 포장싣기 | H88: =H86 -> 인력 | I88: =CHOOSE(IF(C88>0,C88,$F$5),0,"(야간)","(지세별)","(지+소)","(누.불)","(야+소)","") -> (야간) | K88: ㎥ | L88: =SUM(N88,P88,R88) -> 0 | M88: =SUM(O88,Q88,S88) -> 0 | N88: =IF(AND(J87=0,J88=0),0,INT(CHOOSE(IF(C88>0,C88,$F$5),#REF!,#REF!,#REF!,#REF!,#REF!,#REF!,#REF!))) -> 0 | O88: =INT($J88*N88) -> 0 | P88: =IF(AND(J87=0,J88=0),0,INT(CHOOSE(IF(C88>0,C88,$F$5),#REF!,#REF!,#REF!,#REF!,#REF!,#REF!,#REF!))) -> 0 | Q88: =INT($J88*P88) -> 0 | R88: =IF(AND(J87=0,J88=0),0,INT(CHOOSE(IF(C88>0,C88,$F$5),#REF!,#REF!,#REF!,#REF!,#REF!,#REF!,#REF!))) -> 0 | S88: =INT($J88*R88) -> 0
E89: =IF(OR(M89>0,M90>0),2,"") | L89: =SUM(N89,P89,R89) -> 0 | M89: =SUM(O89,Q89,S89) -> 0 | N89: =IF(J89=0,0,N90*$E$3) -> 0 | O89: =INT($J89*N89) -> 0 | P89: =IF(J89=0,0,P90*$E$3) -> 0 | Q89: =INT($J89*P89) -> 0 | R89: =IF(J89=0,0,R90*$E$3) -> 0 | S89: =INT($J89*R89) -> 0
D90: =CHOOSE(IF(C90>0,C90,$F$5),0,"(야)","(지세별)","(지+소)","(누.불)","(야+소)","(원내역)") -> 0 | E90: =IF(OR(M89>0,M90>0),1,0) -> 0 | G90: CON'C | H90: 인력 | I90: =CHOOSE(IF(C90>0,C90,$F$5),0,"(야간)","(지세별)","(지+소)","(누.불)","(야+소)","") -> 0 | K90: ㎥ | L90: =SUM(N90,P90,R90) -> 0 | M90: =SUM(O90,Q90,S90) -> 0 | N90: =IF(AND(J89=0,J90=0),0,INT(CHOOSE(IF(C90>0,C90,$F$5),#REF!,#REF!,#REF!,#REF!,#REF!,#REF!,#REF!))) -> 0 | O90: =INT($J90*N90) -> 0 | P90: =IF(AND(J89=0,J90=0),0,INT(CHOOSE(IF(C90>0,C90,$F$5),#REF!,#REF!,#REF!,#REF!,#REF!,#REF!,#REF!))) -> 0 | Q90: =INT($J90*P90) -> 0 | R90: =IF(AND(J89=0,J90=0),0,INT(CHOOSE(IF(C90>0,C90,$F$5),#REF!,#REF!,#REF!,#REF!,#REF!,#REF!,#REF!))) -> 0 | S90: =INT($J90*R90) -> 0
E91: =IF(OR(M91>0,M92>0),2,"") | J91: 0 | L91: =SUM(N91,P91,R91) -> 0 | M91: =SUM(O91,Q91,S91) -> 0 | N91: =IF(J91=0,0,N92*$E$3) -> 0 | O91: =INT($J91*N91) -> 0 | P91: =IF(J91=0,0,P92*$E$3) -> 0 | Q91: =INT($J91*P91) -> 0 | R91: =IF(J91=0,0,R92*$E$3) -> 0 | S91: =INT($J91*R91) -> 0
C92: 2 | D92: =CHOOSE(IF(C92>0,C92,$F$5),0,"(야)","(지세별)","(지+소)","(누.불)","(야+소)","(원내역)") -> (야) | E92: =IF(OR(M91>0,M92>0),1,0) -> 0 | G92: =G90 -> CON'C | H92: =H90 -> 인력 | I92: =CHOOSE(IF(C92>0,C92,$F$5),0,"(야간)","(지세별)","(지+소)","(누.불)","(야+소)","") -> (야간) | K92: ㎥ | L92: =SUM(N92,P92,R92) -> 0 | M92: =SUM(O92,Q92,S92) -> 0 | N92: =IF(AND(J91=0,J92=0),0,INT(CHOOSE(IF(C92>0,C92,$F$5),#REF!,#REF!,#REF!,#REF!,#REF!,#REF!,#REF!))) -> 0 | O92: =INT($J92*N92) -> 0 | P92: =IF(AND(J91=0,J92=0),0,INT(CHOOSE(IF(C92>0,C92,$F$5),#REF!,#REF!,#REF!,#REF!,#REF!,#REF!,#REF!))) -> 0 | Q92: =INT($J92*P92) -> 0 | R92: =IF(AND(J91=0,J92=0),0,INT(CHOOSE(IF(C92>0,C92,$F$5),#REF!,#REF!,#REF!,#REF!,#REF!,#REF!,#REF!))) -> 0 | S92: =INT($J92*R92) -> 0
E93: =IF(OR(M93>0,M94>0),2,"") | J93: 0 | L93: =SUM(N93,P93,R93) -> 0 | M93: =SUM(O93,Q93,S93) -> 0 | N93: =IF(J93=0,0,N94*$E$3) -> 0 | O93: =INT($J93*N93) -> 0 | P93: =IF(J93=0,0,P94*$E$3) -> 0 | Q93: =INT($J93*P93) -> 0 | R93: =IF(J93=0,0,R94*$E$3) -> 0 | S93: =INT($J93*R93) -> 0
D94: =CHOOSE(IF(C94>0,C94,$F$5),0,"(야)","(지세별)","(지+소)","(누.불)","(야+소)","(원내역)") -> 0 | E94: =IF(OR(M93>0,M94>0),1,0) -> 0 | G94: ASP 포장깨기 및 싣기 | H94: BH 0.12 ( 45 ) | I94: =CHOOSE(IF(C94>0,C94,$F$5),0,"(야간)","(지세별)","(지+소)","(누.불)","(야+소)","") -> 0 | J94: 0 | K94: ㎥ | L94: =SUM(N94,P94,R94) -> 0 | M94: =SUM(O94,Q94,S94) -> 0 | N94: =IF(AND(J93=0,J94=0),0,INT(CHOOSE(IF(C94>0,C94,$F$5),#REF!,#REF!,#REF!,#REF!,#REF!,#REF!,#REF!))) -> 0 | O94: =INT($J94*N94) -> 0 | P94: =IF(AND(J93=0,J94=0),0,INT(CHOOSE(IF(C94>0,C94,$F$5),#REF!,#REF!,#REF!,#REF!,#REF!,#REF!,#REF!))) -> 0 | Q94: =INT($J94*P94) -> 0 | R94: =IF(AND(J93=0,J94=0),0,INT(CHOOSE(IF(C94>0,C94,$F$5),#REF!,#REF!,#REF!,#REF!,#REF!,#REF!,#REF!))) -> 0 | S94: =INT($J94*R94) -> 0
E95: =IF(OR(M95>0,M96>0),2,"") | J95: 0 | L95: =SUM(N95,P95,R95) -> 0 | M95: =SUM(O95,Q95,S95) -> 0 | N95: =IF(J95=0,0,N96*$E$3) -> 0 | O95: =INT($J95*N95) -> 0 | P95: =IF(J95=0,0,P96*$E$3) -> 0 | Q95: =INT($J95*P95) -> 0 | R95: =IF(J95=0,0,R96*$E$3) -> 0 | S95: =INT($J95*R95) -> 0
C96: 2 | D96: =CHOOSE(IF(C96>0,C96,$F$5),0,"(야)","(지세별)","(지+소)","(누.불)","(야+소)","(원내역)") -> (야) | E96: =IF(OR(M95>0,M96>0),1,0) -> 0 | G96: =G94 -> ASP 포장깨기 및 싣기 | H96: =H94 -> BH 0.12 ( 45 ) | I96: =CHOOSE(IF(C96>0,C96,$F$5),0,"(야간)","(지세별)","(지+소)","(누.불)","(야+소)","") -> (야간) | J96: 0 | K96: ㎥ | L96: =SUM(N96,P96,R96) -> 0 | M96: =SUM(O96,Q96,S96) -> 0 | N96: =IF(AND(J95=0,J96=0),0,INT(CHOOSE(IF(C96>0,C96,$F$5),#REF!,#REF!,#REF!,#REF!,#REF!,#REF!,#REF!))) -> 0 | O96: =INT($J96*N96) -> 0 | P96: =IF(AND(J95=0,J96=0),0,INT(CHOOSE(IF(C96>0,C96,$F$5),#REF!,#REF!,#REF!,#REF!,#REF!,#REF!,#REF!))) -> 0 | Q96: =INT($J96*P96) -> 0 | R96: =IF(AND(J95=0,J96=0),0,INT(CHOOSE(IF(C96>0,C96,$F$5),#REF!,#REF!,#REF!,#REF!,#REF!,#REF!,#REF!))) -> 0 | S96: =INT($J96*R96) -> 0
E97: =IF(OR(M97>0,M98>0),2,"") | J97: 0 | L97: =SUM(N97,P97,R97) -> 0 | M97: =SUM(O97,Q97,S97) -> 0 | N97: =IF(J97=0,0,N98*$E$3) -> 0 | O97: =INT($J97*N97) -> 0 | P97: =IF(J97=0,0,P98*$E$3) -> 0 | Q97: =INT($J97*P97) -> 0 | R97: =IF(J97=0,0,R98*$E$3) -> 0 | S97: =INT($J97*R97) -> 0
C98: 1 | D98: =CHOOSE(IF(C98>0,C98,$F$5),0,"(야)","(지세별)","(지+소)","(누.불)","(야+소)","(원내역)") -> 0 | E98: =IF(OR(M97>0,M98>0),1,0) -> 0 | G98: ASP 포장싣기 | H98: BH 0.12 ( 90 ) | I98: =CHOOSE(IF(C98>0,C98,$F$5),0,"(야간)","(지세별)","(지+소)","(누.불)","(야+소)","") -> 0 | J98: 0 | K98: ㎥ | L98: =SUM(N98,P98,R98) -> 0 | M98: =SUM(O98,Q98,S98) -> 0 | N98: =IF(AND(J97=0,J98=0),0,INT(CHOOSE(IF(C98>0,C98,$F$5),#REF!,#REF!,#REF!,#REF!,#REF!,#REF!,#REF!))) -> 0 | O98: =INT($J98*N98) -> 0 | P98: =IF(AND(J97=0,J98=0),0,INT(CHOOSE(IF(C98>0,C98,$F$5),#REF!,#REF!,#REF!,#REF!,#REF!,#REF!,#REF!))) -> 0 | Q98: =INT($J98*P98) -> 0 | R98: =IF(AND(J97=0,J98=0),0,INT(CHOOSE(IF(C98>0,C98,$F$5),#REF!,#REF!,#REF!,#REF!,#REF!,#REF!,#REF!))) -> 0 | S98: =INT($J98*R98) -> 0
E99: =IF(OR(M99>0,M100>0),2,"") | J99: 0 | L99: =SUM(N99,P99,R99) -> 0 | M99: =SUM(O99,Q99,S99) -> 0 | N99: =IF(J99=0,0,N100*$E$3) -> 0 | O99: =INT($J99*N99) -> 0 | P99: =IF(J99=0,0,P100*$E$3) -> 0 | Q99: =INT($J99*P99) -> 0 | R99: =IF(J99=0,0,R100*$E$3) -> 0 | S99: =INT($J99*R99) -> 0
C100: 2 | D100: =CHOOSE(IF(C100>0,C100,$F$5),0,"(야)","(지세별)","(지+소)","(누.불)","(야+소)","(원내역)") -> (야) | E100: =IF(OR(M99>0,M100>0),1,0) -> 0 | G100: =G98 -> ASP 포장싣기 | H100: =H98 -> BH 0.12 ( 90 ) | I100: =CHOOSE(IF(C100>0,C100,$F$5),0,"(야간)","(지세별)","(지+소)","(누.불)","(야+소)","") -> (야간) | J100: 0 | K100: ㎥ | L100: =SUM(N100,P100,R100) -> 0 | M100: =SUM(O100,Q100,S100) -> 0 | N100: =IF(AND(J99=0,J100=0),0,INT(CHOOSE(IF(C100>0,C100,$F$5),#REF!,#REF!,#REF!,#REF!,#REF!,#REF!,#REF!))) -> 0 | O100: =INT($J100*N100) -> 0 | P100: =IF(AND(J99=0,J100=0),0,INT(CHOOSE(IF(C100>0,C100,$F$5),#REF!,#REF!,#REF!,#REF!,#REF!,#REF!,#REF!))) -> 0 | Q100: =INT($J100*P100) -> 0 | R100: =IF(AND(J99=0,J100=0),0,INT(CHOOSE(IF(C100>0,C100,$F$5),#REF!,#REF!,#REF!,#REF!,#REF!,#REF!,#REF!))) -> 0 | S100: =INT($J100*R100) -> 0
...
