Workbook

Sheet 원가계산서
A1: 공 사 원 가 계 산 서
A2: 공사명 : 부산콘서트홀 출입문 등 개선공사
A3: 구 분 비 목 | D3: 금 액 | E3: 구 성 비 | F3: 비 고
A5: 순 공 사 원 가 | B5: 재료비 | C5: 직 접 재 료 비 | G5: A1 | H5: 0 | I5: =D5 -> 0
C6: 간 접 재 료 비 | G6: A2 | H6: 0 | I6: =D6 -> 0
C7: 작업설.부산물 등(△) | G7: A3 | H7: 0 | I7: =D7 -> 0
C8: 소 계 | G8: A | H8: 0 | I8: =D8 -> 0
B9: 노무비 | C9: 직 접 노 무 비 | G9: B1 | H9: 0 | I9: =D9 -> 0
C10: 간 접 노 무 비 | E10: ="직.노*"&H10*100&"%" -> 직.노*17.5% | G10: B2 | H10: 0.175 | I10: =D10 -> 0
C11: 소 계 | G11: B | H11: 0 | I11: =D11 -> 0
B12: 경 비 | C12: 기 계 경 비 | G12: C4 | H12: 0 | I12: =D12 -> 0
C13: 산 재 보 험 료 | E13: ="(노)*"&H13*100&"%" -> (노)*3.56% | G13: C10 | H13: 0.0356 | I13: =D13 -> 0
C14: 고 용 보 험 료 | E14: ="(노)*"&H14*100&"%" -> (노)*1.01% | G14: C11 | H14: 0.0101 | I14: =D14 -> 0
C15: 건 강 보 험 료 | E15: ="(직.노)*"&H15*100&"%" -> (직.노)*3.595% | G15: C12 | H15: 0.03595 | I15: =D15 -> 0
C16: 연 금 보 험 료 | E16: ="(직.노)*"&H16*100&"%" -> (직.노)*4.75% | G16: C13 | H16: 0.0475 | I16: =D16 -> 0
C17: 노인 장기 요양보험료 | E17: ="(건강보험료)*"&H17*100&"%" -> (건강보험료)*13.14% | G17: C14 | H17: 0.1314 | I17: =D17 -> 0
C18: 퇴 직 공 제 부 금 | E18: ="(직.노)*"&H18*100&"%" -> (직.노)*2.3% | G18: M4 | H18: 0.023 | I18: =D18 -> 0
C19: 산업 안전 보건관리비 | E19: ="(재+직.노)*"&H19*100&"%" -> (재+직.노)*3.11% | G19: C16 | H19: 0.0311 | I19: =D19 -> 0
C20: 기 타 경 비 | E20: ="(재+노)*"&H20*100&"%" -> (재+노)*5% | G20: C20 | H20: 0.05 | I20: =D20 -> 0
C21: 환 경 보 전 비 | E21: ="(재+직.노+기.경)*"&H21*100&"%" -> (재+직.노+기.경)*0.3% | G21: C25 | H21: 0.003 | I21: =D21 -> 0
C22: 건설기계대여보증수수료 | E22: ="(재+직.노+기.경)*"&H22*100&"%" -> (재+직.노+기.경)*0.07% | G22: C32 | H22: 0.0007 | I22: =D22 -> 0
C23: 석 면 분 담 금 | E23: ="(노)*"&H23*100&"%" -> (노)*0.006% | G23: U1 | H23: 6e-05 | I23: =D23 -> 0
C24: 임 금 채 권 부 담 금 | E24: ="(노)*"&H24*100&"%" -> (노)*0.09% | G24: U2 | H24: 0.0009 | I24: =D24 -> 0
C25: 소 계 | G25: C | H25: 0 | I25: =D25 -> 0
B26: 계 | G26: X | H26: 0 | I26: =D26 -> 0
A27: 일 반 관 리 비 | E27: ="(재+노+경)*"&H27*100&"%" -> (재+노+경)*8% | G27: D | H27: 0.08 | I27: =D27 -> 0
A28: 이 윤 | E28: ="(노+경+일)*"&H28*100&"%" -> (노+경+일)*15% | G28: E | H28: 0.15 | I28: =(I11+I25+I27)*H28+-1 -> -1
A29: 폐 기 물 처 리 비 | G29: L | H29: 0 | I29: =D29 -> 0
A30: 공 급 가 액 | G30: F | H30: 0 | I30: =SUM(I26:I29)+-1 -> -2
A31: 부 가 가 치 세 | E31: ="(공급가액)*"&H31*100&"%" -> (공급가액)*10% | G31: H | H31: 0.1 | I31: =ROUNDDOWN((I30)*H31,0)+1 -> 1 | J31: 1
A32: 도 급 금 액 | G32: Y | H32: 0 | I32: =I30+I31 -> -1
A33: 총 공 사 금 액 | H33: 0 | I33: =I32+0+0 -> -1

Sheet 공종별집계표
A1: 공 사 집 계 표
A2: 공사명 : 부산콘서트홀 출입문 등 개선공사
A3: 품 명 | B3: 단위 | C3: 수량 | D3: 재 료 비 | F3: 노 무 비 | H3: 경 비 | J3: 합 계 | L3: 비고
D4: 단 가 | E4: 금 액 | F4: 단 가 | G4: 금 액 | H4: 단 가 | I4: 금 액 | J4: 단 가 | K4: 금 액 | M4: 손료요율 | N4: 손료구분 | O4: 적용구분 | P4: 합계구분 | Q4: 기계경비 | R4: 운반비 | S4: 작업부산물 | T4: 관급 | U4: 외주비 | V4: 장비비 | W4: 폐기물처리비 | X4: 가설비 | Y4: 잡비제외분 | Z4: 사급자재대 | AA4: 관급자재대 | AB4: 석면분담금 | AC4: 임금채권부담금 | AD4: 안전관리비 | AE4: 품질관리비 | AF4: 작업부산물(철거해체) | AG4: 어린이유해물질수수료 | AH4: 퇴직공제부금 | AI4: 사용자항목8 | AJ4: 사용자항목9 | AK4: 사용자항목10 | AL4: 사용자항목11 | AM4: 사용자항목12 | AN4: 사용자항목13 | AO4: 사용자항목14 | AP4: 사용자항목15 | AQ4: 사용자항목16 | AR4: 사용자항목17 | AS4: 사용자항목18 | AT4: 사용자항목19 | AU4: 간접재료비 | AV4: 품목구분 | AW4: 조달코드 | AX4: 구분
A5: 01. 가설공사 | B5: 식 | C5: 1 | P5: 1 | Q5: =C5*공종별내역서!R24 -> 0 | R5: =C5*공종별내역서!S24 -> 0 | S5: =C5*공종별내역서!T24 -> 0 | T5: =C5*공종별내역서!U24 -> 0 | U5: =C5*공종별내역서!V24 -> 0 | V5: =C5*공종별내역서!W24 -> 0 | W5: =C5*공종별내역서!X24 -> 0 | X5: =C5*공종별내역서!Y24 -> 0 | Y5: =C5*공종별내역서!Z24 -> 0 | Z5: =C5*공종별내역서!AA24 -> 0 | AA5: =C5*공종별내역서!AB24 -> 0 | AB5: =C5*공종별내역서!AC24 -> 0 | AC5: =C5*공종별내역서!AD24 -> 0 | AD5: =C5*공종별내역서!AE24 -> 0 | AE5: =C5*공종별내역서!AF24 -> 0 | AF5: =C5*공종별내역서!AG24 -> 0 | AG5: =C5*공종별내역서!AH24 -> 0 | AH5: =C5*공종별내역서!AI24 -> 0 | AI5: =C5*공종별내역서!AJ24 -> 0 | AJ5: =C5*공종별내역서!AK24 -> 0 | AK5: =C5*공종별내역서!AL24 -> 0 | AL5: =C5*공종별내역서!AM24 -> 0 | AM5: =C5*공종별내역서!AN24 -> 0 | AN5: =C5*공종별내역서!AO24 -> 0 | AO5: =C5*공종별내역서!AP24 -> 0 | AP5: =C5*공종별내역서!AQ24 -> 0 | AQ5: =C5*공종별내역서!AR24 -> 0 | AR5: =C5*공종별내역서!AS24 -> 0 | AS5: =C5*공종별내역서!AT24 -> 0 | AT5: =C5*공종별내역서!AU24 -> 0 | AU5: =C5*공종별내역서!AV24 -> 0
A6: 02. 목공사 | B6: 식 | C6: 1 | P6: 1 | Q6: =C6*공종별내역서!R44 -> 0 | R6: =C6*공종별내역서!S44 -> 0 | S6: =C6*공종별내역서!T44 -> 0 | T6: =C6*공종별내역서!U44 -> 0 | U6: =C6*공종별내역서!V44 -> 0 | V6: =C6*공종별내역서!W44 -> 0 | W6: =C6*공종별내역서!X44 -> 0 | X6: =C6*공종별내역서!Y44 -> 0 | Y6: =C6*공종별내역서!Z44 -> 0 | Z6: =C6*공종별내역서!AA44 -> 0 | AA6: =C6*공종별내역서!AB44 -> 0 | AB6: =C6*공종별내역서!AC44 -> 0 | AC6: =C6*공종별내역서!AD44 -> 0 | AD6: =C6*공종별내역서!AE44 -> 0 | AE6: =C6*공종별내역서!AF44 -> 0 | AF6: =C6*공종별내역서!AG44 -> 0 | AG6: =C6*공종별내역서!AH44 -> 0 | AH6: =C6*공종별내역서!AI44 -> 0 | AI6: =C6*공종별내역서!AJ44 -> 0 | AJ6: =C6*공종별내역서!AK44 -> 0 | AK6: =C6*공종별내역서!AL44 -> 0 | AL6: =C6*공종별내역서!AM44 -> 0 | AM6: =C6*공종별내역서!AN44 -> 0 | AN6: =C6*공종별내역서!AO44 -> 0 | AO6: =C6*공종별내역서!AP44 -> 0 | AP6: =C6*공종별내역서!AQ44 -> 0 | AQ6: =C6*공종별내역서!AR44 -> 0 | AR6: =C6*공종별내역서!AS44 -> 0 | AS6: =C6*공종별내역서!AT44 -> 0 | AT6: =C6*공종별내역서!AU44 -> 0 | AU6: =C6*공종별내역서!AV44 -> 0
A7: 03. 미장공사 | B7: 식 | C7: 1 | P7: 1 | Q7: =C7*공종별내역서!R64 -> 0 | R7: =C7*공종별내역서!S64 -> 0 | S7: =C7*공종별내역서!T64 -> 0 | T7: =C7*공종별내역서!U64 -> 0 | U7: =C7*공종별내역서!V64 -> 0 | V7: =C7*공종별내역서!W64 -> 0 | W7: =C7*공종별내역서!X64 -> 0 | X7: =C7*공종별내역서!Y64 -> 0 | Y7: =C7*공종별내역서!Z64 -> 0 | Z7: =C7*공종별내역서!AA64 -> 0 | AA7: =C7*공종별내역서!AB64 -> 0 | AB7: =C7*공종별내역서!AC64 -> 0 | AC7: =C7*공종별내역서!AD64 -> 0 | AD7: =C7*공종별내역서!AE64 -> 0 | AE7: =C7*공종별내역서!AF64 -> 0 | AF7: =C7*공종별내역서!AG64 -> 0 | AG7: =C7*공종별내역서!AH64 -> 0 | AH7: =C7*공종별내역서!AI64 -> 0 | AI7: =C7*공종별내역서!AJ64 -> 0 | AJ7: =C7*공종별내역서!AK64 -> 0 | AK7: =C7*공종별내역서!AL64 -> 0 | AL7: =C7*공종별내역서!AM64 -> 0 | AM7: =C7*공종별내역서!AN64 -> 0 | AN7: =C7*공종별내역서!AO64 -> 0 | AO7: =C7*공종별내역서!AP64 -> 0 | AP7: =C7*공종별내역서!AQ64 -> 0 | AQ7: =C7*공종별내역서!AR64 -> 0 | AR7: =C7*공종별내역서!AS64 -> 0 | AS7: =C7*공종별내역서!AT64 -> 0 | AT7: =C7*공종별내역서!AU64 -> 0 | AU7: =C7*공종별내역서!AV64 -> 0
A8: 04. 조적공사 | B8: 식 | C8: 1 | P8: 1 | Q8: =C8*공종별내역서!R84 -> 0 | R8: =C8*공종별내역서!S84 -> 0 | S8: =C8*공종별내역서!T84 -> 0 | T8: =C8*공종별내역서!U84 -> 0 | U8: =C8*공종별내역서!V84 -> 0 | V8: =C8*공종별내역서!W84 -> 0 | W8: =C8*공종별내역서!X84 -> 0 | X8: =C8*공종별내역서!Y84 -> 0 | Y8: =C8*공종별내역서!Z84 -> 0 | Z8: =C8*공종별내역서!AA84 -> 0 | AA8: =C8*공종별내역서!AB84 -> 0 | AB8: =C8*공종별내역서!AC84 -> 0 | AC8: =C8*공종별내역서!AD84 -> 0 | AD8: =C8*공종별내역서!AE84 -> 0 | AE8: =C8*공종별내역서!AF84 -> 0 | AF8: =C8*공종별내역서!AG84 -> 0 | AG8: =C8*공종별내역서!AH84 -> 0 | AH8: =C8*공종별내역서!AI84 -> 0 | AI8: =C8*공종별내역서!AJ84 -> 0 | AJ8: =C8*공종별내역서!AK84 -> 0 | AK8: =C8*공종별내역서!AL84 -> 0 | AL8: =C8*공종별내역서!AM84 -> 0 | AM8: =C8*공종별내역서!AN84 -> 0 | AN8: =C8*공종별내역서!AO84 -> 0 | AO8: =C8*공종별내역서!AP84 -> 0 | AP8: =C8*공종별내역서!AQ84 -> 0 | AQ8: =C8*공종별내역서!AR84 -> 0 | AR8: =C8*공종별내역서!AS84 -> 0 | AS8: =C8*공종별내역서!AT84 -> 0 | AT8: =C8*공종별내역서!AU84 -> 0 | AU8: =C8*공종별내역서!AV84 -> 0
A9: 05. 타일공사 | B9: 식 | C9: 1 | P9: 1 | Q9: =C9*공종별내역서!R104 -> 0 | R9: =C9*공종별내역서!S104 -> 0 | S9: =C9*공종별내역서!T104 -> 0 | T9: =C9*공종별내역서!U104 -> 0 | U9: =C9*공종별내역서!V104 -> 0 | V9: =C9*공종별내역서!W104 -> 0 | W9: =C9*공종별내역서!X104 -> 0 | X9: =C9*공종별내역서!Y104 -> 0 | Y9: =C9*공종별내역서!Z104 -> 0 | Z9: =C9*공종별내역서!AA104 -> 0 | AA9: =C9*공종별내역서!AB104 -> 0 | AB9: =C9*공종별내역서!AC104 -> 0 | AC9: =C9*공종별내역서!AD104 -> 0 | AD9: =C9*공종별내역서!AE104 -> 0 | AE9: =C9*공종별내역서!AF104 -> 0 | AF9: =C9*공종별내역서!AG104 -> 0 | AG9: =C9*공종별내역서!AH104 -> 0 | AH9: =C9*공종별내역서!AI104 -> 0 | AI9: =C9*공종별내역서!AJ104 -> 0 | AJ9: =C9*공종별내역서!AK104 -> 0 | AK9: =C9*공종별내역서!AL104 -> 0 | AL9: =C9*공종별내역서!AM104 -> 0 | AM9: =C9*공종별내역서!AN104 -> 0 | AN9: =C9*공종별내역서!AO104 -> 0 | AO9: =C9*공종별내역서!AP104 -> 0 | AP9: =C9*공종별내역서!AQ104 -> 0 | AQ9: =C9*공종별내역서!AR104 -> 0 | AR9: =C9*공종별내역서!AS104 -> 0 | AS9: =C9*공종별내역서!AT104 -> 0 | AT9: =C9*공종별내역서!AU104 -> 0 | AU9: =C9*공종별내역서!AV104 -> 0
A10: 06. 도장공사 | B10: 식 | C10: 1 | P10: 1 | Q10: =C10*공종별내역서!R124 -> 0 | R10: =C10*공종별내역서!S124 -> 0 | S10: =C10*공종별내역서!T124 -> 0 | T10: =C10*공종별내역서!U124 -> 0 | U10: =C10*공종별내역서!V124 -> 0 | V10: =C10*공종별내역서!W124 -> 0 | W10: =C10*공종별내역서!X124 -> 0 | X10: =C10*공종별내역서!Y124 -> 0 | Y10: =C10*공종별내역서!Z124 -> 0 | Z10: =C10*공종별내역서!AA124 -> 0 | AA10: =C10*공종별내역서!AB124 -> 0 | AB10: =C10*공종별내역서!AC124 -> 0 | AC10: =C10*공종별내역서!AD124 -> 0 | AD10: =C10*공종별내역서!AE124 -> 0 | AE10: =C10*공종별내역서!AF124 -> 0 | AF10: =C10*공종별내역서!AG124 -> 0 | AG10: =C10*공종별내역서!AH124 -> 0 | AH10: =C10*공종별내역서!AI124 -> 0 | AI10: =C10*공종별내역서!AJ124 -> 0 | AJ10: =C10*공종별내역서!AK124 -> 0 | AK10: =C10*공종별내역서!AL124 -> 0 | AL10: =C10*공종별내역서!AM124 -> 0 | AM10: =C10*공종별내역서!AN124 -> 0 | AN10: =C10*공종별내역서!AO124 -> 0 | AO10: =C10*공종별내역서!AP124 -> 0 | AP10: =C10*공종별내역서!AQ124 -> 0 | AQ10: =C10*공종별내역서!AR124 -> 0 | AR10: =C10*공종별내역서!AS124 -> 0 | AS10: =C10*공종별내역서!AT124 -> 0 | AT10: =C10*공종별내역서!AU124 -> 0 | AU10: =C10*공종별내역서!AV124 -> 0
A11: 07. 금속공사 | B11: 식 | C11: 1 | P11: 1 | Q11: =C11*공종별내역서!R144 -> 0 | R11: =C11*공종별내역서!S144 -> 0 | S11: =C11*공종별내역서!T144 -> 0 | T11: =C11*공종별내역서!U144 -> 0 | U11: =C11*공종별내역서!V144 -> 0 | V11: =C11*공종별내역서!W144 -> 0 | W11: =C11*공종별내역서!X144 -> 0 | X11: =C11*공종별내역서!Y144 -> 0 | Y11: =C11*공종별내역서!Z144 -> 0 | Z11: =C11*공종별내역서!AA144 -> 0 | AA11: =C11*공종별내역서!AB144 -> 0 | AB11: =C11*공종별내역서!AC144 -> 0 | AC11: =C11*공종별내역서!AD144 -> 0 | AD11: =C11*공종별내역서!AE144 -> 0 | AE11: =C11*공종별내역서!AF144 -> 0 | AF11: =C11*공종별내역서!AG144 -> 0 | AG11: =C11*공종별내역서!AH144 -> 0 | AH11: =C11*공종별내역서!AI144 -> 0 | AI11: =C11*공종별내역서!AJ144 -> 0 | AJ11: =C11*공종별내역서!AK144 -> 0 | AK11: =C11*공종별내역서!AL144 -> 0 | AL11: =C11*공종별내역서!AM144 -> 0 | AM11: =C11*공종별내역서!AN144 -> 0 | AN11: =C11*공종별내역서!AO144 -> 0 | AO11: =C11*공종별내역서!AP144 -> 0 | AP11: =C11*공종별내역서!AQ144 -> 0 | AQ11: =C11*공종별내역서!AR144 -> 0 | AR11: =C11*공종별내역서!AS144 -> 0 | AS11: =C11*공종별내역서!AT144 -> 0 | AT11: =C11*공종별내역서!AU144 -> 0 | AU11: =C11*공종별내역서!AV144 -> 0
A12: 08. 창호공사 | B12: 식 | C12: 1 | P12: 1 | Q12: =C12*공종별내역서!R184 -> 0 | R12: =C12*공종별내역서!S184 -> 0 | S12: =C12*공종별내역서!T184 -> 0 | T12: =C12*공종별내역서!U184 -> 0 | U12: =C12*공종별내역서!V184 -> 0 | V12: =C12*공종별내역서!W184 -> 0 | W12: =C12*공종별내역서!X184 -> 0 | X12: =C12*공종별내역서!Y184 -> 0 | Y12: =C12*공종별내역서!Z184 -> 0 | Z12: =C12*공종별내역서!AA184 -> 0 | AA12: =C12*공종별내역서!AB184 -> 0 | AB12: =C12*공종별내역서!AC184 -> 0 | AC12: =C12*공종별내역서!AD184 -> 0 | AD12: =C12*공종별내역서!AE184 -> 0 | AE12: =C12*공종별내역서!AF184 -> 0 | AF12: =C12*공종별내역서!AG184 -> 0 | AG12: =C12*공종별내역서!AH184 -> 0 | AH12: =C12*공종별내역서!AI184 -> 0 | AI12: =C12*공종별내역서!AJ184 -> 0 | AJ12: =C12*공종별내역서!AK184 -> 0 | AK12: =C12*공종별내역서!AL184 -> 0 | AL12: =C12*공종별내역서!AM184 -> 0 | AM12: =C12*공종별내역서!AN184 -> 0 | AN12: =C12*공종별내역서!AO184 -> 0 | AO12: =C12*공종별내역서!AP184 -> 0 | AP12: =C12*공종별내역서!AQ184 -> 0 | AQ12: =C12*공종별내역서!AR184 -> 0 | AR12: =C12*공종별내역서!AS184 -> 0 | AS12: =C12*공종별내역서!AT184 -> 0 | AT12: =C12*공종별내역서!AU184 -> 0 | AU12: =C12*공종별내역서!AV184 -> 0
A13: 09. 수장공사 | B13: 식 | C13: 1 | P13: 1 | Q13: =C13*공종별내역서!R204 -> 0 | R13: =C13*공종별내역서!S204 -> 0 | S13: =C13*공종별내역서!T204 -> 0 | T13: =C13*공종별내역서!U204 -> 0 | U13: =C13*공종별내역서!V204 -> 0 | V13: =C13*공종별내역서!W204 -> 0 | W13: =C13*공종별내역서!X204 -> 0 | X13: =C13*공종별내역서!Y204 -> 0 | Y13: =C13*공종별내역서!Z204 -> 0 | Z13: =C13*공종별내역서!AA204 -> 0 | AA13: =C13*공종별내역서!AB204 -> 0 | AB13: =C13*공종별내역서!AC204 -> 0 | AC13: =C13*공종별내역서!AD204 -> 0 | AD13: =C13*공종별내역서!AE204 -> 0 | AE13: =C13*공종별내역서!AF204 -> 0 | AF13: =C13*공종별내역서!AG204 -> 0 | AG13: =C13*공종별내역서!AH204 -> 0 | AH13: =C13*공종별내역서!AI204 -> 0 | AI13: =C13*공종별내역서!AJ204 -> 0 | AJ13: =C13*공종별내역서!AK204 -> 0 | AK13: =C13*공종별내역서!AL204 -> 0 | AL13: =C13*공종별내역서!AM204 -> 0 | AM13: =C13*공종별내역서!AN204 -> 0 | AN13: =C13*공종별내역서!AO204 -> 0 | AO13: =C13*공종별내역서!AP204 -> 0 | AP13: =C13*공종별내역서!AQ204 -> 0 | AQ13: =C13*공종별내역서!AR204 -> 0 | AR13: =C13*공종별내역서!AS204 -> 0 | AS13: =C13*공종별내역서!AT204 -> 0 | AT13: =C13*공종별내역서!AU204 -> 0 | AU13: =C13*공종별내역서!AV204 -> 0
A14: 10. 운반공사 | B14: 식 | C14: 1 | P14: 1 | Q14: =C14*공종별내역서!R224 -> 0 | R14: =C14*공종별내역서!S224 -> 0 | S14: =C14*공종별내역서!T224 -> 0 | T14: =C14*공종별내역서!U224 -> 0 | U14: =C14*공종별내역서!V224 -> 0 | V14: =C14*공종별내역서!W224 -> 0 | W14: =C14*공종별내역서!X224 -> 0 | X14: =C14*공종별내역서!Y224 -> 0 | Y14: =C14*공종별내역서!Z224 -> 0 | Z14: =C14*공종별내역서!AA224 -> 0 | AA14: =C14*공종별내역서!AB224 -> 0 | AB14: =C14*공종별내역서!AC224 -> 0 | AC14: =C14*공종별내역서!AD224 -> 0 | AD14: =C14*공종별내역서!AE224 -> 0 | AE14: =C14*공종별내역서!AF224 -> 0 | AF14: =C14*공종별내역서!AG224 -> 0 | AG14: =C14*공종별내역서!AH224 -> 0 | AH14: =C14*공종별내역서!AI224 -> 0 | AI14: =C14*공종별내역서!AJ224 -> 0 | AJ14: =C14*공종별내역서!AK224 -> 0 | AK14: =C14*공종별내역서!AL224 -> 0 | AL14: =C14*공종별내역서!AM224 -> 0 | AM14: =C14*공종별내역서!AN224 -> 0 | AN14: =C14*공종별내역서!AO224 -> 0 | AO14: =C14*공종별내역서!AP224 -> 0 | AP14: =C14*공종별내역서!AQ224 -> 0 | AQ14: =C14*공종별내역서!AR224 -> 0 | AR14: =C14*공종별내역서!AS224 -> 0 | AS14: =C14*공종별내역서!AT224 -> 0 | AT14: =C14*공종별내역서!AU224 -> 0 | AU14: =C14*공종별내역서!AV224 -> 0
A15: 11. 철거공사 | B15: 식 | C15: 1 | P15: 1 | Q15: =C15*공종별내역서!R244 -> 0 | R15: =C15*공종별내역서!S244 -> 0 | S15: =C15*공종별내역서!T244 -> 0 | T15: =C15*공종별내역서!U244 -> 0 | U15: =C15*공종별내역서!V244 -> 0 | V15: =C15*공종별내역서!W244 -> 0 | W15: =C15*공종별내역서!X244 -> 0 | X15: =C15*공종별내역서!Y244 -> 0 | Y15: =C15*공종별내역서!Z244 -> 0 | Z15: =C15*공종별내역서!AA244 -> 0 | AA15: =C15*공종별내역서!AB244 -> 0 | AB15: =C15*공종별내역서!AC244 -> 0 | AC15: =C15*공종별내역서!AD244 -> 0 | AD15: =C15*공종별내역서!AE244 -> 0 | AE15: =C15*공종별내역서!AF244 -> 0 | AF15: =C15*공종별내역서!AG244 -> 0 | AG15: =C15*공종별내역서!AH244 -> 0 | AH15: =C15*공종별내역서!AI244 -> 0 | AI15: =C15*공종별내역서!AJ244 -> 0 | AJ15: =C15*공종별내역서!AK244 -> 0 | AK15: =C15*공종별내역서!AL244 -> 0 | AL15: =C15*공종별내역서!AM244 -> 0 | AM15: =C15*공종별내역서!AN244 -> 0 | AN15: =C15*공종별내역서!AO244 -> 0 | AO15: =C15*공종별내역서!AP244 -> 0 | AP15: =C15*공종별내역서!AQ244 -> 0 | AQ15: =C15*공종별내역서!AR244 -> 0 | AR15: =C15*공종별내역서!AS244 -> 0 | AS15: =C15*공종별내역서!AT244 -> 0 | AT15: =C15*공종별내역서!AU244 -> 0 | AU15: =C15*공종별내역서!AV244 -> 0
A16: 12. 폐기물처리비 | B16: 식 | C16: 1 | Q16: =C16*공종별내역서!R264 -> 0 | R16: =C16*공종별내역서!S264 -> 0 | S16: =C16*공종별내역서!T264 -> 0 | T16: =C16*공종별내역서!U264 -> 0 | U16: =C16*공종별내역서!V264 -> 0 | V16: =C16*공종별내역서!W264 -> 0 | W16: =C16*공종별내역서!X264 -> 0 | X16: =C16*공종별내역서!Y264 -> 0 | Y16: =C16*공종별내역서!Z264 -> 0 | Z16: =C16*공종별내역서!AA264 -> 0 | AA16: =C16*공종별내역서!AB264 -> 0 | AB16: =C16*공종별내역서!AC264 -> 0 | AC16: =C16*공종별내역서!AD264 -> 0 | AD16: =C16*공종별내역서!AE264 -> 0 | AE16: =C16*공종별내역서!AF264 -> 0 | AF16: =C16*공종별내역서!AG264 -> 0 | AG16: =C16*공종별내역서!AH264 -> 0 | AH16: =C16*공종별내역서!AI264 -> 0 | AI16: =C16*공종별내역서!AJ264 -> 0 | AJ16: =C16*공종별내역서!AK264 -> 0 | AK16: =C16*공종별내역서!AL264 -> 0 | AL16: =C16*공종별내역서!AM264 -> 0 | AM16: =C16*공종별내역서!AN264 -> 0 | AN16: =C16*공종별내역서!AO264 -> 0 | AO16: =C16*공종별내역서!AP264 -> 0 | AP16: =C16*공종별내역서!AQ264 -> 0 | AQ16: =C16*공종별내역서!AR264 -> 0 | AR16: =C16*공종별내역서!AS264 -> 0 | AS16: =C16*공종별내역서!AT264 -> 0 | AT16: =C16*공종별내역서!AU264 -> 0 | AU16: =C16*공종별내역서!AV264 -> 0
A17: 13. 골재대 | B17: 식 | C17: 1 | P17: 1 | Q17: =C17*공종별내역서!R284 -> 0 | R17: =C17*공종별내역서!S284 -> 0 | S17: =C17*공종별내역서!T284 -> 0 | T17: =C17*공종별내역서!U284 -> 0 | U17: =C17*공종별내역서!V284 -> 0 | V17: =C17*공종별내역서!W284 -> 0 | W17: =C17*공종별내역서!X284 -> 0 | X17: =C17*공종별내역서!Y284 -> 0 | Y17: =C17*공종별내역서!Z284 -> 0 | Z17: =C17*공종별내역서!AA284 -> 0 | AA17: =C17*공종별내역서!AB284 -> 0 | AB17: =C17*공종별내역서!AC284 -> 0 | AC17: =C17*공종별내역서!AD284 -> 0 | AD17: =C17*공종별내역서!AE284 -> 0 | AE17: =C17*공종별내역서!AF284 -> 0 | AF17: =C17*공종별내역서!AG284 -> 0 | AG17: =C17*공종별내역서!AH284 -> 0 | AH17: =C17*공종별내역서!AI284 -> 0 | AI17: =C17*공종별내역서!AJ284 -> 0 | AJ17: =C17*공종별내역서!AK284 -> 0 | AK17: =C17*공종별내역서!AL284 -> 0 | AL17: =C17*공종별내역서!AM284 -> 0 | AM17: =C17*공종별내역서!AN284 -> 0 | AN17: =C17*공종별내역서!AO284 -> 0 | AO17: =C17*공종별내역서!AP284 -> 0 | AP17: =C17*공종별내역서!AQ284 -> 0 | AQ17: =C17*공종별내역서!AR284 -> 0 | AR17: =C17*공종별내역서!AS284 -> 0 | AS17: =C17*공종별내역서!AT284 -> 0 | AT17: =C17*공종별내역서!AU284 -> 0 | AU17: =C17*공종별내역서!AV284 -> 0
A24: 합 계 | E24: =SUMIF(P5:P17,"1",E5:E17) -> 0 | G24: =SUMIF(P5:P17,"1",G5:G17) -> 0 | I24: =SUMIF(P5:P17,"1",I5:I17) -> 0 | K24: =E24+G24+I24 -> 0 | Q24: =SUM(Q5:Q17) -> 0 | R24: =SUM(R5:R17) -> 0 | S24: =SUM(S5:S17) -> 0 | T24: =SUM(T5:T17) -> 0 | U24: =SUM(U5:U17) -> 0 | V24: =SUM(V5:V17) -> 0 | W24: =SUM(W5:W17) -> 0 | X24: =SUM(X5:X17) -> 0 | ... AX24: =SUM(AX5:AX17) -> 0

Sheet 공종별내역서
A1: 공 사 내 역 서
A2: 공사명 : 부산콘서트홀 출입문 등 개선공사
A3: 품 명 | B3: 규 격 | C3: 단위 | D3: 수 량 | E3: 재 료 비 | G3: 노 무 비 | I3: 경 비 | K3: 합 계 | M3: 비고
E4: 단 가 | F4: 금 액 | G4: 단 가 | H4: 금 액 | I4: 단 가 | J4: 금 액 | K4: 단 가 | L4: 금 액 | N4: 손료요율 | O4: 손료구분 | P4: 적용구분 | Q4: 합계구분 | R4: 기계경비 | S4: 운반비 | T4: 작업부산물 | U4: 관급 | V4: 외주비 | W4: 장비비 | X4: 폐기물처리비 | Y4: 가설비 | Z4: 잡비제외분 | AA4: 사급자재대 | AB4: 관급자재대 | AC4: 석면분담금 | AD4: 임금채권부담금 | AE4: 안전관리비 | AF4: 품질관리비 | AG4: 작업부산물(철거해체) | AH4: 어린이유해물질수수료 | AI4: 퇴직공제부금 | AJ4: 사용자항목8 | AK4: 사용자항목9 | AL4: 사용자항목10 | AM4: 사용자항목11 | AN4: 사용자항목12 | AO4: 사용자항목13 | AP4: 사용자항목14 | AQ4: 사용자항목15 | AR4: 사용자항목16 | AS4: 사용자항목17 | AT4: 사용자항목18 | AU4: 사용자항목19 | AV4: 간접재료비 | AW4: 품목구분 | AX4: 조달코드 | AY4: 구분
A5: 01. 가설공사
A6: 건축물현장정리 | B6: 간단 | C6: ㎡ | D6: 594 | O6: ="" | P6: 기계경비 | Q6: 1 | R6: =IF(P6="기계경비",J6,0) -> 0 | S6: =IF(P6="운반비",L6,0) -> 0 | T6: =IF(P6="작업부산물",F6,0) -> 0 | U6: =IF(P6="관급",F6,0) -> 0 | V6: =IF(P6="외주비",J6,0) -> 0 | W6: =IF(P6="장비비",J6,0) -> 0 | X6: =IF(P6="폐기물처리비",L6,0) -> 0 | Y6: =IF(P6="가설비",J6,0) -> 0 | Z6: =IF(P6="잡비제외분",F6,0) -> 0 | AA6: =IF(P6="사급자재대",L6,0) -> 0 | AB6: =IF(P6="관급자재대",L6,0) -> 0 | AC6: =IF(P6="석면분담금",L6,0) -> 0 | AD6: =IF(P6="임금채권부담금",L6,0) -> 0 | AE6: =IF(P6="안전관리비",L6,0) -> 0 | AF6: =IF(P6="품질관리비",L6,0) -> 0 | AG6: =IF(P6="작업부산물(철거해체)",L6,0) -> 0 | AH6: =IF(P6="어린이유해물질수수료",L6,0) -> 0 | AI6: =IF(P6="퇴직공제부금",L6,0) -> 0 | AJ6: =IF(P6="사용자항목8",L6,0) -> 0 | AK6: =IF(P6="사용자항목9",L6,0) -> 0 | AL6: =IF(P6="사용자항목10",L6,0) -> 0 | AM6: =IF(P6="사용자항목11",L6,0) -> 0 | AN6: =IF(P6="사용자항목12",L6,0) -> 0 | AO6: =IF(P6="사용자항목13",L6,0) -> 0 | AP6: =IF(P6="사용자항목14",L6,0) -> 0 | AQ6: =IF(P6="사용자항목15",L6,0) -> 0 | AR6: =IF(P6="사용자항목16",L6,0) -> 0 | AS6: =IF(P6="사용자항목17",L6,0) -> 0 | AT6: =IF(P6="사용자항목18",L6,0) -> 0 | AU6: =IF(P6="사용자항목19",L6,0) -> 0 | AY6: D
A7: 준공청소 | C7: 연면적 ㎡ | D7: 594 | O7: ="" | P7: 기계경비 | Q7: 1 | R7: =IF(P7="기계경비",J7,0) -> 0 | S7: =IF(P7="운반비",L7,0) -> 0 | T7: =IF(P7="작업부산물",F7,0) -> 0 | U7: =IF(P7="관급",F7,0) -> 0 | V7: =IF(P7="외주비",J7,0) -> 0 | W7: =IF(P7="장비비",J7,0) -> 0 | X7: =IF(P7="폐기물처리비",L7,0) -> 0 | Y7: =IF(P7="가설비",J7,0) -> 0 | Z7: =IF(P7="잡비제외분",F7,0) -> 0 | AA7: =IF(P7="사급자재대",L7,0) -> 0 | AB7: =IF(P7="관급자재대",L7,0) -> 0 | AC7: =IF(P7="석면분담금",L7,0) -> 0 | AD7: =IF(P7="임금채권부담금",L7,0) -> 0 | AE7: =IF(P7="안전관리비",L7,0) -> 0 | AF7: =IF(P7="품질관리비",L7,0) -> 0 | AG7: =IF(P7="작업부산물(철거해체)",L7,0) -> 0 | AH7: =IF(P7="어린이유해물질수수료",L7,0) -> 0 | AI7: =IF(P7="퇴직공제부금",L7,0) -> 0 | AJ7: =IF(P7="사용자항목8",L7,0) -> 0 | AK7: =IF(P7="사용자항목9",L7,0) -> 0 | AL7: =IF(P7="사용자항목10",L7,0) -> 0 | AM7: =IF(P7="사용자항목11",L7,0) -> 0 | AN7: =IF(P7="사용자항목12",L7,0) -> 0 | AO7: =IF(P7="사용자항목13",L7,0) -> 0 | AP7: =IF(P7="사용자항목14",L7,0) -> 0 | AQ7: =IF(P7="사용자항목15",L7,0) -> 0 | AR7: =IF(P7="사용자항목16",L7,0) -> 0 | AS7: =IF(P7="사용자항목17",L7,0) -> 0 | AT7: =IF(P7="사용자항목18",L7,0) -> 0 | AU7: =IF(P7="사용자항목19",L7,0) -> 0 | AY7: AAD16000060S
A8: 바닥및집기보양 | B8: 비닐 | C8: M2 | D8: 704 | O8: ="" | P8: 기계경비 | Q8: 1 | R8: =IF(P8="기계경비",J8,0) -> 0 | S8: =IF(P8="운반비",L8,0) -> 0 | T8: =IF(P8="작업부산물",F8,0) -> 0 | U8: =IF(P8="관급",F8,0) -> 0 | V8: =IF(P8="외주비",J8,0) -> 0 | W8: =IF(P8="장비비",J8,0) -> 0 | X8: =IF(P8="폐기물처리비",L8,0) -> 0 | Y8: =IF(P8="가설비",J8,0) -> 0 | Z8: =IF(P8="잡비제외분",F8,0) -> 0 | AA8: =IF(P8="사급자재대",L8,0) -> 0 | AB8: =IF(P8="관급자재대",L8,0) -> 0 | AC8: =IF(P8="석면분담금",L8,0) -> 0 | AD8: =IF(P8="임금채권부담금",L8,0) -> 0 | AE8: =IF(P8="안전관리비",L8,0) -> 0 | AF8: =IF(P8="품질관리비",L8,0) -> 0 | AG8: =IF(P8="작업부산물(철거해체)",L8,0) -> 0 | AH8: =IF(P8="어린이유해물질수수료",L8,0) -> 0 | AI8: =IF(P8="퇴직공제부금",L8,0) -> 0 | AJ8: =IF(P8="사용자항목8",L8,0) -> 0 | AK8: =IF(P8="사용자항목9",L8,0) -> 0 | AL8: =IF(P8="사용자항목10",L8,0) -> 0 | AM8: =IF(P8="사용자항목11",L8,0) -> 0 | AN8: =IF(P8="사용자항목12",L8,0) -> 0 | AO8: =IF(P8="사용자항목13",L8,0) -> 0 | AP8: =IF(P8="사용자항목14",L8,0) -> 0 | AQ8: =IF(P8="사용자항목15",L8,0) -> 0 | AR8: =IF(P8="사용자항목16",L8,0) -> 0 | AS8: =IF(P8="사용자항목17",L8,0) -> 0 | AT8: =IF(P8="사용자항목18",L8,0) -> 0 | AU8: =IF(P8="사용자항목19",L8,0) -> 0 | AY8: D
A9: 강관 조립말비계(이동식)설치 및 해체 | B9: 높이 2m, 노무비 | C9: 대 | D9: 1 | O9: ="" | P9: 기계경비 | Q9: 1 | R9: =IF(P9="기계경비",J9,0) -> 0 | S9: =IF(P9="운반비",L9,0) -> 0 | T9: =IF(P9="작업부산물",F9,0) -> 0 | U9: =IF(P9="관급",F9,0) -> 0 | V9: =IF(P9="외주비",J9,0) -> 0 | W9: =IF(P9="장비비",J9,0) -> 0 | X9: =IF(P9="폐기물처리비",L9,0) -> 0 | Y9: =IF(P9="가설비",J9,0) -> 0 | Z9: =IF(P9="잡비제외분",F9,0) -> 0 | AA9: =IF(P9="사급자재대",L9,0) -> 0 | AB9: =IF(P9="관급자재대",L9,0) -> 0 | AC9: =IF(P9="석면분담금",L9,0) -> 0 | AD9: =IF(P9="임금채권부담금",L9,0) -> 0 | AE9: =IF(P9="안전관리비",L9,0) -> 0 | AF9: =IF(P9="품질관리비",L9,0) -> 0 | AG9: =IF(P9="작업부산물(철거해체)",L9,0) -> 0 | AH9: =IF(P9="어린이유해물질수수료",L9,0) -> 0 | AI9: =IF(P9="퇴직공제부금",L9,0) -> 0 | AJ9: =IF(P9="사용자항목8",L9,0) -> 0 | AK9: =IF(P9="사용자항목9",L9,0) -> 0 | AL9: =IF(P9="사용자항목10",L9,0) -> 0 | AM9: =IF(P9="사용자항목11",L9,0) -> 0 | AN9: =IF(P9="사용자항목12",L9,0) -> 0 | AO9: =IF(P9="사용자항목13",L9,0) -> 0 | AP9: =IF(P9="사용자항목14",L9,0) -> 0 | AQ9: =IF(P9="사용자항목15",L9,0) -> 0 | AR9: =IF(P9="사용자항목16",L9,0) -> 0 | AS9: =IF(P9="사용자항목17",L9,0) -> 0 | AT9: =IF(P9="사용자항목18",L9,0) -> 0 | AU9: =IF(P9="사용자항목19",L9,0) -> 0
A10: 가설울타리(EGI, 아연도금강판) | B10: H=3.0m, 2개월, 설치및 해체 | C10: M | D10: 19 | O10: ="" | P10: 기계경비 | Q10: 1 | R10: =IF(P10="기계경비",J10,0) -> 0 | S10: =IF(P10="운반비",L10,0) -> 0 | T10: =IF(P10="작업부산물",F10,0) -> 0 | U10: =IF(P10="관급",F10,0) -> 0 | V10: =IF(P10="외주비",J10,0) -> 0 | W10: =IF(P10="장비비",J10,0) -> 0 | X10: =IF(P10="폐기물처리비",L10,0) -> 0 | Y10: =IF(P10="가설비",J10,0) -> 0 | Z10: =IF(P10="잡비제외분",F10,0) -> 0 | AA10: =IF(P10="사급자재대",L10,0) -> 0 | AB10: =IF(P10="관급자재대",L10,0) -> 0 | AC10: =IF(P10="석면분담금",L10,0) -> 0 | AD10: =IF(P10="임금채권부담금",L10,0) -> 0 | AE10: =IF(P10="안전관리비",L10,0) -> 0 | AF10: =IF(P10="품질관리비",L10,0) -> 0 | AG10: =IF(P10="작업부산물(철거해체)",L10,0) -> 0 | AH10: =IF(P10="어린이유해물질수수료",L10,0) -> 0 | AI10: =IF(P10="퇴직공제부금",L10,0) -> 0 | AJ10: =IF(P10="사용자항목8",L10,0) -> 0 | AK10: =IF(P10="사용자항목9",L10,0) -> 0 | AL10: =IF(P10="사용자항목10",L10,0) -> 0 | AM10: =IF(P10="사용자항목11",L10,0) -> 0 | AN10: =IF(P10="사용자항목12",L10,0) -> 0 | AO10: =IF(P10="사용자항목13",L10,0) -> 0 | AP10: =IF(P10="사용자항목14",L10,0) -> 0 | AQ10: =IF(P10="사용자항목15",L10,0) -> 0 | AR10: =IF(P10="사용자항목16",L10,0) -> 0 | AS10: =IF(P10="사용자항목17",L10,0) -> 0 | AT10: =IF(P10="사용자항목18",L10,0) -> 0 | AU10: =IF(P10="사용자항목19",L10,0) -> 0 | AY10: D
A11: 가설울타리판 설치 및 해체 | B11: H=3m이하 설치및 해체 | C11: M | D11: 32 | O11: ="" | P11: 기계경비 | Q11: 1 | R11: =IF(P11="기계경비",J11,0) -> 0 | S11: =IF(P11="운반비",L11,0) -> 0 | T11: =IF(P11="작업부산물",F11,0) -> 0 | U11: =IF(P11="관급",F11,0) -> 0 | V11: =IF(P11="외주비",J11,0) -> 0 | W11: =IF(P11="장비비",J11,0) -> 0 | X11: =IF(P11="폐기물처리비",L11,0) -> 0 | Y11: =IF(P11="가설비",J11,0) -> 0 | Z11: =IF(P11="잡비제외분",F11,0) -> 0 | AA11: =IF(P11="사급자재대",L11,0) -> 0 | AB11: =IF(P11="관급자재대",L11,0) -> 0 | AC11: =IF(P11="석면분담금",L11,0) -> 0 | AD11: =IF(P11="임금채권부담금",L11,0) -> 0 | AE11: =IF(P11="안전관리비",L11,0) -> 0 | AF11: =IF(P11="품질관리비",L11,0) -> 0 | AG11: =IF(P11="작업부산물(철거해체)",L11,0) -> 0 | AH11: =IF(P11="어린이유해물질수수료",L11,0) -> 0 | AI11: =IF(P11="퇴직공제부금",L11,0) -> 0 | AJ11: =IF(P11="사용자항목8",L11,0) -> 0 | AK11: =IF(P11="사용자항목9",L11,0) -> 0 | AL11: =IF(P11="사용자항목10",L11,0) -> 0 | AM11: =IF(P11="사용자항목11",L11,0) -> 0 | AN11: =IF(P11="사용자항목12",L11,0) -> 0 | AO11: =IF(P11="사용자항목13",L11,0) -> 0 | AP11: =IF(P11="사용자항목14",L11,0) -> 0 | AQ11: =IF(P11="사용자항목15",L11,0) -> 0 | AR11: =IF(P11="사용자항목16",L11,0) -> 0 | AS11: =IF(P11="사용자항목17",L11,0) -> 0 | AT11: =IF(P11="사용자항목18",L11,0) -> 0 | AU11: =IF(P11="사용자항목19",L11,0) -> 0 | AY11: D
A12: 공사용가림막 | C12: 식 | D12: 1 | O12: ="" | P12: 기계경비 | Q12: 1 | R12: =IF(P12="기계경비",J12,0) -> 0 | S12: =IF(P12="운반비",L12,0) -> 0 | T12: =IF(P12="작업부산물",F12,0) -> 0 | U12: =IF(P12="관급",F12,0) -> 0 | V12: =IF(P12="외주비",J12,0) -> 0 | W12: =IF(P12="장비비",J12,0) -> 0 | X12: =IF(P12="폐기물처리비",L12,0) -> 0 | Y12: =IF(P12="가설비",J12,0) -> 0 | Z12: =IF(P12="잡비제외분",F12,0) -> 0 | AA12: =IF(P12="사급자재대",L12,0) -> 0 | AB12: =IF(P12="관급자재대",L12,0) -> 0 | AC12: =IF(P12="석면분담금",L12,0) -> 0 | AD12: =IF(P12="임금채권부담금",L12,0) -> 0 | AE12: =IF(P12="안전관리비",L12,0) -> 0 | AF12: =IF(P12="품질관리비",L12,0) -> 0 | AG12: =IF(P12="작업부산물(철거해체)",L12,0) -> 0 | AH12: =IF(P12="어린이유해물질수수료",L12,0) -> 0 | AI12: =IF(P12="퇴직공제부금",L12,0) -> 0 | AJ12: =IF(P12="사용자항목8",L12,0) -> 0 | AK12: =IF(P12="사용자항목9",L12,0) -> 0 | AL12: =IF(P12="사용자항목10",L12,0) -> 0 | AM12: =IF(P12="사용자항목11",L12,0) -> 0 | AN12: =IF(P12="사용자항목12",L12,0) -> 0 | AO12: =IF(P12="사용자항목13",L12,0) -> 0 | AP12: =IF(P12="사용자항목14",L12,0) -> 0 | AQ12: =IF(P12="사용자항목15",L12,0) -> 0 | AR12: =IF(P12="사용자항목16",L12,0) -> 0 | AS12: =IF(P12="사용자항목17",L12,0) -> 0 | AT12: =IF(P12="사용자항목18",L12,0) -> 0 | AU12: =IF(P12="사용자항목19",L12,0) -> 0 | AY12: D
A24: 합 계 | F24: =ROUNDDOWN(SUMIF(Q6:Q23,"1",F6:F23),0) -> 0 | H24: =ROUNDDOWN(SUMIF(Q6:Q23,"1",H6:H23),0) -> 0 | J24: =ROUNDDOWN(SUMIF(Q6:Q23,"1",J6:J23),0) -> 0 | L24: =F24+H24+J24 -> 0 | R24: =ROUNDDOWN(SUM(R6:R12),0) -> 0 | S24: =ROUNDDOWN(SUM(S6:S12),0) -> 0 | T24: =ROUNDDOWN(SUM(T6:T12),0) -> 0 | U24: =ROUNDDOWN(SUM(U6:U12),0) -> 0 | V24: =ROUNDDOWN(SUM(V6:V12),0) -> 0 | W24: =ROUNDDOWN(SUM(W6:W12),0) -> 0 | X24: =ROUNDDOWN(SUM(X6:X12),0) -> 0 | Y24: =ROUNDDOWN(SUM(Y6:Y12),0) -> 0 | ... AY24: =ROUNDDOWN(SUM(AY6:AY12),0) -> 0
A25: 02. 목공사
A26: 내수합판바닥깔기 | B26: T12 | C26: M2 | D26: 5 | O26: ="" | P26: 기계경비 | Q26: 1 | R26: =IF(P26="기계경비",J26,0) -> 0 | S26: =IF(P26="운반비",L26,0) -> 0 | T26: =IF(P26="작업부산물",F26,0) -> 0 | U26: =IF(P26="관급",F26,0) -> 0 | V26: =IF(P26="외주비",J26,0) -> 0 | W26: =IF(P26="장비비",J26,0) -> 0 | X26: =IF(P26="폐기물처리비",L26,0) -> 0 | Y26: =IF(P26="가설비",J26,0) -> 0 | Z26: =IF(P26="잡비제외분",F26,0) -> 0 | AA26: =IF(P26="사급자재대",L26,0) -> 0 | AB26: =IF(P26="관급자재대",L26,0) -> 0 | AC26: =IF(P26="석면분담금",L26,0) -> 0 | AD26: =IF(P26="임금채권부담금",L26,0) -> 0 | AE26: =IF(P26="안전관리비",L26,0) -> 0 | AF26: =IF(P26="품질관리비",L26,0) -> 0 | AG26: =IF(P26="작업부산물(철거해체)",L26,0) -> 0 | AH26: =IF(P26="어린이유해물질수수료",L26,0) -> 0 | AI26: =IF(P26="퇴직공제부금",L26,0) -> 0 | AJ26: =IF(P26="사용자항목8",L26,0) -> 0 | AK26: =IF(P26="사용자항목9",L26,0) -> 0 | AL26: =IF(P26="사용자항목10",L26,0) -> 0 | AM26: =IF(P26="사용자항목11",L26,0) -> 0 | AN26: =IF(P26="사용자항목12",L26,0) -> 0 | AO26: =IF(P26="사용자항목13",L26,0) -> 0 | AP26: =IF(P26="사용자항목14",L26,0) -> 0 | AQ26: =IF(P26="사용자항목15",L26,0) -> 0 | AR26: =IF(P26="사용자항목16",L26,0) -> 0 | AS26: =IF(P26="사용자항목17",L26,0) -> 0 | AT26: =IF(P26="사용자항목18",L26,0) -> 0 | AU26: =IF(P26="사용자항목19",L26,0) -> 0 | AY26: D
A27: 석고보드붙이기 | B27: 벽, 12.5mm , 차음보드 | C27: M2 | D27: 21 | O27: ="" | P27: 기계경비 | Q27: 1 | R27: =IF(P27="기계경비",J27,0) -> 0 | S27: =IF(P27="운반비",L27,0) -> 0 | T27: =IF(P27="작업부산물",F27,0) -> 0 | U27: =IF(P27="관급",F27,0) -> 0 | V27: =IF(P27="외주비",J27,0) -> 0 | W27: =IF(P27="장비비",J27,0) -> 0 | X27: =IF(P27="폐기물처리비",L27,0) -> 0 | Y27: =IF(P27="가설비",J27,0) -> 0 | Z27: =IF(P27="잡비제외분",F27,0) -> 0 | AA27: =IF(P27="사급자재대",L27,0) -> 0 | AB27: =IF(P27="관급자재대",L27,0) -> 0 | AC27: =IF(P27="석면분담금",L27,0) -> 0 | AD27: =IF(P27="임금채권부담금",L27,0) -> 0 | AE27: =IF(P27="안전관리비",L27,0) -> 0 | AF27: =IF(P27="품질관리비",L27,0) -> 0 | AG27: =IF(P27="작업부산물(철거해체)",L27,0) -> 0 | AH27: =IF(P27="어린이유해물질수수료",L27,0) -> 0 | AI27: =IF(P27="퇴직공제부금",L27,0) -> 0 | AJ27: =IF(P27="사용자항목8",L27,0) -> 0 | AK27: =IF(P27="사용자항목9",L27,0) -> 0 | AL27: =IF(P27="사용자항목10",L27,0) -> 0 | AM27: =IF(P27="사용자항목11",L27,0) -> 0 | AN27: =IF(P27="사용자항목12",L27,0) -> 0 | AO27: =IF(P27="사용자항목13",L27,0) -> 0 | AP27: =IF(P27="사용자항목14",L27,0) -> 0 | AQ27: =IF(P27="사용자항목15",L27,0) -> 0 | AR27: =IF(P27="사용자항목16",L27,0) -> 0 | AS27: =IF(P27="사용자항목17",L27,0) -> 0 | AT27: =IF(P27="사용자항목18",L27,0) -> 0 | AU27: =IF(P27="사용자항목19",L27,0) -> 0 | AY27: D
A28: 집성목 설치 | B28: 방염패브릭+집성목루버+투명방염락카 | C28: M2 | D28: 9 | O28: ="" | P28: 기계경비 | Q28: 1 | R28: =IF(P28="기계경비",J28,0) -> 0 | S28: =IF(P28="운반비",L28,0) -> 0 | T28: =IF(P28="작업부산물",F28,0) -> 0 | U28: =IF(P28="관급",F28,0) -> 0 | V28: =IF(P28="외주비",J28,0) -> 0 | W28: =IF(P28="장비비",J28,0) -> 0 | X28: =IF(P28="폐기물처리비",L28,0) -> 0 | Y28: =IF(P28="가설비",J28,0) -> 0 | Z28: =IF(P28="잡비제외분",F28,0) -> 0 | AA28: =IF(P28="사급자재대",L28,0) -> 0 | AB28: =IF(P28="관급자재대",L28,0) -> 0 | AC28: =IF(P28="석면분담금",L28,0) -> 0 | AD28: =IF(P28="임금채권부담금",L28,0) -> 0 | AE28: =IF(P28="안전관리비",L28,0) -> 0 | AF28: =IF(P28="품질관리비",L28,0) -> 0 | AG28: =IF(P28="작업부산물(철거해체)",L28,0) -> 0 | AH28: =IF(P28="어린이유해물질수수료",L28,0) -> 0 | AI28: =IF(P28="퇴직공제부금",L28,0) -> 0 | AJ28: =IF(P28="사용자항목8",L28,0) -> 0 | AK28: =IF(P28="사용자항목9",L28,0) -> 0 | AL28: =IF(P28="사용자항목10",L28,0) -> 0 | AM28: =IF(P28="사용자항목11",L28,0) -> 0 | AN28: =IF(P28="사용자항목12",L28,0) -> 0 | AO28: =IF(P28="사용자항목13",L28,0) -> 0 | AP28: =IF(P28="사용자항목14",L28,0) -> 0 | AQ28: =IF(P28="사용자항목15",L28,0) -> 0 | AR28: =IF(P28="사용자항목16",L28,0) -> 0 | AS28: =IF(P28="사용자항목17",L28,0) -> 0 | AT28: =IF(P28="사용자항목18",L28,0) -> 0 | AU28: =IF(P28="사용자항목19",L28,0) -> 0 | AY28: D
A44: 합 계 | F44: =ROUNDDOWN(SUMIF(Q26:Q43,"1",F26:F43),0) -> 0 | H44: =ROUNDDOWN(SUMIF(Q26:Q43,"1",H26:H43),0) -> 0 | J44: =ROUNDDOWN(SUMIF(Q26:Q43,"1",J26:J43),0) -> 0 | L44: =F44+H44+J44 -> 0 | R44: =ROUNDDOWN(SUM(R26:R28),0) -> 0 | S44: =ROUNDDOWN(SUM(S26:S28),0) -> 0 | T44: =ROUNDDOWN(SUM(T26:T28),0) -> 0 | U44: =ROUNDDOWN(SUM(U26:U28),0) -> 0 | V44: =ROUNDDOWN(SUM(V26:V28),0) -> 0 | W44: =ROUNDDOWN(SUM(W26:W28),0) -> 0 | X44: =ROUNDDOWN(SUM(X26:X28),0) -> 0 | Y44: =ROUNDDOWN(SUM(Y26:Y28),0) -> 0 | ... AY44: =ROUNDDOWN(SUM(AY26:AY28),0) -> 0
A45: 03. 미장공사
A46: 모르타르 바름 | B46: 바닥, 30mm | C46: M2 | D46: 3 | O46: ="" | P46: 기계경비 | Q46: 1 | R46: =IF(P46="기계경비",J46,0) -> 0 | S46: =IF(P46="운반비",L46,0) -> 0 | T46: =IF(P46="작업부산물",F46,0) -> 0 | U46: =IF(P46="관급",F46,0) -> 0 | V46: =IF(P46="외주비",J46,0) -> 0 | W46: =IF(P46="장비비",J46,0) -> 0 | X46: =IF(P46="폐기물처리비",L46,0) -> 0 | Y46: =IF(P46="가설비",J46,0) -> 0 | Z46: =IF(P46="잡비제외분",F46,0) -> 0 | AA46: =IF(P46="사급자재대",L46,0) -> 0 | AB46: =IF(P46="관급자재대",L46,0) -> 0 | AC46: =IF(P46="석면분담금",L46,0) -> 0 | AD46: =IF(P46="임금채권부담금",L46,0) -> 0 | AE46: =IF(P46="안전관리비",L46,0) -> 0 | AF46: =IF(P46="품질관리비",L46,0) -> 0 | AG46: =IF(P46="작업부산물(철거해체)",L46,0) -> 0 | AH46: =IF(P46="어린이유해물질수수료",L46,0) -> 0 | AI46: =IF(P46="퇴직공제부금",L46,0) -> 0 | AJ46: =IF(P46="사용자항목8",L46,0) -> 0 | AK46: =IF(P46="사용자항목9",L46,0) -> 0 | AL46: =IF(P46="사용자항목10",L46,0) -> 0 | AM46: =IF(P46="사용자항목11",L46,0) -> 0 | AN46: =IF(P46="사용자항목12",L46,0) -> 0 | AO46: =IF(P46="사용자항목13",L46,0) -> 0 | AP46: =IF(P46="사용자항목14",L46,0) -> 0 | AQ46: =IF(P46="사용자항목15",L46,0) -> 0 | AR46: =IF(P46="사용자항목16",L46,0) -> 0 | AS46: =IF(P46="사용자항목17",L46,0) -> 0 | AT46: =IF(P46="사용자항목18",L46,0) -> 0 | AU46: =IF(P46="사용자항목19",L46,0) -> 0 | AY46: D
A47: 모르타르 바름 | B47: 바닥, 50mm | C47: M2 | D47: 2 | O47: ="" | P47: 기계경비 | Q47: 1 | R47: =IF(P47="기계경비",J47,0) -> 0 | S47: =IF(P47="운반비",L47,0) -> 0 | T47: =IF(P47="작업부산물",F47,0) -> 0 | U47: =IF(P47="관급",F47,0) -> 0 | V47: =IF(P47="외주비",J47,0) -> 0 | W47: =IF(P47="장비비",J47,0) -> 0 | X47: =IF(P47="폐기물처리비",L47,0) -> 0 | Y47: =IF(P47="가설비",J47,0) -> 0 | Z47: =IF(P47="잡비제외분",F47,0) -> 0 | AA47: =IF(P47="사급자재대",L47,0) -> 0 | AB47: =IF(P47="관급자재대",L47,0) -> 0 | AC47: =IF(P47="석면분담금",L47,0) -> 0 | AD47: =IF(P47="임금채권부담금",L47,0) -> 0 | AE47: =IF(P47="안전관리비",L47,0) -> 0 | AF47: =IF(P47="품질관리비",L47,0) -> 0 | AG47: =IF(P47="작업부산물(철거해체)",L47,0) -> 0 | AH47: =IF(P47="어린이유해물질수수료",L47,0) -> 0 | AI47: =IF(P47="퇴직공제부금",L47,0) -> 0 | AJ47: =IF(P47="사용자항목8",L47,0) -> 0 | AK47: =IF(P47="사용자항목9",L47,0) -> 0 | AL47: =IF(P47="사용자항목10",L47,0) -> 0 | AM47: =IF(P47="사용자항목11",L47,0) -> 0 | AN47: =IF(P47="사용자항목12",L47,0) -> 0 | AO47: =IF(P47="사용자항목13",L47,0) -> 0 | AP47: =IF(P47="사용자항목14",L47,0) -> 0 | AQ47: =IF(P47="사용자항목15",L47,0) -> 0 | AR47: =IF(P47="사용자항목16",L47,0) -> 0 | AS47: =IF(P47="사용자항목17",L47,0) -> 0 | AT47: =IF(P47="사용자항목18",L47,0) -> 0 | AU47: =IF(P47="사용자항목19",L47,0) -> 0 | AY47: D
A64: 합 계 | F64: =ROUNDDOWN(SUMIF(Q46:Q63,"1",F46:F63),0) -> 0 | H64: =ROUNDDOWN(SUMIF(Q46:Q63,"1",H46:H63),0) -> 0 | J64: =ROUNDDOWN(SUMIF(Q46:Q63,"1",J46:J63),0) -> 0 | L64: =F64+H64+J64 -> 0 | R64: =ROUNDDOWN(SUM(R46:R47),0) -> 0 | S64: =ROUNDDOWN(SUM(S46:S47),0) -> 0 | T64: =ROUNDDOWN(SUM(T46:T47),0) -> 0 | U64: =ROUNDDOWN(SUM(U46:U47),0) -> 0 | V64: =ROUNDDOWN(SUM(V46:V47),0) -> 0 | W64: =ROUNDDOWN(SUM(W46:W47),0) -> 0 | X64: =ROUNDDOWN(SUM(X46:X47),0) -> 0 | Y64: =ROUNDDOWN(SUM(Y46:Y47),0) -> 0 | ... AY64: =ROUNDDOWN(SUM(AY46:AY47),0) -> 0
A65: 04. 조적공사
A66: 점자블록 설치 | B66: 내부 | C66: EA | D66: 19 | O66: ="" | P66: 기계경비 | Q66: 1 | R66: =IF(P66="기계경비",J66,0) -> 0 | S66: =IF(P66="운반비",L66,0) -> 0 | T66: =IF(P66="작업부산물",F66,0) -> 0 | U66: =IF(P66="관급",F66,0) -> 0 | V66: =IF(P66="외주비",J66,0) -> 0 | W66: =IF(P66="장비비",J66,0) -> 0 | X66: =IF(P66="폐기물처리비",L66,0) -> 0 | Y66: =IF(P66="가설비",J66,0) -> 0 | Z66: =IF(P66="잡비제외분",F66,0) -> 0 | AA66: =IF(P66="사급자재대",L66,0) -> 0 | AB66: =IF(P66="관급자재대",L66,0) -> 0 | AC66: =IF(P66="석면분담금",L66,0) -> 0 | AD66: =IF(P66="임금채권부담금",L66,0) -> 0 | AE66: =IF(P66="안전관리비",L66,0) -> 0 | AF66: =IF(P66="품질관리비",L66,0) -> 0 | AG66: =IF(P66="작업부산물(철거해체)",L66,0) -> 0 | AH66: =IF(P66="어린이유해물질수수료",L66,0) -> 0 | AI66: =IF(P66="퇴직공제부금",L66,0) -> 0 | AJ66: =IF(P66="사용자항목8",L66,0) -> 0 | AK66: =IF(P66="사용자항목9",L66,0) -> 0 | AL66: =IF(P66="사용자항목10",L66,0) -> 0 | AM66: =IF(P66="사용자항목11",L66,0) -> 0 | AN66: =IF(P66="사용자항목12",L66,0) -> 0 | AO66: =IF(P66="사용자항목13",L66,0) -> 0 | AP66: =IF(P66="사용자항목14",L66,0) -> 0 | AQ66: =IF(P66="사용자항목15",L66,0) -> 0 | AR66: =IF(P66="사용자항목16",L66,0) -> 0 | AS66: =IF(P66="사용자항목17",L66,0) -> 0 | AT66: =IF(P66="사용자항목18",L66,0) -> 0 | AU66: =IF(P66="사용자항목19",L66,0) -> 0 | AY66: D
A67: 점자블록 설치 | B67: 외부 | C67: EA | D67: 29 | O67: ="" | P67: 기계경비 | Q67: 1 | R67: =IF(P67="기계경비",J67,0) -> 0 | S67: =IF(P67="운반비",L67,0) -> 0 | T67: =IF(P67="작업부산물",F67,0) -> 0 | U67: =IF(P67="관급",F67,0) -> 0 | V67: =IF(P67="외주비",J67,0) -> 0 | W67: =IF(P67="장비비",J67,0) -> 0 | X67: =IF(P67="폐기물처리비",L67,0) -> 0 | Y67: =IF(P67="가설비",J67,0) -> 0 | Z67: =IF(P67="잡비제외분",F67,0) -> 0 | AA67: =IF(P67="사급자재대",L67,0) -> 0 | AB67: =IF(P67="관급자재대",L67,0) -> 0 | AC67: =IF(P67="석면분담금",L67,0) -> 0 | AD67: =IF(P67="임금채권부담금",L67,0) -> 0 | AE67: =IF(P67="안전관리비",L67,0) -> 0 | AF67: =IF(P67="품질관리비",L67,0) -> 0 | AG67: =IF(P67="작업부산물(철거해체)",L67,0) -> 0 | AH67: =IF(P67="어린이유해물질수수료",L67,0) -> 0 | AI67: =IF(P67="퇴직공제부금",L67,0) -> 0 | AJ67: =IF(P67="사용자항목8",L67,0) -> 0 | AK67: =IF(P67="사용자항목9",L67,0) -> 0 | AL67: =IF(P67="사용자항목10",L67,0) -> 0 | AM67: =IF(P67="사용자항목11",L67,0) -> 0 | AN67: =IF(P67="사용자항목12",L67,0) -> 0 | AO67: =IF(P67="사용자항목13",L67,0) -> 0 | AP67: =IF(P67="사용자항목14",L67,0) -> 0 | AQ67: =IF(P67="사용자항목15",L67,0) -> 0 | AR67: =IF(P67="사용자항목16",L67,0) -> 0 | AS67: =IF(P67="사용자항목17",L67,0) -> 0 | AT67: =IF(P67="사용자항목18",L67,0) -> 0 | AU67: =IF(P67="사용자항목19",L67,0) -> 0 | AY67: D
A84: 합 계 | F84: =ROUNDDOWN(SUMIF(Q66:Q83,"1",F66:F83),0) -> 0 | H84: =ROUNDDOWN(SUMIF(Q66:Q83,"1",H66:H83),0) -> 0 | J84: =ROUNDDOWN(SUMIF(Q66:Q83,"1",J66:J83),0) -> 0 | L84: =F84+H84+J84 -> 0 | R84: =ROUNDDOWN(SUM(R66:R67),0) -> 0 | S84: =ROUNDDOWN(SUM(S66:S67),0) -> 0 | T84: =ROUNDDOWN(SUM(T66:T67),0) -> 0 | U84: =ROUNDDOWN(SUM(U66:U67),0) -> 0 | V84: =ROUNDDOWN(SUM(V66:V67),0) -> 0 | W84: =ROUNDDOWN(SUM(W66:W67),0) -> 0 | X84: =ROUNDDOWN(SUM(X66:X67),0) -> 0 | Y84: =ROUNDDOWN(SUM(Y66:Y67),0) -> 0 | ... AY84: =ROUNDDOWN(SUM(AY66:AY67),0) -> 0
A85: 05. 타일공사
A86: 화강석판석 포장 | B86: T30, 보도용 | C86: M2 | D86: 14 | O86: ="" | P86: 기계경비 | Q86: 1 | R86: =IF(P86="기계경비",J86,0) -> 0 | S86: =IF(P86="운반비",L86,0) -> 0 | T86: =IF(P86="작업부산물",F86,0) -> 0 | U86: =IF(P86="관급",F86,0) -> 0 | V86: =IF(P86="외주비",J86,0) -> 0 | W86: =IF(P86="장비비",J86,0) -> 0 | X86: =IF(P86="폐기물처리비",L86,0) -> 0 | Y86: =IF(P86="가설비",J86,0) -> 0 | Z86: =IF(P86="잡비제외분",F86,0) -> 0 | AA86: =IF(P86="사급자재대",L86,0) -> 0 | AB86: =IF(P86="관급자재대",L86,0) -> 0 | AC86: =IF(P86="석면분담금",L86,0) -> 0 | AD86: =IF(P86="임금채권부담금",L86,0) -> 0 | AE86: =IF(P86="안전관리비",L86,0) -> 0 | AF86: =IF(P86="품질관리비",L86,0) -> 0 | AG86: =IF(P86="작업부산물(철거해체)",L86,0) -> 0 | AH86: =IF(P86="어린이유해물질수수료",L86,0) -> 0 | AI86: =IF(P86="퇴직공제부금",L86,0) -> 0 | AJ86: =IF(P86="사용자항목8",L86,0) -> 0 | AK86: =IF(P86="사용자항목9",L86,0) -> 0 | AL86: =IF(P86="사용자항목10",L86,0) -> 0 | AM86: =IF(P86="사용자항목11",L86,0) -> 0 | AN86: =IF(P86="사용자항목12",L86,0) -> 0 | AO86: =IF(P86="사용자항목13",L86,0) -> 0 | AP86: =IF(P86="사용자항목14",L86,0) -> 0 | AQ86: =IF(P86="사용자항목15",L86,0) -> 0 | AR86: =IF(P86="사용자항목16",L86,0) -> 0 | AS86: =IF(P86="사용자항목17",L86,0) -> 0 | AT86: =IF(P86="사용자항목18",L86,0) -> 0 | AU86: =IF(P86="사용자항목19",L86,0) -> 0
A87: 포세린타일압착붙임(자재보유분사용) | B87: 바닥, 바탕50mm 포함 | C87: M2 | D87: 9 | O87: ="" | P87: 기계경비 | Q87: 1 | R87: =IF(P87="기계경비",J87,0) -> 0 | S87: =IF(P87="운반비",L87,0) -> 0 | T87: =IF(P87="작업부산물",F87,0) -> 0 | U87: =IF(P87="관급",F87,0) -> 0 | V87: =IF(P87="외주비",J87,0) -> 0 | W87: =IF(P87="장비비",J87,0) -> 0 | X87: =IF(P87="폐기물처리비",L87,0) -> 0 | Y87: =IF(P87="가설비",J87,0) -> 0 | Z87: =IF(P87="잡비제외분",F87,0) -> 0 | AA87: =IF(P87="사급자재대",L87,0) -> 0 | AB87: =IF(P87="관급자재대",L87,0) -> 0 | AC87: =IF(P87="석면분담금",L87,0) -> 0 | AD87: =IF(P87="임금채권부담금",L87,0) -> 0 | AE87: =IF(P87="안전관리비",L87,0) -> 0 | AF87: =IF(P87="품질관리비",L87,0) -> 0 | AG87: =IF(P87="작업부산물(철거해체)",L87,0) -> 0 | AH87: =IF(P87="어린이유해물질수수료",L87,0) -> 0 | AI87: =IF(P87="퇴직공제부금",L87,0) -> 0 | AJ87: =IF(P87="사용자항목8",L87,0) -> 0 | AK87: =IF(P87="사용자항목9",L87,0) -> 0 | AL87: =IF(P87="사용자항목10",L87,0) -> 0 | AM87: =IF(P87="사용자항목11",L87,0) -> 0 | AN87: =IF(P87="사용자항목12",L87,0) -> 0 | AO87: =IF(P87="사용자항목13",L87,0) -> 0 | AP87: =IF(P87="사용자항목14",L87,0) -> 0 | AQ87: =IF(P87="사용자항목15",L87,0) -> 0 | AR87: =IF(P87="사용자항목16",L87,0) -> 0 | AS87: =IF(P87="사용자항목17",L87,0) -> 0 | AT87: =IF(P87="사용자항목18",L87,0) -> 0 | AU87: =IF(P87="사용자항목19",L87,0) -> 0 | AY87: D
A104: 합 계 | F104: =ROUNDDOWN(SUMIF(Q86:Q103,"1",F86:F103),0) -> 0 | H104: =ROUNDDOWN(SUMIF(Q86:Q103,"1",H86:H103),0) -> 0 | J104: =ROUNDDOWN(SUMIF(Q86:Q103,"1",J86:J103),0) -> 0 | L104: =F104+H104+J104 -> 0 | R104: =ROUNDDOWN(SUM(R86:R87),0) -> 0 | S104: =ROUNDDOWN(SUM(S86:S87),0) -> 0 | T104: =ROUNDDOWN(SUM(T86:T87),0) -> 0 | U104: =ROUNDDOWN(SUM(U86:U87),0) -> 0 | V104: =ROUNDDOWN(SUM(V86:V87),0) -> 0 | W104: =ROUNDDOWN(SUM(W86:W87),0) -> 0 | X104: =ROUNDDOWN(SUM(X86:X87),0) -> 0 | Y104: =ROUNDDOWN(SUM(Y86:Y87),0) -> 0 | ... AY104: =ROUNDDOWN(SUM(AY86:AY87),0) -> 0
A105: 06. 도장공사
A106: 에폭시 코팅 | B106: 콘크리트 바닥면, 바탕만들기포함 | C106: M2 | D106: 16 | O106: ="" | P106: 기계경비 | Q106: 1 | R106: =IF(P106="기계경비",J106,0) -> 0 | S106: =IF(P106="운반비",L106,0) -> 0 | T106: =IF(P106="작업부산물",F106,0) -> 0 | U106: =IF(P106="관급",F106,0) -> 0 | V106: =IF(P106="외주비",J106,0) -> 0 | W106: =IF(P106="장비비",J106,0) -> 0 | X106: =IF(P106="폐기물처리비",L106,0) -> 0 | Y106: =IF(P106="가설비",J106,0) -> 0 | Z106: =IF(P106="잡비제외분",F106,0) -> 0 | AA106: =IF(P106="사급자재대",L106,0) -> 0 | AB106: =IF(P106="관급자재대",L106,0) -> 0 | AC106: =IF(P106="석면분담금",L106,0) -> 0 | AD106: =IF(P106="임금채권부담금",L106,0) -> 0 | AE106: =IF(P106="안전관리비",L106,0) -> 0 | AF106: =IF(P106="품질관리비",L106,0) -> 0 | AG106: =IF(P106="작업부산물(철거해체)",L106,0) -> 0 | AH106: =IF(P106="어린이유해물질수수료",L106,0) -> 0 | AI106: =IF(P106="퇴직공제부금",L106,0) -> 0 | AJ106: =IF(P106="사용자항목8",L106,0) -> 0 | AK106: =IF(P106="사용자항목9",L106,0) -> 0 | AL106: =IF(P106="사용자항목10",L106,0) -> 0 | AM106: =IF(P106="사용자항목11",L106,0) -> 0 | AN106: =IF(P106="사용자항목12",L106,0) -> 0 | AO106: =IF(P106="사용자항목13",L106,0) -> 0 | AP106: =IF(P106="사용자항목14",L106,0) -> 0 | AQ106: =IF(P106="사용자항목15",L106,0) -> 0 | AR106: =IF(P106="사용자항목16",L106,0) -> 0 | AS106: =IF(P106="사용자항목17",L106,0) -> 0 | AT106: =IF(P106="사용자항목18",L106,0) -> 0 | AU106: =IF(P106="사용자항목19",L106,0) -> 0
A107: 친환경수성페인트 붓칠 | B107: 내벽 2회, 친환경, CON'C면 | C107: M2 | D107: 48 | O107: ="" | P107: 기계경비 | Q107: 1 | R107: =IF(P107="기계경비",J107,0) -> 0 | S107: =IF(P107="운반비",L107,0) -> 0 | T107: =IF(P107="작업부산물",F107,0) -> 0 | U107: =IF(P107="관급",F107,0) -> 0 | V107: =IF(P107="외주비",J107,0) -> 0 | W107: =IF(P107="장비비",J107,0) -> 0 | X107: =IF(P107="폐기물처리비",L107,0) -> 0 | Y107: =IF(P107="가설비",J107,0) -> 0 | Z107: =IF(P107="잡비제외분",F107,0) -> 0 | AA107: =IF(P107="사급자재대",L107,0) -> 0 | AB107: =IF(P107="관급자재대",L107,0) -> 0 | AC107: =IF(P107="석면분담금",L107,0) -> 0 | AD107: =IF(P107="임금채권부담금",L107,0) -> 0 | AE107: =IF(P107="안전관리비",L107,0) -> 0 | AF107: =IF(P107="품질관리비",L107,0) -> 0 | AG107: =IF(P107="작업부산물(철거해체)",L107,0) -> 0 | AH107: =IF(P107="어린이유해물질수수료",L107,0) -> 0 | AI107: =IF(P107="퇴직공제부금",L107,0) -> 0 | AJ107: =IF(P107="사용자항목8",L107,0) -> 0 | AK107: =IF(P107="사용자항목9",L107,0) -> 0 | AL107: =IF(P107="사용자항목10",L107,0) -> 0 | AM107: =IF(P107="사용자항목11",L107,0) -> 0 | AN107: =IF(P107="사용자항목12",L107,0) -> 0 | AO107: =IF(P107="사용자항목13",L107,0) -> 0 | AP107: =IF(P107="사용자항목14",L107,0) -> 0 | AQ107: =IF(P107="사용자항목15",L107,0) -> 0 | AR107: =IF(P107="사용자항목16",L107,0) -> 0 | AS107: =IF(P107="사용자항목17",L107,0) -> 0 | AT107: =IF(P107="사용자항목18",L107,0) -> 0 | AU107: =IF(P107="사용자항목19",L107,0) -> 0
A108: 걸레받이용 페인트 | B108: 붓칠 2회 | C108: M2 | D108: 1 | O108: ="" | P108: 기계경비 | Q108: 1 | R108: =IF(P108="기계경비",J108,0) -> 0 | S108: =IF(P108="운반비",L108,0) -> 0 | T108: =IF(P108="작업부산물",F108,0) -> 0 | U108: =IF(P108="관급",F108,0) -> 0 | V108: =IF(P108="외주비",J108,0) -> 0 | W108: =IF(P108="장비비",J108,0) -> 0 | X108: =IF(P108="폐기물처리비",L108,0) -> 0 | Y108: =IF(P108="가설비",J108,0) -> 0 | Z108: =IF(P108="잡비제외분",F108,0) -> 0 | AA108: =IF(P108="사급자재대",L108,0) -> 0 | AB108: =IF(P108="관급자재대",L108,0) -> 0 | AC108: =IF(P108="석면분담금",L108,0) -> 0 | AD108: =IF(P108="임금채권부담금",L108,0) -> 0 | AE108: =IF(P108="안전관리비",L108,0) -> 0 | AF108: =IF(P108="품질관리비",L108,0) -> 0 | AG108: =IF(P108="작업부산물(철거해체)",L108,0) -> 0 | AH108: =IF(P108="어린이유해물질수수료",L108,0) -> 0 | AI108: =IF(P108="퇴직공제부금",L108,0) -> 0 | AJ108: =IF(P108="사용자항목8",L108,0) -> 0 | AK108: =IF(P108="사용자항목9",L108,0) -> 0 | AL108: =IF(P108="사용자항목10",L108,0) -> 0 | AM108: =IF(P108="사용자항목11",L108,0) -> 0 | AN108: =IF(P108="사용자항목12",L108,0) -> 0 | AO108: =IF(P108="사용자항목13",L108,0) -> 0 | AP108: =IF(P108="사용자항목14",L108,0) -> 0 | AQ108: =IF(P108="사용자항목15",L108,0) -> 0 | AR108: =IF(P108="사용자항목16",L108,0) -> 0 | AS108: =IF(P108="사용자항목17",L108,0) -> 0 | AT108: =IF(P108="사용자항목18",L108,0) -> 0 | AU108: =IF(P108="사용자항목19",L108,0) -> 0
A124: 합 계 | F124: =ROUNDDOWN(SUMIF(Q106:Q123,"1",F106:F123),0) -> 0 | H124: =ROUNDDOWN(SUMIF(Q106:Q123,"1",H106:H123),0) -> 0 | J124: =ROUNDDOWN(SUMIF(Q106:Q123,"1",J106:J123),0) -> 0 | L124: =F124+H124+J124 -> 0 | R124: =ROUNDDOWN(SUM(R106:R108),0) -> 0 | S124: =ROUNDDOWN(SUM(S106:S108),0) -> 0 | T124: =ROUNDDOWN(SUM(T106:T108),0) -> 0 | U124: =ROUNDDOWN(SUM(U106:U108),0) -> 0 | V124: =ROUNDDOWN(SUM(V106:V108),0) -> 0 | W124: =ROUNDDOWN(SUM(W106:W108),0) -> 0 | X124: =ROUNDDOWN(SUM(X106:X108),0) -> 0 | Y124: =ROUNDDOWN(SUM(Y106:Y108),0) -> 0 | ... AY124: =ROUNDDOWN(SUM(AY106:AY108),0) -> 0
A125: 07. 금속공사
A126: 알루미늄 스팬드럴 설치(30%) | B126: W=100, 신설자재(30%) | C126: M2 | D126: 11 | O126: ="" | P126: 기계경비 | Q126: 1 | R126: =IF(P126="기계경비",J126,0) -> 0 | S126: =IF(P126="운반비",L126,0) -> 0 | T126: =IF(P126="작업부산물",F126,0) -> 0 | U126: =IF(P126="관급",F126,0) -> 0 | V126: =IF(P126="외주비",J126,0) -> 0 | W126: =IF(P126="장비비",J126,0) -> 0 | X126: =IF(P126="폐기물처리비",L126,0) -> 0 | Y126: =IF(P126="가설비",J126,0) -> 0 | Z126: =IF(P126="잡비제외분",F126,0) -> 0 | AA126: =IF(P126="사급자재대",L126,0) -> 0 | AB126: =IF(P126="관급자재대",L126,0) -> 0 | AC126: =IF(P126="석면분담금",L126,0) -> 0 | AD126: =IF(P126="임금채권부담금",L126,0) -> 0 | AE126: =IF(P126="안전관리비",L126,0) -> 0 | AF126: =IF(P126="품질관리비",L126,0) -> 0 | AG126: =IF(P126="작업부산물(철거해체)",L126,0) -> 0 | AH126: =IF(P126="어린이유해물질수수료",L126,0) -> 0 | AI126: =IF(P126="퇴직공제부금",L126,0) -> 0 | AJ126: =IF(P126="사용자항목8",L126,0) -> 0 | AK126: =IF(P126="사용자항목9",L126,0) -> 0 | AL126: =IF(P126="사용자항목10",L126,0) -> 0 | AM126: =IF(P126="사용자항목11",L126,0) -> 0 | AN126: =IF(P126="사용자항목12",L126,0) -> 0 | AO126: =IF(P126="사용자항목13",L126,0) -> 0 | AP126: =IF(P126="사용자항목14",L126,0) -> 0 | AQ126: =IF(P126="사용자항목15",L126,0) -> 0 | AR126: =IF(P126="사용자항목16",L126,0) -> 0 | AS126: =IF(P126="사용자항목17",L126,0) -> 0 | AT126: =IF(P126="사용자항목18",L126,0) -> 0 | AU126: =IF(P126="사용자항목19",L126,0) -> 0 | AY126: D
A127: 알루미늄 스팬드럴 설치(70%) | B127: W=100, 자재재사용(70%) | C127: M2 | D127: 26 | O127: ="" | P127: 기계경비 | Q127: 1 | R127: =IF(P127="기계경비",J127,0) -> 0 | S127: =IF(P127="운반비",L127,0) -> 0 | T127: =IF(P127="작업부산물",F127,0) -> 0 | U127: =IF(P127="관급",F127,0) -> 0 | V127: =IF(P127="외주비",J127,0) -> 0 | W127: =IF(P127="장비비",J127,0) -> 0 | X127: =IF(P127="폐기물처리비",L127,0) -> 0 | Y127: =IF(P127="가설비",J127,0) -> 0 | Z127: =IF(P127="잡비제외분",F127,0) -> 0 | AA127: =IF(P127="사급자재대",L127,0) -> 0 | AB127: =IF(P127="관급자재대",L127,0) -> 0 | AC127: =IF(P127="석면분담금",L127,0) -> 0 | AD127: =IF(P127="임금채권부담금",L127,0) -> 0 | AE127: =IF(P127="안전관리비",L127,0) -> 0 | AF127: =IF(P127="품질관리비",L127,0) -> 0 | AG127: =IF(P127="작업부산물(철거해체)",L127,0) -> 0 | AH127: =IF(P127="어린이유해물질수수료",L127,0) -> 0 | AI127: =IF(P127="퇴직공제부금",L127,0) -> 0 | AJ127: =IF(P127="사용자항목8",L127,0) -> 0 | AK127: =IF(P127="사용자항목9",L127,0) -> 0 | AL127: =IF(P127="사용자항목10",L127,0) -> 0 | AM127: =IF(P127="사용자항목11",L127,0) -> 0 | AN127: =IF(P127="사용자항목12",L127,0) -> 0 | AO127: =IF(P127="사용자항목13",L127,0) -> 0 | AP127: =IF(P127="사용자항목14",L127,0) -> 0 | AQ127: =IF(P127="사용자항목15",L127,0) -> 0 | AR127: =IF(P127="사용자항목16",L127,0) -> 0 | AS127: =IF(P127="사용자항목17",L127,0) -> 0 | AT127: =IF(P127="사용자항목18",L127,0) -> 0 | AU127: =IF(P127="사용자항목19",L127,0) -> 0 | AY127: D
A128: 알루미늄 스팬드럴 설치(100%) | B128: W=100, 자재재사용(100%) | C128: M2 | D128: 23 | O128: ="" | P128: 기계경비 | Q128: 1 | R128: =IF(P128="기계경비",J128,0) -> 0 | S128: =IF(P128="운반비",L128,0) -> 0 | T128: =IF(P128="작업부산물",F128,0) -> 0 | U128: =IF(P128="관급",F128,0) -> 0 | V128: =IF(P128="외주비",J128,0) -> 0 | W128: =IF(P128="장비비",J128,0) -> 0 | X128: =IF(P128="폐기물처리비",L128,0) -> 0 | Y128: =IF(P128="가설비",J128,0) -> 0 | Z128: =IF(P128="잡비제외분",F128,0) -> 0 | AA128: =IF(P128="사급자재대",L128,0) -> 0 | AB128: =IF(P128="관급자재대",L128,0) -> 0 | AC128: =IF(P128="석면분담금",L128,0) -> 0 | AD128: =IF(P128="임금채권부담금",L128,0) -> 0 | AE128: =IF(P128="안전관리비",L128,0) -> 0 | AF128: =IF(P128="품질관리비",L128,0) -> 0 | AG128: =IF(P128="작업부산물(철거해체)",L128,0) -> 0 | AH128: =IF(P128="어린이유해물질수수료",L128,0) -> 0 | AI128: =IF(P128="퇴직공제부금",L128,0) -> 0 | AJ128: =IF(P128="사용자항목8",L128,0) -> 0 | AK128: =IF(P128="사용자항목9",L128,0) -> 0 | AL128: =IF(P128="사용자항목10",L128,0) -> 0 | AM128: =IF(P128="사용자항목11",L128,0) -> 0 | AN128: =IF(P128="사용자항목12",L128,0) -> 0 | AO128: =IF(P128="사용자항목13",L128,0) -> 0 | AP128: =IF(P128="사용자항목14",L128,0) -> 0 | AQ128: =IF(P128="사용자항목15",L128,0) -> 0 | AR128: =IF(P128="사용자항목16",L128,0) -> 0 | AS128: =IF(P128="사용자항목17",L128,0) -> 0 | AT128: =IF(P128="사용자항목18",L128,0) -> 0 | AU128: =IF(P128="사용자항목19",L128,0) -> 0 | AY128: D
A129: 알루미늄시트 | B129: 3T | C129: M2 | D129: 1 | O129: ="" | P129: 기계경비 | Q129: 1 | R129: =IF(P129="기계경비",J129,0) -> 0 | S129: =IF(P129="운반비",L129,0) -> 0 | T129: =IF(P129="작업부산물",F129,0) -> 0 | U129: =IF(P129="관급",F129,0) -> 0 | V129: =IF(P129="외주비",J129,0) -> 0 | W129: =IF(P129="장비비",J129,0) -> 0 | X129: =IF(P129="폐기물처리비",L129,0) -> 0 | Y129: =IF(P129="가설비",J129,0) -> 0 | Z129: =IF(P129="잡비제외분",F129,0) -> 0 | AA129: =IF(P129="사급자재대",L129,0) -> 0 | AB129: =IF(P129="관급자재대",L129,0) -> 0 | AC129: =IF(P129="석면분담금",L129,0) -> 0 | AD129: =IF(P129="임금채권부담금",L129,0) -> 0 | AE129: =IF(P129="안전관리비",L129,0) -> 0 | AF129: =IF(P129="품질관리비",L129,0) -> 0 | AG129: =IF(P129="작업부산물(철거해체)",L129,0) -> 0 | AH129: =IF(P129="어린이유해물질수수료",L129,0) -> 0 | AI129: =IF(P129="퇴직공제부금",L129,0) -> 0 | AJ129: =IF(P129="사용자항목8",L129,0) -> 0 | AK129: =IF(P129="사용자항목9",L129,0) -> 0 | AL129: =IF(P129="사용자항목10",L129,0) -> 0 | AM129: =IF(P129="사용자항목11",L129,0) -> 0 | AN129: =IF(P129="사용자항목12",L129,0) -> 0 | AO129: =IF(P129="사용자항목13",L129,0) -> 0 | AP129: =IF(P129="사용자항목14",L129,0) -> 0 | AQ129: =IF(P129="사용자항목15",L129,0) -> 0 | AR129: =IF(P129="사용자항목16",L129,0) -> 0 | AS129: =IF(P129="사용자항목17",L129,0) -> 0 | AT129: =IF(P129="사용자항목18",L129,0) -> 0 | AU129: =IF(P129="사용자항목19",L129,0) -> 0 | AY129: D
...
