Workbook

Sheet 원가계산서
A1: 공 사 원 가 계 산 서
A2: 공사명 : 부산콘서트홀 출입문 등 개선공사
A3: 구 분 비 목 | D3: 금 액 | E3: 구 성 비 | F3: 비 고
A5: 순 공 사 원 가 | B5: 재료비 | C5: 직 접 재 료 비 | G5: A1 | H5: 0 | I5: =D5 -> 0
C6: 간 접 재 료 비 | G6: A2 | H6: 0 | I6: =D6 -> 0
C7: 작업설.부산물 등(△) | G7: A3 | H7: 0 | I7: =D7 -> 0
C8: 소 계 | G8: A | H8: 0 | I8: =D8 -> 0
B9: 노무비 | C9: 직 접 노 무 비 | G9: B1 | H9: 0 | I9: =D9 -> 0
C10: 간 접 노 무 비 | E10: ="직.노*"&H10*100&"%" -> 직.노*17.5% | G10: B2 | H10: 0.175 | I10: =D10 -> 0
C11: 소 계 | G11: B | H11: 0 | I11: =D11 -> 0
B12: 경 비 | C12: 기 계 경 비 | G12: C4 | H12: 0 | I12: =D12 -> 0
C13: 산 재 보 험 료 | E13: ="(노)*"&H13*100&"%" -> (노)*3.56% | G13: C10 | H13: 0.0356 | I13: =D13 -> 0
C14: 고 용 보 험 료 | E14: ="(노)*"&H14*100&"%" -> (노)*1.01% | G14: C11 | H14: 0.0101 | I14: =D14 -> 0
C15: 건 강 보 험 료 | E15: ="(직.노)*"&H15*100&"%" -> (직.노)*3.595% | G15: C12 | H15: 0.03595 | I15: =D15 -> 0
C16: 연 금 보 험 료 | E16: ="(직.노)*"&H16*100&"%" -> (직.노)*4.75% | G16: C13 | H16: 0.0475 | I16: =D16 -> 0
C17: 노인 장기 요양보험료 | E17: ="(건강보험료)*"&H17*100&"%" -> (건강보험료)*13.14% | G17: C14 | H17: 0.1314 | I17: =D17 -> 0
C18: 퇴 직 공 제 부 금 | E18: ="(직.노)*"&H18*100&"%" -> (직.노)*2.3% | G18: M4 | H18: 0.023 | I18: =D18 -> 0
C19: 산업 안전 보건관리비 | E19: ="(재+직.노)*"&H19*100&"%" -> (재+직.노)*3.11% | G19: C16 | H19: 0.0311 | I19: =D19 -> 0
C20: 기 타 경 비 | E20: ="(재+노)*"&H20*100&"%" -> (재+노)*5% | G20: C20 | H20: 0.05 | I20: =D20 -> 0
C21: 환 경 보 전 비 | E21: ="(재+직.노+기.경)*"&H21*100&"%" -> (재+직.노+기.경)*0.3% | G21: C25 | H21: 0.003 | I21: =D21 -> 0
C22: 건설기계대여보증수수료 | E22: ="(재+직.노+기.경)*"&H22*100&"%" -> (재+직.노+기.경)*0.07% | G22: C32 | H22: 0.0007 | I22: =D22 -> 0
C23: 석 면 분 담 금 | E23: ="(노)*"&H23*100&"%" -> (노)*0.006% | G23: U1 | H23: 6e-05 | I23: =D23 -> 0
C24: 임 금 채 권 부 담 금 | E24: ="(노)*"&H24*100&"%" -> (노)*0.09% | G24: U2 | H24: 0.0009 | I24: =D24 -> 0
C25: 소 계 | G25: C | H25: 0 | I25: =D25 -> 0
B26: 계 | G26: X | H26: 0 | I26: =D26 -> 0
A27: 일 반 관 리 비 | E27: ="(재+노+경)*"&H27*100&"%" -> (재+노+경)*8% | G27: D | H27: 0.08 | I27: =D27 -> 0
A28: 이 윤 | E28: ="(노+경+일)*"&H28*100&"%" -> (노+경+일)*15% | G28: E | H28: 0.15 | I28: =(I11+I25+I27)*H28+-1 -> -1
A29: 폐 기 물 처 리 비 | G29: L | H29: 0 | I29: =D29 -> 0
A30: 공 급 가 액 | G30: F | H30: 0 | I30: =SUM(I26:I29)+-1 -> -2
A31: 부 가 가 치 세 | E31: ="(공급가액)*"&H31*100&"%" -> (공급가액)*10% | G31: H | H31: 0.1 | I31: =ROUNDDOWN((I30)*H31,0)+1 -> 1 | J31: 1
A32: 도 급 금 액 | G32: Y | H32: 0 | I32: =I30+I31 -> -1
A33: 총 공 사 금 액 | H33: 0 | I33: =I32+0+0 -> -1

Sheet 공종별집계표
A1: 공 사 집 계 표
A2: 공사명 : 부산콘서트홀 출입문 등 개선공사
A3: 품 명 | B3: 단위 | C3: 수량 | D3: 재 료 비 | F3: 노 무 비 | H3: 경 비 | J3: 합 계 | L3: 비고
D4: 단 가 | E4: 금 액 | F4: 단 가 | G4: 금 액 | H4: 단 가 | I4: 금 액 | J4: 단 가 | K4: 금 액 | M4: 손료요율 | N4: 손료구분 | O4: 적용구분 | P4: 합계구분 | Q4: 기계경비 | R4: 운반비 | S4: 작업부산물 | T4: 관급 | U4: 외주비 | V4: 장비비 | W4: 폐기물처리비 | X4: 가설비 | Y4: 잡비제외분 | Z4: 사급자재대 | AA4: 관급자재대 | AB4: 석면분담금 | AC4: 임금채권부담금 | AD4: 안전관리비 | AE4: 품질관리비 | AF4: 작업부산물(철거해체) | AG4: 어린이유해물질수수료 | AH4: 퇴직공제부금 | AI4: 사용자항목8 | AJ4: 사용자항목9 | AK4: 사용자항목10 | AL4: 사용자항목11 | AM4: 사용자항목12 | AN4: 사용자항목13 | AO4: 사용자항목14 | AP4: 사용자항목15 | AQ4: 사용자항목16 | AR4: 사용자항목17 | AS4: 사용자항목18 | AT4: 사용자항목19 | AU4: 간접재료비 | AV4: 품목구분 | AW4: 조달코드 | AX4: 구분
A5: 01. 가설공사 | B5: 식 | C5: 1 | P5: 1 | Q5: =C5*공종별내역서!R24 -> 0 | R5: =C5*공종별내역서!S24 -> 0 | S5: =C5*공종별내역서!T24 -> 0 | T5: =C5*공종별내역서!U24 -> 0 | U5: =C5*공종별내역서!V24 -> 0 | V5: =C5*공종별내역서!W24 -> 0 | W5: =C5*공종별내역서!X24 -> 0 | X5: =C5*공종별내역서!Y24 -> 0 | Y5: =C5*공종별내역서!Z24 -> 0 | Z5: =C5*공종별내역서!AA24 -> 0 | AA5: =C5*공종별내역서!AB24 -> 0 | AB5: =C5*공종별내역서!AC24 -> 0 | AC5: =C5*공종별내역서!AD24 -> 0 | AD5: =C5*공종별내역서!AE24 -> 0 | AE5: =C5*공종별내역서!AF24 -> 0 | AF5: =C5*공종별내역서!AG24 -> 0 | AG5: =C5*공종별내역서!AH24 -> 0 | AH5: =C5*공종별내역서!AI24 -> 0 | AI5: =C5*공종별내역서!AJ24 -> 0 | AJ5: =C5*공종별내역서!AK24 -> 0 | AK5: =C5*공종별내역서!AL24 -> 0 | AL5: =C5*공종별내역서!AM24 -> 0 | AM5: =C5*공종별내역서!AN24 -> 0 | AN5: =C5*공종별내역서!AO24 -> 0 | AO5: =C5*공종별내역서!AP24 -> 0 | AP5: =C5*공종별내역서!AQ24 -> 0 | AQ5: =C5*공종별내역서!AR24 -> 0 | AR5: =C5*공종별내역서!AS24 -> 0 | AS5: =C5*공종별내역서!AT24 -> 0 | AT5: =C5*공종별내역서!AU24 -> 0 | AU5: =C5*공종별내역서!AV24 -> 0
A6: 02. 목공사 | B6: 식 | C6: 1 | P6: 1 | Q6: =C6*공종별내역서!R44 -> 0 | R6: =C6*공종별내역서!S44 -> 0 | S6: =C6*공종별내역서!T44 -> 0 | T6: =C6*공종별내역서!U44 -> 0 | U6: =C6*공종별내역서!V44 -> 0 | V6: =C6*공종별내역서!W44 -> 0 | W6: =C6*공종별내역서!X44 -> 0 | X6: =C6*공종별내역서!Y44 -> 0 | Y6: =C6*공종별내역서!Z44 -> 0 | Z6: =C6*공종별내역서!AA44 -> 0 | AA6: =C6*공종별내역서!AB44 -> 0 | AB6: =C6*공종별내역서!AC44 -> 0 | AC6: =C6*공종별내역서!AD44 -> 0 | AD6: =C6*공종별내역서!AE44 -> 0 | AE6: =C6*공종별내역서!AF44 -> 0 | AF6: =C6*공종별내역서!AG44 -> 0 | AG6: =C6*공종별내역서!AH44 -> 0 | AH6: =C6*공종별내역서!AI44 -> 0 | AI6: =C6*공종별내역서!AJ44 -> 0 | AJ6: =C6*공종별내역서!AK44 -> 0 | AK6: =C6*공종별내역서!AL44 -> 0 | AL6: =C6*공종별내역서!AM44 -> 0 | AM6: =C6*공종별내역서!AN44 -> 0 | AN6: =C6*공종별내역서!AO44 -> 0 | AO6: =C6*공종별내역서!AP44 -> 0 | AP6: =C6*공종별내역서!AQ44 -> 0 | AQ6: =C6*공종별내역서!AR44 -> 0 | AR6: =C6*공종별내역서!AS44 -> 0 | AS6: =C6*공종별내역서!AT44 -> 0 | AT6: =C6*공종별내역서!AU44 -> 0 | AU6: =C6*공종별내역서!AV44 -> 0
A7: 03. 미장공사 | B7: 식 | C7: 1 | P7: 1 | Q7: =C7*공종별내역서!R64 -> 0 | R7: =C7*공종별내역서!S64 -> 0 | S7: =C7*공종별내역서!T64 -> 0 | T7: =C7*공종별내역서!U64 -> 0 | U7: =C7*공종별내역서!V64 -> 0 | V7: =C7*공종별내역서!W64 -> 0 | W7: =C7*공종별내역서!X64 -> 0 | X7: =C7*공종별내역서!Y64 -> 0 | Y7: =C7*공종별내역서!Z64 -> 0 | Z7: =C7*공종별내역서!AA64 -> 0 | AA7: =C7*공종별내역서!AB64 -> 0 | AB7: =C7*공종별내역서!AC64 -> 0 | AC7: =C7*공종별내역서!AD64 -> 0 | AD7: =C7*공종별내역서!AE64 -> 0 | AE7: =C7*공종별내역서!AF64 -> 0 | AF7: =C7*공종별내역서!AG64 -> 0 | AG7: =C7*공종별내역서!AH64 -> 0 | AH7: =C7*공종별내역서!AI64 -> 0 | AI7: =C7*공종별내역서!AJ64 -> 0 | AJ7: =C7*공종별내역서!AK64 -> 0 | AK7: =C7*공종별내역서!AL64 -> 0 | AL7: =C7*공종별내역서!AM64 -> 0 | AM7: =C7*공종별내역서!AN64 -> 0 | AN7: =C7*공종별내역서!AO64 -> 0 | AO7: =C7*공종별내역서!AP64 -> 0 | AP7: =C7*공종별내역서!AQ64 -> 0 | AQ7: =C7*공종별내역서!AR64 -> 0 | AR7: =C7*공종별내역서!AS64 -> 0 | AS7: =C7*공종별내역서!AT64 -> 0 | AT7: =C7*공종별내역서!AU64 -> 0 | AU7: =C7*공종별내역서!AV64 -> 0
A8: 04. 조적공사 | B8: 식 | C8: 1 | P8: 1 | Q8: =C8*공종별내역서!R84 -> 0 | R8: =C8*공종별내역서!S84 -> 0 | S8: =C8*공종별내역서!T84 -> 0 | T8: =C8*공종별내역서!U84 -> 0 | U8: =C8*공종별내역서!V84 -> 0 | V8: =C8*공종별내역서!W84 -> 0 | W8: =C8*공종별내역서!X84 -> 0 | X8: =C8*공종별내역서!Y84 -> 0 | Y8: =C8*공종별내역서!Z84 -> 0 | Z8: =C8*공종별내역서!AA84 -> 0 | AA8: =C8*공종별내역서!AB84 -> 0 | AB8: =C8*공종별내역서!AC84 -> 0 | AC8: =C8*공종별내역서!AD84 -> 0 | AD8: =C8*공종별내역서!AE84 -> 0 | AE8: =C8*공종별내역서!AF84 -> 0 | AF8: =C8*공종별내역서!AG84 -> 0 | AG8: =C8*공종별내역서!AH84 -> 0 | AH8: =C8*공종별내역서!AI84 -> 0 | AI8: =C8*공종별내역서!AJ84 -> 0 | AJ8: =C8*공종별내역서!AK84 -> 0 | AK8: =C8*공종별내역서!AL84 -> 0 | AL8: =C8*공종별내역서!AM84 -> 0 | AM8: =C8*공종별내역서!AN84 -> 0 | AN8: =C8*공종별내역서!AO84 -> 0 | AO8: =C8*공종별내역서!AP84 -> 0 | AP8: =C8*공종별내역서!AQ84 -> 0 | AQ8: =C8*공종별내역서!AR84 -> 0 | AR8: =C8*공종별내역서!AS84 -> 0 | AS8: =C8*공종별내역서!AT84 -> 0 | AT8: =C8*공종별내역서!AU84 -> 0 | AU8: =C8*공종별내역서!AV84 -> 0
A9: 05. 타일공사 | B9: 식 | C9: 1 | P9: 1 | Q9: =C9*공종별내역서!R104 -> 0 | R9: =C9*공종별내역서!S104 -> 0 | S9: =C9*공종별내역서!T104 -> 0 | T9: =C9*공종별내역서!U104 -> 0 | U9: =C9*공종별내역서!V104 -> 0 | V9: =C9*공종별내역서!W104 -> 0 | W9: =C9*공종별내역서!X104 -> 0 | X9: =C9*공종별내역서!Y104 -> 0 | Y9: =C9*공종별내역서!Z104 -> 0 | Z9: =C9*공종별내역서!AA104 -> 0 | AA9: =C9*공종별내역서!AB104 -> 0 | AB9: =C9*공종별내역서!AC104 -> 0 | AC9: =C9*공종별내역서!AD104 -> 0 | AD9: =C9*공종별내역서!AE104 -> 0 | AE9: =C9*공종별내역서!AF104 -> 0 | AF9: =C9*공종별내역서!AG104 -> 0 | AG9: =C9*공종별내역서!AH104 -> 0 | AH9: =C9*공종별내역서!AI104 -> 0 | AI9: =C9*공종별내역서!AJ104 -> 0 | AJ9: =C9*공종별내역서!AK104 -> 0 | AK9: =C9*공종별내역서!AL104 -> 0 | AL9: =C9*공종별내역서!AM104 -> 0 | AM9: =C9*공종별내역서!AN104 -> 0 | AN9: =C9*공종별내역서!AO104 -> 0 | AO9: =C9*공종별내역서!AP104 -> 0 | AP9: =C9*공종별내역서!AQ104 -> 0 | AQ9: =C9*공종별내역서!AR104 -> 0 | AR9: =C9*공종별내역서!AS104 -> 0 | AS9: =C9*공종별내역서!AT104 -> 0 | AT9: =C9*공종별내역서!AU104 -> 0 | AU9: =C9*공종별내역서!AV104 -> 0
A10: 06. 도장공사 | B10: 식 | C10: 1 | P10: 1 | Q10: =C10*공종별내역서!R124 -> 0 | R10: =C10*공종별내역서!S124 -> 0 | S10: =C10*공종별내역서!T124 -> 0 | T10: =C10*공종별내역서!U124 -> 0 | U10: =C10*공종별내역서!V124 -> 0 | V10: =C10*공종별내역서!W124 -> 0 | W10: =C10*공종별내역서!X124 -> 0 | X10: =C10*공종별내역서!Y124 -> 0 | Y10: =C10*공종별내역서!Z124 -> 0 | Z10: =C10*공종별내역서!AA124 -> 0 | AA10: =C10*공종별내역서!AB124 -> 0 | AB10: =C10*공종별내역서!AC124 -> 0 | AC10: =C10*공종별내역서!AD124 -> 0 | AD10: =C10*공종별내역서!AE124 -> 0 | AE10: =C10*공종별내역서!AF124 -> 0 | AF10: =C10*공종별내역서!AG124 -> 0 | AG10: =C10*공종별내역서!AH124 -> 0 | AH10: =C10*공종별내역서!AI124 -> 0 | AI10: =C10*공종별내역서!AJ124 -> 0 | AJ10: =C10*공종별내역서!AK124 -> 0 | AK10: =C10*공종별내역서!AL124 -> 0 | AL10: =C10*공종별내역서!AM124 -> 0 | AM10: =C10*공종별내역서!AN124 -> 0 | AN10: =C10*공종별내역서!AO124 -> 0 | AO10: =C10*공종별내역서!AP124 -> 0 | AP10: =C10*공종별내역서!AQ124 -> 0 | AQ10: =C10*공종별내역서!AR124 -> 0 | AR10: =C10*공종별내역서!AS124 -> 0 | AS10: =C10*공종별내역서!AT124 -> 0 | AT10: =C10*공종별내역서!AU124 -> 0 | AU10: =C10*공종별내역서!AV124 -> 0
A11: 07. 금속공사 | B11: 식 | C11: 1 | P11: 1 | Q11: =C11*공종별내역서!R144 -> 0 | R11: =C11*공종별내역서!S144 -> 0 | S11: =C11*공종별내역서!T144 -> 0 | T11: =C11*공종별내역서!U144 -> 0 | U11: =C11*공종별내역서!V144 -> 0 | V11: =C11*공종별내역서!W144 -> 0 | W11: =C11*공종별내역서!X144 -> 0 | X11: =C11*공종별내역서!Y144 -> 0 | Y11: =C11*공종별내역서!Z144 -> 0 | Z11: =C11*공종별내역서!AA144 -> 0 | AA11: =C11*공종별내역서!AB144 -> 0 | AB11: =C11*공종별내역서!AC144 -> 0 | AC11: =C11*공종별내역서!AD144 -> 0 | AD11: =C11*공종별내역서!AE144 -> 0 | AE11: =C11*공종별내역서!AF144 -> 0 | AF11: =C11*공종별내역서!AG144 -> 0 | AG11: =C11*공종별내역서!AH144 -> 0 | AH11: =C11*공종별내역서!AI144 -> 0 | AI11: =C11*공종별내역서!AJ144 -> 0 | AJ11: =C11*공종별내역서!AK144 -> 0 | AK11: =C11*공종별내역서!AL144 -> 0 | AL11: =C11*공종별내역서!AM144 -> 0 | AM11: =C11*공종별내역서!AN144 -> 0 | AN11: =C11*공종별내역서!AO144 -> 0 | AO11: =C11*공종별내역서!AP144 -> 0 | AP11: =C11*공종별내역서!AQ144 -> 0 | AQ11: =C11*공종별내역서!AR144 -> 0 | AR11: =C11*공종별내역서!AS144 -> 0 | AS11: =C11*공종별내역서!AT144 -> 0 | AT11: =C11*공종별내역서!AU144 -> 0 | AU11: =C11*공종별내역서!AV144 -> 0
A12: 08. 창호공사 | B12: 식 | C12: 1 | P12: 1 | Q12: =C12*공종별내역서!R184 -> 0 | R12: =C12*공종별내역서!S184 -> 0 | S12: =C12*공종별내역서!T184 -> 0 | T12: =C12*공종별내역서!U184 -> 0 | U12: =C12*공종별내역서!V184 -> 0 | V12: =C12*공종별내역서!W184 -> 0 | W12: =C12*공종별내역서!X184 -> 0 | X12: =C12*공종별내역서!Y184 -> 0 | Y12: =C12*공종별내역서!Z184 -> 0 | Z12: =C12*공종별내역서!AA184 -> 0 | AA12: =C12*공종별내역서!AB184 -> 0 | AB12: =C12*공종별내역서!AC184 -> 0 | AC12: =C12*공종별내역서!AD184 -> 0 | AD12: =C12*공종별내역서!AE184 -> 0 | AE12: =C12*공종별내역서!AF184 -> 0 | AF12: =C12*공종별내역서!AG184 -> 0 | AG12: =C12*공종별내역서!AH184 -> 0 | AH12: =C12*공종별내역서!AI184 -> 0 | AI12: =C12*공종별내역서!AJ184 -> 0 | AJ12: =C12*공종별내역서!AK184 -> 0 | AK12: =C12*공종별내역서!AL184 -> 0 | AL12: =C12*공종별내역서!AM184 -> 0 | AM12: =C12*공종별내역서!AN184 -> 0 | AN12: =C12*공종별내역서!AO184 -> 0 | AO12: =C12*공종별내역서!AP184 -> 0 | AP12: =C12*공종별내역서!AQ184 -> 0 | AQ12: =C12*공종별내역서!AR184 -> 0 | AR12: =C12*공종별내역서!AS184 -> 0 | AS12: =C12*공종별내역서!AT184 -> 0 | AT12: =C12*공종별내역서!AU184 -> 0 | AU12: =C12*공종별내역서!AV184 -> 0
A13: 09. 수장공사 | B13: 식 | C13: 1 | P13: 1 | Q13: =C13*공종별내역서!R204 -> 0 | R13: =C13*공종별내역서!S204 -> 0 | S13: =C13*공종별내역서!T204 -> 0 | T13: =C13*공종별내역서!U204 -> 0 | U13: =C13*공종별내역서!V204 -> 0 | V13: =C13*공종별내역서!W204 -> 0 | W13: =C13*공종별내역서!X204 -> 0 | X13: =C13*공종별내역서!Y204 -> 0 | Y13: =C13*공종별내역서!Z204 -> 0 | Z13: =C13*공종별내역서!AA204 -> 0 | AA13: =C13*공종별내역서!AB204 -> 0 | AB13: =C13*공종별내역서!AC204 -> 0 | AC13: =C13*공종별내역서!AD204 -> 0 | AD13: =C13*공종별내역서!AE204 -> 0 | AE13: =C13*공종별내역서!AF204 -> 0 | AF13: =C13*공종별내역서!AG204 -> 0 | AG13: =C13*공종별내역서!AH204 -> 0 | AH13: =C13*공종별내역서!AI204 -> 0 | AI13: =C13*공종별내역서!AJ204 -> 0 | AJ13: =C13*공종별내역서!AK204 -> 0 | AK13: =C13*공종별내역서!AL204 -> 0 | AL13: =C13*공종별내역서!AM204 -> 0 | AM13: =C13*공종별내역서!AN204 -> 0 | AN13: =C13*공종별내역서!AO204 -> 0 | AO13: =C13*공종별내역서!AP204 -> 0 | AP13: =C13*공종별내역서!AQ204 -> 0 | AQ13: =C13*공종별내역서!AR204 -> 0 | AR13: =C13*공종별내역서!AS204 -> 0 | AS13: =C13*공종별내역서!AT204 -> 0 | AT13: =C13*공종별내역서!AU204 -> 0 | AU13: =C13*공종별내역서!AV204 -> 0
A14: 10. 운반공사 | B14: 식 | C14: 1 | P14: 1 | Q14: =C14*공종별내역서!R224 -> 0 | R14: =C14*공종별내역서!S224 -> 0 | S14: =C14*공종별내역서!T224 -> 0 | T14: =C14*공종별내역서!U224 -> 0 | U14: =C14*공종별내역서!V224 -> 0 | V14: =C14*공종별내역서!W224 -> 0 | W14: =C14*공종별내역서!X224 -> 0 | X14: =C14*공종별내역서!Y224 -> 0 | Y14: =C14*공종별내역서!Z224 -> 0 | Z14: =C14*공종별내역서!AA224 -> 0 | AA14: =C14*공종별내역서!AB224 -> 0 | AB14: =C14*공종별내역서!AC224 -> 0 | AC14: =C14*공종별내역서!AD224 -> 0 | AD14: =C14*공종별내역서!AE224 -> 0 | AE14: =C14*공종별내역서!AF224 -> 0 | AF14: =C14*공종별내역서!AG224 -> 0 | AG14: =C14*공종별내역서!AH224 -> 0 | AH14: =C14*공종별내역서!AI224 -> 0 | AI14: =C14*공종별내역서!AJ224 -> 0 | AJ14: =C14*공종별내역서!AK224 -> 0 | AK14: =C14*공종별내역서!AL224 -> 0 | AL14: =C14*공종별내역서!AM224 -> 0 | AM14: =C14*공종별내역서!AN224 -> 0 | AN14: =C14*공종별내역서!AO224 -> 0 | AO14: =C14*공종별내역서!AP224 -> 0 | AP14: =C14*공종별내역서!AQ224 -> 0 | AQ14: =C14*공종별내역서!AR224 -> 0 | AR14: =C14*공종별내역서!AS224 -> 0 | AS14: =C14*공종별내역서!AT224 -> 0 | AT14: =C14*공종별내역서!AU224 -> 0 | AU14: =C14*공종별내역서!AV224 -> 0
A15: 11. 철거공사 | B15: 식 | C15: 1 | P15: 1 | Q15: =C15*공종별내역서!R244 -> 0 | R15: =C15*공종별내역서!S244 -> 0 | S15: =C15*공종별내역서!T244 -> 0 | T15: =C15*공종별내역서!U244 -> 0 | U15: =C15*공종별내역서!V244 -> 0 | V15: =C15*공종별내역서!W244 -> 0 | W15: =C15*공종별내역서!X244 -> 0 | X15: =C15*공종별내역서!Y244 -> 0 | Y15: =C15*공종별내역서!Z244 -> 0 | Z15: =C15*공종별내역서!AA244 -> 0 | AA15: =C15*공종별내역서!AB244 -> 0 | AB15: =C15*공종별내역서!AC244 -> 0 | AC15: =C15*공종별내역서!AD244 -> 0 | AD15: =C15*공종별내역서!AE244 -> 0 | AE15: =C15*공종별내역서!AF244 -> 0 | AF15: =C15*공종별내역서!AG244 -> 0 | AG15: =C15*공종별내역서!AH244 -> 0 | AH15: =C15*공종별내역서!AI244 -> 0 | AI15: =C15*공종별내역서!AJ244 -> 0 | AJ15: =C15*공종별내역서!AK244 -> 0 | AK15: =C15*공종별내역서!AL244 -> 0 | AL15: =C15*공종별내역서!AM244 -> 0 | AM15: =C15*공종별내역서!AN244 -> 0 | AN15: =C15*공종별내역서!AO244 -> 0 | AO15: =C15*공종별내역서!AP244 -> 0 | AP15: =C15*공종별내역서!AQ244 -> 0 | AQ15: =C15*공종별내역서!AR244 -> 0 | AR15: =C15*공종별내역서!AS244 -> 0 | AS15: =C15*공종별내역서!AT244 -> 0 | AT15: =C15*공종별내역서!AU244 -> 0 | AU15: =C15*공종별내역서!AV244 -> 0
A16: 12. 폐기물처리비 | B16: 식 | C16: 1 | Q16: =C16*공종별내역서!R264 -> 0 | R16: =C16*공종별내역서!S264 -> 0 | S16: =C16*공종별내역서!T264 -> 0 | T16: =C16*공종별내역서!U264 -> 0 | U16: =C16*공종별내역서!V264 -> 0 | V16: =C16*공종별내역서!W264 -> 0 | W16: =C16*공종별내역서!X264 -> 0 | X16: =C16*공종별내역서!Y264 -> 0 | Y16: =C16*공종별내역서!Z264 -> 0 | Z16: =C16*공종별내역서!AA264 -> 0 | AA16: =C16*공종별내역서!AB264 -> 0 | AB16: =C16*공종별내역서!AC264 -> 0 | AC16: =C16*공종별내역서!AD264 -> 0 | AD16: =C16*공종별내역서!AE264 -> 0 | AE16: =C16*공종별내역서!AF264 -> 0 | AF16: =C16*공종별내역서!AG264 -> 0 | AG16: =C16*공종별내역서!AH264 -> 0 | AH16: =C16*공종별내역서!AI264 -> 0 | AI16: =C16*공종별내역서!AJ264 -> 0 | AJ16: =C16*공종별내역서!AK264 -> 0 | AK16: =C16*공종별내역서!AL264 -> 0 | AL16: =C16*공종별내역서!AM264 -> 0 | AM16: =C16*공종별내역서!AN264 -> 0 | AN16: =C16*공종별내역서!AO264 -> 0 | AO16: =C16*공종별내역서!AP264 -> 0 | AP16: =C16*공종별내역서!AQ264 -> 0 | AQ16: =C16*공종별내역서!AR264 -> 0 | AR16: =C16*공종별내역서!AS264 -> 0 | AS16: =C16*공종별내역서!AT264 -> 0 | AT16: =C16*공종별내역서!AU264 -> 0 | AU16: =C16*공종별내역서!AV264 -> 0
A17: 13. 골재대 | B17: 식 | C17: 1 | P17: 1 | Q17: =C17*공종별내역서!R284 -> 0 | R17: =C17*공종별내역서!S284 -> 0 | S17: =C17*공종별내역서!T284 -> 0 | T17: =C17*공종별내역서!U284 -> 0 | U17: =C17*공종별내역서!V284 -> 0 | V17: =C17*공종별내역서!W284 -> 0 | W17: =C17*공종별내역서!X284 -> 0 | X17: =C17*공종별내역서!Y284 -> 0 | Y17: =C17*공종별내역서!Z284 -> 0 | Z17: =C17*공종별내역서!AA284 -> 0 | AA17: =C17*공종별내역서!AB284 -> 0 | AB17: =C17*공종별내역서!AC284 -> 0 | AC17: =C17*공종별내역서!AD284 -> 0 | AD17: =C17*공종별내역서!AE284 -> 0 | AE17: =C17*공종별내역서!AF284 -> 0 | AF17: =C17*공종별내역서!AG284 -> 0 | AG17: =C17*공종별내역서!AH284 -> 0 | AH17: =C17*공종별내역서!AI284 -> 0 | AI17: =C17*공종별내역서!AJ284 -> 0 | AJ17: =C17*공종별내역서!AK284 -> 0 | AK17: =C17*공종별내역서!AL284 -> 0 | AL17: =C17*공종별내역서!AM284 -> 0 | AM17: =C17*공종별내역서!AN284 -> 0 | AN17: =C17*공종별내역서!AO284 -> 0 | AO17: =C17*공종별내역서!AP284 -> 0 | AP17: =C17*공종별내역서!AQ284 -> 0 | AQ17: =C17*공종별내역서!AR284 -> 0 | AR17: =C17*공종별내역서!AS284 -> 0 | AS17: =C17*공종별내역서!AT284 -> 0 | AT17: =C17*공종별내역서!AU284 -> 0 | AU17: =C17*공종별내역서!AV284 -> 0
A24: 합 계 | E24: =SUMIF(P5:P17,"1",E5:E17) -> 0 | G24: =SUMIF(P5:P17,"1",G5:G17) -> 0 | I24: =SUMIF(P5:P17,"1",I5:I17) -> 0 | K24: =E24+G24+I24 -> 0 | Q24: =SUM(Q5:Q17) -> 0 | R24: =SUM(R5:R17) -> 0 | S24: =SUM(S5:S17) -> 0 | T24: =SUM(T5:T17) -> 0 | U24: =SUM(U5:U17) -> 0 | V24: =SUM(V5:V17) -> 0 | W24: =SUM(W5:W17) -> 0 | X24: =SUM(X5:X17) -> 0 | ... AX24: =SUM(AX5:AX17) -> 0

Sheet 공종별내역서
A1: 공 사 내 역 서
A2: 공사명 : 부산콘서트홀 출입문 등 개선공사
A3: 품 명 | B3: 규 격 | C3: 단위 | D3: 수 량 | E3: 재 료 비 | G3: 노 무 비 | I3: 경 비 | K3: 합 계 | M3: 비고
E4: 단 가 | F4: 금 액 | G4: 단 가 | H4: 금 액 | I4: 단 가 | J4: 금 액 | K4: 단 가 | L4: 금 액 | N4: 손료요율 | O4: 손료구분 | P4: 적용구분 | Q4: 합계구분 | R4: 기계경비 | S4: 운반비 | T4: 작업부산물 | U4: 관급 | V4: 외주비 | W4: 장비비 | X4: 폐기물처리비 | Y4: 가설비 | Z4: 잡비제외분 | AA4: 사급자재대 | AB4: 관급자재대 | AC4: 석면분담금 | AD4: 임금채권부담금 | AE4: 안전관리비 | AF4: 품질관리비 | AG4: 작업부산물(철거해체) | AH4: 어린이유해물질수수료 | AI4: 퇴직공제부금 | AJ4: 사용자항목8 | AK4: 사용자항목9 | AL4: 사용자항목10 | AM4: 사용자항목11 | AN4: 사용자항목12 | AO4: 사용자항목13 | AP4: 사용자항목14 | AQ4: 사용자항목15 | AR4: 사용자항목16 | AS4: 사용자항목17 | AT4: 사용자항목18 | AU4: 사용자항목19 | AV4: 간접재료비 | AW4: 품목구분 | AX4: 조달코드 | AY4: 구분
A5: 01. 가설공사
A6: 건축물현장정리 | B6: 간단 | C6: ㎡ | D6: 594 | O6: ="" | P6: 기계경비 | Q6: 1 | R6: =IF(P6="기계경비",J6,0) -> 0 | S6: =IF(P6="운반비",L6,0) -> 0 | T6: =IF(P6="작업부산물",F6,0) -> 0 | U6: =IF(P6="관급",F6,0) -> 0 | V6: =IF(P6="외주비",J6,0) -> 0 | W6: =IF(P6="장비비",J6,0) -> 0 | X6: =IF(P6="폐기물처리비",L6,0) -> 0 | Y6: =IF(P6="가설비",J6,0) -> 0 | Z6: =IF(P6="잡비제외분",F6,0) -> 0 | AA6: =IF(P6="사급자재대",L6,0) -> 0 | AB6: =IF(P6="관급자재대",L6,0) -> 0 | AC6: =IF(P6="석면분담금",L6,0) -> 0 | AD6: =IF(P6="임금채권부담금",L6,0) -> 0 | AE6: =IF(P6="안전관리비",L6,0) -> 0 | AF6: =IF(P6="품질관리비",L6,0) -> 0 | AG6: =IF(P6="작업부산물(철거해체)",L6,0) -> 0 | AH6: =IF(P6="어린이유해물질수수료",L6,0) -> 0 | AI6: =IF(P6="퇴직공제부금",L6,0) -> 0 | AJ6: =IF(P6="사용자항목8",L6,0) -> 0 | AK6: =IF(P6="사용자항목9",L6,0) -> 0 | AL6: =IF(P6="사용자항목10",L6,0) -> 0 | AM6: =IF(P6="사용자항목11",L6,0) -> 0 | AN6: =IF(P6="사용자항목12",L6,0) -> 0 | AO6: =IF(P6="사용자항목13",L6,0) -> 0 | AP6: =IF(P6="사용자항목14",L6,0) -> 0 | AQ6: =IF(P6="사용자항목15",L6,0) -> 0 | AR6: =IF(P6="사용자항목16",L6,0) -> 0 | AS6: =IF(P6="사용자항목17",L6,0) -> 0 | AT6: =IF(P6="사용자항목18",L6,0) -> 0 | AU6: =IF(P6="사용자항목19",L6,0) -> 0 | AY6: D
A7: 준공청소 | C7: 연면적 ㎡ | D7: 594 | O7: ="" | P7: 기계경비 | Q7: 1 | R7: =IF(P7="기계경비",J7,0) -> 0 | S7: =IF(P7="운반비",L7,0) -> 0 | T7: =IF(P7="작업부산물",F7,0) -> 0 | U7: =IF(P7="관급",F7,0) -> 0 | V7: =IF(P7="외주비",J7,0) -> 0 | W7: =IF(P7="장비비",J7,0) -> 0 | X7: =IF(P7="폐기물처리비",L7,0) -> 0 | Y7: =IF(P7="가설비",J7,0) -> 0 | Z7: =IF(P7="잡비제외분",F7,0) -> 0 | AA7: =IF(P7="사급자재대",L7,0) -> 0 | AB7: =IF(P7="관급자재대",L7,0) -> 0 | AC7: =IF(P7="석면분담금",L7,0) -> 0 | AD7: =IF(P7="임금채권부담금",L7,0) -> 0 | AE7: =IF(P7="안전관리비",L7,0) -> 0 | AF7: =IF(P7="품질관리비",L7,0) -> 0 | AG7: =IF(P7="작업부산물(철거해체)",L7,0) -> 0 | AH7: =IF(P7="어린이유해물질수수료",L7,0) -> 0 | AI7: =IF(P7="퇴직공제부금",L7,0) -> 0 | AJ7: =IF(P7="사용자항목8",L7,0) -> 0 | AK7: =IF(P7="사용자항목9",L7,0) -> 0 | AL7: =IF(P7="사용자항목10",L7,0) -> 0 | AM7: =IF(P7="사용자항목11",L7,0) -> 0 | AN7: =IF(P7="사용자항목12",L7,0) -> 0 | AO7: =IF(P7="사용자항목13",L7,0) -> 0 | AP7: =IF(P7="사용자항목14",L7,0) -> 0 | AQ7: =IF(P7="사용자항목15",L7,0) -> 0 | AR7: =IF(P7="사용자항목16",L7,0) -> 0 | AS7: =IF(P7="사용자항목17",L7,0) -> 0 | AT7: =IF(P7="사용자항목18",L7,0) -> 0 | AU7: =IF(P7="사용자항목19",L7,0) -> 0 | AY7: AAD16000060S
A8: 바닥및집기보양 | B8: 비닐 | C8: M2 | D8: 704 | O8: ="" | P8: 기계경비 | Q8: 1 | R8: =IF(P8="기계경비",J8,0) -> 0 | S8: =IF(P8="운반비",L8,0) -> 0 | T8: =IF(P8="작업부산물",F8,0) -> 0 | U8: =IF(P8="관급",F8,0) -> 0 | V8: =IF(P8="외주비",J8,0) -> 0 | W8: =IF(P8="장비비",J8,0) -> 0 | X8: =IF(P8="폐기물처리비",L8,0) -> 0 | Y8: =IF(P8="가설비",J8,0) -> 0 | Z8: =IF(P8="잡비제외분",F8,0) -> 0 | AA8: =IF(P8="사급자재대",L8,0) -> 0 | AB8: =IF(P8="관급자재대",L8,0) -> 0 | AC8: =IF(P8="석면분담금",L8,0) -> 0 | AD8: =IF(P8="임금채권부담금",L8,0) -> 0 | AE8: =IF(P8="안전관리비",L8,0) -> 0 | AF8: =IF(P8="품질관리비",L8,0) -> 0 | AG8: =IF(P8="작업부산물(철거해체)",L8,0) -> 0 | AH8: =IF(P8="어린이유해물질수수료",L8,0) -> 0 | AI8: =IF(P8="퇴직공제부금",L8,0) -> 0 | AJ8: =IF(P8="사용자항목8",L8,0) -> 0 | AK8: =IF(P8="사용자항목9",L8,0) -> 0 | AL8: =IF(P8="사용자항목10",L8,0) -> 0 | AM8: =IF(P8="사용자항목11",L8,0) -> 0 | AN8: =IF(P8="사용자항목12",L8,0) -> 0 | AO8: =IF(P8="사용자항목13",L8,0) -> 0 | AP8: =IF(P8="사용자항목14",L8,0) -> 0 | AQ8: =IF(P8="사용자항목15",L8,0) -> 0 | AR8: =IF(P8="사용자항목16",L8,0) -> 0 | AS8: =IF(P8="사용자항목17",L8,0) -> 0 | AT8: =IF(P8="사용자항목18",L8,0) -> 0 | AU8: =IF(P8="사용자항목19",L8,0) -> 0 | AY8: D
A9: 강관 조립말비계(이동식)설치 및 해체 | B9: 높이 2m, 노무비 | C9: 대 | D9: 1 | O9: ="" | P9: 기계경비 | Q9: 1 | R9: =IF(P9="기계경비",J9,0) -> 0 | S9: =IF(P9="운반비",L9,0) -> 0 | T9: =IF(P9="작업부산물",F9,0) -> 0 | U9: =IF(P9="관급",F9,0) -> 0 | V9: =IF(P9="외주비",J9,0) -> 0 | W9: =IF(P9="장비비",J9,0) -> 0 | X9: =IF(P9="폐기물처리비",L9,0) -> 0 | Y9: =IF(P9="가설비",J9,0) -> 0 | Z9: =IF(P9="잡비제외분",F9,0) -> 0 | AA9: =IF(P9="사급자재대",L9,0) -> 0 | AB9: =IF(P9="관급자재대",L9,0) -> 0 | AC9: =IF(P9="석면분담금",L9,0) -> 0 | AD9: =IF(P9="임금채권부담금",L9,0) -> 0 | AE9: =IF(P9="안전관리비",L9,0) -> 0 | AF9: =IF(P9="품질관리비",L9,0) -> 0 | AG9: =IF(P9="작업부산물(철거해체)",L9,0) -> 0 | AH9: =IF(P9="어린이유해물질수수료",L9,0) -> 0 | AI9: =IF(P9="퇴직공제부금",L9,0) -> 0 | AJ9: =IF(P9="사용자항목8",L9,0) -> 0 | AK9: =IF(P9="사용자항목9",L9,0) -> 0 | AL9: =IF(P9="사용자항목10",L9,0) -> 0 | AM9: =IF(P9="사용자항목11",L9,0) -> 0 | AN9: =IF(P9="사용자항목12",L9,0) -> 0 | AO9: =IF(P9="사용자항목13",L9,0) -> 0 | AP9: =IF(P9="사용자항목14",L9,0) -> 0 | AQ9: =IF(P9="사용자항목15",L9,0) -> 0 | AR9: =IF(P9="사용자항목16",L9,0) -> 0 | AS9: =IF(P9="사용자항목17",L9,0) -> 0 | AT9: =IF(P9="사용자항목18",L9,0) -> 0 | AU9: =IF(P9="사용자항목19",L9,0) -> 0
A10: 가설울타리(EGI, 아연도금강판) | B10: H=3.0m, 2개월, 설치및 해체 | C10: M | D10: 19 | O10: ="" | P10: 기계경비 | Q10: 1 | R10: =IF(P10="기계경비",J10,0) -> 0 | S10: =IF(P10="운반비",L10,0) -> 0 | T10: =IF(P10="작업부산물",F10,0) -> 0 | U10: =IF(P10="관급",F10,0) -> 0 | V10: =IF(P10="외주비",J10,0) -> 0 | W10: =IF(P10="장비비",J10,0) -> 0 | X10: =IF(P10="폐기물처리비",L10,0) -> 0 | Y10: =IF(P10="가설비",J10,0) -> 0 | Z10: =IF(P10="잡비제외분",F10,0) -> 0 | AA10: =IF(P10="사급자재대",L10,0) -> 0 | AB10: =IF(P10="관급자재대",L10,0) -> 0 | AC10: =IF(P10="석면분담금",L10,0) -> 0 | AD10: =IF(P10="임금채권부담금",L10,0) -> 0 | AE10: =IF(P10="안전관리비",L10,0) -> 0 | AF10: =IF(P10="품질관리비",L10,0) -> 0 | AG10: =IF(P10="작업부산물(철거해체)",L10,0) -> 0 | AH10: =IF(P10="어린이유해물질수수료",L10,0) -> 0 | AI10: =IF(P10="퇴직공제부금",L10,0) -> 0 | AJ10: =IF(P10="사용자항목8",L10,0) -> 0 | AK10: =IF(P10="사용자항목9",L10,0) -> 0 | AL10: =IF(P10="사용자항목10",L10,0) -> 0 | AM10: =IF(P10="사용자항목11",L10,0) -> 0 | AN10: =IF(P10="사용자항목12",L10,0) -> 0 | AO10: =IF(P10="사용자항목13",L10,0) -> 0 | AP10: =IF(P10="사용자항목14",L10,0) -> 0 | AQ10: =IF(P10="사용자항목15",L10,0) -> 0 | AR10: =IF(P10="사용자항목16",L10,0) -> 0 | AS10: =IF(P10="사용자항목17",L10,0) -> 0 | AT10: =IF(P10="사용자항목18",L10,0) -> 0 | AU10: =IF(P10="사용자항목19",L10,0) -> 0 | AY10: D
A11: 가설울타리판 설치 및 해체 | B11: H=3m이하 설치및 해체 | C11: M | D11: 32 | O11: ="" | P11: 기계경비 | Q11: 1 | R11: =IF(P11="기계경비",J11,0) -> 0 | S11: =IF(P11="운반비",L11,0) -> 0 | T11: =IF(P11="작업부산물",F11,0) -> 0 | U11: =IF(P11="관급",F11,0) -> 0 | V11: =IF(P11="외주비",J11,0) -> 0 | W11: =IF(P11="장비비",J11,0) -> 0 | X11: =IF(P11="폐기물처리비",L11,0) -> 0 | Y11: =IF(P11="가설비",J11,0) -> 0 | Z11: =IF(P11="잡비제외분",F11,0) -> 0 | AA11: =IF(P11="사급자재대",L11,0) -> 0 | AB11: =IF(P11="관급자재대",L11,0) -> 0 | AC11: =IF(P11="석면분담금",L11,0) -> 0 | AD11: =IF(P11="임금채권부담금",L11,0) -> 0 | AE11: =IF(P11="안전관리비",L11,0) -> 0 | AF11: =IF(P11="품질관리비",L11,0) -> 0 | AG11: =IF(P11="작업부산물(철거해체)",L11,0) -> 0 | AH11: =IF(P11="어린이유해물질수수료",L11,0) -> 0 | AI11: =IF(P11="퇴직공제부금",L11,0) -> 0 | AJ11: =IF(P11="사용자항목8",L11,0) -> 0 | AK11: =IF(P11="사용자항목9",L11,0) -> 0 | AL11: =IF(P11="사용자항목10",L11,0) -> 0 | AM11: =IF(P11="사용자항목11",L11,0) -> 0 | AN11: =IF(P11="사용자항목12",L11,0) -> 0 | AO11: =IF(P11="사용자항목13",L11,0) -> 0 | AP11: =IF(P11="사용자항목14",L11,0) -> 0 | AQ11: =IF(P11="사용자항목15",L11,0) -> 0 | AR11: =IF(P11="사용자항목16",L11,0) -> 0 | AS11: =IF(P11="사용자항목17",L11,0) -> 0 | AT11: =IF(P11="사용자항목18",L11,0) -> 0 | AU11: =IF(P11="사용자항목19",L11,0) -> 0 | AY11: D
A12: 공사용가림막 | C12: 식 | D12: 1 | O12: ="" | P12: 기계경비 | Q12: 1 | R12: =IF(P12="기계경비",J12,0) -> 0 | S12: =IF(P12="운반비",L12,0) -> 0 | T12: =IF(P12="작업부산물",F12,0) -> 0 | U12: =IF(P12="관급",F12,0) -> 0 | V12: =IF(P12="외주비",J12,0) -> 0 | W12: =IF(P12="장비비",J12,0) -> 0 | X12: =IF(P12="폐기물처리비",L12,0) -> 0 | Y12: =IF(P12="가설비",J12,0) -> 0 | Z12: =IF(P12="잡비제외분",F12,0) -> 0 | AA12: =IF(P12="사급자재대",L12,0) -> 0 | AB12: =IF(P12="관급자재대",L12,0) -> 0 | AC12: =IF(P12="석면분담금",L12,0) -> 0 | AD12: =IF(P12="임금채권부담금",L12,0) -> 0 | AE12: =IF(P12="안전관리비",L12,0) -> 0 | AF12: =IF(P12="품질관리비",L12,0) -> 0 | AG12: =IF(P12="작업부산물(철거해체)",L12,0) -> 0 | AH12: =IF(P12="어린이유해물질수수료",L12,0) -> 0 | AI12: =IF(P12="퇴직공제부금",L12,0) -> 0 | AJ12: =IF(P12="사용자항목8",L12,0) -> 0 | AK12: =IF(P12="사용자항목9",L12,0) -> 0 | AL12: =IF(P12="사용자항목10",L12,0) -> 0 | AM12: =IF(P12="사용자항목11",L12,0) -> 0 | AN12: =IF(P12="사용자항목12",L12,0) -> 0 | AO12: =IF(P12="사용자항목13",L12,0) -> 0 | AP12: =IF(P12="사용자항목14",L12,0) -> 0 | AQ12: =IF(P12="사용자항목15",L12,0) -> 0 | AR12: =IF(P12="사용자항목16",L12,0) -> 0 | AS12: =IF(P12="사용자항목17",L12,0) -> 0 | AT12: =IF(P12="사용자항목18",L12,0) -> 0 | AU12: =IF(P12="사용자항목19",L12,0) -> 0 | AY12: D
A24: 합 계 | F24: =ROUNDDOWN(SUMIF(Q6:Q23,"1",F6:F23),0) -> 0 | H24: =ROUNDDOWN(SUMIF(Q6:Q23,"1",H6:H23),0) -> 0 | J24: =ROUNDDOWN(SUMIF(Q6:Q23,"1",J6:J23),0) -> 0 | L24: =F24+H24+J24 -> 0 | R24: =ROUNDDOWN(SUM(R6:R12),0) -> 0 | S24: =ROUNDDOWN(SUM(S6:S12),0) -> 0 | T24: =ROUNDDOWN(SUM(T6:T12),0) -> 0 | U24: =ROUNDDOWN(SUM(U6:U12),0) -> 0 | V24: =ROUNDDOWN(SUM(V6:V12),0) -> 0 | W24: =ROUNDDOWN(SUM(W6:W12),0) -> 0 | X24: =ROUNDDOWN(SUM(X6:X12),0) -> 0 | Y24: =ROUNDDOWN(SUM(Y6:Y12),0) -> 0 | ... AY24: =ROUNDDOWN(SUM(AY6:AY12),0) -> 0
A25: 02. 목공사
A26: 내수합판바닥깔기 | B26: T12 | C26: M2 | D26: 5 | O26: ="" | P26: 기계경비 | Q26: 1 | R26: =IF(P26="기계경비",J26,0) -> 0 | S26: =IF(P26="운반비",L26,0) -> 0 | T26: =IF(P26="작업부산물",F26,0) -> 0 | U26: =IF(P26="관급",F26,0) -> 0 | V26: =IF(P26="외주비",J26,0) -> 0 | W26: =IF(P26="장비비",J26,0) -> 0 | X26: =IF(P26="폐기물처리비",L26,0) -> 0 | Y26: =IF(P26="가설비",J26,0) -> 0 | Z26: =IF(P26="잡비제외분",F26,0) -> 0 | AA26: =IF(P26="사급자재대",L26,0) -> 0 | AB26: =IF(P26="관급자재대",L26,0) -> 0 | AC26: =IF(P26="석면분담금",L26,0) -> 0 | AD26: =IF(P26="임금채권부담금",L26,0) -> 0 | AE26: =IF(P26="안전관리비",L26,0) -> 0 | AF26: =IF(P26="품질관리비",L26,0) -> 0 | AG26: =IF(P26="작업부산물(철거해체)",L26,0) -> 0 | AH26: =IF(P26="어린이유해물질수수료",L26,0) -> 0 | AI26: =IF(P26="퇴직공제부금",L26,0) -> 0 | AJ26: =IF(P26="사용자항목8",L26,0) -> 0 | AK26: =IF(P26="사용자항목9",L26,0) -> 0 | AL26: =IF(P26="사용자항목10",L26,0) -> 0 | AM26: =IF(P26="사용자항목11",L26,0) -> 0 | AN26: =IF(P26="사용자항목12",L26,0) -> 0 | AO26: =IF(P26="사용자항목13",L26,0) -> 0 | AP26: =IF(P26="사용자항목14",L26,0) -> 0 | AQ26: =IF(P26="사용자항목15",L26,0) -> 0 | AR26: =IF(P26="사용자항목16",L26,0) -> 0 | AS26: =IF(P26="사용자항목17",L26,0) -> 0 | AT26: =IF(P26="사용자항목18",L26,0) -> 0 | AU26: =IF(P26="사용자항목19",L26,0) -> 0 | AY26: D
A27: 석고보드붙이기 | B27: 벽, 12.5mm , 차음보드 | C27: M2 | D27: 21 | O27: ="" | P27: 기계경비 | Q27: 1 | R27: =IF(P27="기계경비",J27,0) -> 0 | S27: =IF(P27="운반비",L27,0) -> 0 | T27: =IF(P27="작업부산물",F27,0) -> 0 | U27: =IF(P27="관급",F27,0) -> 0 | V27: =IF(P27="외주비",J27,0) -> 0 | W27: =IF(P27="장비비",J27,0) -> 0 | X27: =IF(P27="폐기물처리비",L27,0) -> 0 | Y27: =IF(P27="가설비",J27,0) -> 0 | Z27: =IF(P27="잡비제외분",F27,0) -> 0 | AA27: =IF(P27="사급자재대",L27,0) -> 0 | AB27: =IF(P27="관급자재대",L27,0) -> 0 | AC27: =IF(P27="석면분담금",L27,0) -> 0 | AD27: =IF(P27="임금채권부담금",L27,0) -> 0 | AE27: =IF(P27="안전관리비",L27,0) -> 0 | AF27: =IF(P27="품질관리비",L27,0) -> 0 | AG27: =IF(P27="작업부산물(철거해체)",L27,0) -> 0 | AH27: =IF(P27="어린이유해물질수수료",L27,0) -> 0 | AI27: =IF(P27="퇴직공제부금",L27,0) -> 0 | AJ27: =IF(P27="사용자항목8",L27,0) -> 0 | AK27: =IF(P27="사용자항목9",L27,0) -> 0 | AL27: =IF(P27="사용자항목10",L27,0) -> 0 | AM27: =IF(P27="사용자항목11",L27,0) -> 0 | AN27: =IF(P27="사용자항목12",L27,0) -> 0 | AO27: =IF(P27="사용자항목13",L27,0) -> 0 | AP27: =IF(P27="사용자항목14",L27,0) -> 0 | AQ27: =IF(P27="사용자항목15",L27,0) -> 0 | AR27: =IF(P27="사용자항목16",L27,0) -> 0 | AS27: =IF(P27="사용자항목17",L27,0) -> 0 | AT27: =IF(P27="사용자항목18",L27,0) -> 0 | AU27: =IF(P27="사용자항목19",L27,0) -> 0 | AY27: D
A28: 집성목 설치 | B28: 방염패브릭+집성목루버+투명방염락카 | C28: M2 | D28: 9 | O28: ="" | P28: 기계경비 | Q28: 1 | R28: =IF(P28="기계경비",J28,0) -> 0 | S28: =IF(P28="운반비",L28,0) -> 0 | T28: =IF(P28="작업부산물",F28,0) -> 0 | U28: =IF(P28="관급",F28,0) -> 0 | V28: =IF(P28="외주비",J28,0) -> 0 | W28: =IF(P28="장비비",J28,0) -> 0 | X28: =IF(P28="폐기물처리비",L28,0) -> 0 | Y28: =IF(P28="가설비",J28,0) -> 0 | Z28: =IF(P28="잡비제외분",F28,0) -> 0 | AA28: =IF(P28="사급자재대",L28,0) -> 0 | AB28: =IF(P28="관급자재대",L28,0) -> 0 | AC28: =IF(P28="석면분담금",L28,0) -> 0 | AD28: =IF(P28="임금채권부담금",L28,0) -> 0 | AE28: =IF(P28="안전관리비",L28,0) -> 0 | AF28: =IF(P28="품질관리비",L28,0) -> 0 | AG28: =IF(P28="작업부산물(철거해체)",L28,0) -> 0 | AH28: =IF(P28="어린이유해물질수수료",L28,0) -> 0 | AI28: =IF(P28="퇴직공제부금",L28,0) -> 0 | AJ28: =IF(P28="사용자항목8",L28,0) -> 0 | AK28: =IF(P28="사용자항목9",L28,0) -> 0 | AL28: =IF(P28="사용자항목10",L28,0) -> 0 | AM28: =IF(P28="사용자항목11",L28,0) -> 0 | AN28: =IF(P28="사용자항목12",L28,0) -> 0 | AO28: =IF(P28="사용자항목13",L28,0) -> 0 | AP28: =IF(P28="사용자항목14",L28,0) -> 0 | AQ28: =IF(P28="사용자항목15",L28,0) -> 0 | AR28: =IF(P28="사용자항목16",L28,0) -> 0 | AS28: =IF(P28="사용자항목17",L28,0) -> 0 | AT28: =IF(P28="사용자항목18",L28,0) -> 0 | AU28: =IF(P28="사용자항목19",L28,0) -> 0 | AY28: D
A44: 합 계 | F44: =ROUNDDOWN(SUMIF(Q26:Q43,"1",F26:F43),0) -> 0 | H44: =ROUNDDOWN(SUMIF(Q26:Q43,"1",H26:H43),0) -> 0 | J44: =ROUNDDOWN(SUMIF(Q26:Q43,"1",J26:J43),0) -> 0 | L44: =F44+H44+J44 -> 0 | R44: =ROUNDDOWN(SUM(R26:R28),0) -> 0 | S44: =ROUNDDOWN(SUM(S26:S28),0) -> 0 | T44: =ROUNDDOWN(SUM(T26:T28),0) -> 0 | U44: =ROUNDDOWN(SUM(U26:U28),0) -> 0 | V44: =ROUNDDOWN(SUM(V26:V28),0) -> 0 | W44: =ROUNDDOWN(SUM(W26:W28),0) -> 0 | X44: =ROUNDDOWN(SUM(X26:X28),0) -> 0 | Y44: =ROUNDDOWN(SUM(Y26:Y28),0) -> 0 | ... AY44: =ROUNDDOWN(SUM(AY26:AY28),0) -> 0
A45: 03. 미장공사
A46: 모르타르 바름 | B46: 바닥, 30mm | C46: M2 | D46: 3 | O46: ="" | P46: 기계경비 | Q46: 1 | R46: =IF(P46="기계경비",J46,0) -> 0 | S46: =IF(P46="운반비",L46,0) -> 0 | T46: =IF(P46="작업부산물",F46,0) -> 0 | U46: =IF(P46="관급",F46,0) -> 0 | V46: =IF(P46="외주비",J46,0) -> 0 | W46: =IF(P46="장비비",J46,0) -> 0 | X46: =IF(P46="폐기물처리비",L46,0) -> 0 | Y46: =IF(P46="가설비",J46,0) -> 0 | Z46: =IF(P46="잡비제외분",F46,0) -> 0 | AA46: =IF(P46="사급자재대",L46,0) -> 0 | AB46: =IF(P46="관급자재대",L46,0) -> 0 | AC46: =IF(P46="석면분담금",L46,0) -> 0 | AD46: =IF(P46="임금채권부담금",L46,0) -> 0 | AE46: =IF(P46="안전관리비",L46,0) -> 0 | AF46: =IF(P46="품질관리비",L46,0) -> 0 | AG46: =IF(P46="작업부산물(철거해체)",L46,0) -> 0 | AH46: =IF(P46="어린이유해물질수수료",L46,0) -> 0 | AI46: =IF(P46="퇴직공제부금",L46,0) -> 0 | AJ46: =IF(P46="사용자항목8",L46,0) -> 0 | AK46: =IF(P46="사용자항목9",L46,0) -> 0 | AL46: =IF(P46="사용자항목10",L46,0) -> 0 | AM46: =IF(P46="사용자항목11",L46,0) -> 0 | AN46: =IF(P46="사용자항목12",L46,0) -> 0 | AO46: =IF(P46="사용자항목13",L46,0) -> 0 | AP46: =IF(P46="사용자항목14",L46,0) -> 0 | AQ46: =IF(P46="사용자항목15",L46,0) -> 0 | AR46: =IF(P46="사용자항목16",L46,0) -> 0 | AS46: =IF(P46="사용자항목17",L46,0) -> 0 | AT46: =IF(P46="사용자항목18",L46,0) -> 0 | AU46: =IF(P46="사용자항목19",L46,0) -> 0 | AY46: D
A47: 모르타르 바름 | B47: 바닥, 50mm | C47: M2 | D47: 2 | O47: ="" | P47: 기계경비 | Q47: 1 | R47: =IF(P47="기계경비",J47,0) -> 0 | S47: =IF(P47="운반비",L47,0) -> 0 | T47: =IF(P47="작업부산물",F47,0) -> 0 | U47: =IF(P47="관급",F47,0) -> 0 | V47: =IF(P47="외주비",J47,0) -> 0 | W47: =IF(P47="장비비",J47,0) -> 0 | X47: =IF(P47="폐기물처리비",L47,0) -> 0 | Y47: =IF(P47="가설비",J47,0) -> 0 | Z47: =IF(P47="잡비제외분",F47,0) -> 0 | AA47: =IF(P47="사급자재대",L47,0) -> 0 | AB47: =IF(P47="관급자재대",L47,0) -> 0 | AC47: =IF(P47="석면분담금",L47,0) -> 0 | AD47: =IF(P47="임금채권부담금",L47,0) -> 0 | AE47: =IF(P47="안전관리비",L47,0) -> 0 | AF47: =IF(P47="품질관리비",L47,0) -> 0 | AG47: =IF(P47="작업부산물(철거해체)",L47,0) -> 0 | AH47: =IF(P47="어린이유해물질수수료",L47,0) -> 0 | AI47: =IF(P47="퇴직공제부금",L47,0) -> 0 | AJ47: =IF(P47="사용자항목8",L47,0) -> 0 | AK47: =IF(P47="사용자항목9",L47,0) -> 0 | AL47: =IF(P47="사용자항목10",L47,0) -> 0 | AM47: =IF(P47="사용자항목11",L47,0) -> 0 | AN47: =IF(P47="사용자항목12",L47,0) -> 0 | AO47: =IF(P47="사용자항목13",L47,0) -> 0 | AP47: =IF(P47="사용자항목14",L47,0) -> 0 | AQ47: =IF(P47="사용자항목15",L47,0) -> 0 | AR47: =IF(P47="사용자항목16",L47,0) -> 0 | AS47: =IF(P47="사용자항목17",L47,0) -> 0 | AT47: =IF(P47="사용자항목18",L47,0) -> 0 | AU47: =IF(P47="사용자항목19",L47,0) -> 0 | AY47: D
A64: 합 계 | F64: =ROUNDDOWN(SUMIF(Q46:Q63,"1",F46:F63),0) -> 0 | H64: =ROUNDDOWN(SUMIF(Q46:Q63,"1",H46:H63),0) -> 0 | J64: =ROUNDDOWN(SUMIF(Q46:Q63,"1",J46:J63),0) -> 0 | L64: =F64+H64+J64 -> 0 | R64: =ROUNDDOWN(SUM(R46:R47),0) -> 0 | S64: =ROUNDDOWN(SUM(S46:S47),0) -> 0 | T64: =ROUNDDOWN(SUM(T46:T47),0) -> 0 | U64: =ROUNDDOWN(SUM(U46:U47),0) -> 0 | V64: =ROUNDDOWN(SUM(V46:V47),0) -> 0 | W64: =ROUNDDOWN(SUM(W46:W47),0) -> 0 | X64: =ROUNDDOWN(SUM(X46:X47),0) -> 0 | Y64: =ROUNDDOWN(SUM(Y46:Y47),0) -> 0 | ... AY64: =ROUNDDOWN(SUM(AY46:AY47),0) -> 0
A65: 04. 조적공사
A66: 점자블록 설치 | B66: 내부 | C66: EA | D66: 19 | O66: ="" | P66: 기계경비 | Q66: 1 | R66: =IF(P66="기계경비",J66,0) -> 0 | S66: =IF(P66="운반비",L66,0) -> 0 | T66: =IF(P66="작업부산물",F66,0) -> 0 | U66: =IF(P66="관급",F66,0) -> 0 | V66: =IF(P66="외주비",J66,0) -> 0 | W66: =IF(P66="장비비",J66,0) -> 0 | X66: =IF(P66="폐기물처리비",L66,0) -> 0 | Y66: =IF(P66="가설비",J66,0) -> 0 | Z66: =IF(P66="잡비제외분",F66,0) -> 0 | AA66: =IF(P66="사급자재대",L66,0) -> 0 | AB66: =IF(P66="관급자재대",L66,0) -> 0 | AC66: =IF(P66="석면분담금",L66,0) -> 0 | AD66: =IF(P66="임금채권부담금",L66,0) -> 0 | AE66: =IF(P66="안전관리비",L66,0) -> 0 | AF66: =IF(P66="품질관리비",L66,0) -> 0 | AG66: =IF(P66="작업부산물(철거해체)",L66,0) -> 0 | AH66: =IF(P66="어린이유해물질수수료",L66,0) -> 0 | AI66: =IF(P66="퇴직공제부금",L66,0) -> 0 | AJ66: =IF(P66="사용자항목8",L66,0) -> 0 | AK66: =IF(P66="사용자항목9",L66,0) -> 0 | AL66: =IF(P66="사용자항목10",L66,0) -> 0 | AM66: =IF(P66="사용자항목11",L66,0) -> 0 | AN66: =IF(P66="사용자항목12",L66,0) -> 0 | AO66: =IF(P66="사용자항목13",L66,0) -> 0 | AP66: =IF(P66="사용자항목14",L66,0) -> 0 | AQ66: =IF(P66="사용자항목15",L66,0) -> 0 | AR66: =IF(P66="사용자항목16",L66,0) -> 0 | AS66: =IF(P66="사용자항목17",L66,0) -> 0 | AT66: =IF(P66="사용자항목18",L66,0) -> 0 | AU66: =IF(P66="사용자항목19",L66,0) -> 0 | AY66: D
A67: 점자블록 설치 | B67: 외부 | C67: EA | D67: 29 | O67: ="" | P67: 기계경비 | Q67: 1 | R67: =IF(P67="기계경비",J67,0) -> 0 | S67: =IF(P67="운반비",L67,0) -> 0 | T67: =IF(P67="작업부산물",F67,0) -> 0 | U67: =IF(P67="관급",F67,0) -> 0 | V67: =IF(P67="외주비",J67,0) -> 0 | W67: =IF(P67="장비비",J67,0) -> 0 | X67: =IF(P67="폐기물처리비",L67,0) -> 0 | Y67: =IF(P67="가설비",J67,0) -> 0 | Z67: =IF(P67="잡비제외분",F67,0) -> 0 | AA67: =IF(P67="사급자재대",L67,0) -> 0 | AB67: =IF(P67="관급자재대",L67,0) -> 0 | AC67: =IF(P67="석면분담금",L67,0) -> 0 | AD67: =IF(P67="임금채권부담금",L67,0) -> 0 | AE67: =IF(P67="안전관리비",L67,0) -> 0 | AF67: =IF(P67="품질관리비",L67,0) -> 0 | AG67: =IF(P67="작업부산물(철거해체)",L67,0) -> 0 | AH67: =IF(P67="어린이유해물질수수료",L67,0) -> 0 | AI67: =IF(P67="퇴직공제부금",L67,0) -> 0 | AJ67: =IF(P67="사용자항목8",L67,0) -> 0 | AK67: =IF(P67="사용자항목9",L67,0) -> 0 | AL67: =IF(P67="사용자항목10",L67,0) -> 0 | AM67: =IF(P67="사용자항목11",L67,0) -> 0 | AN67: =IF(P67="사용자항목12",L67,0) -> 0 | AO67: =IF(P67="사용자항목13",L67,0) -> 0 | AP67: =IF(P67="사용자항목14",L67,0) -> 0 | AQ67: =IF(P67="사용자항목15",L67,0) -> 0 | AR67: =IF(P67="사용자항목16",L67,0) -> 0 | AS67: =IF(P67="사용자항목17",L67,0) -> 0 | AT67: =IF(P67="사용자항목18",L67,0) -> 0 | AU67: =IF(P67="사용자항목19",L67,0) -> 0 | AY67: D
A84: 합 계 | F84: =ROUNDDOWN(SUMIF(Q66:Q83,"1",F66:F83),0) -> 0 | H84: =ROUNDDOWN(SUMIF(Q66:Q83,"1",H66:H83),0) -> 0 | J84: =ROUNDDOWN(SUMIF(Q66:Q83,"1",J66:J83),0) -> 0 | L84: =F84+H84+J84 -> 0 | R84: =ROUNDDOWN(SUM(R66:R67),0) -> 0 | S84: =ROUNDDOWN(SUM(S66:S67),0) -> 0 | T84: =ROUNDDOWN(SUM(T66:T67),0) -> 0 | U84: =ROUNDDOWN(SUM(U66:U67),0) -> 0 | V84: =ROUNDDOWN(SUM(V66:V67),0) -> 0 | W84: =ROUNDDOWN(SUM(W66:W67),0) -> 0 | X84: =ROUNDDOWN(SUM(X66:X67),0) -> 0 | Y84: =ROUNDDOWN(SUM(Y66:Y67),0) -> 0 | ... AY84: =ROUNDDOWN(SUM(AY66:AY67),0) -> 0
A85: 05. 타일공사
A86: 화강석판석 포장 | B86: T30, 보도용 | C86: M2 | D86: 14 | O86: ="" | P86: 기계경비 | Q86: 1 | R86: =IF(P86="기계경비",J86,0) -> 0 | S86: =IF(P86="운반비",L86,0) -> 0 | T86: =IF(P86="작업부산물",F86,0) -> 0 | U86: =IF(P86="관급",F86,0) -> 0 | V86: =IF(P86="외주비",J86,0) -> 0 | W86: =IF(P86="장비비",J86,0) -> 0 | X86: =IF(P86="폐기물처리비",L86,0) -> 0 | Y86: =IF(P86="가설비",J86,0) -> 0 | Z86: =IF(P86="잡비제외분",F86,0) -> 0 | AA86: =IF(P86="사급자재대",L86,0) -> 0 | AB86: =IF(P86="관급자재대",L86,0) -> 0 | AC86: =IF(P86="석면분담금",L86,0) -> 0 | AD86: =IF(P86="임금채권부담금",L86,0) -> 0 | AE86: =IF(P86="안전관리비",L86,0) -> 0 | AF86: =IF(P86="품질관리비",L86,0) -> 0 | AG86: =IF(P86="작업부산물(철거해체)",L86,0) -> 0 | AH86: =IF(P86="어린이유해물질수수료",L86,0) -> 0 | AI86: =IF(P86="퇴직공제부금",L86,0) -> 0 | AJ86: =IF(P86="사용자항목8",L86,0) -> 0 | AK86: =IF(P86="사용자항목9",L86,0) -> 0 | AL86: =IF(P86="사용자항목10",L86,0) -> 0 | AM86: =IF(P86="사용자항목11",L86,0) -> 0 | AN86: =IF(P86="사용자항목12",L86,0) -> 0 | AO86: =IF(P86="사용자항목13",L86,0) -> 0 | AP86: =IF(P86="사용자항목14",L86,0) -> 0 | AQ86: =IF(P86="사용자항목15",L86,0) -> 0 | AR86: =IF(P86="사용자항목16",L86,0) -> 0 | AS86: =IF(P86="사용자항목17",L86,0) -> 0 | AT86: =IF(P86="사용자항목18",L86,0) -> 0 | AU86: =IF(P86="사용자항목19",L86,0) -> 0
A87: 포세린타일압착붙임(자재보유분사용) | B87: 바닥, 바탕50mm 포함 | C87: M2 | D87: 9 | O87: ="" | P87: 기계경비 | Q87: 1 | R87: =IF(P87="기계경비",J87,0) -> 0 | S87: =IF(P87="운반비",L87,0) -> 0 | T87: =IF(P87="작업부산물",F87,0) -> 0 | U87: =IF(P87="관급",F87,0) -> 0 | V87: =IF(P87="외주비",J87,0) -> 0 | W87: =IF(P87="장비비",J87,0) -> 0 | X87: =IF(P87="폐기물처리비",L87,0) -> 0 | Y87: =IF(P87="가설비",J87,0) -> 0 | Z87: =IF(P87="잡비제외분",F87,0) -> 0 | AA87: =IF(P87="사급자재대",L87,0) -> 0 | AB87: =IF(P87="관급자재대",L87,0) -> 0 | AC87: =IF(P87="석면분담금",L87,0) -> 0 | AD87: =IF(P87="임금채권부담금",L87,0) -> 0 | AE87: =IF(P87="안전관리비",L87,0) -> 0 | AF87: =IF(P87="품질관리비",L87,0) -> 0 | AG87: =IF(P87="작업부산물(철거해체)",L87,0) -> 0 | AH87: =IF(P87="어린이유해물질수수료",L87,0) -> 0 | AI87: =IF(P87="퇴직공제부금",L87,0) -> 0 | AJ87: =IF(P87="사용자항목8",L87,0) -> 0 | AK87: =IF(P87="사용자항목9",L87,0) -> 0 | AL87: =IF(P87="사용자항목10",L87,0) -> 0 | AM87: =IF(P87="사용자항목11",L87,0) -> 0 | AN87: =IF(P87="사용자항목12",L87,0) -> 0 | AO87: =IF(P87="사용자항목13",L87,0) -> 0 | AP87: =IF(P87="사용자항목14",L87,0) -> 0 | AQ87: =IF(P87="사용자항목15",L87,0) -> 0 | AR87: =IF(P87="사용자항목16",L87,0) -> 0 | AS87: =IF(P87="사용자항목17",L87,0) -> 0 | AT87: =IF(P87="사용자항목18",L87,0) -> 0 | AU87: =IF(P87="사용자항목19",L87,0) -> 0 | AY87: D
A104: 합 계 | F104: =ROUNDDOWN(SUMIF(Q86:Q103,"1",F86:F103),0) -> 0 | H104: =ROUNDDOWN(SUMIF(Q86:Q103,"1",H86:H103),0) -> 0 | J104: =ROUNDDOWN(SUMIF(Q86:Q103,"1",J86:J103),0) -> 0 | L104: =F104+H104+J104 -> 0 | R104: =ROUNDDOWN(SUM(R86:R87),0) -> 0 | S104: =ROUNDDOWN(SUM(S86:S87),0) -> 0 | T104: =ROUNDDOWN(SUM(T86:T87),0) -> 0 | U104: =ROUNDDOWN(SUM(U86:U87),0) -> 0 | V104: =ROUNDDOWN(SUM(V86:V87),0) -> 0 | W104: =ROUNDDOWN(SUM(W86:W87),0) -> 0 | X104: =ROUNDDOWN(SUM(X86:X87),0) -> 0 | Y104: =ROUNDDOWN(SUM(Y86:Y87),0) -> 0 | ... AY104: =ROUNDDOWN(SUM(AY86:AY87),0) -> 0
A105: 06. 도장공사
A106: 에폭시 코팅 | B106: 콘크리트 바닥면, 바탕만들기포함 | C106: M2 | D106: 16 | O106: ="" | P106: 기계경비 | Q106: 1 | R106: =IF(P106="기계경비",J106,0) -> 0 | S106: =IF(P106="운반비",L106,0) -> 0 | T106: =IF(P106="작업부산물",F106,0) -> 0 | U106: =IF(P106="관급",F106,0) -> 0 | V106: =IF(P106="외주비",J106,0) -> 0 | W106: =IF(P106="장비비",J106,0) -> 0 | X106: =IF(P106="폐기물처리비",L106,0) -> 0 | Y106: =IF(P106="가설비",J106,0) -> 0 | Z106: =IF(P106="잡비제외분",F106,0) -> 0 | AA106: =IF(P106="사급자재대",L106,0) -> 0 | AB106: =IF(P106="관급자재대",L106,0) -> 0 | AC106: =IF(P106="석면분담금",L106,0) -> 0 | AD106: =IF(P106="임금채권부담금",L106,0) -> 0 | AE106: =IF(P106="안전관리비",L106,0) -> 0 | AF106: =IF(P106="품질관리비",L106,0) -> 0 | AG106: =IF(P106="작업부산물(철거해체)",L106,0) -> 0 | AH106: =IF(P106="어린이유해물질수수료",L106,0) -> 0 | AI106: =IF(P106="퇴직공제부금",L106,0) -> 0 | AJ106: =IF(P106="사용자항목8",L106,0) -> 0 | AK106: =IF(P106="사용자항목9",L106,0) -> 0 | AL106: =IF(P106="사용자항목10",L106,0) -> 0 | AM106: =IF(P106="사용자항목11",L106,0) -> 0 | AN106: =IF(P106="사용자항목12",L106,0) -> 0 | AO106: =IF(P106="사용자항목13",L106,0) -> 0 | AP106: =IF(P106="사용자항목14",L106,0) -> 0 | AQ106: =IF(P106="사용자항목15",L106,0) -> 0 | AR106: =IF(P106="사용자항목16",L106,0) -> 0 | AS106: =IF(P106="사용자항목17",L106,0) -> 0 | AT106: =IF(P106="사용자항목18",L106,0) -> 0 | AU106: =IF(P106="사용자항목19",L106,0) -> 0
A107: 친환경수성페인트 붓칠 | B107: 내벽 2회, 친환경, CON'C면 | C107: M2 | D107: 48 | O107: ="" | P107: 기계경비 | Q107: 1 | R107: =IF(P107="기계경비",J107,0) -> 0 | S107: =IF(P107="운반비",L107,0) -> 0 | T107: =IF(P107="작업부산물",F107,0) -> 0 | U107: =IF(P107="관급",F107,0) -> 0 | V107: =IF(P107="외주비",J107,0) -> 0 | W107: =IF(P107="장비비",J107,0) -> 0 | X107: =IF(P107="폐기물처리비",L107,0) -> 0 | Y107: =IF(P107="가설비",J107,0) -> 0 | Z107: =IF(P107="잡비제외분",F107,0) -> 0 | AA107: =IF(P107="사급자재대",L107,0) -> 0 | AB107: =IF(P107="관급자재대",L107,0) -> 0 | AC107: =IF(P107="석면분담금",L107,0) -> 0 | AD107: =IF(P107="임금채권부담금",L107,0) -> 0 | AE107: =IF(P107="안전관리비",L107,0) -> 0 | AF107: =IF(P107="품질관리비",L107,0) -> 0 | AG107: =IF(P107="작업부산물(철거해체)",L107,0) -> 0 | AH107: =IF(P107="어린이유해물질수수료",L107,0) -> 0 | AI107: =IF(P107="퇴직공제부금",L107,0) -> 0 | AJ107: =IF(P107="사용자항목8",L107,0) -> 0 | AK107: =IF(P107="사용자항목9",L107,0) -> 0 | AL107: =IF(P107="사용자항목10",L107,0) -> 0 | AM107: =IF(P107="사용자항목11",L107,0) -> 0 | AN107: =IF(P107="사용자항목12",L107,0) -> 0 | AO107: =IF(P107="사용자항목13",L107,0) -> 0 | AP107: =IF(P107="사용자항목14",L107,0) -> 0 | AQ107: =IF(P107="사용자항목15",L107,0) -> 0 | AR107: =IF(P107="사용자항목16",L107,0) -> 0 | AS107: =IF(P107="사용자항목17",L107,0) -> 0 | AT107: =IF(P107="사용자항목18",L107,0) -> 0 | AU107: =IF(P107="사용자항목19",L107,0) -> 0
A108: 걸레받이용 페인트 | B108: 붓칠 2회 | C108: M2 | D108: 1 | O108: ="" | P108: 기계경비 | Q108: 1 | R108: =IF(P108="기계경비",J108,0) -> 0 | S108: =IF(P108="운반비",L108,0) -> 0 | T108: =IF(P108="작업부산물",F108,0) -> 0 | U108: =IF(P108="관급",F108,0) -> 0 | V108: =IF(P108="외주비",J108,0) -> 0 | W108: =IF(P108="장비비",J108,0) -> 0 | X108: =IF(P108="폐기물처리비",L108,0) -> 0 | Y108: =IF(P108="가설비",J108,0) -> 0 | Z108: =IF(P108="잡비제외분",F108,0) -> 0 | AA108: =IF(P108="사급자재대",L108,0) -> 0 | AB108: =IF(P108="관급자재대",L108,0) -> 0 | AC108: =IF(P108="석면분담금",L108,0) -> 0 | AD108: =IF(P108="임금채권부담금",L108,0) -> 0 | AE108: =IF(P108="안전관리비",L108,0) -> 0 | AF108: =IF(P108="품질관리비",L108,0) -> 0 | AG108: =IF(P108="작업부산물(철거해체)",L108,0) -> 0 | AH108: =IF(P108="어린이유해물질수수료",L108,0) -> 0 | AI108: =IF(P108="퇴직공제부금",L108,0) -> 0 | AJ108: =IF(P108="사용자항목8",L108,0) -> 0 | AK108: =IF(P108="사용자항목9",L108,0) -> 0 | AL108: =IF(P108="사용자항목10",L108,0) -> 0 | AM108: =IF(P108="사용자항목11",L108,0) -> 0 | AN108: =IF(P108="사용자항목12",L108,0) -> 0 | AO108: =IF(P108="사용자항목13",L108,0) -> 0 | AP108: =IF(P108="사용자항목14",L108,0) -> 0 | AQ108: =IF(P108="사용자항목15",L108,0) -> 0 | AR108: =IF(P108="사용자항목16",L108,0) -> 0 | AS108: =IF(P108="사용자항목17",L108,0) -> 0 | AT108: =IF(P108="사용자항목18",L108,0) -> 0 | AU108: =IF(P108="사용자항목19",L108,0) -> 0
A124: 합 계 | F124: =ROUNDDOWN(SUMIF(Q106:Q123,"1",F106:F123),0) -> 0 | H124: =ROUNDDOWN(SUMIF(Q106:Q123,"1",H106:H123),0) -> 0 | J124: =ROUNDDOWN(SUMIF(Q106:Q123,"1",J106:J123),0) -> 0 | L124: =F124+H124+J124 -> 0 | R124: =ROUNDDOWN(SUM(R106:R108),0) -> 0 | S124: =ROUNDDOWN(SUM(S106:S108),0) -> 0 | T124: =ROUNDDOWN(SUM(T106:T108),0) -> 0 | U124: =ROUNDDOWN(SUM(U106:U108),0) -> 0 | V124: =ROUNDDOWN(SUM(V106:V108),0) -> 0 | W124: =ROUNDDOWN(SUM(W106:W108),0) -> 0 | X124: =ROUNDDOWN(SUM(X106:X108),0) -> 0 | Y124: =ROUNDDOWN(SUM(Y106:Y108),0) -> 0 | ... AY124: =ROUNDDOWN(SUM(AY106:AY108),0) -> 0
A125: 07. 금속공사
A126: 알루미늄 스팬드럴 설치(30%) | B126: W=100, 신설자재(30%) | C126: M2 | D126: 11 | O126: ="" | P126: 기계경비 | Q126: 1 | R126: =IF(P126="기계경비",J126,0) -> 0 | S126: =IF(P126="운반비",L126,0) -> 0 | T126: =IF(P126="작업부산물",F126,0) -> 0 | U126: =IF(P126="관급",F126,0) -> 0 | V126: =IF(P126="외주비",J126,0) -> 0 | W126: =IF(P126="장비비",J126,0) -> 0 | X126: =IF(P126="폐기물처리비",L126,0) -> 0 | Y126: =IF(P126="가설비",J126,0) -> 0 | Z126: =IF(P126="잡비제외분",F126,0) -> 0 | AA126: =IF(P126="사급자재대",L126,0) -> 0 | AB126: =IF(P126="관급자재대",L126,0) -> 0 | AC126: =IF(P126="석면분담금",L126,0) -> 0 | AD126: =IF(P126="임금채권부담금",L126,0) -> 0 | AE126: =IF(P126="안전관리비",L126,0) -> 0 | AF126: =IF(P126="품질관리비",L126,0) -> 0 | AG126: =IF(P126="작업부산물(철거해체)",L126,0) -> 0 | AH126: =IF(P126="어린이유해물질수수료",L126,0) -> 0 | AI126: =IF(P126="퇴직공제부금",L126,0) -> 0 | AJ126: =IF(P126="사용자항목8",L126,0) -> 0 | AK126: =IF(P126="사용자항목9",L126,0) -> 0 | AL126: =IF(P126="사용자항목10",L126,0) -> 0 | AM126: =IF(P126="사용자항목11",L126,0) -> 0 | AN126: =IF(P126="사용자항목12",L126,0) -> 0 | AO126: =IF(P126="사용자항목13",L126,0) -> 0 | AP126: =IF(P126="사용자항목14",L126,0) -> 0 | AQ126: =IF(P126="사용자항목15",L126,0) -> 0 | AR126: =IF(P126="사용자항목16",L126,0) -> 0 | AS126: =IF(P126="사용자항목17",L126,0) -> 0 | AT126: =IF(P126="사용자항목18",L126,0) -> 0 | AU126: =IF(P126="사용자항목19",L126,0) -> 0 | AY126: D
A127: 알루미늄 스팬드럴 설치(70%) | B127: W=100, 자재재사용(70%) | C127: M2 | D127: 26 | O127: ="" | P127: 기계경비 | Q127: 1 | R127: =IF(P127="기계경비",J127,0) -> 0 | S127: =IF(P127="운반비",L127,0) -> 0 | T127: =IF(P127="작업부산물",F127,0) -> 0 | U127: =IF(P127="관급",F127,0) -> 0 | V127: =IF(P127="외주비",J127,0) -> 0 | W127: =IF(P127="장비비",J127,0) -> 0 | X127: =IF(P127="폐기물처리비",L127,0) -> 0 | Y127: =IF(P127="가설비",J127,0) -> 0 | Z127: =IF(P127="잡비제외분",F127,0) -> 0 | AA127: =IF(P127="사급자재대",L127,0) -> 0 | AB127: =IF(P127="관급자재대",L127,0) -> 0 | AC127: =IF(P127="석면분담금",L127,0) -> 0 | AD127: =IF(P127="임금채권부담금",L127,0) -> 0 | AE127: =IF(P127="안전관리비",L127,0) -> 0 | AF127: =IF(P127="품질관리비",L127,0) -> 0 | AG127: =IF(P127="작업부산물(철거해체)",L127,0) -> 0 | AH127: =IF(P127="어린이유해물질수수료",L127,0) -> 0 | AI127: =IF(P127="퇴직공제부금",L127,0) -> 0 | AJ127: =IF(P127="사용자항목8",L127,0) -> 0 | AK127: =IF(P127="사용자항목9",L127,0) -> 0 | AL127: =IF(P127="사용자항목10",L127,0) -> 0 | AM127: =IF(P127="사용자항목11",L127,0) -> 0 | AN127: =IF(P127="사용자항목12",L127,0) -> 0 | AO127: =IF(P127="사용자항목13",L127,0) -> 0 | AP127: =IF(P127="사용자항목14",L127,0) -> 0 | AQ127: =IF(P127="사용자항목15",L127,0) -> 0 | AR127: =IF(P127="사용자항목16",L127,0) -> 0 | AS127: =IF(P127="사용자항목17",L127,0) -> 0 | AT127: =IF(P127="사용자항목18",L127,0) -> 0 | AU127: =IF(P127="사용자항목19",L127,0) -> 0 | AY127: D
A128: 알루미늄 스팬드럴 설치(100%) | B128: W=100, 자재재사용(100%) | C128: M2 | D128: 23 | O128: ="" | P128: 기계경비 | Q128: 1 | R128: =IF(P128="기계경비",J128,0) -> 0 | S128: =IF(P128="운반비",L128,0) -> 0 | T128: =IF(P128="작업부산물",F128,0) -> 0 | U128: =IF(P128="관급",F128,0) -> 0 | V128: =IF(P128="외주비",J128,0) -> 0 | W128: =IF(P128="장비비",J128,0) -> 0 | X128: =IF(P128="폐기물처리비",L128,0) -> 0 | Y128: =IF(P128="가설비",J128,0) -> 0 | Z128: =IF(P128="잡비제외분",F128,0) -> 0 | AA128: =IF(P128="사급자재대",L128,0) -> 0 | AB128: =IF(P128="관급자재대",L128,0) -> 0 | AC128: =IF(P128="석면분담금",L128,0) -> 0 | AD128: =IF(P128="임금채권부담금",L128,0) -> 0 | AE128: =IF(P128="안전관리비",L128,0) -> 0 | AF128: =IF(P128="품질관리비",L128,0) -> 0 | AG128: =IF(P128="작업부산물(철거해체)",L128,0) -> 0 | AH128: =IF(P128="어린이유해물질수수료",L128,0) -> 0 | AI128: =IF(P128="퇴직공제부금",L128,0) -> 0 | AJ128: =IF(P128="사용자항목8",L128,0) -> 0 | AK128: =IF(P128="사용자항목9",L128,0) -> 0 | AL128: =IF(P128="사용자항목10",L128,0) -> 0 | AM128: =IF(P128="사용자항목11",L128,0) -> 0 | AN128: =IF(P128="사용자항목12",L128,0) -> 0 | AO128: =IF(P128="사용자항목13",L128,0) -> 0 | AP128: =IF(P128="사용자항목14",L128,0) -> 0 | AQ128: =IF(P128="사용자항목15",L128,0) -> 0 | AR128: =IF(P128="사용자항목16",L128,0) -> 0 | AS128: =IF(P128="사용자항목17",L128,0) -> 0 | AT128: =IF(P128="사용자항목18",L128,0) -> 0 | AU128: =IF(P128="사용자항목19",L128,0) -> 0 | AY128: D
A129: 알루미늄시트 | B129: 3T | C129: M2 | D129: 1 | O129: ="" | P129: 기계경비 | Q129: 1 | R129: =IF(P129="기계경비",J129,0) -> 0 | S129: =IF(P129="운반비",L129,0) -> 0 | T129: =IF(P129="작업부산물",F129,0) -> 0 | U129: =IF(P129="관급",F129,0) -> 0 | V129: =IF(P129="외주비",J129,0) -> 0 | W129: =IF(P129="장비비",J129,0) -> 0 | X129: =IF(P129="폐기물처리비",L129,0) -> 0 | Y129: =IF(P129="가설비",J129,0) -> 0 | Z129: =IF(P129="잡비제외분",F129,0) -> 0 | AA129: =IF(P129="사급자재대",L129,0) -> 0 | AB129: =IF(P129="관급자재대",L129,0) -> 0 | AC129: =IF(P129="석면분담금",L129,0) -> 0 | AD129: =IF(P129="임금채권부담금",L129,0) -> 0 | AE129: =IF(P129="안전관리비",L129,0) -> 0 | AF129: =IF(P129="품질관리비",L129,0) -> 0 | AG129: =IF(P129="작업부산물(철거해체)",L129,0) -> 0 | AH129: =IF(P129="어린이유해물질수수료",L129,0) -> 0 | AI129: =IF(P129="퇴직공제부금",L129,0) -> 0 | AJ129: =IF(P129="사용자항목8",L129,0) -> 0 | AK129: =IF(P129="사용자항목9",L129,0) -> 0 | AL129: =IF(P129="사용자항목10",L129,0) -> 0 | AM129: =IF(P129="사용자항목11",L129,0) -> 0 | AN129: =IF(P129="사용자항목12",L129,0) -> 0 | AO129: =IF(P129="사용자항목13",L129,0) -> 0 | AP129: =IF(P129="사용자항목14",L129,0) -> 0 | AQ129: =IF(P129="사용자항목15",L129,0) -> 0 | AR129: =IF(P129="사용자항목16",L129,0) -> 0 | AS129: =IF(P129="사용자항목17",L129,0) -> 0 | AT129: =IF(P129="사용자항목18",L129,0) -> 0 | AU129: =IF(P129="사용자항목19",L129,0) -> 0 | AY129: D
A130: 창호상부철물보강 | B130: 아연도각관 ㅁ-50*50 @450 | C130: M2 | D130: 17 | O130: ="" | P130: 기계경비 | Q130: 1 | R130: =IF(P130="기계경비",J130,0) -> 0 | S130: =IF(P130="운반비",L130,0) -> 0 | T130: =IF(P130="작업부산물",F130,0) -> 0 | U130: =IF(P130="관급",F130,0) -> 0 | V130: =IF(P130="외주비",J130,0) -> 0 | W130: =IF(P130="장비비",J130,0) -> 0 | X130: =IF(P130="폐기물처리비",L130,0) -> 0 | Y130: =IF(P130="가설비",J130,0) -> 0 | Z130: =IF(P130="잡비제외분",F130,0) -> 0 | AA130: =IF(P130="사급자재대",L130,0) -> 0 | AB130: =IF(P130="관급자재대",L130,0) -> 0 | AC130: =IF(P130="석면분담금",L130,0) -> 0 | AD130: =IF(P130="임금채권부담금",L130,0) -> 0 | AE130: =IF(P130="안전관리비",L130,0) -> 0 | AF130: =IF(P130="품질관리비",L130,0) -> 0 | AG130: =IF(P130="작업부산물(철거해체)",L130,0) -> 0 | AH130: =IF(P130="어린이유해물질수수료",L130,0) -> 0 | AI130: =IF(P130="퇴직공제부금",L130,0) -> 0 | AJ130: =IF(P130="사용자항목8",L130,0) -> 0 | AK130: =IF(P130="사용자항목9",L130,0) -> 0 | AL130: =IF(P130="사용자항목10",L130,0) -> 0 | AM130: =IF(P130="사용자항목11",L130,0) -> 0 | AN130: =IF(P130="사용자항목12",L130,0) -> 0 | AO130: =IF(P130="사용자항목13",L130,0) -> 0 | AP130: =IF(P130="사용자항목14",L130,0) -> 0 | AQ130: =IF(P130="사용자항목15",L130,0) -> 0 | AR130: =IF(P130="사용자항목16",L130,0) -> 0 | AS130: =IF(P130="사용자항목17",L130,0) -> 0 | AT130: =IF(P130="사용자항목18",L130,0) -> 0 | AU130: =IF(P130="사용자항목19",L130,0) -> 0 | AY130: D
A131: 철강설 | B131: 철강설, 알루미늄, 작업설부산물 | C131: kg | D131: 97 | O131: ="01" -> 01 | P131: 기계경비 | Q131: 1 | R131: =IF(P131="기계경비",J131,0) -> 0 | S131: =IF(P131="운반비",L131,0) -> 0 | T131: =IF(P131="작업부산물",F131,0) -> 0 | U131: =IF(P131="관급",F131,0) -> 0 | V131: =IF(P131="외주비",J131,0) -> 0 | W131: =IF(P131="장비비",J131,0) -> 0 | X131: =IF(P131="폐기물처리비",L131,0) -> 0 | Y131: =IF(P131="가설비",J131,0) -> 0 | Z131: =IF(P131="잡비제외분",F131,0) -> 0 | AA131: =IF(P131="사급자재대",L131,0) -> 0 | AB131: =IF(P131="관급자재대",L131,0) -> 0 | AC131: =IF(P131="석면분담금",L131,0) -> 0 | AD131: =IF(P131="임금채권부담금",L131,0) -> 0 | AE131: =IF(P131="안전관리비",L131,0) -> 0 | AF131: =IF(P131="품질관리비",L131,0) -> 0 | AG131: =IF(P131="작업부산물(철거해체)",L131,0) -> 0 | AH131: =IF(P131="어린이유해물질수수료",L131,0) -> 0 | AI131: =IF(P131="퇴직공제부금",L131,0) -> 0 | AJ131: =IF(P131="사용자항목8",L131,0) -> 0 | AK131: =IF(P131="사용자항목9",L131,0) -> 0 | AL131: =IF(P131="사용자항목10",L131,0) -> 0 | AM131: =IF(P131="사용자항목11",L131,0) -> 0 | AN131: =IF(P131="사용자항목12",L131,0) -> 0 | AO131: =IF(P131="사용자항목13",L131,0) -> 0 | AP131: =IF(P131="사용자항목14",L131,0) -> 0 | AQ131: =IF(P131="사용자항목15",L131,0) -> 0 | AR131: =IF(P131="사용자항목16",L131,0) -> 0 | AS131: =IF(P131="사용자항목17",L131,0) -> 0 | AT131: =IF(P131="사용자항목18",L131,0) -> 0 | AU131: =IF(P131="사용자항목19",L131,0) -> 0
A132: 철강설 | B132: 철강설, 고철, 작업설부산물 | C132: kg | D132: 555 | O132: ="01" -> 01 | P132: 기계경비 | Q132: 1 | R132: =IF(P132="기계경비",J132,0) -> 0 | S132: =IF(P132="운반비",L132,0) -> 0 | T132: =IF(P132="작업부산물",F132,0) -> 0 | U132: =IF(P132="관급",F132,0) -> 0 | V132: =IF(P132="외주비",J132,0) -> 0 | W132: =IF(P132="장비비",J132,0) -> 0 | X132: =IF(P132="폐기물처리비",L132,0) -> 0 | Y132: =IF(P132="가설비",J132,0) -> 0 | Z132: =IF(P132="잡비제외분",F132,0) -> 0 | AA132: =IF(P132="사급자재대",L132,0) -> 0 | AB132: =IF(P132="관급자재대",L132,0) -> 0 | AC132: =IF(P132="석면분담금",L132,0) -> 0 | AD132: =IF(P132="임금채권부담금",L132,0) -> 0 | AE132: =IF(P132="안전관리비",L132,0) -> 0 | AF132: =IF(P132="품질관리비",L132,0) -> 0 | AG132: =IF(P132="작업부산물(철거해체)",L132,0) -> 0 | AH132: =IF(P132="어린이유해물질수수료",L132,0) -> 0 | AI132: =IF(P132="퇴직공제부금",L132,0) -> 0 | AJ132: =IF(P132="사용자항목8",L132,0) -> 0 | AK132: =IF(P132="사용자항목9",L132,0) -> 0 | AL132: =IF(P132="사용자항목10",L132,0) -> 0 | AM132: =IF(P132="사용자항목11",L132,0) -> 0 | AN132: =IF(P132="사용자항목12",L132,0) -> 0 | AO132: =IF(P132="사용자항목13",L132,0) -> 0 | AP132: =IF(P132="사용자항목14",L132,0) -> 0 | AQ132: =IF(P132="사용자항목15",L132,0) -> 0 | AR132: =IF(P132="사용자항목16",L132,0) -> 0 | AS132: =IF(P132="사용자항목17",L132,0) -> 0 | AT132: =IF(P132="사용자항목18",L132,0) -> 0 | AU132: =IF(P132="사용자항목19",L132,0) -> 0 | AY132: D
A133: 철합금설 | B133: 철합금설, 스텐레스.작업설부산물 | C133: kg | D133: 192 | O133: ="01" -> 01 | P133: 기계경비 | Q133: 1 | R133: =IF(P133="기계경비",J133,0) -> 0 | S133: =IF(P133="운반비",L133,0) -> 0 | T133: =IF(P133="작업부산물",F133,0) -> 0 | U133: =IF(P133="관급",F133,0) -> 0 | V133: =IF(P133="외주비",J133,0) -> 0 | W133: =IF(P133="장비비",J133,0) -> 0 | X133: =IF(P133="폐기물처리비",L133,0) -> 0 | Y133: =IF(P133="가설비",J133,0) -> 0 | Z133: =IF(P133="잡비제외분",F133,0) -> 0 | AA133: =IF(P133="사급자재대",L133,0) -> 0 | AB133: =IF(P133="관급자재대",L133,0) -> 0 | AC133: =IF(P133="석면분담금",L133,0) -> 0 | AD133: =IF(P133="임금채권부담금",L133,0) -> 0 | AE133: =IF(P133="안전관리비",L133,0) -> 0 | AF133: =IF(P133="품질관리비",L133,0) -> 0 | AG133: =IF(P133="작업부산물(철거해체)",L133,0) -> 0 | AH133: =IF(P133="어린이유해물질수수료",L133,0) -> 0 | AI133: =IF(P133="퇴직공제부금",L133,0) -> 0 | AJ133: =IF(P133="사용자항목8",L133,0) -> 0 | AK133: =IF(P133="사용자항목9",L133,0) -> 0 | AL133: =IF(P133="사용자항목10",L133,0) -> 0 | AM133: =IF(P133="사용자항목11",L133,0) -> 0 | AN133: =IF(P133="사용자항목12",L133,0) -> 0 | AO133: =IF(P133="사용자항목13",L133,0) -> 0 | AP133: =IF(P133="사용자항목14",L133,0) -> 0 | AQ133: =IF(P133="사용자항목15",L133,0) -> 0 | AR133: =IF(P133="사용자항목16",L133,0) -> 0 | AS133: =IF(P133="사용자항목17",L133,0) -> 0 | AT133: =IF(P133="사용자항목18",L133,0) -> 0 | AU133: =IF(P133="사용자항목19",L133,0) -> 0
A144: 합 계 | F144: =ROUNDDOWN(SUMIF(Q126:Q143,"1",F126:F143),0) -> 0 | H144: =ROUNDDOWN(SUMIF(Q126:Q143,"1",H126:H143),0) -> 0 | J144: =ROUNDDOWN(SUMIF(Q126:Q143,"1",J126:J143),0) -> 0 | L144: =F144+H144+J144 -> 0 | R144: =ROUNDDOWN(SUM(R126:R133),0) -> 0 | S144: =ROUNDDOWN(SUM(S126:S133),0) -> 0 | T144: =ROUNDDOWN(SUM(T126:T133),0) -> 0 | U144: =ROUNDDOWN(SUM(U126:U133),0) -> 0 | V144: =ROUNDDOWN(SUM(V126:V133),0) -> 0 | W144: =ROUNDDOWN(SUM(W126:W133),0) -> 0 | X144: =ROUNDDOWN(SUM(X126:X133),0) -> 0 | Y144: =ROUNDDOWN(SUM(Y126:Y133),0) -> 0 | ... AY144: =ROUNDDOWN(SUM(AY126:AY133),0) -> 0
A145: 08. 창호공사
A146: SSFD 01 | B146: 4.600 x 2.500 | C146: EA | D146: 1 | O146: ="" | P146: 기계경비 | Q146: 1 | R146: =IF(P146="기계경비",J146,0) -> 0 | S146: =IF(P146="운반비",L146,0) -> 0 | T146: =IF(P146="작업부산물",F146,0) -> 0 | U146: =IF(P146="관급",F146,0) -> 0 | V146: =IF(P146="외주비",J146,0) -> 0 | W146: =IF(P146="장비비",J146,0) -> 0 | X146: =IF(P146="폐기물처리비",L146,0) -> 0 | Y146: =IF(P146="가설비",J146,0) -> 0 | Z146: =IF(P146="잡비제외분",F146,0) -> 0 | AA146: =IF(P146="사급자재대",L146,0) -> 0 | AB146: =IF(P146="관급자재대",L146,0) -> 0 | AC146: =IF(P146="석면분담금",L146,0) -> 0 | AD146: =IF(P146="임금채권부담금",L146,0) -> 0 | AE146: =IF(P146="안전관리비",L146,0) -> 0 | AF146: =IF(P146="품질관리비",L146,0) -> 0 | AG146: =IF(P146="작업부산물(철거해체)",L146,0) -> 0 | AH146: =IF(P146="어린이유해물질수수료",L146,0) -> 0 | AI146: =IF(P146="퇴직공제부금",L146,0) -> 0 | AJ146: =IF(P146="사용자항목8",L146,0) -> 0 | AK146: =IF(P146="사용자항목9",L146,0) -> 0 | AL146: =IF(P146="사용자항목10",L146,0) -> 0 | AM146: =IF(P146="사용자항목11",L146,0) -> 0 | AN146: =IF(P146="사용자항목12",L146,0) -> 0 | AO146: =IF(P146="사용자항목13",L146,0) -> 0 | AP146: =IF(P146="사용자항목14",L146,0) -> 0 | AQ146: =IF(P146="사용자항목15",L146,0) -> 0 | AR146: =IF(P146="사용자항목16",L146,0) -> 0 | AS146: =IF(P146="사용자항목17",L146,0) -> 0 | AT146: =IF(P146="사용자항목18",L146,0) -> 0 | AU146: =IF(P146="사용자항목19",L146,0) -> 0 | AY146: D
A147: SSFD 02 | B147: 2.400 x 2.500 | C147: EA | D147: 1 | O147: ="" | P147: 기계경비 | Q147: 1 | R147: =IF(P147="기계경비",J147,0) -> 0 | S147: =IF(P147="운반비",L147,0) -> 0 | T147: =IF(P147="작업부산물",F147,0) -> 0 | U147: =IF(P147="관급",F147,0) -> 0 | V147: =IF(P147="외주비",J147,0) -> 0 | W147: =IF(P147="장비비",J147,0) -> 0 | X147: =IF(P147="폐기물처리비",L147,0) -> 0 | Y147: =IF(P147="가설비",J147,0) -> 0 | Z147: =IF(P147="잡비제외분",F147,0) -> 0 | AA147: =IF(P147="사급자재대",L147,0) -> 0 | AB147: =IF(P147="관급자재대",L147,0) -> 0 | AC147: =IF(P147="석면분담금",L147,0) -> 0 | AD147: =IF(P147="임금채권부담금",L147,0) -> 0 | AE147: =IF(P147="안전관리비",L147,0) -> 0 | AF147: =IF(P147="품질관리비",L147,0) -> 0 | AG147: =IF(P147="작업부산물(철거해체)",L147,0) -> 0 | AH147: =IF(P147="어린이유해물질수수료",L147,0) -> 0 | AI147: =IF(P147="퇴직공제부금",L147,0) -> 0 | AJ147: =IF(P147="사용자항목8",L147,0) -> 0 | AK147: =IF(P147="사용자항목9",L147,0) -> 0 | AL147: =IF(P147="사용자항목10",L147,0) -> 0 | AM147: =IF(P147="사용자항목11",L147,0) -> 0 | AN147: =IF(P147="사용자항목12",L147,0) -> 0 | AO147: =IF(P147="사용자항목13",L147,0) -> 0 | AP147: =IF(P147="사용자항목14",L147,0) -> 0 | AQ147: =IF(P147="사용자항목15",L147,0) -> 0 | AR147: =IF(P147="사용자항목16",L147,0) -> 0 | AS147: =IF(P147="사용자항목17",L147,0) -> 0 | AT147: =IF(P147="사용자항목18",L147,0) -> 0 | AU147: =IF(P147="사용자항목19",L147,0) -> 0 | AY147: D
A148: SSFD 03 | B148: 1.100 x 2.500 | C148: EA | D148: 2 | O148: ="" | P148: 기계경비 | Q148: 1 | R148: =IF(P148="기계경비",J148,0) -> 0 | S148: =IF(P148="운반비",L148,0) -> 0 | T148: =IF(P148="작업부산물",F148,0) -> 0 | U148: =IF(P148="관급",F148,0) -> 0 | V148: =IF(P148="외주비",J148,0) -> 0 | W148: =IF(P148="장비비",J148,0) -> 0 | X148: =IF(P148="폐기물처리비",L148,0) -> 0 | Y148: =IF(P148="가설비",J148,0) -> 0 | Z148: =IF(P148="잡비제외분",F148,0) -> 0 | AA148: =IF(P148="사급자재대",L148,0) -> 0 | AB148: =IF(P148="관급자재대",L148,0) -> 0 | AC148: =IF(P148="석면분담금",L148,0) -> 0 | AD148: =IF(P148="임금채권부담금",L148,0) -> 0 | AE148: =IF(P148="안전관리비",L148,0) -> 0 | AF148: =IF(P148="품질관리비",L148,0) -> 0 | AG148: =IF(P148="작업부산물(철거해체)",L148,0) -> 0 | AH148: =IF(P148="어린이유해물질수수료",L148,0) -> 0 | AI148: =IF(P148="퇴직공제부금",L148,0) -> 0 | AJ148: =IF(P148="사용자항목8",L148,0) -> 0 | AK148: =IF(P148="사용자항목9",L148,0) -> 0 | AL148: =IF(P148="사용자항목10",L148,0) -> 0 | AM148: =IF(P148="사용자항목11",L148,0) -> 0 | AN148: =IF(P148="사용자항목12",L148,0) -> 0 | AO148: =IF(P148="사용자항목13",L148,0) -> 0 | AP148: =IF(P148="사용자항목14",L148,0) -> 0 | AQ148: =IF(P148="사용자항목15",L148,0) -> 0 | AR148: =IF(P148="사용자항목16",L148,0) -> 0 | AS148: =IF(P148="사용자항목17",L148,0) -> 0 | AT148: =IF(P148="사용자항목18",L148,0) -> 0 | AU148: =IF(P148="사용자항목19",L148,0) -> 0 | AY148: D
A149: SSFD 04 | B149: 2.400 x 2.500 | C149: EA | D149: 1 | O149: ="" | P149: 기계경비 | Q149: 1 | R149: =IF(P149="기계경비",J149,0) -> 0 | S149: =IF(P149="운반비",L149,0) -> 0 | T149: =IF(P149="작업부산물",F149,0) -> 0 | U149: =IF(P149="관급",F149,0) -> 0 | V149: =IF(P149="외주비",J149,0) -> 0 | W149: =IF(P149="장비비",J149,0) -> 0 | X149: =IF(P149="폐기물처리비",L149,0) -> 0 | Y149: =IF(P149="가설비",J149,0) -> 0 | Z149: =IF(P149="잡비제외분",F149,0) -> 0 | AA149: =IF(P149="사급자재대",L149,0) -> 0 | AB149: =IF(P149="관급자재대",L149,0) -> 0 | AC149: =IF(P149="석면분담금",L149,0) -> 0 | AD149: =IF(P149="임금채권부담금",L149,0) -> 0 | AE149: =IF(P149="안전관리비",L149,0) -> 0 | AF149: =IF(P149="품질관리비",L149,0) -> 0 | AG149: =IF(P149="작업부산물(철거해체)",L149,0) -> 0 | AH149: =IF(P149="어린이유해물질수수료",L149,0) -> 0 | AI149: =IF(P149="퇴직공제부금",L149,0) -> 0 | AJ149: =IF(P149="사용자항목8",L149,0) -> 0 | AK149: =IF(P149="사용자항목9",L149,0) -> 0 | AL149: =IF(P149="사용자항목10",L149,0) -> 0 | AM149: =IF(P149="사용자항목11",L149,0) -> 0 | AN149: =IF(P149="사용자항목12",L149,0) -> 0 | AO149: =IF(P149="사용자항목13",L149,0) -> 0 | AP149: =IF(P149="사용자항목14",L149,0) -> 0 | AQ149: =IF(P149="사용자항목15",L149,0) -> 0 | AR149: =IF(P149="사용자항목16",L149,0) -> 0 | AS149: =IF(P149="사용자항목17",L149,0) -> 0 | AT149: =IF(P149="사용자항목18",L149,0) -> 0 | AU149: =IF(P149="사용자항목19",L149,0) -> 0 | AY149: D
A150: FSPD-02 | B150: 1.100 x 2.100 | C150: EA | D150: 2 | O150: ="" | P150: 기계경비 | Q150: 1 | R150: =IF(P150="기계경비",J150,0) -> 0 | S150: =IF(P150="운반비",L150,0) -> 0 | T150: =IF(P150="작업부산물",F150,0) -> 0 | U150: =IF(P150="관급",F150,0) -> 0 | V150: =IF(P150="외주비",J150,0) -> 0 | W150: =IF(P150="장비비",J150,0) -> 0 | X150: =IF(P150="폐기물처리비",L150,0) -> 0 | Y150: =IF(P150="가설비",J150,0) -> 0 | Z150: =IF(P150="잡비제외분",F150,0) -> 0 | AA150: =IF(P150="사급자재대",L150,0) -> 0 | AB150: =IF(P150="관급자재대",L150,0) -> 0 | AC150: =IF(P150="석면분담금",L150,0) -> 0 | AD150: =IF(P150="임금채권부담금",L150,0) -> 0 | AE150: =IF(P150="안전관리비",L150,0) -> 0 | AF150: =IF(P150="품질관리비",L150,0) -> 0 | AG150: =IF(P150="작업부산물(철거해체)",L150,0) -> 0 | AH150: =IF(P150="어린이유해물질수수료",L150,0) -> 0 | AI150: =IF(P150="퇴직공제부금",L150,0) -> 0 | AJ150: =IF(P150="사용자항목8",L150,0) -> 0 | AK150: =IF(P150="사용자항목9",L150,0) -> 0 | AL150: =IF(P150="사용자항목10",L150,0) -> 0 | AM150: =IF(P150="사용자항목11",L150,0) -> 0 | AN150: =IF(P150="사용자항목12",L150,0) -> 0 | AO150: =IF(P150="사용자항목13",L150,0) -> 0 | AP150: =IF(P150="사용자항목14",L150,0) -> 0 | AQ150: =IF(P150="사용자항목15",L150,0) -> 0 | AR150: =IF(P150="사용자항목16",L150,0) -> 0 | AS150: =IF(P150="사용자항목17",L150,0) -> 0 | AT150: =IF(P150="사용자항목18",L150,0) -> 0 | AU150: =IF(P150="사용자항목19",L150,0) -> 0 | AY150: D
A151: FSPD-05 | B151: 2.000 x 2.100 | C151: EA | D151: 3 | O151: ="" | P151: 기계경비 | Q151: 1 | R151: =IF(P151="기계경비",J151,0) -> 0 | S151: =IF(P151="운반비",L151,0) -> 0 | T151: =IF(P151="작업부산물",F151,0) -> 0 | U151: =IF(P151="관급",F151,0) -> 0 | V151: =IF(P151="외주비",J151,0) -> 0 | W151: =IF(P151="장비비",J151,0) -> 0 | X151: =IF(P151="폐기물처리비",L151,0) -> 0 | Y151: =IF(P151="가설비",J151,0) -> 0 | Z151: =IF(P151="잡비제외분",F151,0) -> 0 | AA151: =IF(P151="사급자재대",L151,0) -> 0 | AB151: =IF(P151="관급자재대",L151,0) -> 0 | AC151: =IF(P151="석면분담금",L151,0) -> 0 | AD151: =IF(P151="임금채권부담금",L151,0) -> 0 | AE151: =IF(P151="안전관리비",L151,0) -> 0 | AF151: =IF(P151="품질관리비",L151,0) -> 0 | AG151: =IF(P151="작업부산물(철거해체)",L151,0) -> 0 | AH151: =IF(P151="어린이유해물질수수료",L151,0) -> 0 | AI151: =IF(P151="퇴직공제부금",L151,0) -> 0 | AJ151: =IF(P151="사용자항목8",L151,0) -> 0 | AK151: =IF(P151="사용자항목9",L151,0) -> 0 | AL151: =IF(P151="사용자항목10",L151,0) -> 0 | AM151: =IF(P151="사용자항목11",L151,0) -> 0 | AN151: =IF(P151="사용자항목12",L151,0) -> 0 | AO151: =IF(P151="사용자항목13",L151,0) -> 0 | AP151: =IF(P151="사용자항목14",L151,0) -> 0 | AQ151: =IF(P151="사용자항목15",L151,0) -> 0 | AR151: =IF(P151="사용자항목16",L151,0) -> 0 | AS151: =IF(P151="사용자항목17",L151,0) -> 0 | AT151: =IF(P151="사용자항목18",L151,0) -> 0 | AU151: =IF(P151="사용자항목19",L151,0) -> 0 | AY151: D
A152: FSPD-08 | B152: 2.400 x 2.100 | C152: EA | D152: 1 | O152: ="" | P152: 기계경비 | Q152: 1 | R152: =IF(P152="기계경비",J152,0) -> 0 | S152: =IF(P152="운반비",L152,0) -> 0 | T152: =IF(P152="작업부산물",F152,0) -> 0 | U152: =IF(P152="관급",F152,0) -> 0 | V152: =IF(P152="외주비",J152,0) -> 0 | W152: =IF(P152="장비비",J152,0) -> 0 | X152: =IF(P152="폐기물처리비",L152,0) -> 0 | Y152: =IF(P152="가설비",J152,0) -> 0 | Z152: =IF(P152="잡비제외분",F152,0) -> 0 | AA152: =IF(P152="사급자재대",L152,0) -> 0 | AB152: =IF(P152="관급자재대",L152,0) -> 0 | AC152: =IF(P152="석면분담금",L152,0) -> 0 | AD152: =IF(P152="임금채권부담금",L152,0) -> 0 | AE152: =IF(P152="안전관리비",L152,0) -> 0 | AF152: =IF(P152="품질관리비",L152,0) -> 0 | AG152: =IF(P152="작업부산물(철거해체)",L152,0) -> 0 | AH152: =IF(P152="어린이유해물질수수료",L152,0) -> 0 | AI152: =IF(P152="퇴직공제부금",L152,0) -> 0 | AJ152: =IF(P152="사용자항목8",L152,0) -> 0 | AK152: =IF(P152="사용자항목9",L152,0) -> 0 | AL152: =IF(P152="사용자항목10",L152,0) -> 0 | AM152: =IF(P152="사용자항목11",L152,0) -> 0 | AN152: =IF(P152="사용자항목12",L152,0) -> 0 | AO152: =IF(P152="사용자항목13",L152,0) -> 0 | AP152: =IF(P152="사용자항목14",L152,0) -> 0 | AQ152: =IF(P152="사용자항목15",L152,0) -> 0 | AR152: =IF(P152="사용자항목16",L152,0) -> 0 | AS152: =IF(P152="사용자항목17",L152,0) -> 0 | AT152: =IF(P152="사용자항목18",L152,0) -> 0 | AU152: =IF(P152="사용자항목19",L152,0) -> 0 | AY152: D
A153: SPD-02 | B153: 1.100 x 2.100 | C153: EA | D153: 5 | O153: ="" | P153: 기계경비 | Q153: 1 | R153: =IF(P153="기계경비",J153,0) -> 0 | S153: =IF(P153="운반비",L153,0) -> 0 | T153: =IF(P153="작업부산물",F153,0) -> 0 | U153: =IF(P153="관급",F153,0) -> 0 | V153: =IF(P153="외주비",J153,0) -> 0 | W153: =IF(P153="장비비",J153,0) -> 0 | X153: =IF(P153="폐기물처리비",L153,0) -> 0 | Y153: =IF(P153="가설비",J153,0) -> 0 | Z153: =IF(P153="잡비제외분",F153,0) -> 0 | AA153: =IF(P153="사급자재대",L153,0) -> 0 | AB153: =IF(P153="관급자재대",L153,0) -> 0 | AC153: =IF(P153="석면분담금",L153,0) -> 0 | AD153: =IF(P153="임금채권부담금",L153,0) -> 0 | AE153: =IF(P153="안전관리비",L153,0) -> 0 | AF153: =IF(P153="품질관리비",L153,0) -> 0 | AG153: =IF(P153="작업부산물(철거해체)",L153,0) -> 0 | AH153: =IF(P153="어린이유해물질수수료",L153,0) -> 0 | AI153: =IF(P153="퇴직공제부금",L153,0) -> 0 | AJ153: =IF(P153="사용자항목8",L153,0) -> 0 | AK153: =IF(P153="사용자항목9",L153,0) -> 0 | AL153: =IF(P153="사용자항목10",L153,0) -> 0 | AM153: =IF(P153="사용자항목11",L153,0) -> 0 | AN153: =IF(P153="사용자항목12",L153,0) -> 0 | AO153: =IF(P153="사용자항목13",L153,0) -> 0 | AP153: =IF(P153="사용자항목14",L153,0) -> 0 | AQ153: =IF(P153="사용자항목15",L153,0) -> 0 | AR153: =IF(P153="사용자항목16",L153,0) -> 0 | AS153: =IF(P153="사용자항목17",L153,0) -> 0 | AT153: =IF(P153="사용자항목18",L153,0) -> 0 | AU153: =IF(P153="사용자항목19",L153,0) -> 0 | AY153: D
A154: SD 07 | B154: 1.800 x 2.100 | C154: EA | D154: 2 | O154: ="" | P154: 기계경비 | Q154: 1 | R154: =IF(P154="기계경비",J154,0) -> 0 | S154: =IF(P154="운반비",L154,0) -> 0 | T154: =IF(P154="작업부산물",F154,0) -> 0 | U154: =IF(P154="관급",F154,0) -> 0 | V154: =IF(P154="외주비",J154,0) -> 0 | W154: =IF(P154="장비비",J154,0) -> 0 | X154: =IF(P154="폐기물처리비",L154,0) -> 0 | Y154: =IF(P154="가설비",J154,0) -> 0 | Z154: =IF(P154="잡비제외분",F154,0) -> 0 | AA154: =IF(P154="사급자재대",L154,0) -> 0 | AB154: =IF(P154="관급자재대",L154,0) -> 0 | AC154: =IF(P154="석면분담금",L154,0) -> 0 | AD154: =IF(P154="임금채권부담금",L154,0) -> 0 | AE154: =IF(P154="안전관리비",L154,0) -> 0 | AF154: =IF(P154="품질관리비",L154,0) -> 0 | AG154: =IF(P154="작업부산물(철거해체)",L154,0) -> 0 | AH154: =IF(P154="어린이유해물질수수료",L154,0) -> 0 | AI154: =IF(P154="퇴직공제부금",L154,0) -> 0 | AJ154: =IF(P154="사용자항목8",L154,0) -> 0 | AK154: =IF(P154="사용자항목9",L154,0) -> 0 | AL154: =IF(P154="사용자항목10",L154,0) -> 0 | AM154: =IF(P154="사용자항목11",L154,0) -> 0 | AN154: =IF(P154="사용자항목12",L154,0) -> 0 | AO154: =IF(P154="사용자항목13",L154,0) -> 0 | AP154: =IF(P154="사용자항목14",L154,0) -> 0 | AQ154: =IF(P154="사용자항목15",L154,0) -> 0 | AR154: =IF(P154="사용자항목16",L154,0) -> 0 | AS154: =IF(P154="사용자항목17",L154,0) -> 0 | AT154: =IF(P154="사용자항목18",L154,0) -> 0 | AU154: =IF(P154="사용자항목19",L154,0) -> 0 | AY154: D
A155: 자동문 설치 | B155: 미닫이 | C155: 개소 | D155: 2 | O155: ="" | P155: 기계경비 | Q155: 1 | R155: =IF(P155="기계경비",J155,0) -> 0 | S155: =IF(P155="운반비",L155,0) -> 0 | T155: =IF(P155="작업부산물",F155,0) -> 0 | U155: =IF(P155="관급",F155,0) -> 0 | V155: =IF(P155="외주비",J155,0) -> 0 | W155: =IF(P155="장비비",J155,0) -> 0 | X155: =IF(P155="폐기물처리비",L155,0) -> 0 | Y155: =IF(P155="가설비",J155,0) -> 0 | Z155: =IF(P155="잡비제외분",F155,0) -> 0 | AA155: =IF(P155="사급자재대",L155,0) -> 0 | AB155: =IF(P155="관급자재대",L155,0) -> 0 | AC155: =IF(P155="석면분담금",L155,0) -> 0 | AD155: =IF(P155="임금채권부담금",L155,0) -> 0 | AE155: =IF(P155="안전관리비",L155,0) -> 0 | AF155: =IF(P155="품질관리비",L155,0) -> 0 | AG155: =IF(P155="작업부산물(철거해체)",L155,0) -> 0 | AH155: =IF(P155="어린이유해물질수수료",L155,0) -> 0 | AI155: =IF(P155="퇴직공제부금",L155,0) -> 0 | AJ155: =IF(P155="사용자항목8",L155,0) -> 0 | AK155: =IF(P155="사용자항목9",L155,0) -> 0 | AL155: =IF(P155="사용자항목10",L155,0) -> 0 | AM155: =IF(P155="사용자항목11",L155,0) -> 0 | AN155: =IF(P155="사용자항목12",L155,0) -> 0 | AO155: =IF(P155="사용자항목13",L155,0) -> 0 | AP155: =IF(P155="사용자항목14",L155,0) -> 0 | AQ155: =IF(P155="사용자항목15",L155,0) -> 0 | AR155: =IF(P155="사용자항목16",L155,0) -> 0 | AS155: =IF(P155="사용자항목17",L155,0) -> 0 | AT155: =IF(P155="사용자항목18",L155,0) -> 0 | AU155: =IF(P155="사용자항목19",L155,0) -> 0
A156: 유리문 설치 | C156: 개소 | D156: 4 | O156: ="" | P156: 기계경비 | Q156: 1 | R156: =IF(P156="기계경비",J156,0) -> 0 | S156: =IF(P156="운반비",L156,0) -> 0 | T156: =IF(P156="작업부산물",F156,0) -> 0 | U156: =IF(P156="관급",F156,0) -> 0 | V156: =IF(P156="외주비",J156,0) -> 0 | W156: =IF(P156="장비비",J156,0) -> 0 | X156: =IF(P156="폐기물처리비",L156,0) -> 0 | Y156: =IF(P156="가설비",J156,0) -> 0 | Z156: =IF(P156="잡비제외분",F156,0) -> 0 | AA156: =IF(P156="사급자재대",L156,0) -> 0 | AB156: =IF(P156="관급자재대",L156,0) -> 0 | AC156: =IF(P156="석면분담금",L156,0) -> 0 | AD156: =IF(P156="임금채권부담금",L156,0) -> 0 | AE156: =IF(P156="안전관리비",L156,0) -> 0 | AF156: =IF(P156="품질관리비",L156,0) -> 0 | AG156: =IF(P156="작업부산물(철거해체)",L156,0) -> 0 | AH156: =IF(P156="어린이유해물질수수료",L156,0) -> 0 | AI156: =IF(P156="퇴직공제부금",L156,0) -> 0 | AJ156: =IF(P156="사용자항목8",L156,0) -> 0 | AK156: =IF(P156="사용자항목9",L156,0) -> 0 | AL156: =IF(P156="사용자항목10",L156,0) -> 0 | AM156: =IF(P156="사용자항목11",L156,0) -> 0 | AN156: =IF(P156="사용자항목12",L156,0) -> 0 | AO156: =IF(P156="사용자항목13",L156,0) -> 0 | AP156: =IF(P156="사용자항목14",L156,0) -> 0 | AQ156: =IF(P156="사용자항목15",L156,0) -> 0 | AR156: =IF(P156="사용자항목16",L156,0) -> 0 | AS156: =IF(P156="사용자항목17",L156,0) -> 0 | AT156: =IF(P156="사용자항목18",L156,0) -> 0 | AU156: =IF(P156="사용자항목19",L156,0) -> 0 | AY156: D
A157: 강재창호 설치 / 여닫이 | B157: 창호면적 1.0 ~ 3.0㎡ 이하 | C157: 개소 | D157: 7 | O157: ="" | P157: 기계경비 | Q157: 1 | R157: =IF(P157="기계경비",J157,0) -> 0 | S157: =IF(P157="운반비",L157,0) -> 0 | T157: =IF(P157="작업부산물",F157,0) -> 0 | U157: =IF(P157="관급",F157,0) -> 0 | V157: =IF(P157="외주비",J157,0) -> 0 | W157: =IF(P157="장비비",J157,0) -> 0 | X157: =IF(P157="폐기물처리비",L157,0) -> 0 | Y157: =IF(P157="가설비",J157,0) -> 0 | Z157: =IF(P157="잡비제외분",F157,0) -> 0 | AA157: =IF(P157="사급자재대",L157,0) -> 0 | AB157: =IF(P157="관급자재대",L157,0) -> 0 | AC157: =IF(P157="석면분담금",L157,0) -> 0 | AD157: =IF(P157="임금채권부담금",L157,0) -> 0 | AE157: =IF(P157="안전관리비",L157,0) -> 0 | AF157: =IF(P157="품질관리비",L157,0) -> 0 | AG157: =IF(P157="작업부산물(철거해체)",L157,0) -> 0 | AH157: =IF(P157="어린이유해물질수수료",L157,0) -> 0 | AI157: =IF(P157="퇴직공제부금",L157,0) -> 0 | AJ157: =IF(P157="사용자항목8",L157,0) -> 0 | AK157: =IF(P157="사용자항목9",L157,0) -> 0 | AL157: =IF(P157="사용자항목10",L157,0) -> 0 | AM157: =IF(P157="사용자항목11",L157,0) -> 0 | AN157: =IF(P157="사용자항목12",L157,0) -> 0 | AO157: =IF(P157="사용자항목13",L157,0) -> 0 | AP157: =IF(P157="사용자항목14",L157,0) -> 0 | AQ157: =IF(P157="사용자항목15",L157,0) -> 0 | AR157: =IF(P157="사용자항목16",L157,0) -> 0 | AS157: =IF(P157="사용자항목17",L157,0) -> 0 | AT157: =IF(P157="사용자항목18",L157,0) -> 0 | AU157: =IF(P157="사용자항목19",L157,0) -> 0 | AY157: ALB15000020S
A158: 강재창호 설치 / 여닫이 | B158: 창호면적 3.0 ~ 6.0㎡ 이하 | C158: 개소 | D158: 6 | O158: ="" | P158: 기계경비 | Q158: 1 | R158: =IF(P158="기계경비",J158,0) -> 0 | S158: =IF(P158="운반비",L158,0) -> 0 | T158: =IF(P158="작업부산물",F158,0) -> 0 | U158: =IF(P158="관급",F158,0) -> 0 | V158: =IF(P158="외주비",J158,0) -> 0 | W158: =IF(P158="장비비",J158,0) -> 0 | X158: =IF(P158="폐기물처리비",L158,0) -> 0 | Y158: =IF(P158="가설비",J158,0) -> 0 | Z158: =IF(P158="잡비제외분",F158,0) -> 0 | AA158: =IF(P158="사급자재대",L158,0) -> 0 | AB158: =IF(P158="관급자재대",L158,0) -> 0 | AC158: =IF(P158="석면분담금",L158,0) -> 0 | AD158: =IF(P158="임금채권부담금",L158,0) -> 0 | AE158: =IF(P158="안전관리비",L158,0) -> 0 | AF158: =IF(P158="품질관리비",L158,0) -> 0 | AG158: =IF(P158="작업부산물(철거해체)",L158,0) -> 0 | AH158: =IF(P158="어린이유해물질수수료",L158,0) -> 0 | AI158: =IF(P158="퇴직공제부금",L158,0) -> 0 | AJ158: =IF(P158="사용자항목8",L158,0) -> 0 | AK158: =IF(P158="사용자항목9",L158,0) -> 0 | AL158: =IF(P158="사용자항목10",L158,0) -> 0 | AM158: =IF(P158="사용자항목11",L158,0) -> 0 | AN158: =IF(P158="사용자항목12",L158,0) -> 0 | AO158: =IF(P158="사용자항목13",L158,0) -> 0 | AP158: =IF(P158="사용자항목14",L158,0) -> 0 | AQ158: =IF(P158="사용자항목15",L158,0) -> 0 | AR158: =IF(P158="사용자항목16",L158,0) -> 0 | AS158: =IF(P158="사용자항목17",L158,0) -> 0 | AT158: =IF(P158="사용자항목18",L158,0) -> 0 | AU158: =IF(P158="사용자항목19",L158,0) -> 0 | AY158: ALB15000030S
A159: 창호유리 설치 | B159: 9mm 이하 | C159: M2 | D159: 9 | O159: ="" | P159: 기계경비 | Q159: 1 | R159: =IF(P159="기계경비",J159,0) -> 0 | S159: =IF(P159="운반비",L159,0) -> 0 | T159: =IF(P159="작업부산물",F159,0) -> 0 | U159: =IF(P159="관급",F159,0) -> 0 | V159: =IF(P159="외주비",J159,0) -> 0 | W159: =IF(P159="장비비",J159,0) -> 0 | X159: =IF(P159="폐기물처리비",L159,0) -> 0 | Y159: =IF(P159="가설비",J159,0) -> 0 | Z159: =IF(P159="잡비제외분",F159,0) -> 0 | AA159: =IF(P159="사급자재대",L159,0) -> 0 | AB159: =IF(P159="관급자재대",L159,0) -> 0 | AC159: =IF(P159="석면분담금",L159,0) -> 0 | AD159: =IF(P159="임금채권부담금",L159,0) -> 0 | AE159: =IF(P159="안전관리비",L159,0) -> 0 | AF159: =IF(P159="품질관리비",L159,0) -> 0 | AG159: =IF(P159="작업부산물(철거해체)",L159,0) -> 0 | AH159: =IF(P159="어린이유해물질수수료",L159,0) -> 0 | AI159: =IF(P159="퇴직공제부금",L159,0) -> 0 | AJ159: =IF(P159="사용자항목8",L159,0) -> 0 | AK159: =IF(P159="사용자항목9",L159,0) -> 0 | AL159: =IF(P159="사용자항목10",L159,0) -> 0 | AM159: =IF(P159="사용자항목11",L159,0) -> 0 | AN159: =IF(P159="사용자항목12",L159,0) -> 0 | AO159: =IF(P159="사용자항목13",L159,0) -> 0 | AP159: =IF(P159="사용자항목14",L159,0) -> 0 | AQ159: =IF(P159="사용자항목15",L159,0) -> 0 | AR159: =IF(P159="사용자항목16",L159,0) -> 0 | AS159: =IF(P159="사용자항목17",L159,0) -> 0 | AT159: =IF(P159="사용자항목18",L159,0) -> 0 | AU159: =IF(P159="사용자항목19",L159,0) -> 0
A160: 창호주위코킹(0.5CM각) | B160: 실링재, 비초산, 구조용 | C160: M | D160: 290 | O160: ="" | P160: 기계경비 | Q160: 1 | R160: =IF(P160="기계경비",J160,0) -> 0 | S160: =IF(P160="운반비",L160,0) -> 0 | T160: =IF(P160="작업부산물",F160,0) -> 0 | U160: =IF(P160="관급",F160,0) -> 0 | V160: =IF(P160="외주비",J160,0) -> 0 | W160: =IF(P160="장비비",J160,0) -> 0 | X160: =IF(P160="폐기물처리비",L160,0) -> 0 | Y160: =IF(P160="가설비",J160,0) -> 0 | Z160: =IF(P160="잡비제외분",F160,0) -> 0 | AA160: =IF(P160="사급자재대",L160,0) -> 0 | AB160: =IF(P160="관급자재대",L160,0) -> 0 | AC160: =IF(P160="석면분담금",L160,0) -> 0 | AD160: =IF(P160="임금채권부담금",L160,0) -> 0 | AE160: =IF(P160="안전관리비",L160,0) -> 0 | AF160: =IF(P160="품질관리비",L160,0) -> 0 | AG160: =IF(P160="작업부산물(철거해체)",L160,0) -> 0 | AH160: =IF(P160="어린이유해물질수수료",L160,0) -> 0 | AI160: =IF(P160="퇴직공제부금",L160,0) -> 0 | AJ160: =IF(P160="사용자항목8",L160,0) -> 0 | AK160: =IF(P160="사용자항목9",L160,0) -> 0 | AL160: =IF(P160="사용자항목10",L160,0) -> 0 | AM160: =IF(P160="사용자항목11",L160,0) -> 0 | AN160: =IF(P160="사용자항목12",L160,0) -> 0 | AO160: =IF(P160="사용자항목13",L160,0) -> 0 | AP160: =IF(P160="사용자항목14",L160,0) -> 0 | AQ160: =IF(P160="사용자항목15",L160,0) -> 0 | AR160: =IF(P160="사용자항목16",L160,0) -> 0 | AS160: =IF(P160="사용자항목17",L160,0) -> 0 | AT160: =IF(P160="사용자항목18",L160,0) -> 0 | AU160: =IF(P160="사용자항목19",L160,0) -> 0 | AY160: D
A161: 창틀주위몰탈충진 | B161: 양생포함 | C161: M | D161: 108 | O161: ="" | P161: 기계경비 | Q161: 1 | R161: =IF(P161="기계경비",J161,0) -> 0 | S161: =IF(P161="운반비",L161,0) -> 0 | T161: =IF(P161="작업부산물",F161,0) -> 0 | U161: =IF(P161="관급",F161,0) -> 0 | V161: =IF(P161="외주비",J161,0) -> 0 | W161: =IF(P161="장비비",J161,0) -> 0 | X161: =IF(P161="폐기물처리비",L161,0) -> 0 | Y161: =IF(P161="가설비",J161,0) -> 0 | Z161: =IF(P161="잡비제외분",F161,0) -> 0 | AA161: =IF(P161="사급자재대",L161,0) -> 0 | AB161: =IF(P161="관급자재대",L161,0) -> 0 | AC161: =IF(P161="석면분담금",L161,0) -> 0 | AD161: =IF(P161="임금채권부담금",L161,0) -> 0 | AE161: =IF(P161="안전관리비",L161,0) -> 0 | AF161: =IF(P161="품질관리비",L161,0) -> 0 | AG161: =IF(P161="작업부산물(철거해체)",L161,0) -> 0 | AH161: =IF(P161="어린이유해물질수수료",L161,0) -> 0 | AI161: =IF(P161="퇴직공제부금",L161,0) -> 0 | AJ161: =IF(P161="사용자항목8",L161,0) -> 0 | AK161: =IF(P161="사용자항목9",L161,0) -> 0 | AL161: =IF(P161="사용자항목10",L161,0) -> 0 | AM161: =IF(P161="사용자항목11",L161,0) -> 0 | AN161: =IF(P161="사용자항목12",L161,0) -> 0 | AO161: =IF(P161="사용자항목13",L161,0) -> 0 | AP161: =IF(P161="사용자항목14",L161,0) -> 0 | AQ161: =IF(P161="사용자항목15",L161,0) -> 0 | AR161: =IF(P161="사용자항목16",L161,0) -> 0 | AS161: =IF(P161="사용자항목17",L161,0) -> 0 | AT161: =IF(P161="사용자항목18",L161,0) -> 0 | AU161: =IF(P161="사용자항목19",L161,0) -> 0 | AY161: D
A162: 피봇 힌지(Pivot Hinge) 설치 | B162: 피벗힌지, 80kg이하, K1200 | C162: EA | D162: 8 | O162: ="" | P162: 기계경비 | Q162: 1 | R162: =IF(P162="기계경비",J162,0) -> 0 | S162: =IF(P162="운반비",L162,0) -> 0 | T162: =IF(P162="작업부산물",F162,0) -> 0 | U162: =IF(P162="관급",F162,0) -> 0 | V162: =IF(P162="외주비",J162,0) -> 0 | W162: =IF(P162="장비비",J162,0) -> 0 | X162: =IF(P162="폐기물처리비",L162,0) -> 0 | Y162: =IF(P162="가설비",J162,0) -> 0 | Z162: =IF(P162="잡비제외분",F162,0) -> 0 | AA162: =IF(P162="사급자재대",L162,0) -> 0 | AB162: =IF(P162="관급자재대",L162,0) -> 0 | AC162: =IF(P162="석면분담금",L162,0) -> 0 | AD162: =IF(P162="임금채권부담금",L162,0) -> 0 | AE162: =IF(P162="안전관리비",L162,0) -> 0 | AF162: =IF(P162="품질관리비",L162,0) -> 0 | AG162: =IF(P162="작업부산물(철거해체)",L162,0) -> 0 | AH162: =IF(P162="어린이유해물질수수료",L162,0) -> 0 | AI162: =IF(P162="퇴직공제부금",L162,0) -> 0 | AJ162: =IF(P162="사용자항목8",L162,0) -> 0 | AK162: =IF(P162="사용자항목9",L162,0) -> 0 | AL162: =IF(P162="사용자항목10",L162,0) -> 0 | AM162: =IF(P162="사용자항목11",L162,0) -> 0 | AN162: =IF(P162="사용자항목12",L162,0) -> 0 | AO162: =IF(P162="사용자항목13",L162,0) -> 0 | AP162: =IF(P162="사용자항목14",L162,0) -> 0 | AQ162: =IF(P162="사용자항목15",L162,0) -> 0 | AR162: =IF(P162="사용자항목16",L162,0) -> 0 | AS162: =IF(P162="사용자항목17",L162,0) -> 0 | AT162: =IF(P162="사용자항목18",L162,0) -> 0 | AU162: =IF(P162="사용자항목19",L162,0) -> 0
A163: 도어클로저 | B163: 도어클로저, K-2850, KS5호, 고급방화, 80∼120kg | C163: 조 | D163: 4 | O163: ="01" -> 01 | P163: 기계경비 | Q163: 1 | R163: =IF(P163="기계경비",J163,0) -> 0 | S163: =IF(P163="운반비",L163,0) -> 0 | T163: =IF(P163="작업부산물",F163,0) -> 0 | U163: =IF(P163="관급",F163,0) -> 0 | V163: =IF(P163="외주비",J163,0) -> 0 | W163: =IF(P163="장비비",J163,0) -> 0 | X163: =IF(P163="폐기물처리비",L163,0) -> 0 | Y163: =IF(P163="가설비",J163,0) -> 0 | Z163: =IF(P163="잡비제외분",F163,0) -> 0 | AA163: =IF(P163="사급자재대",L163,0) -> 0 | AB163: =IF(P163="관급자재대",L163,0) -> 0 | AC163: =IF(P163="석면분담금",L163,0) -> 0 | AD163: =IF(P163="임금채권부담금",L163,0) -> 0 | AE163: =IF(P163="안전관리비",L163,0) -> 0 | AF163: =IF(P163="품질관리비",L163,0) -> 0 | AG163: =IF(P163="작업부산물(철거해체)",L163,0) -> 0 | AH163: =IF(P163="어린이유해물질수수료",L163,0) -> 0 | AI163: =IF(P163="퇴직공제부금",L163,0) -> 0 | AJ163: =IF(P163="사용자항목8",L163,0) -> 0 | AK163: =IF(P163="사용자항목9",L163,0) -> 0 | AL163: =IF(P163="사용자항목10",L163,0) -> 0 | AM163: =IF(P163="사용자항목11",L163,0) -> 0 | AN163: =IF(P163="사용자항목12",L163,0) -> 0 | AO163: =IF(P163="사용자항목13",L163,0) -> 0 | AP163: =IF(P163="사용자항목14",L163,0) -> 0 | AQ163: =IF(P163="사용자항목15",L163,0) -> 0 | AR163: =IF(P163="사용자항목16",L163,0) -> 0 | AS163: =IF(P163="사용자항목17",L163,0) -> 0 | AT163: =IF(P163="사용자항목18",L163,0) -> 0 | AU163: =IF(P163="사용자항목19",L163,0) -> 0
A164: 도어클로저 | B164: 도어클로저, K-1850, KS5호, 고급스톱형, 80∼120kg | C164: 조 | D164: 4 | O164: ="01" -> 01 | P164: 기계경비 | Q164: 1 | R164: =IF(P164="기계경비",J164,0) -> 0 | S164: =IF(P164="운반비",L164,0) -> 0 | T164: =IF(P164="작업부산물",F164,0) -> 0 | U164: =IF(P164="관급",F164,0) -> 0 | V164: =IF(P164="외주비",J164,0) -> 0 | W164: =IF(P164="장비비",J164,0) -> 0 | X164: =IF(P164="폐기물처리비",L164,0) -> 0 | Y164: =IF(P164="가설비",J164,0) -> 0 | Z164: =IF(P164="잡비제외분",F164,0) -> 0 | AA164: =IF(P164="사급자재대",L164,0) -> 0 | AB164: =IF(P164="관급자재대",L164,0) -> 0 | AC164: =IF(P164="석면분담금",L164,0) -> 0 | AD164: =IF(P164="임금채권부담금",L164,0) -> 0 | AE164: =IF(P164="안전관리비",L164,0) -> 0 | AF164: =IF(P164="품질관리비",L164,0) -> 0 | AG164: =IF(P164="작업부산물(철거해체)",L164,0) -> 0 | AH164: =IF(P164="어린이유해물질수수료",L164,0) -> 0 | AI164: =IF(P164="퇴직공제부금",L164,0) -> 0 | AJ164: =IF(P164="사용자항목8",L164,0) -> 0 | AK164: =IF(P164="사용자항목9",L164,0) -> 0 | AL164: =IF(P164="사용자항목10",L164,0) -> 0 | AM164: =IF(P164="사용자항목11",L164,0) -> 0 | AN164: =IF(P164="사용자항목12",L164,0) -> 0 | AO164: =IF(P164="사용자항목13",L164,0) -> 0 | AP164: =IF(P164="사용자항목14",L164,0) -> 0 | AQ164: =IF(P164="사용자항목15",L164,0) -> 0 | AR164: =IF(P164="사용자항목16",L164,0) -> 0 | AS164: =IF(P164="사용자항목17",L164,0) -> 0 | AT164: =IF(P164="사용자항목18",L164,0) -> 0 | AU164: =IF(P164="사용자항목19",L164,0) -> 0
A165: 도어핸들 | B165: 도어핸들, 출입문및내실문용(스텐, Knob형) | C165: 조 | D165: 4 | O165: ="01" -> 01 | P165: 기계경비 | Q165: 1 | R165: =IF(P165="기계경비",J165,0) -> 0 | S165: =IF(P165="운반비",L165,0) -> 0 | T165: =IF(P165="작업부산물",F165,0) -> 0 | U165: =IF(P165="관급",F165,0) -> 0 | V165: =IF(P165="외주비",J165,0) -> 0 | W165: =IF(P165="장비비",J165,0) -> 0 | X165: =IF(P165="폐기물처리비",L165,0) -> 0 | Y165: =IF(P165="가설비",J165,0) -> 0 | Z165: =IF(P165="잡비제외분",F165,0) -> 0 | AA165: =IF(P165="사급자재대",L165,0) -> 0 | AB165: =IF(P165="관급자재대",L165,0) -> 0 | AC165: =IF(P165="석면분담금",L165,0) -> 0 | AD165: =IF(P165="임금채권부담금",L165,0) -> 0 | AE165: =IF(P165="안전관리비",L165,0) -> 0 | AF165: =IF(P165="품질관리비",L165,0) -> 0 | AG165: =IF(P165="작업부산물(철거해체)",L165,0) -> 0 | AH165: =IF(P165="어린이유해물질수수료",L165,0) -> 0 | AI165: =IF(P165="퇴직공제부금",L165,0) -> 0 | AJ165: =IF(P165="사용자항목8",L165,0) -> 0 | AK165: =IF(P165="사용자항목9",L165,0) -> 0 | AL165: =IF(P165="사용자항목10",L165,0) -> 0 | AM165: =IF(P165="사용자항목11",L165,0) -> 0 | AN165: =IF(P165="사용자항목12",L165,0) -> 0 | AO165: =IF(P165="사용자항목13",L165,0) -> 0 | AP165: =IF(P165="사용자항목14",L165,0) -> 0 | AQ165: =IF(P165="사용자항목15",L165,0) -> 0 | AR165: =IF(P165="사용자항목16",L165,0) -> 0 | AS165: =IF(P165="사용자항목17",L165,0) -> 0 | AT165: =IF(P165="사용자항목18",L165,0) -> 0 | AU165: =IF(P165="사용자항목19",L165,0) -> 0
A184: 합 계 | F184: =ROUNDDOWN(SUMIF(Q146:Q183,"1",F146:F183),0) -> 0 | H184: =ROUNDDOWN(SUMIF(Q146:Q183,"1",H146:H183),0) -> 0 | J184: =ROUNDDOWN(SUMIF(Q146:Q183,"1",J146:J183),0) -> 0 | L184: =F184+H184+J184 -> 0 | R184: =ROUNDDOWN(SUM(R146:R165),0) -> 0 | S184: =ROUNDDOWN(SUM(S146:S165),0) -> 0 | T184: =ROUNDDOWN(SUM(T146:T165),0) -> 0 | U184: =ROUNDDOWN(SUM(U146:U165),0) -> 0 | V184: =ROUNDDOWN(SUM(V146:V165),0) -> 0 | W184: =ROUNDDOWN(SUM(W146:W165),0) -> 0 | X184: =ROUNDDOWN(SUM(X146:X165),0) -> 0 | Y184: =ROUNDDOWN(SUM(Y146:Y165),0) -> 0 | ... AY184: =ROUNDDOWN(SUM(AY146:AY165),0) -> 0
A185: 09. 수장공사
A186: 기능성흡음바닥재 깔기 | B186: 3.45mm | C186: M2 | D186: 413 | O186: ="" | P186: 기계경비 | Q186: 1 | R186: =IF(P186="기계경비",J186,0) -> 0 | S186: =IF(P186="운반비",L186,0) -> 0 | T186: =IF(P186="작업부산물",F186,0) -> 0 | U186: =IF(P186="관급",F186,0) -> 0 | V186: =IF(P186="외주비",J186,0) -> 0 | W186: =IF(P186="장비비",J186,0) -> 0 | X186: =IF(P186="폐기물처리비",L186,0) -> 0 | Y186: =IF(P186="가설비",J186,0) -> 0 | Z186: =IF(P186="잡비제외분",F186,0) -> 0 | AA186: =IF(P186="사급자재대",L186,0) -> 0 | AB186: =IF(P186="관급자재대",L186,0) -> 0 | AC186: =IF(P186="석면분담금",L186,0) -> 0 | AD186: =IF(P186="임금채권부담금",L186,0) -> 0 | AE186: =IF(P186="안전관리비",L186,0) -> 0 | AF186: =IF(P186="품질관리비",L186,0) -> 0 | AG186: =IF(P186="작업부산물(철거해체)",L186,0) -> 0 | AH186: =IF(P186="어린이유해물질수수료",L186,0) -> 0 | AI186: =IF(P186="퇴직공제부금",L186,0) -> 0 | AJ186: =IF(P186="사용자항목8",L186,0) -> 0 | AK186: =IF(P186="사용자항목9",L186,0) -> 0 | AL186: =IF(P186="사용자항목10",L186,0) -> 0 | AM186: =IF(P186="사용자항목11",L186,0) -> 0 | AN186: =IF(P186="사용자항목12",L186,0) -> 0 | AO186: =IF(P186="사용자항목13",L186,0) -> 0 | AP186: =IF(P186="사용자항목14",L186,0) -> 0 | AQ186: =IF(P186="사용자항목15",L186,0) -> 0 | AR186: =IF(P186="사용자항목16",L186,0) -> 0 | AS186: =IF(P186="사용자항목17",L186,0) -> 0 | AT186: =IF(P186="사용자항목18",L186,0) -> 0 | AU186: =IF(P186="사용자항목19",L186,0) -> 0 | AY186: D
A187: 전도성타일붙임 | B187: 3.0T | C187: M2 | D187: 2 | O187: ="" | P187: 기계경비 | Q187: 1 | R187: =IF(P187="기계경비",J187,0) -> 0 | S187: =IF(P187="운반비",L187,0) -> 0 | T187: =IF(P187="작업부산물",F187,0) -> 0 | U187: =IF(P187="관급",F187,0) -> 0 | V187: =IF(P187="외주비",J187,0) -> 0 | W187: =IF(P187="장비비",J187,0) -> 0 | X187: =IF(P187="폐기물처리비",L187,0) -> 0 | Y187: =IF(P187="가설비",J187,0) -> 0 | Z187: =IF(P187="잡비제외분",F187,0) -> 0 | AA187: =IF(P187="사급자재대",L187,0) -> 0 | AB187: =IF(P187="관급자재대",L187,0) -> 0 | AC187: =IF(P187="석면분담금",L187,0) -> 0 | AD187: =IF(P187="임금채권부담금",L187,0) -> 0 | AE187: =IF(P187="안전관리비",L187,0) -> 0 | AF187: =IF(P187="품질관리비",L187,0) -> 0 | AG187: =IF(P187="작업부산물(철거해체)",L187,0) -> 0 | AH187: =IF(P187="어린이유해물질수수료",L187,0) -> 0 | AI187: =IF(P187="퇴직공제부금",L187,0) -> 0 | AJ187: =IF(P187="사용자항목8",L187,0) -> 0 | AK187: =IF(P187="사용자항목9",L187,0) -> 0 | AL187: =IF(P187="사용자항목10",L187,0) -> 0 | AM187: =IF(P187="사용자항목11",L187,0) -> 0 | AN187: =IF(P187="사용자항목12",L187,0) -> 0 | AO187: =IF(P187="사용자항목13",L187,0) -> 0 | AP187: =IF(P187="사용자항목14",L187,0) -> 0 | AQ187: =IF(P187="사용자항목15",L187,0) -> 0 | AR187: =IF(P187="사용자항목16",L187,0) -> 0 | AS187: =IF(P187="사용자항목17",L187,0) -> 0 | AT187: =IF(P187="사용자항목18",L187,0) -> 0 | AU187: =IF(P187="사용자항목19",L187,0) -> 0
A188: 플로어링 마루 설치 | B188: 플로어링보드 | C188: M2 | D188: 8 | O188: ="" | P188: 기계경비 | Q188: 1 | R188: =IF(P188="기계경비",J188,0) -> 0 | S188: =IF(P188="운반비",L188,0) -> 0 | T188: =IF(P188="작업부산물",F188,0) -> 0 | U188: =IF(P188="관급",F188,0) -> 0 | V188: =IF(P188="외주비",J188,0) -> 0 | W188: =IF(P188="장비비",J188,0) -> 0 | X188: =IF(P188="폐기물처리비",L188,0) -> 0 | Y188: =IF(P188="가설비",J188,0) -> 0 | Z188: =IF(P188="잡비제외분",F188,0) -> 0 | AA188: =IF(P188="사급자재대",L188,0) -> 0 | AB188: =IF(P188="관급자재대",L188,0) -> 0 | AC188: =IF(P188="석면분담금",L188,0) -> 0 | AD188: =IF(P188="임금채권부담금",L188,0) -> 0 | AE188: =IF(P188="안전관리비",L188,0) -> 0 | AF188: =IF(P188="품질관리비",L188,0) -> 0 | AG188: =IF(P188="작업부산물(철거해체)",L188,0) -> 0 | AH188: =IF(P188="어린이유해물질수수료",L188,0) -> 0 | AI188: =IF(P188="퇴직공제부금",L188,0) -> 0 | AJ188: =IF(P188="사용자항목8",L188,0) -> 0 | AK188: =IF(P188="사용자항목9",L188,0) -> 0 | AL188: =IF(P188="사용자항목10",L188,0) -> 0 | AM188: =IF(P188="사용자항목11",L188,0) -> 0 | AN188: =IF(P188="사용자항목12",L188,0) -> 0 | AO188: =IF(P188="사용자항목13",L188,0) -> 0 | AP188: =IF(P188="사용자항목14",L188,0) -> 0 | AQ188: =IF(P188="사용자항목15",L188,0) -> 0 | AR188: =IF(P188="사용자항목16",L188,0) -> 0 | AS188: =IF(P188="사용자항목17",L188,0) -> 0 | AT188: =IF(P188="사용자항목18",L188,0) -> 0 | AU188: =IF(P188="사용자항목19",L188,0) -> 0 | AY188: D
A189: 양면타공흡음판 설치 | B189: 흡음판+무늬목시트 | C189: M2 | D189: 4 | O189: ="" | P189: 기계경비 | Q189: 1 | R189: =IF(P189="기계경비",J189,0) -> 0 | S189: =IF(P189="운반비",L189,0) -> 0 | T189: =IF(P189="작업부산물",F189,0) -> 0 | U189: =IF(P189="관급",F189,0) -> 0 | V189: =IF(P189="외주비",J189,0) -> 0 | W189: =IF(P189="장비비",J189,0) -> 0 | X189: =IF(P189="폐기물처리비",L189,0) -> 0 | Y189: =IF(P189="가설비",J189,0) -> 0 | Z189: =IF(P189="잡비제외분",F189,0) -> 0 | AA189: =IF(P189="사급자재대",L189,0) -> 0 | AB189: =IF(P189="관급자재대",L189,0) -> 0 | AC189: =IF(P189="석면분담금",L189,0) -> 0 | AD189: =IF(P189="임금채권부담금",L189,0) -> 0 | AE189: =IF(P189="안전관리비",L189,0) -> 0 | AF189: =IF(P189="품질관리비",L189,0) -> 0 | AG189: =IF(P189="작업부산물(철거해체)",L189,0) -> 0 | AH189: =IF(P189="어린이유해물질수수료",L189,0) -> 0 | AI189: =IF(P189="퇴직공제부금",L189,0) -> 0 | AJ189: =IF(P189="사용자항목8",L189,0) -> 0 | AK189: =IF(P189="사용자항목9",L189,0) -> 0 | AL189: =IF(P189="사용자항목10",L189,0) -> 0 | AM189: =IF(P189="사용자항목11",L189,0) -> 0 | AN189: =IF(P189="사용자항목12",L189,0) -> 0 | AO189: =IF(P189="사용자항목13",L189,0) -> 0 | AP189: =IF(P189="사용자항목14",L189,0) -> 0 | AQ189: =IF(P189="사용자항목15",L189,0) -> 0 | AR189: =IF(P189="사용자항목16",L189,0) -> 0 | AS189: =IF(P189="사용자항목17",L189,0) -> 0 | AT189: =IF(P189="사용자항목18",L189,0) -> 0 | AU189: =IF(P189="사용자항목19",L189,0) -> 0 | AY189: D
A190: 글라스 크로스 | B190: 50T(48K) | C190: M2 | D190: 14 | O190: ="" | P190: 기계경비 | Q190: 1 | R190: =IF(P190="기계경비",J190,0) -> 0 | S190: =IF(P190="운반비",L190,0) -> 0 | T190: =IF(P190="작업부산물",F190,0) -> 0 | U190: =IF(P190="관급",F190,0) -> 0 | V190: =IF(P190="외주비",J190,0) -> 0 | W190: =IF(P190="장비비",J190,0) -> 0 | X190: =IF(P190="폐기물처리비",L190,0) -> 0 | Y190: =IF(P190="가설비",J190,0) -> 0 | Z190: =IF(P190="잡비제외분",F190,0) -> 0 | AA190: =IF(P190="사급자재대",L190,0) -> 0 | AB190: =IF(P190="관급자재대",L190,0) -> 0 | AC190: =IF(P190="석면분담금",L190,0) -> 0 | AD190: =IF(P190="임금채권부담금",L190,0) -> 0 | AE190: =IF(P190="안전관리비",L190,0) -> 0 | AF190: =IF(P190="품질관리비",L190,0) -> 0 | AG190: =IF(P190="작업부산물(철거해체)",L190,0) -> 0 | AH190: =IF(P190="어린이유해물질수수료",L190,0) -> 0 | AI190: =IF(P190="퇴직공제부금",L190,0) -> 0 | AJ190: =IF(P190="사용자항목8",L190,0) -> 0 | AK190: =IF(P190="사용자항목9",L190,0) -> 0 | AL190: =IF(P190="사용자항목10",L190,0) -> 0 | AM190: =IF(P190="사용자항목11",L190,0) -> 0 | AN190: =IF(P190="사용자항목12",L190,0) -> 0 | AO190: =IF(P190="사용자항목13",L190,0) -> 0 | AP190: =IF(P190="사용자항목14",L190,0) -> 0 | AQ190: =IF(P190="사용자항목15",L190,0) -> 0 | AR190: =IF(P190="사용자항목16",L190,0) -> 0 | AS190: =IF(P190="사용자항목17",L190,0) -> 0 | AT190: =IF(P190="사용자항목18",L190,0) -> 0 | AU190: =IF(P190="사용자항목19",L190,0) -> 0 | AY190: D
A191: 시트 설치 | B191: 방염, 현장설치도 | C191: M2 | D191: 11 | O191: ="" | P191: 기계경비 | Q191: 1 | R191: =IF(P191="기계경비",J191,0) -> 0 | S191: =IF(P191="운반비",L191,0) -> 0 | T191: =IF(P191="작업부산물",F191,0) -> 0 | U191: =IF(P191="관급",F191,0) -> 0 | V191: =IF(P191="외주비",J191,0) -> 0 | W191: =IF(P191="장비비",J191,0) -> 0 | X191: =IF(P191="폐기물처리비",L191,0) -> 0 | Y191: =IF(P191="가설비",J191,0) -> 0 | Z191: =IF(P191="잡비제외분",F191,0) -> 0 | AA191: =IF(P191="사급자재대",L191,0) -> 0 | AB191: =IF(P191="관급자재대",L191,0) -> 0 | AC191: =IF(P191="석면분담금",L191,0) -> 0 | AD191: =IF(P191="임금채권부담금",L191,0) -> 0 | AE191: =IF(P191="안전관리비",L191,0) -> 0 | AF191: =IF(P191="품질관리비",L191,0) -> 0 | AG191: =IF(P191="작업부산물(철거해체)",L191,0) -> 0 | AH191: =IF(P191="어린이유해물질수수료",L191,0) -> 0 | AI191: =IF(P191="퇴직공제부금",L191,0) -> 0 | AJ191: =IF(P191="사용자항목8",L191,0) -> 0 | AK191: =IF(P191="사용자항목9",L191,0) -> 0 | AL191: =IF(P191="사용자항목10",L191,0) -> 0 | AM191: =IF(P191="사용자항목11",L191,0) -> 0 | AN191: =IF(P191="사용자항목12",L191,0) -> 0 | AO191: =IF(P191="사용자항목13",L191,0) -> 0 | AP191: =IF(P191="사용자항목14",L191,0) -> 0 | AQ191: =IF(P191="사용자항목15",L191,0) -> 0 | AR191: =IF(P191="사용자항목16",L191,0) -> 0 | AS191: =IF(P191="사용자항목17",L191,0) -> 0 | AT191: =IF(P191="사용자항목18",L191,0) -> 0 | AU191: =IF(P191="사용자항목19",L191,0) -> 0 | AY191: D
A192: 차음시트 붙이기 | B192: 벽체, T=3 | C192: M2 | D192: 11 | O192: ="" | P192: 기계경비 | Q192: 1 | R192: =IF(P192="기계경비",J192,0) -> 0 | S192: =IF(P192="운반비",L192,0) -> 0 | T192: =IF(P192="작업부산물",F192,0) -> 0 | U192: =IF(P192="관급",F192,0) -> 0 | V192: =IF(P192="외주비",J192,0) -> 0 | W192: =IF(P192="장비비",J192,0) -> 0 | X192: =IF(P192="폐기물처리비",L192,0) -> 0 | Y192: =IF(P192="가설비",J192,0) -> 0 | Z192: =IF(P192="잡비제외분",F192,0) -> 0 | AA192: =IF(P192="사급자재대",L192,0) -> 0 | AB192: =IF(P192="관급자재대",L192,0) -> 0 | AC192: =IF(P192="석면분담금",L192,0) -> 0 | AD192: =IF(P192="임금채권부담금",L192,0) -> 0 | AE192: =IF(P192="안전관리비",L192,0) -> 0 | AF192: =IF(P192="품질관리비",L192,0) -> 0 | AG192: =IF(P192="작업부산물(철거해체)",L192,0) -> 0 | AH192: =IF(P192="어린이유해물질수수료",L192,0) -> 0 | AI192: =IF(P192="퇴직공제부금",L192,0) -> 0 | AJ192: =IF(P192="사용자항목8",L192,0) -> 0 | AK192: =IF(P192="사용자항목9",L192,0) -> 0 | AL192: =IF(P192="사용자항목10",L192,0) -> 0 | AM192: =IF(P192="사용자항목11",L192,0) -> 0 | AN192: =IF(P192="사용자항목12",L192,0) -> 0 | AO192: =IF(P192="사용자항목13",L192,0) -> 0 | AP192: =IF(P192="사용자항목14",L192,0) -> 0 | AQ192: =IF(P192="사용자항목15",L192,0) -> 0 | AR192: =IF(P192="사용자항목16",L192,0) -> 0 | AS192: =IF(P192="사용자항목17",L192,0) -> 0 | AT192: =IF(P192="사용자항목18",L192,0) -> 0 | AU192: =IF(P192="사용자항목19",L192,0) -> 0 | AY192: D
A193: 걸레받이 붙임 | B193: H70*5mm+무늬목시트 | C193: M | D193: 4 | O193: ="" | P193: 기계경비 | Q193: 1 | R193: =IF(P193="기계경비",J193,0) -> 0 | S193: =IF(P193="운반비",L193,0) -> 0 | T193: =IF(P193="작업부산물",F193,0) -> 0 | U193: =IF(P193="관급",F193,0) -> 0 | V193: =IF(P193="외주비",J193,0) -> 0 | W193: =IF(P193="장비비",J193,0) -> 0 | X193: =IF(P193="폐기물처리비",L193,0) -> 0 | Y193: =IF(P193="가설비",J193,0) -> 0 | Z193: =IF(P193="잡비제외분",F193,0) -> 0 | AA193: =IF(P193="사급자재대",L193,0) -> 0 | AB193: =IF(P193="관급자재대",L193,0) -> 0 | AC193: =IF(P193="석면분담금",L193,0) -> 0 | AD193: =IF(P193="임금채권부담금",L193,0) -> 0 | AE193: =IF(P193="안전관리비",L193,0) -> 0 | AF193: =IF(P193="품질관리비",L193,0) -> 0 | AG193: =IF(P193="작업부산물(철거해체)",L193,0) -> 0 | AH193: =IF(P193="어린이유해물질수수료",L193,0) -> 0 | AI193: =IF(P193="퇴직공제부금",L193,0) -> 0 | AJ193: =IF(P193="사용자항목8",L193,0) -> 0 | AK193: =IF(P193="사용자항목9",L193,0) -> 0 | AL193: =IF(P193="사용자항목10",L193,0) -> 0 | AM193: =IF(P193="사용자항목11",L193,0) -> 0 | AN193: =IF(P193="사용자항목12",L193,0) -> 0 | AO193: =IF(P193="사용자항목13",L193,0) -> 0 | AP193: =IF(P193="사용자항목14",L193,0) -> 0 | AQ193: =IF(P193="사용자항목15",L193,0) -> 0 | AR193: =IF(P193="사용자항목16",L193,0) -> 0 | AS193: =IF(P193="사용자항목17",L193,0) -> 0 | AT193: =IF(P193="사용자항목18",L193,0) -> 0 | AU193: =IF(P193="사용자항목19",L193,0) -> 0 | AY193: D
A204: 합 계 | F204: =ROUNDDOWN(SUMIF(Q186:Q203,"1",F186:F203),0) -> 0 | H204: =ROUNDDOWN(SUMIF(Q186:Q203,"1",H186:H203),0) -> 0 | J204: =ROUNDDOWN(SUMIF(Q186:Q203,"1",J186:J203),0) -> 0 | L204: =F204+H204+J204 -> 0 | R204: =ROUNDDOWN(SUM(R186:R193),0) -> 0 | S204: =ROUNDDOWN(SUM(S186:S193),0) -> 0 | T204: =ROUNDDOWN(SUM(T186:T193),0) -> 0 | U204: =ROUNDDOWN(SUM(U186:U193),0) -> 0 | V204: =ROUNDDOWN(SUM(V186:V193),0) -> 0 | W204: =ROUNDDOWN(SUM(W186:W193),0) -> 0 | X204: =ROUNDDOWN(SUM(X186:X193),0) -> 0 | Y204: =ROUNDDOWN(SUM(Y186:Y193),0) -> 0 | ... AY204: =ROUNDDOWN(SUM(AY186:AY193),0) -> 0
A205: 10. 운반공사
A206: 폐기물상차비 | B206: 15톤 덤프트럭, 건설폐재류 | C206: TON | D206: 7 | O206: ="03" -> 03 | P206: 기계경비 | Q206: 1 | R206: =IF(P206="기계경비",J206,0) -> 0 | S206: =IF(P206="운반비",L206,0) -> 0 | T206: =IF(P206="작업부산물",F206,0) -> 0 | U206: =IF(P206="관급",F206,0) -> 0 | V206: =IF(P206="외주비",J206,0) -> 0 | W206: =IF(P206="장비비",J206,0) -> 0 | X206: =IF(P206="폐기물처리비",L206,0) -> 0 | Y206: =IF(P206="가설비",J206,0) -> 0 | Z206: =IF(P206="잡비제외분",F206,0) -> 0 | AA206: =IF(P206="사급자재대",L206,0) -> 0 | AB206: =IF(P206="관급자재대",L206,0) -> 0 | AC206: =IF(P206="석면분담금",L206,0) -> 0 | AD206: =IF(P206="임금채권부담금",L206,0) -> 0 | AE206: =IF(P206="안전관리비",L206,0) -> 0 | AF206: =IF(P206="품질관리비",L206,0) -> 0 | AG206: =IF(P206="작업부산물(철거해체)",L206,0) -> 0 | AH206: =IF(P206="어린이유해물질수수료",L206,0) -> 0 | AI206: =IF(P206="퇴직공제부금",L206,0) -> 0 | AJ206: =IF(P206="사용자항목8",L206,0) -> 0 | AK206: =IF(P206="사용자항목9",L206,0) -> 0 | AL206: =IF(P206="사용자항목10",L206,0) -> 0 | AM206: =IF(P206="사용자항목11",L206,0) -> 0 | AN206: =IF(P206="사용자항목12",L206,0) -> 0 | AO206: =IF(P206="사용자항목13",L206,0) -> 0 | AP206: =IF(P206="사용자항목14",L206,0) -> 0 | AQ206: =IF(P206="사용자항목15",L206,0) -> 0 | AR206: =IF(P206="사용자항목16",L206,0) -> 0 | AS206: =IF(P206="사용자항목17",L206,0) -> 0 | AT206: =IF(P206="사용자항목18",L206,0) -> 0 | AU206: =IF(P206="사용자항목19",L206,0) -> 0 | AY206: D
A207: 혼합건설폐기물 상차비 | B207: (매립지반입대상 폐기물 포함) | C207: TON | D207: 2 | O207: ="03" -> 03 | P207: 기계경비 | Q207: 1 | R207: =IF(P207="기계경비",J207,0) -> 0 | S207: =IF(P207="운반비",L207,0) -> 0 | T207: =IF(P207="작업부산물",F207,0) -> 0 | U207: =IF(P207="관급",F207,0) -> 0 | V207: =IF(P207="외주비",J207,0) -> 0 | W207: =IF(P207="장비비",J207,0) -> 0 | X207: =IF(P207="폐기물처리비",L207,0) -> 0 | Y207: =IF(P207="가설비",J207,0) -> 0 | Z207: =IF(P207="잡비제외분",F207,0) -> 0 | AA207: =IF(P207="사급자재대",L207,0) -> 0 | AB207: =IF(P207="관급자재대",L207,0) -> 0 | AC207: =IF(P207="석면분담금",L207,0) -> 0 | AD207: =IF(P207="임금채권부담금",L207,0) -> 0 | AE207: =IF(P207="안전관리비",L207,0) -> 0 | AF207: =IF(P207="품질관리비",L207,0) -> 0 | AG207: =IF(P207="작업부산물(철거해체)",L207,0) -> 0 | AH207: =IF(P207="어린이유해물질수수료",L207,0) -> 0 | AI207: =IF(P207="퇴직공제부금",L207,0) -> 0 | AJ207: =IF(P207="사용자항목8",L207,0) -> 0 | AK207: =IF(P207="사용자항목9",L207,0) -> 0 | AL207: =IF(P207="사용자항목10",L207,0) -> 0 | AM207: =IF(P207="사용자항목11",L207,0) -> 0 | AN207: =IF(P207="사용자항목12",L207,0) -> 0 | AO207: =IF(P207="사용자항목13",L207,0) -> 0 | AP207: =IF(P207="사용자항목14",L207,0) -> 0 | AQ207: =IF(P207="사용자항목15",L207,0) -> 0 | AR207: =IF(P207="사용자항목16",L207,0) -> 0 | AS207: =IF(P207="사용자항목17",L207,0) -> 0 | AT207: =IF(P207="사용자항목18",L207,0) -> 0 | AU207: =IF(P207="사용자항목19",L207,0) -> 0
A208: 폐기물운반비(덤프15Ton)/건설폐재류 | B208: 30km이하,중량기준 | C208: 톤 | D208: 7 | O208: ="" | P208: 기계경비 | Q208: 1 | R208: =IF(P208="기계경비",J208,0) -> 0 | S208: =IF(P208="운반비",L208,0) -> 0 | T208: =IF(P208="작업부산물",F208,0) -> 0 | U208: =IF(P208="관급",F208,0) -> 0 | V208: =IF(P208="외주비",J208,0) -> 0 | W208: =IF(P208="장비비",J208,0) -> 0 | X208: =IF(P208="폐기물처리비",L208,0) -> 0 | Y208: =IF(P208="가설비",J208,0) -> 0 | Z208: =IF(P208="잡비제외분",F208,0) -> 0 | AA208: =IF(P208="사급자재대",L208,0) -> 0 | AB208: =IF(P208="관급자재대",L208,0) -> 0 | AC208: =IF(P208="석면분담금",L208,0) -> 0 | AD208: =IF(P208="임금채권부담금",L208,0) -> 0 | AE208: =IF(P208="안전관리비",L208,0) -> 0 | AF208: =IF(P208="품질관리비",L208,0) -> 0 | AG208: =IF(P208="작업부산물(철거해체)",L208,0) -> 0 | AH208: =IF(P208="어린이유해물질수수료",L208,0) -> 0 | AI208: =IF(P208="퇴직공제부금",L208,0) -> 0 | AJ208: =IF(P208="사용자항목8",L208,0) -> 0 | AK208: =IF(P208="사용자항목9",L208,0) -> 0 | AL208: =IF(P208="사용자항목10",L208,0) -> 0 | AM208: =IF(P208="사용자항목11",L208,0) -> 0 | AN208: =IF(P208="사용자항목12",L208,0) -> 0 | AO208: =IF(P208="사용자항목13",L208,0) -> 0 | AP208: =IF(P208="사용자항목14",L208,0) -> 0 | AQ208: =IF(P208="사용자항목15",L208,0) -> 0 | AR208: =IF(P208="사용자항목16",L208,0) -> 0 | AS208: =IF(P208="사용자항목17",L208,0) -> 0 | AT208: =IF(P208="사용자항목18",L208,0) -> 0 | AU208: =IF(P208="사용자항목19",L208,0) -> 0
A209: 폐기물운반비(암롤트럭16Ton)/혼합건설폐기물 | B209: 30km이하,중량기준 | C209: 톤 | D209: 2 | O209: ="" | P209: 기계경비 | Q209: 1 | R209: =IF(P209="기계경비",J209,0) -> 0 | S209: =IF(P209="운반비",L209,0) -> 0 | T209: =IF(P209="작업부산물",F209,0) -> 0 | U209: =IF(P209="관급",F209,0) -> 0 | V209: =IF(P209="외주비",J209,0) -> 0 | W209: =IF(P209="장비비",J209,0) -> 0 | X209: =IF(P209="폐기물처리비",L209,0) -> 0 | Y209: =IF(P209="가설비",J209,0) -> 0 | Z209: =IF(P209="잡비제외분",F209,0) -> 0 | AA209: =IF(P209="사급자재대",L209,0) -> 0 | AB209: =IF(P209="관급자재대",L209,0) -> 0 | AC209: =IF(P209="석면분담금",L209,0) -> 0 | AD209: =IF(P209="임금채권부담금",L209,0) -> 0 | AE209: =IF(P209="안전관리비",L209,0) -> 0 | AF209: =IF(P209="품질관리비",L209,0) -> 0 | AG209: =IF(P209="작업부산물(철거해체)",L209,0) -> 0 | AH209: =IF(P209="어린이유해물질수수료",L209,0) -> 0 | AI209: =IF(P209="퇴직공제부금",L209,0) -> 0 | AJ209: =IF(P209="사용자항목8",L209,0) -> 0 | AK209: =IF(P209="사용자항목9",L209,0) -> 0 | AL209: =IF(P209="사용자항목10",L209,0) -> 0 | AM209: =IF(P209="사용자항목11",L209,0) -> 0 | AN209: =IF(P209="사용자항목12",L209,0) -> 0 | AO209: =IF(P209="사용자항목13",L209,0) -> 0 | AP209: =IF(P209="사용자항목14",L209,0) -> 0 | AQ209: =IF(P209="사용자항목15",L209,0) -> 0 | AR209: =IF(P209="사용자항목16",L209,0) -> 0 | AS209: =IF(P209="사용자항목17",L209,0) -> 0 | AT209: =IF(P209="사용자항목18",L209,0) -> 0 | AU209: =IF(P209="사용자항목19",L209,0) -> 0
A224: 합 계 | F224: =ROUNDDOWN(SUMIF(Q206:Q223,"1",F206:F223),0) -> 0 | H224: =ROUNDDOWN(SUMIF(Q206:Q223,"1",H206:H223),0) -> 0 | J224: =ROUNDDOWN(SUMIF(Q206:Q223,"1",J206:J223),0) -> 0 | L224: =F224+H224+J224 -> 0 | R224: =ROUNDDOWN(SUM(R206:R209),0) -> 0 | S224: =ROUNDDOWN(SUM(S206:S209),0) -> 0 | T224: =ROUNDDOWN(SUM(T206:T209),0) -> 0 | U224: =ROUNDDOWN(SUM(U206:U209),0) -> 0 | V224: =ROUNDDOWN(SUM(V206:V209),0) -> 0 | W224: =ROUNDDOWN(SUM(W206:W209),0) -> 0 | X224: =ROUNDDOWN(SUM(X206:X209),0) -> 0 | Y224: =ROUNDDOWN(SUM(Y206:Y209),0) -> 0 | ... AY224: =ROUNDDOWN(SUM(AY206:AY209),0) -> 0
A225: 11. 철거공사
A226: 바닥 컷팅 | C226: M | D226: 100 | O226: ="" | P226: 기계경비 | Q226: 1 | R226: =IF(P226="기계경비",J226,0) -> 0 | S226: =IF(P226="운반비",L226,0) -> 0 | T226: =IF(P226="작업부산물",F226,0) -> 0 | U226: =IF(P226="관급",F226,0) -> 0 | V226: =IF(P226="외주비",J226,0) -> 0 | W226: =IF(P226="장비비",J226,0) -> 0 | X226: =IF(P226="폐기물처리비",L226,0) -> 0 | Y226: =IF(P226="가설비",J226,0) -> 0 | Z226: =IF(P226="잡비제외분",F226,0) -> 0 | AA226: =IF(P226="사급자재대",L226,0) -> 0 | AB226: =IF(P226="관급자재대",L226,0) -> 0 | AC226: =IF(P226="석면분담금",L226,0) -> 0 | AD226: =IF(P226="임금채권부담금",L226,0) -> 0 | AE226: =IF(P226="안전관리비",L226,0) -> 0 | AF226: =IF(P226="품질관리비",L226,0) -> 0 | AG226: =IF(P226="작업부산물(철거해체)",L226,0) -> 0 | AH226: =IF(P226="어린이유해물질수수료",L226,0) -> 0 | AI226: =IF(P226="퇴직공제부금",L226,0) -> 0 | AJ226: =IF(P226="사용자항목8",L226,0) -> 0 | AK226: =IF(P226="사용자항목9",L226,0) -> 0 | AL226: =IF(P226="사용자항목10",L226,0) -> 0 | AM226: =IF(P226="사용자항목11",L226,0) -> 0 | AN226: =IF(P226="사용자항목12",L226,0) -> 0 | AO226: =IF(P226="사용자항목13",L226,0) -> 0 | AP226: =IF(P226="사용자항목14",L226,0) -> 0 | AQ226: =IF(P226="사용자항목15",L226,0) -> 0 | AR226: =IF(P226="사용자항목16",L226,0) -> 0 | AS226: =IF(P226="사용자항목17",L226,0) -> 0 | AT226: =IF(P226="사용자항목18",L226,0) -> 0 | AU226: =IF(P226="사용자항목19",L226,0) -> 0 | AY226: D
A227: 바닥철거 | B227: 몰탈 | C227: M2 | D227: 20 | O227: ="" | P227: 기계경비 | Q227: 1 | R227: =IF(P227="기계경비",J227,0) -> 0 | S227: =IF(P227="운반비",L227,0) -> 0 | T227: =IF(P227="작업부산물",F227,0) -> 0 | U227: =IF(P227="관급",F227,0) -> 0 | V227: =IF(P227="외주비",J227,0) -> 0 | W227: =IF(P227="장비비",J227,0) -> 0 | X227: =IF(P227="폐기물처리비",L227,0) -> 0 | Y227: =IF(P227="가설비",J227,0) -> 0 | Z227: =IF(P227="잡비제외분",F227,0) -> 0 | AA227: =IF(P227="사급자재대",L227,0) -> 0 | AB227: =IF(P227="관급자재대",L227,0) -> 0 | AC227: =IF(P227="석면분담금",L227,0) -> 0 | AD227: =IF(P227="임금채권부담금",L227,0) -> 0 | AE227: =IF(P227="안전관리비",L227,0) -> 0 | AF227: =IF(P227="품질관리비",L227,0) -> 0 | AG227: =IF(P227="작업부산물(철거해체)",L227,0) -> 0 | AH227: =IF(P227="어린이유해물질수수료",L227,0) -> 0 | AI227: =IF(P227="퇴직공제부금",L227,0) -> 0 | AJ227: =IF(P227="사용자항목8",L227,0) -> 0 | AK227: =IF(P227="사용자항목9",L227,0) -> 0 | AL227: =IF(P227="사용자항목10",L227,0) -> 0 | AM227: =IF(P227="사용자항목11",L227,0) -> 0 | AN227: =IF(P227="사용자항목12",L227,0) -> 0 | AO227: =IF(P227="사용자항목13",L227,0) -> 0 | AP227: =IF(P227="사용자항목14",L227,0) -> 0 | AQ227: =IF(P227="사용자항목15",L227,0) -> 0 | AR227: =IF(P227="사용자항목16",L227,0) -> 0 | AS227: =IF(P227="사용자항목17",L227,0) -> 0 | AT227: =IF(P227="사용자항목18",L227,0) -> 0 | AU227: =IF(P227="사용자항목19",L227,0) -> 0 | AY227: D
A228: 바닥철거 | B228: 내수합판 | C228: M2 | D228: 8 | O228: ="" | P228: 기계경비 | Q228: 1 | R228: =IF(P228="기계경비",J228,0) -> 0 | S228: =IF(P228="운반비",L228,0) -> 0 | T228: =IF(P228="작업부산물",F228,0) -> 0 | U228: =IF(P228="관급",F228,0) -> 0 | V228: =IF(P228="외주비",J228,0) -> 0 | W228: =IF(P228="장비비",J228,0) -> 0 | X228: =IF(P228="폐기물처리비",L228,0) -> 0 | Y228: =IF(P228="가설비",J228,0) -> 0 | Z228: =IF(P228="잡비제외분",F228,0) -> 0 | AA228: =IF(P228="사급자재대",L228,0) -> 0 | AB228: =IF(P228="관급자재대",L228,0) -> 0 | AC228: =IF(P228="석면분담금",L228,0) -> 0 | AD228: =IF(P228="임금채권부담금",L228,0) -> 0 | AE228: =IF(P228="안전관리비",L228,0) -> 0 | AF228: =IF(P228="품질관리비",L228,0) -> 0 | AG228: =IF(P228="작업부산물(철거해체)",L228,0) -> 0 | AH228: =IF(P228="어린이유해물질수수료",L228,0) -> 0 | AI228: =IF(P228="퇴직공제부금",L228,0) -> 0 | AJ228: =IF(P228="사용자항목8",L228,0) -> 0 | AK228: =IF(P228="사용자항목9",L228,0) -> 0 | AL228: =IF(P228="사용자항목10",L228,0) -> 0 | AM228: =IF(P228="사용자항목11",L228,0) -> 0 | AN228: =IF(P228="사용자항목12",L228,0) -> 0 | AO228: =IF(P228="사용자항목13",L228,0) -> 0 | AP228: =IF(P228="사용자항목14",L228,0) -> 0 | AQ228: =IF(P228="사용자항목15",L228,0) -> 0 | AR228: =IF(P228="사용자항목16",L228,0) -> 0 | AS228: =IF(P228="사용자항목17",L228,0) -> 0 | AT228: =IF(P228="사용자항목18",L228,0) -> 0 | AU228: =IF(P228="사용자항목19",L228,0) -> 0 | AY228: D
A229: 바닥철거 | B229: 에폭시코팅 | C229: M2 | D229: 16 | O229: ="" | P229: 기계경비 | Q229: 1 | R229: =IF(P229="기계경비",J229,0) -> 0 | S229: =IF(P229="운반비",L229,0) -> 0 | T229: =IF(P229="작업부산물",F229,0) -> 0 | U229: =IF(P229="관급",F229,0) -> 0 | V229: =IF(P229="외주비",J229,0) -> 0 | W229: =IF(P229="장비비",J229,0) -> 0 | X229: =IF(P229="폐기물처리비",L229,0) -> 0 | Y229: =IF(P229="가설비",J229,0) -> 0 | Z229: =IF(P229="잡비제외분",F229,0) -> 0 | AA229: =IF(P229="사급자재대",L229,0) -> 0 | AB229: =IF(P229="관급자재대",L229,0) -> 0 | AC229: =IF(P229="석면분담금",L229,0) -> 0 | AD229: =IF(P229="임금채권부담금",L229,0) -> 0 | AE229: =IF(P229="안전관리비",L229,0) -> 0 | AF229: =IF(P229="품질관리비",L229,0) -> 0 | AG229: =IF(P229="작업부산물(철거해체)",L229,0) -> 0 | AH229: =IF(P229="어린이유해물질수수료",L229,0) -> 0 | AI229: =IF(P229="퇴직공제부금",L229,0) -> 0 | AJ229: =IF(P229="사용자항목8",L229,0) -> 0 | AK229: =IF(P229="사용자항목9",L229,0) -> 0 | AL229: =IF(P229="사용자항목10",L229,0) -> 0 | AM229: =IF(P229="사용자항목11",L229,0) -> 0 | AN229: =IF(P229="사용자항목12",L229,0) -> 0 | AO229: =IF(P229="사용자항목13",L229,0) -> 0 | AP229: =IF(P229="사용자항목14",L229,0) -> 0 | AQ229: =IF(P229="사용자항목15",L229,0) -> 0 | AR229: =IF(P229="사용자항목16",L229,0) -> 0 | AS229: =IF(P229="사용자항목17",L229,0) -> 0 | AT229: =IF(P229="사용자항목18",L229,0) -> 0 | AU229: =IF(P229="사용자항목19",L229,0) -> 0 | AY229: D
A230: 바닥철거 | B230: 타일떼내기 | C230: M2 | D230: 8 | O230: ="" | P230: 기계경비 | Q230: 1 | R230: =IF(P230="기계경비",J230,0) -> 0 | S230: =IF(P230="운반비",L230,0) -> 0 | T230: =IF(P230="작업부산물",F230,0) -> 0 | U230: =IF(P230="관급",F230,0) -> 0 | V230: =IF(P230="외주비",J230,0) -> 0 | W230: =IF(P230="장비비",J230,0) -> 0 | X230: =IF(P230="폐기물처리비",L230,0) -> 0 | Y230: =IF(P230="가설비",J230,0) -> 0 | Z230: =IF(P230="잡비제외분",F230,0) -> 0 | AA230: =IF(P230="사급자재대",L230,0) -> 0 | AB230: =IF(P230="관급자재대",L230,0) -> 0 | AC230: =IF(P230="석면분담금",L230,0) -> 0 | AD230: =IF(P230="임금채권부담금",L230,0) -> 0 | AE230: =IF(P230="안전관리비",L230,0) -> 0 | AF230: =IF(P230="품질관리비",L230,0) -> 0 | AG230: =IF(P230="작업부산물(철거해체)",L230,0) -> 0 | AH230: =IF(P230="어린이유해물질수수료",L230,0) -> 0 | AI230: =IF(P230="퇴직공제부금",L230,0) -> 0 | AJ230: =IF(P230="사용자항목8",L230,0) -> 0 | AK230: =IF(P230="사용자항목9",L230,0) -> 0 | AL230: =IF(P230="사용자항목10",L230,0) -> 0 | AM230: =IF(P230="사용자항목11",L230,0) -> 0 | AN230: =IF(P230="사용자항목12",L230,0) -> 0 | AO230: =IF(P230="사용자항목13",L230,0) -> 0 | AP230: =IF(P230="사용자항목14",L230,0) -> 0 | AQ230: =IF(P230="사용자항목15",L230,0) -> 0 | AR230: =IF(P230="사용자항목16",L230,0) -> 0 | AS230: =IF(P230="사용자항목17",L230,0) -> 0 | AT230: =IF(P230="사용자항목18",L230,0) -> 0 | AU230: =IF(P230="사용자항목19",L230,0) -> 0
A231: 바닥철거 | B231: 플로어링 | C231: M2 | D231: 8 | O231: ="" | P231: 기계경비 | Q231: 1 | R231: =IF(P231="기계경비",J231,0) -> 0 | S231: =IF(P231="운반비",L231,0) -> 0 | T231: =IF(P231="작업부산물",F231,0) -> 0 | U231: =IF(P231="관급",F231,0) -> 0 | V231: =IF(P231="외주비",J231,0) -> 0 | W231: =IF(P231="장비비",J231,0) -> 0 | X231: =IF(P231="폐기물처리비",L231,0) -> 0 | Y231: =IF(P231="가설비",J231,0) -> 0 | Z231: =IF(P231="잡비제외분",F231,0) -> 0 | AA231: =IF(P231="사급자재대",L231,0) -> 0 | AB231: =IF(P231="관급자재대",L231,0) -> 0 | AC231: =IF(P231="석면분담금",L231,0) -> 0 | AD231: =IF(P231="임금채권부담금",L231,0) -> 0 | AE231: =IF(P231="안전관리비",L231,0) -> 0 | AF231: =IF(P231="품질관리비",L231,0) -> 0 | AG231: =IF(P231="작업부산물(철거해체)",L231,0) -> 0 | AH231: =IF(P231="어린이유해물질수수료",L231,0) -> 0 | AI231: =IF(P231="퇴직공제부금",L231,0) -> 0 | AJ231: =IF(P231="사용자항목8",L231,0) -> 0 | AK231: =IF(P231="사용자항목9",L231,0) -> 0 | AL231: =IF(P231="사용자항목10",L231,0) -> 0 | AM231: =IF(P231="사용자항목11",L231,0) -> 0 | AN231: =IF(P231="사용자항목12",L231,0) -> 0 | AO231: =IF(P231="사용자항목13",L231,0) -> 0 | AP231: =IF(P231="사용자항목14",L231,0) -> 0 | AQ231: =IF(P231="사용자항목15",L231,0) -> 0 | AR231: =IF(P231="사용자항목16",L231,0) -> 0 | AS231: =IF(P231="사용자항목17",L231,0) -> 0 | AT231: =IF(P231="사용자항목18",L231,0) -> 0 | AU231: =IF(P231="사용자항목19",L231,0) -> 0 | AY231: D
A232: 바닥철거 | B232: 화강석 | C232: M2 | D232: 12 | O232: ="" | P232: 기계경비 | Q232: 1 | R232: =IF(P232="기계경비",J232,0) -> 0 | S232: =IF(P232="운반비",L232,0) -> 0 | T232: =IF(P232="작업부산물",F232,0) -> 0 | U232: =IF(P232="관급",F232,0) -> 0 | V232: =IF(P232="외주비",J232,0) -> 0 | W232: =IF(P232="장비비",J232,0) -> 0 | X232: =IF(P232="폐기물처리비",L232,0) -> 0 | Y232: =IF(P232="가설비",J232,0) -> 0 | Z232: =IF(P232="잡비제외분",F232,0) -> 0 | AA232: =IF(P232="사급자재대",L232,0) -> 0 | AB232: =IF(P232="관급자재대",L232,0) -> 0 | AC232: =IF(P232="석면분담금",L232,0) -> 0 | AD232: =IF(P232="임금채권부담금",L232,0) -> 0 | AE232: =IF(P232="안전관리비",L232,0) -> 0 | AF232: =IF(P232="품질관리비",L232,0) -> 0 | AG232: =IF(P232="작업부산물(철거해체)",L232,0) -> 0 | AH232: =IF(P232="어린이유해물질수수료",L232,0) -> 0 | AI232: =IF(P232="퇴직공제부금",L232,0) -> 0 | AJ232: =IF(P232="사용자항목8",L232,0) -> 0 | AK232: =IF(P232="사용자항목9",L232,0) -> 0 | AL232: =IF(P232="사용자항목10",L232,0) -> 0 | AM232: =IF(P232="사용자항목11",L232,0) -> 0 | AN232: =IF(P232="사용자항목12",L232,0) -> 0 | AO232: =IF(P232="사용자항목13",L232,0) -> 0 | AP232: =IF(P232="사용자항목14",L232,0) -> 0 | AQ232: =IF(P232="사용자항목15",L232,0) -> 0 | AR232: =IF(P232="사용자항목16",L232,0) -> 0 | AS232: =IF(P232="사용자항목17",L232,0) -> 0 | AT232: =IF(P232="사용자항목18",L232,0) -> 0 | AU232: =IF(P232="사용자항목19",L232,0) -> 0
A233: 바닥철거 | B233: 타일 | C233: M2 | D233: 2 | O233: ="" | P233: 기계경비 | Q233: 1 | R233: =IF(P233="기계경비",J233,0) -> 0 | S233: =IF(P233="운반비",L233,0) -> 0 | T233: =IF(P233="작업부산물",F233,0) -> 0 | U233: =IF(P233="관급",F233,0) -> 0 | V233: =IF(P233="외주비",J233,0) -> 0 | W233: =IF(P233="장비비",J233,0) -> 0 | X233: =IF(P233="폐기물처리비",L233,0) -> 0 | Y233: =IF(P233="가설비",J233,0) -> 0 | Z233: =IF(P233="잡비제외분",F233,0) -> 0 | AA233: =IF(P233="사급자재대",L233,0) -> 0 | AB233: =IF(P233="관급자재대",L233,0) -> 0 | AC233: =IF(P233="석면분담금",L233,0) -> 0 | AD233: =IF(P233="임금채권부담금",L233,0) -> 0 | AE233: =IF(P233="안전관리비",L233,0) -> 0 | AF233: =IF(P233="품질관리비",L233,0) -> 0 | AG233: =IF(P233="작업부산물(철거해체)",L233,0) -> 0 | AH233: =IF(P233="어린이유해물질수수료",L233,0) -> 0 | AI233: =IF(P233="퇴직공제부금",L233,0) -> 0 | AJ233: =IF(P233="사용자항목8",L233,0) -> 0 | AK233: =IF(P233="사용자항목9",L233,0) -> 0 | AL233: =IF(P233="사용자항목10",L233,0) -> 0 | AM233: =IF(P233="사용자항목11",L233,0) -> 0 | AN233: =IF(P233="사용자항목12",L233,0) -> 0 | AO233: =IF(P233="사용자항목13",L233,0) -> 0 | AP233: =IF(P233="사용자항목14",L233,0) -> 0 | AQ233: =IF(P233="사용자항목15",L233,0) -> 0 | AR233: =IF(P233="사용자항목16",L233,0) -> 0 | AS233: =IF(P233="사용자항목17",L233,0) -> 0 | AT233: =IF(P233="사용자항목18",L233,0) -> 0 | AU233: =IF(P233="사용자항목19",L233,0) -> 0 | AY233: D
A234: 벽 철거 | B234: 몰탈 | C234: M2 | D234: 9 | O234: ="" | P234: 기계경비 | Q234: 1 | R234: =IF(P234="기계경비",J234,0) -> 0 | S234: =IF(P234="운반비",L234,0) -> 0 | T234: =IF(P234="작업부산물",F234,0) -> 0 | U234: =IF(P234="관급",F234,0) -> 0 | V234: =IF(P234="외주비",J234,0) -> 0 | W234: =IF(P234="장비비",J234,0) -> 0 | X234: =IF(P234="폐기물처리비",L234,0) -> 0 | Y234: =IF(P234="가설비",J234,0) -> 0 | Z234: =IF(P234="잡비제외분",F234,0) -> 0 | AA234: =IF(P234="사급자재대",L234,0) -> 0 | AB234: =IF(P234="관급자재대",L234,0) -> 0 | AC234: =IF(P234="석면분담금",L234,0) -> 0 | AD234: =IF(P234="임금채권부담금",L234,0) -> 0 | AE234: =IF(P234="안전관리비",L234,0) -> 0 | AF234: =IF(P234="품질관리비",L234,0) -> 0 | AG234: =IF(P234="작업부산물(철거해체)",L234,0) -> 0 | AH234: =IF(P234="어린이유해물질수수료",L234,0) -> 0 | AI234: =IF(P234="퇴직공제부금",L234,0) -> 0 | AJ234: =IF(P234="사용자항목8",L234,0) -> 0 | AK234: =IF(P234="사용자항목9",L234,0) -> 0 | AL234: =IF(P234="사용자항목10",L234,0) -> 0 | AM234: =IF(P234="사용자항목11",L234,0) -> 0 | AN234: =IF(P234="사용자항목12",L234,0) -> 0 | AO234: =IF(P234="사용자항목13",L234,0) -> 0 | AP234: =IF(P234="사용자항목14",L234,0) -> 0 | AQ234: =IF(P234="사용자항목15",L234,0) -> 0 | AR234: =IF(P234="사용자항목16",L234,0) -> 0 | AS234: =IF(P234="사용자항목17",L234,0) -> 0 | AT234: =IF(P234="사용자항목18",L234,0) -> 0 | AU234: =IF(P234="사용자항목19",L234,0) -> 0 | AY234: D
A235: 인테리어벽철거 | B235: 커팅포함 | C235: ㎡ | D235: 11 | O235: ="" | P235: 기계경비 | Q235: 1 | R235: =IF(P235="기계경비",J235,0) -> 0 | S235: =IF(P235="운반비",L235,0) -> 0 | T235: =IF(P235="작업부산물",F235,0) -> 0 | U235: =IF(P235="관급",F235,0) -> 0 | V235: =IF(P235="외주비",J235,0) -> 0 | W235: =IF(P235="장비비",J235,0) -> 0 | X235: =IF(P235="폐기물처리비",L235,0) -> 0 | Y235: =IF(P235="가설비",J235,0) -> 0 | Z235: =IF(P235="잡비제외분",F235,0) -> 0 | AA235: =IF(P235="사급자재대",L235,0) -> 0 | AB235: =IF(P235="관급자재대",L235,0) -> 0 | AC235: =IF(P235="석면분담금",L235,0) -> 0 | AD235: =IF(P235="임금채권부담금",L235,0) -> 0 | AE235: =IF(P235="안전관리비",L235,0) -> 0 | AF235: =IF(P235="품질관리비",L235,0) -> 0 | AG235: =IF(P235="작업부산물(철거해체)",L235,0) -> 0 | AH235: =IF(P235="어린이유해물질수수료",L235,0) -> 0 | AI235: =IF(P235="퇴직공제부금",L235,0) -> 0 | AJ235: =IF(P235="사용자항목8",L235,0) -> 0 | AK235: =IF(P235="사용자항목9",L235,0) -> 0 | AL235: =IF(P235="사용자항목10",L235,0) -> 0 | AM235: =IF(P235="사용자항목11",L235,0) -> 0 | AN235: =IF(P235="사용자항목12",L235,0) -> 0 | AO235: =IF(P235="사용자항목13",L235,0) -> 0 | AP235: =IF(P235="사용자항목14",L235,0) -> 0 | AQ235: =IF(P235="사용자항목15",L235,0) -> 0 | AR235: =IF(P235="사용자항목16",L235,0) -> 0 | AS235: =IF(P235="사용자항목17",L235,0) -> 0 | AT235: =IF(P235="사용자항목18",L235,0) -> 0 | AU235: =IF(P235="사용자항목19",L235,0) -> 0 | AY235: D
A236: 천장철거 | B236: 철재,알미늄(철거재미사용) | C236: M2 | D236: 11 | O236: ="" | P236: 기계경비 | Q236: 1 | R236: =IF(P236="기계경비",J236,0) -> 0 | S236: =IF(P236="운반비",L236,0) -> 0 | T236: =IF(P236="작업부산물",F236,0) -> 0 | U236: =IF(P236="관급",F236,0) -> 0 | V236: =IF(P236="외주비",J236,0) -> 0 | W236: =IF(P236="장비비",J236,0) -> 0 | X236: =IF(P236="폐기물처리비",L236,0) -> 0 | Y236: =IF(P236="가설비",J236,0) -> 0 | Z236: =IF(P236="잡비제외분",F236,0) -> 0 | AA236: =IF(P236="사급자재대",L236,0) -> 0 | AB236: =IF(P236="관급자재대",L236,0) -> 0 | AC236: =IF(P236="석면분담금",L236,0) -> 0 | AD236: =IF(P236="임금채권부담금",L236,0) -> 0 | AE236: =IF(P236="안전관리비",L236,0) -> 0 | AF236: =IF(P236="품질관리비",L236,0) -> 0 | AG236: =IF(P236="작업부산물(철거해체)",L236,0) -> 0 | AH236: =IF(P236="어린이유해물질수수료",L236,0) -> 0 | AI236: =IF(P236="퇴직공제부금",L236,0) -> 0 | AJ236: =IF(P236="사용자항목8",L236,0) -> 0 | AK236: =IF(P236="사용자항목9",L236,0) -> 0 | AL236: =IF(P236="사용자항목10",L236,0) -> 0 | AM236: =IF(P236="사용자항목11",L236,0) -> 0 | AN236: =IF(P236="사용자항목12",L236,0) -> 0 | AO236: =IF(P236="사용자항목13",L236,0) -> 0 | AP236: =IF(P236="사용자항목14",L236,0) -> 0 | AQ236: =IF(P236="사용자항목15",L236,0) -> 0 | AR236: =IF(P236="사용자항목16",L236,0) -> 0 | AS236: =IF(P236="사용자항목17",L236,0) -> 0 | AT236: =IF(P236="사용자항목18",L236,0) -> 0 | AU236: =IF(P236="사용자항목19",L236,0) -> 0 | AY236: D
A237: 천장철거 | B237: 철재,알미늄(철거재사용) | C237: M2 | D237: 49 | O237: ="" | P237: 기계경비 | Q237: 1 | R237: =IF(P237="기계경비",J237,0) -> 0 | S237: =IF(P237="운반비",L237,0) -> 0 | T237: =IF(P237="작업부산물",F237,0) -> 0 | U237: =IF(P237="관급",F237,0) -> 0 | V237: =IF(P237="외주비",J237,0) -> 0 | W237: =IF(P237="장비비",J237,0) -> 0 | X237: =IF(P237="폐기물처리비",L237,0) -> 0 | Y237: =IF(P237="가설비",J237,0) -> 0 | Z237: =IF(P237="잡비제외분",F237,0) -> 0 | AA237: =IF(P237="사급자재대",L237,0) -> 0 | AB237: =IF(P237="관급자재대",L237,0) -> 0 | AC237: =IF(P237="석면분담금",L237,0) -> 0 | AD237: =IF(P237="임금채권부담금",L237,0) -> 0 | AE237: =IF(P237="안전관리비",L237,0) -> 0 | AF237: =IF(P237="품질관리비",L237,0) -> 0 | AG237: =IF(P237="작업부산물(철거해체)",L237,0) -> 0 | AH237: =IF(P237="어린이유해물질수수료",L237,0) -> 0 | AI237: =IF(P237="퇴직공제부금",L237,0) -> 0 | AJ237: =IF(P237="사용자항목8",L237,0) -> 0 | AK237: =IF(P237="사용자항목9",L237,0) -> 0 | AL237: =IF(P237="사용자항목10",L237,0) -> 0 | AM237: =IF(P237="사용자항목11",L237,0) -> 0 | AN237: =IF(P237="사용자항목12",L237,0) -> 0 | AO237: =IF(P237="사용자항목13",L237,0) -> 0 | AP237: =IF(P237="사용자항목14",L237,0) -> 0 | AQ237: =IF(P237="사용자항목15",L237,0) -> 0 | AR237: =IF(P237="사용자항목16",L237,0) -> 0 | AS237: =IF(P237="사용자항목17",L237,0) -> 0 | AT237: =IF(P237="사용자항목18",L237,0) -> 0 | AU237: =IF(P237="사용자항목19",L237,0) -> 0 | AY237: D
A238: 창호철거 | B238: 철재 | C238: M2 | D238: 70 | O238: ="" | P238: 기계경비 | Q238: 1 | R238: =IF(P238="기계경비",J238,0) -> 0 | S238: =IF(P238="운반비",L238,0) -> 0 | T238: =IF(P238="작업부산물",F238,0) -> 0 | U238: =IF(P238="관급",F238,0) -> 0 | V238: =IF(P238="외주비",J238,0) -> 0 | W238: =IF(P238="장비비",J238,0) -> 0 | X238: =IF(P238="폐기물처리비",L238,0) -> 0 | Y238: =IF(P238="가설비",J238,0) -> 0 | Z238: =IF(P238="잡비제외분",F238,0) -> 0 | AA238: =IF(P238="사급자재대",L238,0) -> 0 | AB238: =IF(P238="관급자재대",L238,0) -> 0 | AC238: =IF(P238="석면분담금",L238,0) -> 0 | AD238: =IF(P238="임금채권부담금",L238,0) -> 0 | AE238: =IF(P238="안전관리비",L238,0) -> 0 | AF238: =IF(P238="품질관리비",L238,0) -> 0 | AG238: =IF(P238="작업부산물(철거해체)",L238,0) -> 0 | AH238: =IF(P238="어린이유해물질수수료",L238,0) -> 0 | AI238: =IF(P238="퇴직공제부금",L238,0) -> 0 | AJ238: =IF(P238="사용자항목8",L238,0) -> 0 | AK238: =IF(P238="사용자항목9",L238,0) -> 0 | AL238: =IF(P238="사용자항목10",L238,0) -> 0 | AM238: =IF(P238="사용자항목11",L238,0) -> 0 | AN238: =IF(P238="사용자항목12",L238,0) -> 0 | AO238: =IF(P238="사용자항목13",L238,0) -> 0 | AP238: =IF(P238="사용자항목14",L238,0) -> 0 | AQ238: =IF(P238="사용자항목15",L238,0) -> 0 | AR238: =IF(P238="사용자항목16",L238,0) -> 0 | AS238: =IF(P238="사용자항목17",L238,0) -> 0 | AT238: =IF(P238="사용자항목18",L238,0) -> 0 | AU238: =IF(P238="사용자항목19",L238,0) -> 0
A239: 점자블럭 철거 | C239: EA | D239: 74 | O239: ="" | P239: 기계경비 | Q239: 1 | R239: =IF(P239="기계경비",J239,0) -> 0 | S239: =IF(P239="운반비",L239,0) -> 0 | T239: =IF(P239="작업부산물",F239,0) -> 0 | U239: =IF(P239="관급",F239,0) -> 0 | V239: =IF(P239="외주비",J239,0) -> 0 | W239: =IF(P239="장비비",J239,0) -> 0 | X239: =IF(P239="폐기물처리비",L239,0) -> 0 | Y239: =IF(P239="가설비",J239,0) -> 0 | Z239: =IF(P239="잡비제외분",F239,0) -> 0 | AA239: =IF(P239="사급자재대",L239,0) -> 0 | AB239: =IF(P239="관급자재대",L239,0) -> 0 | AC239: =IF(P239="석면분담금",L239,0) -> 0 | AD239: =IF(P239="임금채권부담금",L239,0) -> 0 | AE239: =IF(P239="안전관리비",L239,0) -> 0 | AF239: =IF(P239="품질관리비",L239,0) -> 0 | AG239: =IF(P239="작업부산물(철거해체)",L239,0) -> 0 | AH239: =IF(P239="어린이유해물질수수료",L239,0) -> 0 | AI239: =IF(P239="퇴직공제부금",L239,0) -> 0 | AJ239: =IF(P239="사용자항목8",L239,0) -> 0 | AK239: =IF(P239="사용자항목9",L239,0) -> 0 | AL239: =IF(P239="사용자항목10",L239,0) -> 0 | AM239: =IF(P239="사용자항목11",L239,0) -> 0 | AN239: =IF(P239="사용자항목12",L239,0) -> 0 | AO239: =IF(P239="사용자항목13",L239,0) -> 0 | AP239: =IF(P239="사용자항목14",L239,0) -> 0 | AQ239: =IF(P239="사용자항목15",L239,0) -> 0 | AR239: =IF(P239="사용자항목16",L239,0) -> 0 | AS239: =IF(P239="사용자항목17",L239,0) -> 0 | AT239: =IF(P239="사용자항목18",L239,0) -> 0 | AU239: =IF(P239="사용자항목19",L239,0) -> 0 | AY239: D
A240: 루버틀 철거후재설치 | C240: EA | D240: 2 | O240: ="" | P240: 기계경비 | Q240: 1 | R240: =IF(P240="기계경비",J240,0) -> 0 | S240: =IF(P240="운반비",L240,0) -> 0 | T240: =IF(P240="작업부산물",F240,0) -> 0 | U240: =IF(P240="관급",F240,0) -> 0 | V240: =IF(P240="외주비",J240,0) -> 0 | W240: =IF(P240="장비비",J240,0) -> 0 | X240: =IF(P240="폐기물처리비",L240,0) -> 0 | Y240: =IF(P240="가설비",J240,0) -> 0 | Z240: =IF(P240="잡비제외분",F240,0) -> 0 | AA240: =IF(P240="사급자재대",L240,0) -> 0 | AB240: =IF(P240="관급자재대",L240,0) -> 0 | AC240: =IF(P240="석면분담금",L240,0) -> 0 | AD240: =IF(P240="임금채권부담금",L240,0) -> 0 | AE240: =IF(P240="안전관리비",L240,0) -> 0 | AF240: =IF(P240="품질관리비",L240,0) -> 0 | AG240: =IF(P240="작업부산물(철거해체)",L240,0) -> 0 | AH240: =IF(P240="어린이유해물질수수료",L240,0) -> 0 | AI240: =IF(P240="퇴직공제부금",L240,0) -> 0 | AJ240: =IF(P240="사용자항목8",L240,0) -> 0 | AK240: =IF(P240="사용자항목9",L240,0) -> 0 | AL240: =IF(P240="사용자항목10",L240,0) -> 0 | AM240: =IF(P240="사용자항목11",L240,0) -> 0 | AN240: =IF(P240="사용자항목12",L240,0) -> 0 | AO240: =IF(P240="사용자항목13",L240,0) -> 0 | AP240: =IF(P240="사용자항목14",L240,0) -> 0 | AQ240: =IF(P240="사용자항목15",L240,0) -> 0 | AR240: =IF(P240="사용자항목16",L240,0) -> 0 | AS240: =IF(P240="사용자항목17",L240,0) -> 0 | AT240: =IF(P240="사용자항목18",L240,0) -> 0 | AU240: =IF(P240="사용자항목19",L240,0) -> 0 | AY240: D
A244: 합 계 | F244: =ROUNDDOWN(SUMIF(Q226:Q243,"1",F226:F243),0) -> 0 | H244: =ROUNDDOWN(SUMIF(Q226:Q243,"1",H226:H243),0) -> 0 | J244: =ROUNDDOWN(SUMIF(Q226:Q243,"1",J226:J243),0) -> 0 | L244: =F244+H244+J244 -> 0 | R244: =ROUNDDOWN(SUM(R226:R240),0) -> 0 | S244: =ROUNDDOWN(SUM(S226:S240),0) -> 0 | T244: =ROUNDDOWN(SUM(T226:T240),0) -> 0 | U244: =ROUNDDOWN(SUM(U226:U240),0) -> 0 | V244: =ROUNDDOWN(SUM(V226:V240),0) -> 0 | W244: =ROUNDDOWN(SUM(W226:W240),0) -> 0 | X244: =ROUNDDOWN(SUM(X226:X240),0) -> 0 | Y244: =ROUNDDOWN(SUM(Y226:Y240),0) -> 0 | ... AY244: =ROUNDDOWN(SUM(AY226:AY240),0) -> 0
...
