Workbook

Sheet 원가계산서
B1: 공 사 원 가 계 산 서
B2: 공사명 : 구덕운동장 씨름장 노후시설물 개보수공사
B3: 비 목 | E3: 금 액 | F3: 구 성 비 | G3: 비 고
A4: A1 | B4: 순 공 사 원 가 | C4: 재 료 비 | D4: 직 접 재 료 비 | E4: =TRUNC(공종별집계표!F5, 0) -> 0
A5: A2 | D5: 간 접 재 료 비 | E5: 0
A6: A3 | D6: 작 업 부 산 물 | E6: =TRUNC(공종별집계표!T26, 0) -> 0
A7: AS | D7: [ 소 계 ] | E7: =TRUNC(E4+E5-E6, 0) -> 0
A8: B1 | C8: 노 무 비 | D8: 직 접 노 무 비 | E8: =TRUNC(공종별집계표!H5, 0) -> 0
A9: B2 | D9: 간 접 노 무 비 | E9: =TRUNC(E8*0.175, 0) -> 0 | F9: 직접노무비 * 17.5%
A10: BS | D10: [ 소 계 ] | E10: =TRUNC(E8+E9, 0) -> 0
A11: C2 | C11: 경 비 | D11: 경 비 | E11: =TRUNC(공종별집계표!J5, 0) -> 0
A12: C4 | D12: 산 재 보 험 료 | E12: =TRUNC(E10*0.0356, 0) -> 0 | F12: 노무비 * 3.56%
A13: C5 | D13: 고 용 보 험 료 | E13: =TRUNC(E10*0.0101, 0) -> 0 | F13: 노무비 * 1.01%
A14: C6 | D14: 국민 건강 보험료 | E14: =TRUNC(E8*0.03595, 0) -> 0 | F14: 직접노무비 * 3.595%
A15: C7 | D15: 국민 연금 보험료 | E15: =TRUNC(E8*0.0475, 0) -> 0 | F15: 직접노무비 * 4.75%
A16: CB | D16: 노인장기요양보험료 | E16: =TRUNC(E14*0.1314, 0) -> 0 | F16: 건강보험료 * 13.14%
A17: C8 | D17: 퇴직 공제 부금비 | E17: =TRUNC(E8*0.023, 0) -> 0 | F17: 직접노무비 * 2.3%
A18: CA | D18: 산업안전보건관리비 | E18: =TRUNC((E7+E8)*0.0311, 0) -> 0 | F18: (재료비+직노) * 3.11%
A19: CG | D19: 기 타 경 비 | E19: =TRUNC((E7+E10)*0.032, 0) -> 0 | F19: (재료비+노무비) * 3.2%
A20: CH | D20: 환 경 보 전 비 | E20: =TRUNC((E7+E8+E11)*0.003, 0) -> 0 | F20: (재료비+직노+경비) * 0.3%
A21: CK | D21: 하도급지급보증수수료 | E21: =TRUNC((E7+E8+E11)*0.00081, 0) -> 0 | F21: (재료비+직노+경비) * 0.081% | G21: 최저가대상공사
A22: CL | D22: 건설기계대여금지급보증서발급수수료 | E22: =TRUNC((E7+E8+E11)*0.0007, 0) -> 0 | F22: (재료비+직노+경비) * 0.07%
A23: CM | D23: 석 면 분 담 금 | E23: =TRUNC(E10*0.00006, 0) -> 0 | F23: 노무비 * 0.006%
A24: CN | D24: 임 금 채 권 부 담 금 | E24: =TRUNC(E10*0.0009, 0) -> 0 | F24: 노무비 * 0.09%
A25: CS | D25: [ 소 계 ] | E25: =TRUNC(E11+E12+E13+E14+E15+E17+E18+E16+E19+E20+E21+E22+E23+E24, 0) -> 0
A26: S1 | B26: 계 | E26: =TRUNC(E7+E10+E25, 0) -> 0
A27: D1 | B27: 일 반 관 리 비 | E27: =TRUNC(E26*0.05, 0) -> 0 | F27: 계 * 5%
A28: D2 | B28: 이 윤 | F28: (노무비+경비+일반관리비) * 10%
A29: D5 | B29: 건설폐기물처리비
A30: D9 | B30: 공 급 가 액
A31: DB | B31: 부 가 가 치 세 | F31: 공급가액 * 10%
A32: DH | B32: 도 급 액
A33: DL | B33: 관급자관급자재비
A34: S2 | B34: 총 공 사 비

Sheet 공종별집계표
A1: 공 종 별 집 계 표
A2: [ 구덕운동장 씨름장 노후시설물 개보수공사 ]
A3: 품 명 | B3: 규 격 | C3: 단위 | D3: 수량 | E3: 재 료 비 | G3: 노 무 비 | I3: 경 비 | K3: 합 계 | M3: 비 고 | N3: 공종코드 | O3: 변수 | P3: 상위공종 | Q3: 공종구분 | R3: 공종레벨 | S3: 공종소계 | T3: 원가계산서 연결금액
E4: 단 가 | F4: 금 액 | G4: 단 가 | H4: 금 액 | I4: 단 가 | J4: 금 액 | K4: 단 가 | L4: 금 액
A5: 구덕운동장 씨름장 노후시설물 개보수공사 | D5: 1 | E5: =F6+F23 -> 0 | F5: =E5*D5 -> 0 | G5: =H6+H23 -> 0 | H5: =G5*D5 -> 0 | I5: =J6+J23 -> 0 | J5: =I5*D5 -> 0 | K5: =E5+G5+I5 -> 0 | L5: =F5+H5+J5 -> 0 | N5: 01 | R5: 1
A6: ■건축공사 | D6: 1 | E6: =F7 -> 0 | F6: =E6*D6 -> 0 | G6: =H7 -> 0 | H6: =G6*D6 -> 0 | I6: =J7 -> 0 | J6: =I6*D6 -> 0 | K6: =E6+G6+I6 -> 0 | L6: =F6+H6+J6 -> 0 | N6: 0101 | P6: 01 | R6: 2
A7: ▣리모델링공사 | D7: 1 | E7: =F8+F9+F10+F11+F12+F13+F14+F15+F16+F17+F18+F19+F20+F21+F22 -> 0 | F7: =E7*D7 -> 0 | G7: =H8+H9+H10+H11+H12+H13+H14+H15+H16+H17+H18+H19+H20+H21+H22 -> 0 | H7: =G7*D7 -> 0 | I7: =J8+J9+J10+J11+J12+J13+J14+J15+J16+J17+J18+J19+J20+J21+J22 -> 0 | J7: =I7*D7 -> 0 | K7: =E7+G7+I7 -> 0 | L7: =F7+H7+J7 -> 0 | N7: 010101 | P7: 0101 | R7: 3
A8: 철 골 공 사 | D8: 1 | E8: =공종별내역서!F29 -> 0 | F8: =E8*D8 -> 0 | G8: =공종별내역서!H29 -> 0 | H8: =G8*D8 -> 0 | I8: =공종별내역서!J29 -> 0 | J8: =I8*D8 -> 0 | K8: =E8+G8+I8 -> 0 | L8: =F8+H8+J8 -> 0 | N8: 01010101 | P8: 010101 | R8: 4
A9: 조 적 공 사 | D9: 1 | E9: =공종별내역서!F55 -> 0 | F9: =E9*D9 -> 0 | G9: =공종별내역서!H55 -> 0 | H9: =G9*D9 -> 0 | I9: =공종별내역서!J55 -> 0 | J9: =I9*D9 -> 0 | K9: =E9+G9+I9 -> 0 | L9: =F9+H9+J9 -> 0 | N9: 01010102 | P9: 010101 | R9: 4
A10: 돌 공 사 | D10: 1 | E10: =공종별내역서!F81 -> 0 | F10: =E10*D10 -> 0 | G10: =공종별내역서!H81 -> 0 | H10: =G10*D10 -> 0 | I10: =공종별내역서!J81 -> 0 | J10: =I10*D10 -> 0 | K10: =E10+G10+I10 -> 0 | L10: =F10+H10+J10 -> 0 | N10: 01010103 | P10: 010101 | R10: 4
A11: 타 일 공 사 | D11: 1 | E11: =공종별내역서!F107 -> 0 | F11: =E11*D11 -> 0 | G11: =공종별내역서!H107 -> 0 | H11: =G11*D11 -> 0 | I11: =공종별내역서!J107 -> 0 | J11: =I11*D11 -> 0 | K11: =E11+G11+I11 -> 0 | L11: =F11+H11+J11 -> 0 | N11: 01010104 | P11: 010101 | R11: 4
A12: 목공사및수장공사 | D12: 1 | E12: =공종별내역서!F133 -> 0 | F12: =E12*D12 -> 0 | G12: =공종별내역서!H133 -> 0 | H12: =G12*D12 -> 0 | I12: =공종별내역서!J133 -> 0 | J12: =I12*D12 -> 0 | K12: =E12+G12+I12 -> 0 | L12: =F12+H12+J12 -> 0 | N12: 01010105 | P12: 010101 | R12: 4
A13: 방 수 공 사 | D13: 1 | E13: =공종별내역서!F159 -> 0 | F13: =E13*D13 -> 0 | G13: =공종별내역서!H159 -> 0 | H13: =G13*D13 -> 0 | I13: =공종별내역서!J159 -> 0 | J13: =I13*D13 -> 0 | K13: =E13+G13+I13 -> 0 | L13: =F13+H13+J13 -> 0 | N13: 01010106 | P13: 010101 | R13: 4
A14: 지붕 및 홈통공사 | D14: 1 | E14: =공종별내역서!F185 -> 0 | F14: =E14*D14 -> 0 | G14: =공종별내역서!H185 -> 0 | H14: =G14*D14 -> 0 | I14: =공종별내역서!J185 -> 0 | J14: =I14*D14 -> 0 | K14: =E14+G14+I14 -> 0 | L14: =F14+H14+J14 -> 0 | N14: 01010107 | P14: 010101 | R14: 4
A15: 금 속 공 사 | D15: 1 | E15: =공종별내역서!F211 -> 0 | F15: =E15*D15 -> 0 | G15: =공종별내역서!H211 -> 0 | H15: =G15*D15 -> 0 | I15: =공종별내역서!J211 -> 0 | J15: =I15*D15 -> 0 | K15: =E15+G15+I15 -> 0 | L15: =F15+H15+J15 -> 0 | N15: 01010108 | P15: 010101 | R15: 4
A16: 미 장 공 사 | D16: 1 | E16: =공종별내역서!F237 -> 0 | F16: =E16*D16 -> 0 | G16: =공종별내역서!H237 -> 0 | H16: =G16*D16 -> 0 | I16: =공종별내역서!J237 -> 0 | J16: =I16*D16 -> 0 | K16: =E16+G16+I16 -> 0 | L16: =F16+H16+J16 -> 0 | N16: 01010109 | P16: 010101 | R16: 4
A17: 창호 및 유리공사 | D17: 1 | E17: =공종별내역서!F263 -> 0 | F17: =E17*D17 -> 0 | G17: =공종별내역서!H263 -> 0 | H17: =G17*D17 -> 0 | I17: =공종별내역서!J263 -> 0 | J17: =I17*D17 -> 0 | K17: =E17+G17+I17 -> 0 | L17: =F17+H17+J17 -> 0 | N17: 01010110 | P17: 010101 | R17: 4
A18: 칠 공 사 | D18: 1 | E18: =공종별내역서!F289 -> 0 | F18: =E18*D18 -> 0 | G18: =공종별내역서!H289 -> 0 | H18: =G18*D18 -> 0 | I18: =공종별내역서!J289 -> 0 | J18: =I18*D18 -> 0 | K18: =E18+G18+I18 -> 0 | L18: =F18+H18+J18 -> 0 | N18: 01010111 | P18: 010101 | R18: 4
A19: 철 거 공 사 | D19: 1 | E19: =공종별내역서!F315 -> 0 | F19: =E19*D19 -> 0 | G19: =공종별내역서!H315 -> 0 | H19: =G19*D19 -> 0 | I19: =공종별내역서!J315 -> 0 | J19: =I19*D19 -> 0 | K19: =E19+G19+I19 -> 0 | L19: =F19+H19+J19 -> 0 | N19: 01010112 | P19: 010101 | R19: 4
A20: 보 수 공 사 | D20: 1 | E20: =공종별내역서!F341 -> 0 | F20: =E20*D20 -> 0 | G20: =공종별내역서!H341 -> 0 | H20: =G20*D20 -> 0 | I20: =공종별내역서!J341 -> 0 | J20: =I20*D20 -> 0 | K20: =E20+G20+I20 -> 0 | L20: =F20+H20+J20 -> 0 | N20: 01010113 | P20: 010101 | R20: 4
A21: 골 재 비 | D21: 1 | E21: =공종별내역서!F367 -> 0 | F21: =E21*D21 -> 0 | G21: =공종별내역서!H367 -> 0 | H21: =G21*D21 -> 0 | I21: =공종별내역서!J367 -> 0 | J21: =I21*D21 -> 0 | K21: =E21+G21+I21 -> 0 | L21: =F21+H21+J21 -> 0 | N21: 01010114 | P21: 010101 | R21: 4
A22: 운 반 비 | D22: 1 | E22: =공종별내역서!F393 -> 0 | F22: =E22*D22 -> 0 | G22: =공종별내역서!H393 -> 0 | H22: =G22*D22 -> 0 | I22: =공종별내역서!J393 -> 0 | J22: =I22*D22 -> 0 | K22: =E22+G22+I22 -> 0 | L22: =F22+H22+J22 -> 0 | N22: 01010115 | P22: 010101 | R22: 4
A23: ■기계설비공사 | D23: 1 | E23: =공종별내역서!F419 -> 0 | F23: =E23*D23 -> 0 | G23: =공종별내역서!H419 -> 0 | H23: =G23*D23 -> 0 | I23: =공종별내역서!J419 -> 0 | J23: =I23*D23 -> 0 | K23: =E23+G23+I23 -> 0 | L23: =F23+H23+J23 -> 0 | N23: 0102 | P23: 01 | R23: 2
A24: ■관급자관급자재비 | D24: 1 | E24: =F25 -> 0 | F24: =E24*D24 -> 0 | G24: =H25 -> 0 | H24: =G24*D24 -> 0 | I24: =J25 -> 0 | J24: =I24*D24 -> 0 | K24: =E24+G24+I24 -> 0 | L24: =F24+H24+J24 -> 0 | N24: 0103 | Q24: 8 | R24: 2 | T24: =L24*1 -> 0
A25: 건축공사 | D25: 1 | E25: =공종별내역서!F445 -> 0 | F25: =E25*D25 -> 0 | G25: =공종별내역서!H445 -> 0 | H25: =G25*D25 -> 0 | I25: =공종별내역서!J445 -> 0 | J25: =I25*D25 -> 0 | K25: =E25+G25+I25 -> 0 | L25: =F25+H25+J25 -> 0 | N25: 010301 | P25: 0103 | R25: 3
A26: ■고재처리비 | D26: 1 | E26: =F27 -> 0 | F26: =E26*D26 -> 0 | G26: =H27 -> 0 | H26: =G26*D26 -> 0 | I26: =J27 -> 0 | J26: =I26*D26 -> 0 | K26: =E26+G26+I26 -> 0 | L26: =F26+H26+J26 -> 0 | N26: 0104 | Q26: 1 | R26: 2 | T26: =L26*1 -> 0
A27: 건축공사 | D27: 1 | E27: =공종별내역서!F471 -> 0 | F27: =E27*D27 -> 0 | G27: =공종별내역서!H471 -> 0 | H27: =G27*D27 -> 0 | I27: =공종별내역서!J471 -> 0 | J27: =I27*D27 -> 0 | K27: =E27+G27+I27 -> 0 | L27: =F27+H27+J27 -> 0 | N27: 010401 | P27: 0104 | R27: 3
A28: ■건설폐기물처리비 | D28: 1 | E28: =공종별내역서!F497 -> 0 | F28: =E28*D28 -> 0 | G28: =공종별내역서!H497 -> 0 | H28: =G28*D28 -> 0 | I28: =공종별내역서!J497 -> 0 | J28: =I28*D28 -> 0 | K28: =E28+G28+I28 -> 0 | L28: =F28+H28+J28 -> 0 | N28: 0105 | Q28: 9 | R28: 2 | T28: =L28*1 -> 0
A29: [ 합 계 ] | F29: =F5 -> 0 | H29: =H5 -> 0 | J29: =J5 -> 0 | L29: =L5 -> 0

Sheet 공종별내역서
A1: [ 구덕운동장 씨름장 노후시설물 개보수공사 ]
A2: 품 명 | B2: 규 격 | C2: 단위 | D2: 수량 | E2: 재 료 비 | G2: 노 무 비 | I2: 경 비 | K2: 합 계 | M2: 비 고 | N2: 품목코드 | O2: 변수 | P2: 설정 | Q2: 공종코드 | R2: 일위 | S2: 단산 | T2: 자재 | U2: 손료적용 | V2: 손료저장 | W2: 적용율 | X2: JUK1 | Y2: JUK2 | Z2: JUK3 | AA2: JUK4 | AB2: JUK5 | AC2: JUK6 | AD2: JUK7 | AE2: JUK8 | AF2: JUK9 | AG2: JUK10 | AH2: JUK11 | AI2: JUK12 | AJ2: JUK13 | AK2: JUK14 | AL2: JUK15 | AM2: JUK16 | AN2: JUK17 | AO2: JUK18 | AP2: JUK19 | AQ2: JUK20 | AR2: 자재구분 | AS2: 공종구분 | AT2: 공종레벨 | AU2: 공종+자재 | AV2: 고유번호
E3: 단 가 | F3: 금 액 | G3: 단 가 | H3: 금 액 | I3: 단 가 | J3: 금 액 | K3: 단 가 | L3: 금 액
A4: 철 골 공 사 | B4: ■건축공사 ▣리모델링공사 | Q4: 01010101
A5: ㄱ형강 | B5: ㄱ형강, 부등변, 100*75*7mm | C5: TON | D5: 0.249 | E5: =TRUNC(단가대비표!O28,0) -> 0 | F5: =TRUNC(E5*D5, 0) -> 0 | G5: =TRUNC(단가대비표!P28,0) -> 0 | H5: =TRUNC(G5*D5, 0) -> 0 | I5: =TRUNC(단가대비표!V28,0) -> 0 | J5: =TRUNC(I5*D5, 0) -> 0 | K5: =TRUNC(E5+G5+I5, 0) -> 0 | L5: =TRUNC(F5+H5+J5, 0) -> 0 | M5: 자재 24 | N5: 5AB1035B888F03AD9F9F507398425D79113D80 | Q5: 01010101 | R5: F | S5: F | T5: T | AU5: 010101015AB1035B888F03AD9F9F507398425D79113D80 | AV5: 4
A6: 경량형강 | B6: 경량형강, 블랙C형강, 100*50*20, t3.2 | C6: TON | D6: 3.183 | E6: =TRUNC(단가대비표!O29,0) -> 0 | F6: =TRUNC(E6*D6, 0) -> 0 | G6: =TRUNC(단가대비표!P29,0) -> 0 | H6: =TRUNC(G6*D6, 0) -> 0 | I6: =TRUNC(단가대비표!V29,0) -> 0 | J6: =TRUNC(I6*D6, 0) -> 0 | K6: =TRUNC(E6+G6+I6, 0) -> 0 | L6: =TRUNC(F6+H6+J6, 0) -> 0 | M6: 자재 25 | N6: 5AB1035B888F0381914C343228DEFDE291BDCE | Q6: 01010101 | R6: F | S6: F | T6: T | AU6: 010101015AB1035B888F0381914C343228DEFDE291BDCE | AV6: 5
A7: 일반구조용각형강관 | B7: 일반구조용각형강관, 각형강관, 50*50*2.3mm | C7: TON | D7: 3.149 | E7: =TRUNC(단가대비표!O90,0) -> 0 | F7: =TRUNC(E7*D7, 0) -> 0 | G7: =TRUNC(단가대비표!P90,0) -> 0 | H7: =TRUNC(G7*D7, 0) -> 0 | I7: =TRUNC(단가대비표!V90,0) -> 0 | J7: =TRUNC(I7*D7, 0) -> 0 | K7: =TRUNC(E7+G7+I7, 0) -> 0 | L7: =TRUNC(F7+H7+J7, 0) -> 0 | M7: 자재 86 | N7: 5AC3736585686A7D96AF66D658BB09D9A1BDDC | Q7: 01010101 | R7: F | S7: F | T7: T | AU7: 010101015AC3736585686A7D96AF66D658BB09D9A1BDDC | AV7: 6
A8: 경량형강철골조 조립설치 | B8: 비내력식 | C8: TON | D8: 3.269 | E8: =TRUNC(일위대가목록!E4,0) -> 0 | F8: =TRUNC(E8*D8, 0) -> 0 | G8: =TRUNC(일위대가목록!F4,0) -> 0 | H8: =TRUNC(G8*D8, 0) -> 0 | I8: =TRUNC(일위대가목록!G4,0) -> 0 | J8: =TRUNC(I8*D8, 0) -> 0 | K8: =TRUNC(E8+G8+I8, 0) -> 0 | L8: =TRUNC(F8+H8+J8, 0) -> 0 | M8: 호표 1 | N8: 5D9D33628C12512795CEB555685721 | Q8: 01010101 | R8: T | S8: F | T8: F | AU8: 010101015D9D33628C12512795CEB555685721 | AV8: 105
A9: 철골 세우기 - 트럭 탑재령 크레인 15ton | B9: 소규모 건물 | C9: TON | D9: 3.269 | E9: =TRUNC(일위대가목록!E5,0) -> 0 | F9: =TRUNC(E9*D9, 0) -> 0 | G9: =TRUNC(일위대가목록!F5,0) -> 0 | H9: =TRUNC(G9*D9, 0) -> 0 | I9: =TRUNC(일위대가목록!G5,0) -> 0 | J9: =TRUNC(I9*D9, 0) -> 0 | K9: =TRUNC(E9+G9+I9, 0) -> 0 | L9: =TRUNC(F9+H9+J9, 0) -> 0 | M9: 호표 2 | N9: 5D9D73FF8B2DB46B97314033F8E701 | Q9: 01010101 | R9: T | S9: F | T9: F | AU9: 010101015D9D73FF8B2DB46B97314033F8E701 | AV9: 106
A10: 철강설 | B10: 철강설, 고철, 작업설부산물 | C10: TON | D10: -0.312 | E10: =TRUNC(단가대비표!O18,0) -> 0 | F10: =TRUNC(E10*D10, 0) -> 0 | G10: =TRUNC(단가대비표!P18,0) -> 0 | H10: =TRUNC(G10*D10, 0) -> 0 | I10: =TRUNC(단가대비표!V18,0) -> 0 | J10: =TRUNC(I10*D10, 0) -> 0 | K10: =TRUNC(E10+G10+I10, 0) -> 0 | L10: =TRUNC(F10+H10+J10, 0) -> 0 | M10: 자재 14 | N10: 5A9623FF8E9AD5BE96AF103018AAE1A7315C95 | Q10: 01010101 | R10: F | S10: F | T10: T | AU10: 010101015A9623FF8E9AD5BE96AF103018AAE1A7315C95 | AV10: 107
A11: 녹막이페인트(뿜칠) | B11: 1회. 1종 | C11: M2 | D11: 428.1 | E11: =TRUNC(일위대가목록!E6,0) -> 0 | F11: =TRUNC(E11*D11, 0) -> 0 | G11: =TRUNC(일위대가목록!F6,0) -> 0 | H11: =TRUNC(G11*D11, 0) -> 0 | I11: =TRUNC(일위대가목록!G6,0) -> 0 | J11: =TRUNC(I11*D11, 0) -> 0 | K11: =TRUNC(E11+G11+I11, 0) -> 0 | L11: =TRUNC(F11+H11+J11, 0) -> 0 | M11: 호표 3 | N11: 5D9D83E282FE2B8C9C62C73F380961 | Q11: 01010101 | R11: T | S11: F | T11: F | AU11: 010101015D9D83E282FE2B8C9C62C73F380961 | AV11: 7
A12: 조합페인트(뿜칠) | B12: 철재면 2회. 1급 | C12: M2 | D12: 428.1 | E12: =TRUNC(일위대가목록!E7,0) -> 0 | F12: =TRUNC(E12*D12, 0) -> 0 | G12: =TRUNC(일위대가목록!F7,0) -> 0 | H12: =TRUNC(G12*D12, 0) -> 0 | I12: =TRUNC(일위대가목록!G7,0) -> 0 | J12: =TRUNC(I12*D12, 0) -> 0 | K12: =TRUNC(E12+G12+I12, 0) -> 0 | L12: =TRUNC(F12+H12+J12, 0) -> 0 | M12: 호표 4 | N12: 5D9D83E1809FED3095E4521818CC81 | Q12: 01010101 | R12: T | S12: F | T12: F | AU12: 010101015D9D83E1809FED3095E4521818CC81 | AV12: 8
Q13: 01010101
Q14: 01010101
Q15: 01010101
Q16: 01010101
Q17: 01010101
Q18: 01010101
Q19: 01010101
Q20: 01010101
Q21: 01010101
Q22: 01010101
Q23: 01010101
Q24: 01010101
... Q28: 01010101
A29: [ 합 계 ] | F29: =SUMIF(Q5:Q28,"01010101",F5:F28) -> 0 | H29: =SUMIF(Q5:Q28,"01010101",H5:H28) -> 0 | J29: =SUMIF(Q5:Q28,"01010101",J5:J28) -> 0 | L29: =SUMIF(Q5:Q28,"01010101",L5:L28) -> 0 | N29: TOTAL
A30: 조 적 공 사 | B30: ■건축공사 ▣리모델링공사 | Q30: 01010102
A31: 콘크리트벽돌 | B31: 콘크리트벽돌, 190*57*90mm, C종2급 | C31: 매 | D31: 1237 | E31: =TRUNC(단가대비표!O41,0) -> 0 | F31: =TRUNC(E31*D31, 0) -> 0 | G31: =TRUNC(단가대비표!P41,0) -> 0 | H31: =TRUNC(G31*D31, 0) -> 0 | I31: =TRUNC(단가대비표!V41,0) -> 0 | J31: =TRUNC(I31*D31, 0) -> 0 | K31: =TRUNC(E31+G31+I31, 0) -> 0 | L31: =TRUNC(F31+H31+J31, 0) -> 0 | M31: 자재 37 | N31: 5AB1035B88B447819F1F430C18F647E411C87E | Q31: 01010102 | R31: F | S31: F | T31: T | AU31: 010101025AB1035B88B447819F1F430C18F647E411C87E | AV31: 110
A32: 0.5B 벽돌쌓기 | B32: 3.6m 이하, 시공량 25m2/일당 | C32: M2 | D32: 15.7 | E32: =TRUNC(일위대가목록!E8,0) -> 0 | F32: =TRUNC(E32*D32, 0) -> 0 | G32: =TRUNC(일위대가목록!F8,0) -> 0 | H32: =TRUNC(G32*D32, 0) -> 0 | I32: =TRUNC(일위대가목록!G8,0) -> 0 | J32: =TRUNC(I32*D32, 0) -> 0 | K32: =TRUNC(E32+G32+I32, 0) -> 0 | L32: =TRUNC(F32+H32+J32, 0) -> 0 | M32: 호표 5 | N32: 5D9D032C8CE883B497AC1E49985111 | Q32: 01010102 | R32: T | S32: F | T32: F | AU32: 010101025D9D032C8CE883B497AC1E49985111 | AV32: 10
A33: 벽돌운반 | B33: 인력, 1층 | C33: 천매 | D33: 1.237 | E33: =TRUNC(일위대가목록!E9,0) -> 0 | F33: =TRUNC(E33*D33, 0) -> 0 | G33: =TRUNC(일위대가목록!F9,0) -> 0 | H33: =TRUNC(G33*D33, 0) -> 0 | I33: =TRUNC(일위대가목록!G9,0) -> 0 | J33: =TRUNC(I33*D33, 0) -> 0 | K33: =TRUNC(E33+G33+I33, 0) -> 0 | L33: =TRUNC(F33+H33+J33, 0) -> 0 | M33: 호표 6 | N33: 5D9D032C8CCDD1239E0849E2D8B331 | Q33: 01010102 | R33: T | S33: F | T33: F | AU33: 010101025D9D032C8CCDD1239E0849E2D8B331 | AV33: 109
Q34: 01010102
Q35: 01010102
Q36: 01010102
Q37: 01010102
Q38: 01010102
Q39: 01010102
Q40: 01010102
Q41: 01010102
Q42: 01010102
Q43: 01010102
Q44: 01010102
Q45: 01010102
... Q54: 01010102
A55: [ 합 계 ] | F55: =SUMIF(Q31:Q54,"01010102",F31:F54) -> 0 | H55: =SUMIF(Q31:Q54,"01010102",H31:H54) -> 0 | J55: =SUMIF(Q31:Q54,"01010102",J31:J54) -> 0 | L55: =SUMIF(Q31:Q54,"01010102",L31:L54) -> 0 | N55: TOTAL
A56: 돌 공 사 | B56: ■건축공사 ▣리모델링공사 | Q56: 01010103
A57: 화강석 두겁돌(습식, 물갈기) | B57: 포천석 120*20mm, 모르타르 30mm | C57: M | D57: 10.3 | E57: =TRUNC(일위대가목록!E10,0) -> 0 | F57: =TRUNC(E57*D57, 0) -> 0 | G57: =TRUNC(일위대가목록!F10,0) -> 0 | H57: =TRUNC(G57*D57, 0) -> 0 | I57: =TRUNC(일위대가목록!G10,0) -> 0 | J57: =TRUNC(I57*D57, 0) -> 0 | K57: =TRUNC(E57+G57+I57, 0) -> 0 | L57: =TRUNC(F57+H57+J57, 0) -> 0 | M57: 호표 7 | N57: 5D9DB315897EA9BB9B411D52F85F21 | Q57: 01010103 | R57: T | S57: F | T57: F | AU57: 010101035D9DB315897EA9BB9B411D52F85F21 | AV57: 12
Q58: 01010103
Q59: 01010103
Q60: 01010103
Q61: 01010103
Q62: 01010103
Q63: 01010103
Q64: 01010103
Q65: 01010103
Q66: 01010103
Q67: 01010103
Q68: 01010103
Q69: 01010103
... Q80: 01010103
A81: [ 합 계 ] | F81: =SUMIF(Q57:Q80,"01010103",F57:F80) -> 0 | H81: =SUMIF(Q57:Q80,"01010103",H57:H80) -> 0 | J81: =SUMIF(Q57:Q80,"01010103",J57:J80) -> 0 | L81: =SUMIF(Q57:Q80,"01010103",L57:L80) -> 0 | N81: TOTAL
A82: 타 일 공 사 | B82: ■건축공사 ▣리모델링공사 | Q82: 01010104
A83: 도기질타일 | B83: 도기질타일, 300*600mm | C83: M2 | D83: 91.2 | E83: =TRUNC(단가대비표!O44,0) -> 0 | F83: =TRUNC(E83*D83, 0) -> 0 | G83: =TRUNC(단가대비표!P44,0) -> 0 | H83: =TRUNC(G83*D83, 0) -> 0 | I83: =TRUNC(단가대비표!V44,0) -> 0 | J83: =TRUNC(I83*D83, 0) -> 0 | K83: =TRUNC(E83+G83+I83, 0) -> 0 | L83: =TRUNC(F83+H83+J83, 0) -> 0 | M83: 자재 40 | N83: 5AB1035B88B447929609C1CA28AC0CB9410C69 | Q83: 01010104 | R83: F | S83: F | T83: T | AU83: 010101045AB1035B88B447929609C1CA28AC0CB9410C69 | AV83: 14
A84: 자기질타일 | B84: 자기질타일, 300*300mm | C84: M2 | D84: 28.8 | E84: =TRUNC(단가대비표!O45,0) -> 0 | F84: =TRUNC(E84*D84, 0) -> 0 | G84: =TRUNC(단가대비표!P45,0) -> 0 | H84: =TRUNC(G84*D84, 0) -> 0 | I84: =TRUNC(단가대비표!V45,0) -> 0 | J84: =TRUNC(I84*D84, 0) -> 0 | K84: =TRUNC(E84+G84+I84, 0) -> 0 | L84: =TRUNC(F84+H84+J84, 0) -> 0 | M84: 자재 41 | N84: 5AB1035B88B447929609C1C87815923A3178A2 | Q84: 01010104 | R84: F | S84: F | T84: T | AU84: 010101045AB1035B88B447929609C1C87815923A3178A2 | AV84: 15
A85: 타일 떠붙이기(바탕 24mm) | B85: 벽, 300*600(백색줄눈) | C85: M2 | D85: 91.2 | E85: =TRUNC(일위대가목록!E11,0) -> 0 | F85: =TRUNC(E85*D85, 0) -> 0 | G85: =TRUNC(일위대가목록!F11,0) -> 0 | H85: =TRUNC(G85*D85, 0) -> 0 | I85: =TRUNC(일위대가목록!G11,0) -> 0 | J85: =TRUNC(I85*D85, 0) -> 0 | K85: =TRUNC(E85+G85+I85, 0) -> 0 | L85: =TRUNC(F85+H85+J85, 0) -> 0 | M85: 호표 8 | N85: 5D9DB3168B747201909B111698C871 | Q85: 01010104 | R85: T | S85: F | T85: F | AU85: 010101045D9DB3168B747201909B111698C871 | AV85: 16
A86: 타일 압착 붙이기(바탕 24mm+압 5mm) | B86: 바닥, 300*300(타일C, 백색줄눈) | C86: M2 | D86: 28.8 | E86: =TRUNC(일위대가목록!E12,0) -> 0 | F86: =TRUNC(E86*D86, 0) -> 0 | G86: =TRUNC(일위대가목록!F12,0) -> 0 | H86: =TRUNC(G86*D86, 0) -> 0 | I86: =TRUNC(일위대가목록!G12,0) -> 0 | J86: =TRUNC(I86*D86, 0) -> 0 | K86: =TRUNC(E86+G86+I86, 0) -> 0 | L86: =TRUNC(F86+H86+J86, 0) -> 0 | M86: 호표 9 | N86: 5D9DB3168B5994B1986CDCD3C87731 | Q86: 01010104 | R86: T | S86: F | T86: F | AU86: 010101045D9DB3168B5994B1986CDCD3C87731 | AV86: 17
Q87: 01010104
Q88: 01010104
Q89: 01010104
Q90: 01010104
Q91: 01010104
Q92: 01010104
Q93: 01010104
Q94: 01010104
Q95: 01010104
Q96: 01010104
Q97: 01010104
Q98: 01010104
... Q106: 01010104
A107: [ 합 계 ] | F107: =SUMIF(Q83:Q106,"01010104",F83:F106) -> 0 | H107: =SUMIF(Q83:Q106,"01010104",H83:H106) -> 0 | J107: =SUMIF(Q83:Q106,"01010104",J83:J106) -> 0 | L107: =SUMIF(Q83:Q106,"01010104",L83:L106) -> 0 | N107: TOTAL
A108: 목공사및수장공사 | B108: ■건축공사 ▣리모델링공사 | Q108: 01010105
A109: 열경화성수지천장재-현장설치도 | B109: 300*300*1.5T, 신원형, 신사각, 원형, 평판 | C109: M2 | D109: 27.6 | E109: =TRUNC(단가대비표!O49,0) -> 0 | F109: =TRUNC(E109*D109, 0) -> 0 | G109: =TRUNC(단가대비표!P49,0) -> 0 | H109: =TRUNC(G109*D109, 0) -> 0 | I109: =TRUNC(단가대비표!V49,0) -> 0 | J109: =TRUNC(I109*D109, 0) -> 0 | K109: =TRUNC(E109+G109+I109, 0) -> 0 | L109: =TRUNC(F109+H109+J109, 0) -> 0 | M109: 자재 45 | N109: 5AB1035B88E1B97396278FCD68C07782C15CDD | Q109: 01010105 | R109: F | S109: F | T109: T | AU109: 010101055AB1035B88E1B97396278FCD68C07782C15CDD | AV109: 19
A110: 열경화성수지천장재몰딩 | B110: 칼라<현장설치도> | C110: M | D110: 35.2 | E110: =TRUNC(단가대비표!O50,0) -> 0 | F110: =TRUNC(E110*D110, 0) -> 0 | G110: =TRUNC(단가대비표!P50,0) -> 0 | H110: =TRUNC(G110*D110, 0) -> 0 | I110: =TRUNC(단가대비표!V50,0) -> 0 | J110: =TRUNC(I110*D110, 0) -> 0 | K110: =TRUNC(E110+G110+I110, 0) -> 0 | L110: =TRUNC(F110+H110+J110, 0) -> 0 | M110: 자재 46 | N110: 5AB1035B88E1B97396278FCD68C0656831B5D8 | Q110: 01010105 | R110: F | S110: F | T110: T | AU110: 010101055AB1035B88E1B97396278FCD68C0656831B5D8 | AV110: 20
A111: 화장실칸막이 | B111: 20T*600*1900mm,도어-코어보드,간벽포스트-방수PB<현장설치도> | C111: M2 | D111: 18.6 | E111: =TRUNC(단가대비표!O65,0) -> 0 | F111: =TRUNC(E111*D111, 0) -> 0 | G111: =TRUNC(단가대비표!P65,0) -> 0 | H111: =TRUNC(G111*D111, 0) -> 0 | I111: =TRUNC(단가대비표!V65,0) -> 0 | J111: =TRUNC(I111*D111, 0) -> 0 | K111: =TRUNC(E111+G111+I111, 0) -> 0 | L111: =TRUNC(F111+H111+J111, 0) -> 0 | M111: 자재 61 | N111: 5AB1035B880BA7B69C61AABA7834553C01FA48 | Q111: 01010105 | R111: F | S111: F | T111: T | AU111: 010101055AB1035B880BA7B69C61AABA7834553C01FA48 | AV111: 21
A112: 소변기칸막이 | B112: 20T*(450~500)*1200,코아보드소변기칸막이<현장설치도> | C112: EA | D112: 2 | E112: =TRUNC(단가대비표!O66,0) -> 0 | F112: =TRUNC(E112*D112, 0) -> 0 | G112: =TRUNC(단가대비표!P66,0) -> 0 | H112: =TRUNC(G112*D112, 0) -> 0 | I112: =TRUNC(단가대비표!V66,0) -> 0 | J112: =TRUNC(I112*D112, 0) -> 0 | K112: =TRUNC(E112+G112+I112, 0) -> 0 | L112: =TRUNC(F112+H112+J112, 0) -> 0 | M112: 자재 62 | N112: 5AB1035B880BA7B69C61AABA7834553C01FB54 | Q112: 01010105 | R112: F | S112: F | T112: T | AU112: 010101055AB1035B880BA7B69C61AABA7834553C01FB54 | AV112: 22
A113: 샤워실칸막이 | B113: 20T*(450~500)*1200,코아보드칸막이<현장설치도> | C113: EA | D113: 2 | E113: =TRUNC(단가대비표!O67,0) -> 0 | F113: =TRUNC(E113*D113, 0) -> 0 | G113: =TRUNC(단가대비표!P67,0) -> 0 | H113: =TRUNC(G113*D113, 0) -> 0 | I113: =TRUNC(단가대비표!V67,0) -> 0 | J113: =TRUNC(I113*D113, 0) -> 0 | K113: =TRUNC(E113+G113+I113, 0) -> 0 | L113: =TRUNC(F113+H113+J113, 0) -> 0 | M113: 자재 63 | N113: 5AB1035B880BA7B69C61AABA7834553C01FB55 | Q113: 01010105 | R113: F | S113: F | T113: T | AU113: 010101055AB1035B880BA7B69C61AABA7834553C01FB55 | AV113: 23
A114: 후레싱설치 | B114: 알루미늄후레싱 0.5MM | C114: M2 | D114: 2 | E114: =TRUNC(일위대가목록!E13,0) -> 0 | F114: =TRUNC(E114*D114, 0) -> 0 | G114: =TRUNC(일위대가목록!F13,0) -> 0 | H114: =TRUNC(G114*D114, 0) -> 0 | I114: =TRUNC(일위대가목록!G13,0) -> 0 | J114: =TRUNC(I114*D114, 0) -> 0 | K114: =TRUNC(E114+G114+I114, 0) -> 0 | L114: =TRUNC(F114+H114+J114, 0) -> 0 | M114: 호표 10 | N114: 5D9DD366813464189A27F7D4480DA1 | Q114: 01010105 | R114: T | S114: F | T114: F | AU114: 010101055D9DD366813464189A27F7D4480DA1 | AV114: 24
A115: 후레싱하지틀 | B115: ㅁ-50*50*1.6T@500 | C115: M2 | D115: 2 | E115: =TRUNC(일위대가목록!E14,0) -> 0 | F115: =TRUNC(E115*D115, 0) -> 0 | G115: =TRUNC(일위대가목록!F14,0) -> 0 | H115: =TRUNC(G115*D115, 0) -> 0 | I115: =TRUNC(일위대가목록!G14,0) -> 0 | J115: =TRUNC(I115*D115, 0) -> 0 | K115: =TRUNC(E115+G115+I115, 0) -> 0 | L115: =TRUNC(F115+H115+J115, 0) -> 0 | M115: 호표 11 | N115: 5D9DD366813464189A27F7D4480D91 | Q115: 01010105 | R115: T | S115: F | T115: F | AU115: 010101055D9DD366813464189A27F7D4480D91 | AV115: 25
A116: 비닐시트 깔기 - 전면접합 | B116: 비닐시트, 2.0mm, 모노륨 | C116: M2 | D116: 2.7 | E116: =TRUNC(일위대가목록!E15,0) -> 0 | F116: =TRUNC(E116*D116, 0) -> 0 | G116: =TRUNC(일위대가목록!F15,0) -> 0 | H116: =TRUNC(G116*D116, 0) -> 0 | I116: =TRUNC(일위대가목록!G15,0) -> 0 | J116: =TRUNC(I116*D116, 0) -> 0 | K116: =TRUNC(E116+G116+I116, 0) -> 0 | L116: =TRUNC(F116+H116+J116, 0) -> 0 | M116: 호표 12 | N116: 5D9D93C88432DD8B944F089E588BF1 | Q116: 01010105 | R116: T | S116: F | T116: F | AU116: 010101055D9D93C88432DD8B944F089E588BF1 | AV116: 26
A117: 천장텍스붙임 | B117: 불연천장재, 마이톤, M-Bar용, 12*300*600mm | C117: M2 | D117: 117.3 | E117: =TRUNC(일위대가목록!E16,0) -> 0 | F117: =TRUNC(E117*D117, 0) -> 0 | G117: =TRUNC(일위대가목록!F16,0) -> 0 | H117: =TRUNC(G117*D117, 0) -> 0 | I117: =TRUNC(일위대가목록!G16,0) -> 0 | J117: =TRUNC(I117*D117, 0) -> 0 | K117: =TRUNC(E117+G117+I117, 0) -> 0 | L117: =TRUNC(F117+H117+J117, 0) -> 0 | M117: 호표 13 | N117: 5D9D93CA8712A02997D16B0B182951 | Q117: 01010105 | R117: T | S117: F | T117: F | AU117: 010101055D9D93CA8712A02997D16B0B182951 | AV117: 27
A118: 압출발포폴리스티렌 설치(슬래브 위 깔기, 바닥) | B118: 비중 0.03, 50mm | C118: M2 | D118: 2.7 | E118: =TRUNC(일위대가목록!E17,0) -> 0 | F118: =TRUNC(E118*D118, 0) -> 0 | G118: =TRUNC(일위대가목록!F17,0) -> 0 | H118: =TRUNC(G118*D118, 0) -> 0 | I118: =TRUNC(일위대가목록!G17,0) -> 0 | J118: =TRUNC(I118*D118, 0) -> 0 | K118: =TRUNC(E118+G118+I118, 0) -> 0 | L118: =TRUNC(F118+H118+J118, 0) -> 0 | M118: 호표 14 | N118: 5D9D93CD8C525A2F967569F3A8AC01 | Q118: 01010105 | R118: T | S118: F | T118: F | AU118: 010101055D9D93CD8C525A2F967569F3A8AC01 | AV118: 28
A119: SSEN V1 ROOF SYSTEM PANEL 제작 및 설치, 특수지붕재 [물품식별번호:23544525] | B119: JSTC-SSEN-V1-180,t0.6mm, 글라스울180mm | C119: M2 | D119: 526 | M119: 관급자재 | N119: 5C29A3778005FCA0974D3C45B812978381A997 | R119: F | S119: F | T119: T | AR119: 관급자재 | AU119: 010101055C29A3778005FCA0974D3C45B812978381A997 | AV119: 157
A120: SSEN V1 ROOF SYSTEM PANEL 제작 및 설치, 처마홈통(스텐레스) [물품식별번호:24056658] | B120: JSTC-SSEN-GT-M 1219×t1.5mm, 물받이 | C120: m | D120: 86 | M120: 관급자재 | N120: 5C29A3778005FCA0974D3C45B812978381A996 | R120: F | S120: F | T120: T | AR120: 관급자재 | AU120: 010101055C29A3778005FCA0974D3C45B812978381A996 | AV120: 158
A121: SSEN V1 ROOF SYSTEM PANEL 제작 및 설치, 후레싱 [물품식별번호:24056660] | B121: JSTC-SSEN-FS, W610ⅹt0.6mm, 마감강판 | C121: m | D121: 313 | M121: 관급자재 | N121: 5C29A3778005FCA0974D3C45B812978381A999 | R121: F | S121: F | T121: T | AR121: 관급자재 | AU121: 010101055C29A3778005FCA0974D3C45B812978381A999 | AV121: 159
Q122: 01010105
Q123: 01010105
Q124: 01010105
Q125: 01010105
Q126: 01010105
Q127: 01010105
Q128: 01010105
...

Sheet 일위대가목록
B1: 일 위 대 가 목 록
B2: [ 구덕운동장 씨름장 노후시설물 개보수공사 ]
A3: 코 드 | B3: 품 명 | C3: 규 격 | D3: 단위 | E3: 재 료 비 | F3: 노 무 비 | G3: 경 비 | H3: 합 계 | I3: 번 호 | J3: 비 고 | K3: 노임계수 | L3: 할증 | M3: 품셈개요 | N3: 장비일위
A4: 5D9D33628C12512795CEB555685721 | B4: 경량형강철골조 조립설치 | C4: 비내력식 | D4: TON | I4: 호표 1 | M4: 건축 1-4-4
A5: 5D9D73FF8B2DB46B97314033F8E701 | B5: 철골 세우기 - 트럭 탑재령 크레인 15ton | C5: 소규모 건물 | D5: TON | I5: 호표 2 | M5: 건축 1-2-3
A6: 5D9D83E282FE2B8C9C62C73F380961 | B6: 녹막이페인트(뿜칠) | C6: 1회. 1종 | D6: M2 | I6: 호표 3 | M6: 건축 11-2-3 준용
A7: 5D9D83E1809FED3095E4521818CC81 | B7: 조합페인트(뿜칠) | C7: 철재면 2회. 1급 | D7: M2 | I7: 호표 4
A8: 5D9D032C8CE883B497AC1E49985111 | B8: 0.5B 벽돌쌓기 | C8: 3.6m 이하, 시공량 25m2/일당 | D8: M2 | I8: 호표 5 | M8: 건축 2-1-1
A9: 5D9D032C8CCDD1239E0849E2D8B331 | B9: 벽돌운반 | C9: 인력, 1층 | D9: 천매 | I9: 호표 6 | M9: 공통 1-2-7.4
A10: 5D9DB315897EA9BB9B411D52F85F21 | B10: 화강석 두겁돌(습식, 물갈기) | C10: 포천석 120*20mm, 모르타르 30mm | D10: M | I10: 호표 7
A11: 5D9DB3168B747201909B111698C871 | B11: 타일 떠붙이기(바탕 24mm) | C11: 벽, 300*600(백색줄눈) | D11: M2 | I11: 호표 8
A12: 5D9DB3168B5994B1986CDCD3C87731 | B12: 타일 압착 붙이기(바탕 24mm+압 5mm) | C12: 바닥, 300*300(타일C, 백색줄눈) | D12: M2 | I12: 호표 9 | M12: 건축 3-2-2, -1-2
A13: 5D9DD366813464189A27F7D4480DA1 | B13: 후레싱설치 | C13: 알루미늄후레싱 0.5MM | D13: M2 | I13: 호표 10
A14: 5D9DD366813464189A27F7D4480D91 | B14: 후레싱하지틀 | C14: ㅁ-50*50*1.6T@500 | D14: M2 | I14: 호표 11
A15: 5D9D93C88432DD8B944F089E588BF1 | B15: 비닐시트 깔기 - 전면접합 | C15: 비닐시트, 2.0mm, 모노륨 | D15: M2 | I15: 호표 12 | M15: 건축 5-1-1
A16: 5D9D93CA8712A02997D16B0B182951 | B16: 천장텍스붙임 | C16: 불연천장재, 마이톤, M-Bar용, 12*300*600mm | D16: M2 | I16: 호표 13 | M16: 건축 5-2-1
A17: 5D9D93CD8C525A2F967569F3A8AC01 | B17: 압출발포폴리스티렌 설치(슬래브 위 깔기, 바닥) | C17: 비중 0.03, 50mm | D17: M2 | I17: 호표 14 | M17: 건축 5-4-7
A18: 5D9DE342847CDFDF9A5A1581D82AE1 | B18: 시멘트 액체방수 | C18: 바닥 | D18: M2 | I18: 호표 15 | M18: 건축 6-4-1
A19: 5D9DE342847CDFDF9A590EAFF82B61 | B19: 시멘트 액체방수 | C19: 벽 | D19: M2 | I19: 호표 16 | M19: 건축 6-4-1
A20: 5D9DD3668161871297EC1A00A8B251 | B20: 선홈통(강관) 설치 | C20: 101.6mm, 스테인리스관 | D20: M | I20: 호표 17 | M20: 건축 7-2-3
A21: 5D9DD366813464189A27F7AEF8BA91 | B21: 크레인(장비대) | C21: 선홈통설치용 | D21: 일 | I21: 호표 18
A22: 5D9D1319892095EF9B427487A812B1 | B22: 미장용 코너비드 설치 | C22: 아연도, 50*50mm | D22: M | I22: 호표 19 | M22: 건축 8-1-2
A23: 5D9DC3798B17AD6D941DEE48980B81 | B23: 트랜치 | C23: 스테인리스, W400*1000*2t | D23: EA | I23: 호표 20
A24: 5D9DC377886327CE926DF078A86431 | B24: 경량철골천정틀 | C24: M-BAR, H:1m미만. 인써트 유 | D24: M2 | I24: 호표 21 | M24: 건축 8-2-4
A25: 5D9D93CE8EA010E594A15BE4D85941 | B25: 스테인리스재료분리대 | C25: 바닥, W40*H20*1.5t | D25: M | I25: 호표 22
A26: 5D9D93C080E73ADD9FD8BFB9985B01 | B26: AL몰딩 설치 | C26: W형, 15*15*15*15*1.0mm | D26: M | I26: 호표 23 | M26: 건축 8-1-5
A27: 5D9D1312863B90C59AAA2F2838F061 | B27: 모르타르 바름 | C27: 바닥, 50mm | D27: M2 | I27: 호표 24
A28: 5D9DA33182AEE17496BC6434481A61 | B28: CAW01_A[창호실리콘보수] | C28: 4.100 x 5.950 = 24.395 | D28: EA | I28: 호표 25
A29: 5D9DA33182AEE17496BC6434481A41 | B29: CAW01_B[창호실리콘보수] | C29: 3.830 x 5.840 = 22.367 | D29: EA | I29: 호표 26
A30: 5D9DA33182AEE17496BC6434481A21 | B30: CAW01_C[창호실리콘보수] | C30: 3.010 x 5.405 = 16.269 | D30: EA | I30: 호표 27
A31: 5D9DA33182AEE17496BC6434481AE1 | B31: MS02[방충망보수] | C31: 2.000 x 1.000 = 2.000 | D31: EA | I31: 호표 28
A32: 5D9DA33182AEE17496BC6434480811 | B32: MS03[방충망보수] | C32: 1.500 x 0.800 = 1.200 | D32: EA | I32: 호표 29
A33: 5D9DA33182AEE17496BC6434480831 | B33: MS04[방충망보수] | C33: 0.990 x 0.600 = 0.594 | D33: EA | I33: 호표 30
A34: 5D9DA33182AEE17496BC6434480851 | B34: MS05[방충망보수] | C34: 3.520 x 1.000 = 3.520 | D34: EA | I34: 호표 31
A35: 5D9DA33182AEE17496BC6434480871 | B35: PD01[플라스틱 여닫이문] | C35: 0.800 x 2.100 = 1.680 | D35: EA | I35: 호표 32
A36: 5D9DA33182AEE17496BC6434480891 | B36: PD02[플라스틱 여닫이문] | C36: 0.750 x 2.100 = 1.575 | D36: EA | I36: 호표 33
A37: 5D9DE34D8527159897FC7A6BF87201 | B37: 수밀코킹(실리콘) | C37: 삼각, 10mm, 창호주위 | D37: M | I37: 호표 34 | M37: 건축 6-6-1
A38: 5D9DE34D8527159897FC7A6BF87211 | B38: 수밀코킹(실리콘) | C38: 삼각, 20mm, 창호보수 | D38: M | I38: 호표 35
A39: 5D9DE34D85318C4B9C192ABC784811 | B39: 유리주위 코킹 보수 | C39: 5*5, 실리콘 | D39: M | I39: 호표 36 | M39: 건축 6-6-1
A40: 5D9DA3368A80C73A9DD94FB5684BB1 | B40: 창호주위 모르타르 충전 | D40: M | I40: 호표 37 | M40: 건축 9-3-1
A41: 5D9D83E08631F0D39452C5C578A151 | B41: 바탕만들기+수성페인트 롤러칠 | C41: 외부, 2회, 1급, con'c·mortar면 | D41: M2 | I41: 호표 38 | M41: 건축 11-1-1,-2-2
A42: 5D9D83E08631F0D392AF72F548F791 | B42: 바탕만들기+수성페인트 롤러칠 | C42: 외부천장, 2회, 1급, con'c·mortar면 | D42: M2 | I42: 호표 39 | M42: 건축 11-1-1,-2-2
A43: 5D9D83E08631F0D391848F096845A1 | B43: 바탕만들기+수성페인트 롤러칠 | C43: 내부, 2회, con'c·mortar면, 친환경 | D43: M2 | I43: 호표 40 | M43: 건축 11-1-1,-2-2
A44: 5D9D83F088FCDF679A54CB37E80551 | B44: 재도장 시 바탕처리(con'c·mortar면) | C44: 230m2/일 | D44: M2 | I44: 호표 41 | M44: 유지 3-3-1
A45: 5D9C73118E2248A6918DF3715806B1 | B45: 샌드위치판넬 철거(벽) | C45: 50mm | D45: M2 | I45: 호표 42
A46: 5D9C73118E2248A6918DF371580681 | B46: 샌드위치판넬 철거(벽) | C46: 100mm | D46: M2 | I46: 호표 43
A47: 5D9C73118E2248A6918DF371580691 | B47: 보호쿠션 철거 | C47: 200*100 | D47: M | I47: 호표 44
A48: 5D9C73118E2248A6918DF37048EFB1 | B48: 샌드위치판넬 철거(지붕) | C48: 50mm | D48: M2 | I48: 호표 45
A49: 5D9C73118E2248A6918DF37048EFF1 | B49: 샌드위치판넬 철거(지붕) | C49: 150mm | D49: M2 | I49: 호표 46
A50: 5D9C73118E2248A692901D9AD8AB91 | B50: PVC 선홈통철거 | C50: D100 | D50: M | I50: 호표 47
A51: 5D9C73118E2248A692901D9AD8ABE1 | B51: 상자홈통철거 | C51: 150*150*150 | D51: M | I51: 호표 48
A52: 5D9C73118E2248A692901CF598F4A1 | B52: 콘크리트컷팅 | C52: 바닥 | D52: M | I52: 호표 49 | M52: 시중품 적용
A53: 5D9C73118E2248A692901CF6F800F1 | B53: 패널 컷팅 | D53: M | I53: 호표 50
A54: 5D9C73118E22489598EAFA63E82391 | B54: 금속천장재 철거 | C54: 해체재 재사용 안 함 | D54: M2 | I54: 호표 51
A55: 5D9C73118E07D5F1954E043A582FE1 | B55: 콘크리트구조물 헐기(인력) | C55: 소형브레이커(전기식), 철근, 2.3m3/일당 | D55: M3 | I55: 호표 52 | M55: 유지 3-1-1
A56: 5D9C73118EB03E2895587D2D68EF21 | B56: 경량천장철골틀 해체 | D56: M2 | I56: 호표 53 | M56: 유지 3-2-3
A57: 5D9C73118EB03E28955FACFCF879F1 | B57: 조적벽 해체 | C57: H=3.6m 이하 | D57: M3 | I57: 호표 54 | M57: 유지 3-2-4
A58: 5D9C73118EB03E289553FBD3984511 | B58: 비닐계타일 해체 | C58: 3mm | D58: M2 | I58: 호표 55
A59: 5D9C73118EB03E289552D4C9C8A391 | B59: 타일 해체 | C59: 떠붙이기 | D59: M2 | I59: 호표 56 | M59: 유지 3-2-9
A60: 5D9C73118EB03E289552D4C9C89121 | B60: 타일 해체 | C60: 압착붙이기, 접착붙이기 | D60: M2 | I60: 호표 57 | M60: 유지 3-2-9
A61: 5D9C73118EB03E2894B442E9F81AC1 | B61: 모르타르 철거 | C61: 20mm | D61: M2 | I61: 호표 58
A62: 5D9C73118EB02DB994A35B5D288E91 | B62: 기존 코킹 제거 | D62: M | I62: 호표 59
A63: 5D9C73118EB02DB994A35B5BD8D401 | B63: 패널하지 철거 | C63: C-100*50*20*5t | D63: TON | I63: 호표 60
A64: 5D9C73118EB02DB994A35B5BD8D411 | B64: 패널하지 철거 | C64: C-100*50*20*3.2t | D64: TON | I64: 호표 61
A65: 5D9C73118EB02DB994A35B5BD8D421 | B65: 패널하지 철거 | C65: ㄱ-50*50*4t | D65: TON | I65: 호표 62
A66: 5D9C73118EB02DB994A35B5BD8D461 | B66: 재료분리대 철거 | D66: M | I66: 호표 63
A67: 5D9D83E282FE35929DE942784841B1 | B67: 균열보수공법 | C67: V커팅+실링재보수(충전식균열보수) | D67: M | I67: 호표 64 | M67: 공통 6-8-3 준용
A68: 5D9D73F88001DE9F91E7EF1E586601 | B68: 건설폐기물 -중간처리 | C68: 폐콘크리트 | D68: TON | I68: 호표 65 | M68: 한국건설자원협회
A69: 5D9D73F88001DE9F91E7EF1CA88871 | B69: 건설폐기물 -중간처리 | C69: 건설(건축)폐자재 | D69: TON | I69: 호표 66 | M69: 한국건설자원협회
A70: 5D9D73F88001DE9F928F65C1F86711 | B70: 건설폐재류 운반비 | C70: 24톤 덤프트럭, 30km | D70: TON | I70: 호표 67 | M70: 한국건설자원협회
A71: 5D9D73F88001DE9F928F643D38A4C1 | B71: 건설폐기물 -매립 | C71: 혼합건설폐기물(폐유리,폐타일,폐자기+가연성 5%이하) | D71: TON | I71: 호표 68 | M71: 한국건설자원협회
A72: 5D9D73F88001DE9F928F643D38A4F1 | B72: 건설폐기물 -매립 | C72: 혼합건설폐기물(폐보드,폐판넬+가연성 5%이하) | D72: TON | I72: 호표 69 | M72: 한국건설자원협회
A73: 5D9D73F88001DE9F928F65C1F87171 | B73: 건설폐기물 | C73: 폐합성수지 | D73: TON | I73: 호표 70
A74: 5D9D73F88001DE9F928F65C1F83BD1 | B74: 혼합건설폐기물 운반비 | C74: 24톤 암롤트럭, 30km | D74: TON | I74: 호표 71 | M74: 한국건설자원협회
A75: 5A85C3938D4F0A3E9CF18B05D822091321E31A0E | B75: 트럭탑재형 크레인 | C75: 15ton | D75: HR | I75: 호표 72 | K75: A | M75: 공통 8-3,4(2105) | N75: T
A76: 5D9D83E282FE2B8C9E10A38FC82251 | B76: 녹막이 페인트칠(뿜칠) | C76: 철재면, 1회, 1종 | D76: M2 | I76: 호표 73 | M76: 건축 11-2-6
A77: 5D9D83E08631F0A690FCA000984E61 | B77: 녹막이페인트 뿜칠 | C77: 1회 | D77: M2 | I77: 호표 74 | M77: 건축 11-2-3
A78: 5D9D83E1809FED3095E3B0793804E1 | B78: 유성페인트 뿜칠 | C78: 철재면, 2회, 1급 | D78: M2 | I78: 호표 75 | M78: 건축 11-2-4
A79: 5D9D83E08631F0A690FCA000987B01 | B79: 유성페인트 뿜칠 | C79: 2회 | D79: M2 | I79: 호표 76 | M79: 건축 11-2-3
A80: 5D9D1312863BA1609483A31F2895A1 | B80: 모르타르 배합(배합품 포함) | C80: 배합용적비 1:3, 시멘트, 모래 별도 | D80: M3 | I80: 호표 77 | M80: 건축 9-1-1
A81: 5D9DB315890BCD3C94C71543E8ECB1 | B81: 모르타르비빔 - 돌붙임(바닥) | C81: 배합용적비 1:3, 시멘트, 모래 별도 | D81: M3 | I81: 호표 78 | M81: 건축 9-1-1
A82: 5D9DB3158937247A97B8C832E89151 | B82: 석재판 붙임 - 습식공법(화강석) | C82: 바닥부, 시공량 12m2/일당 | D82: M2 | I82: 호표 79 | M82: 공통 7-4-1
A83: 5D9D1312863BA1609483A04B48B401 | B83: 모르타르 배합 | C83: 모래채가름 포함 | D83: M3 | I83: 호표 80 | M83: 건축 9-1-1
A84: 5D9DB3168B7472139B002E31480431 | B84: 줄눈 모르타르(배합품 제외) | C84: 배합용적비 1:1(백시멘트), 모래 별도 | D84: M3 | I84: 호표 81 | M84: 건축 9-1-1
A85: 5D9DB3168B7472139B09094CE81551 | B85: 타일 붙임 / 떠붙이기 | C85: 타일규격 m2, 0.11 ~ 0.20 이하, 15m2/일당 | D85: M2 | I85: 호표 82 | M85: 건축 3-2-1
A86: 5D9DB3168B74F7959F99CEE56846B1 | B86: 타일줄눈 설치 / 벽면 | C86: 타일규격 m2, 0.11 ~ 0.20 이하 | D86: M2 | I86: 호표 83 | M86: 건축 3-1-2
A87: 5D9DB3168B7461CF953670D048ED61 | B87: 바탕고르기 | C87: 바닥, 24mm 이하 기준 | D87: M2 | I87: 호표 84 | M87: 건축 3-1-1
... A96: 5D9D93C88432DD959CC0098F885111 | B96: PVC계 바닥재 설치 - 시트형 | C96: 주재료 제외, 전면접합 | D96: M2 | I96: 호표 93 | M96: 건축 5-1-1
A97: 5D9D93CA8712A02997D11128D843D1 | B97: 흡음텍스 설치 | D97: M2 | I97: 호표 94 | M97: 건축 5-2-1
A98: 5D9D93CD8C5276F692199E82881021 | B98: 단열재 슬래브 위 깔기 | C98: 50mm 이하 | D98: M2 | I98: 호표 95 | M98: 건축 5-4-7
A99: 5D9DE342847CDFDF9A5A1581A89991 | B99: 시멘트 액체방수 바름 | C99: 바닥 | D99: M2 | I99: 호표 96 | M99: 건축 6-4-1
A100: 5D9DE342847CDFDF9A590EAF889D21 | B100: 시멘트 액체방수 바름 | C100: 수직부 | D100: M2 | I100: 호표 97 | M100: 건축 6-4-1
A101: 5D9DD3668161871297EFEEBFD81771 | B101: 금속 선홈통 설치 | C101: 지름 150mm, 두께 2mm 이하 기준 | D101: M | I101: 호표 98 | M101: 건축 7-2-3
A102: 5A85C3938D4F0A3E9CF18B05D83C98860136C791 | B102: 트럭탑재형 크레인 | C102: 5ton | D102: HR | I102: 호표 99 | K102: A | M102: 공통 8-3,4(2105) | N102: T
A103: 5D9D1319892095F890667A04D807E1 | B103: 코너비드 설치 | C103: 재료비 별도 | D103: M | I103: 호표 100 | M103: 건축 8-1-2
A104: 5D9DC3798B17AD6D941DEE48980B91 | B104: 각관 설치 | C104: ㅁ-50*50*1.6T | D104: M | I104: 호표 101
A105: 5D9DC3798B1782A69DAC2BB5289461 | B105: ㄱ형강 | C105: ㄱ-30*30*3t | D105: M | I105: 호표 102
A106: 5D9D83E282FE2B8C9F3A019588A811 | B106: 녹막이페인트 붓칠 | C106: 철재면, 1회, 2종 | D106: M2 | I106: 호표 103 | M106: 건축 11-2-6
A107: 5D9D83E282FE2B8C9E10A38D180121 | B107: 녹막이 페인트칠 | C107: 철재면, 1회, 2종 | D107: M2 | I107: 호표 104 | M107: 건축 11-2-6
A108: 5D9DC377887D9A599DECEA2118A821 | B108: 인서트(Insert) 설치(거푸집) | C108: 퍼지인서트, 3/8" | D108: 개 | I108: 호표 105 | M108: 건축 8-1-4
...

Sheet 일위대가
A1: [ 구덕운동장 씨름장 노후시설물 개보수공사 ]
A2: 품 명 | B2: 규 격 | C2: 단위 | D2: 수량 | E2: 재 료 비 | G2: 노 무 비 | I2: 경 비 | K2: 합 계 | M2: 비 고 | N2: 일위대가 | O2: 품목코드 | P2: 일위 | Q2: 단산 | R2: 자재 | S2: 손료적용 | T2: 손료저장 | U2: 적용율 | V2: JUK1 | W2: JUK2 | X2: JUK3 | Y2: JUK4 | Z2: JUK5 | AA2: JUK6 | AB2: JUK7 | AC2: JUK8 | AD2: JUK9 | AE2: JUK10 | AF2: JUK11 | AG2: JUK12 | AH2: JUK13 | AI2: JUK14 | AJ2: JUK15 | AK2: JUK16 | AL2: JUK17 | AM2: JUK18 | AN2: JUK19 | AO2: JUK20 | AP2: 할증적용 | AQ2: 할증저장 | AR2: 할증율 | AS2: HAL1 | AT2: HAL2 | AU2: HAL3 | AV2: 자재구분 | AW2: 일위대가+자재 | AX2: 장비일위 | AY2: 설정 | AZ2: 할증체크
E3: 단 가 | F3: 금 액 | G3: 단 가 | H3: 금 액 | I3: 단 가 | J3: 금 액 | K3: 단 가 | L3: 금 액
A4: 경량형강철골조 조립설치 비내력식 TON 건축 1-4-4 ( 호표 1 ) | N4: 5D9D33628C12512795CEB555685721
A5: 철공 | B5: 일반공사 직종 | C5: 인 | D5: 12.54 | N5: 5D9D33628C12512795CEB555685721 | O5: 5D42534E892FAF429008DB2C589906A4F18529 | P5: F | Q5: F | R5: T | V5: 1 | AW5: 5D9D33628C12512795CEB5556857215D42534E892FAF429008DB2C589906A4F18529
A6: 공구손료 | B6: 인력품의 3% | C6: 식 | D6: 1 | N6: 5D9D33628C12512795CEB555685721 | O6: 5C81435D83B71F489B05D3CC58D1001 | P6: F | Q6: F | R6: F | S6: 1 | T6: 2 | U6: 0.03 | AW6: 5D9D33628C12512795CEB5556857215C81435D83B71F489B05D3CC58D1001
A7: [ 합 계 ] | N7: TOTAL | O7: TOTAL
A9: 철골 세우기 - 트럭 탑재령 크레인 15ton 소규모 건물 TON 건축 1-2-3 ( 호표 2 ) | N9: 5D9D73FF8B2DB46B97314033F8E701
A10: 트럭탑재형 크레인 | B10: 15ton | C10: HR | D10: 0.8 | N10: 5D9D73FF8B2DB46B97314033F8E701 | O10: 5A85C3938D4F0A3E9CF18B05D822091321E31A0E | P10: T | Q10: F | R10: F | AW10: 5D9D73FF8B2DB46B97314033F8E7015A85C3938D4F0A3E9CF18B05D822091321E31A0E
A11: [ 합 계 ] | N11: TOTAL | O11: TOTAL
A13: 녹막이페인트(뿜칠) 1회. 1종 M2 건축 11-2-3 준용 ( 호표 3 ) | N13: 5D9D83E282FE2B8C9C62C73F380961
A14: 녹막이 페인트칠(뿜칠) | B14: 철재면, 1회, 1종 | C14: M2 | D14: 1 | N14: 5D9D83E282FE2B8C9C62C73F380961 | O14: 5D9D83E282FE2B8C9E10A38FC82251 | P14: T | Q14: F | R14: F | AW14: 5D9D83E282FE2B8C9C62C73F3809615D9D83E282FE2B8C9E10A38FC82251
A15: 녹막이페인트 뿜칠 | B15: 1회 | C15: M2 | D15: 1 | N15: 5D9D83E282FE2B8C9C62C73F380961 | O15: 5D9D83E08631F0A690FCA000984E61 | P15: T | Q15: F | R15: F | AW15: 5D9D83E282FE2B8C9C62C73F3809615D9D83E08631F0A690FCA000984E61
A16: [ 합 계 ] | N16: TOTAL | O16: TOTAL
A18: 조합페인트(뿜칠) 철재면 2회. 1급 M2 ( 호표 4 ) | N18: 5D9D83E1809FED3095E4521818CC81
A19: 유성페인트 뿜칠 | B19: 철재면, 2회, 1급 | C19: M2 | D19: 1 | N19: 5D9D83E1809FED3095E4521818CC81 | O19: 5D9D83E1809FED3095E3B0793804E1 | P19: T | Q19: F | R19: F | AW19: 5D9D83E1809FED3095E4521818CC815D9D83E1809FED3095E3B0793804E1
A20: 유성페인트 뿜칠 | B20: 2회 | C20: M2 | D20: 1 | N20: 5D9D83E1809FED3095E4521818CC81 | O20: 5D9D83E08631F0A690FCA000987B01 | P20: T | Q20: F | R20: F | AW20: 5D9D83E1809FED3095E4521818CC815D9D83E08631F0A690FCA000987B01
A21: [ 합 계 ] | N21: TOTAL | O21: TOTAL
A23: 0.5B 벽돌쌓기 3.6m 이하, 시공량 25m2/일당 M2 건축 2-1-1 ( 호표 5 ) | N23: 5D9D032C8CE883B497AC1E49985111
A24: 조적공 | B24: 일반공사 직종 | C24: 인 | D24: 0.12 | N24: 5D9D032C8CE883B497AC1E49985111 | O24: 5D42534E892FAF429008DB2C589906A4F187EC | P24: F | Q24: F | R24: T | V24: 1 | AW24: 5D9D032C8CE883B497AC1E499851115D42534E892FAF429008DB2C589906A4F187EC
A25: 보통인부 | B25: 일반공사 직종 | C25: 인 | D25: 0.04 | N25: 5D9D032C8CE883B497AC1E49985111 | O25: 5D42534E892FAF429008DB2C589906A4F18522 | P25: F | Q25: F | R25: T | V25: 1 | AW25: 5D9D032C8CE883B497AC1E499851115D42534E892FAF429008DB2C589906A4F18522
A26: 공구손료 | B26: 인력품의 2% | C26: 식 | D26: 1 | N26: 5D9D032C8CE883B497AC1E49985111 | O26: 5C81435D83B71F489B05D3CC58D1001 | P26: F | Q26: F | R26: F | S26: 1 | T26: 2 | U26: 0.02 | AW26: 5D9D032C8CE883B497AC1E499851115C81435D83B71F489B05D3CC58D1001
A27: 콘크리트벽돌 | B27: 콘크리트벽돌, 190*57*90mm, C종2급 | C27: 매 | D27: 75 | N27: 5D9D032C8CE883B497AC1E49985111 | O27: 5AB1035B88B447819F1F430D28D86A8111E478 | P27: F | Q27: F | R27: T | AW27: 5D9D032C8CE883B497AC1E499851115AB1035B88B447819F1F430D28D86A8111E478
A28: 모르타르 배합(배합품 포함) | B28: 배합용적비 1:3, 시멘트, 모래 별도 | C28: M3 | D28: 0.019 | N28: 5D9D032C8CE883B497AC1E49985111 | O28: 5D9D1312863BA1609483A31F2895A1 | P28: T | Q28: F | R28: F | AW28: 5D9D032C8CE883B497AC1E499851115D9D1312863BA1609483A31F2895A1
A29: [ 합 계 ] | N29: TOTAL | O29: TOTAL
A31: 벽돌운반 인력, 1층 천매 공통 1-2-7.4 ( 호표 6 ) | N31: 5D9D032C8CCDD1239E0849E2D8B331
A32: 보통인부 | B32: 일반공사 직종 | C32: 인 | D32: 0.44 | N32: 5D9D032C8CCDD1239E0849E2D8B331 | O32: 5D42534E892FAF429008DB2C589906A4F18522 | P32: F | Q32: F | R32: T | AW32: 5D9D032C8CCDD1239E0849E2D8B3315D42534E892FAF429008DB2C589906A4F18522
A33: [ 합 계 ] | N33: TOTAL | O33: TOTAL
A35: 화강석 두겁돌(습식, 물갈기) 포천석 120*20mm, 모르타르 30mm M ( 호표 7 ) | N35: 5D9DB315897EA9BB9B411D52F85F21
A36: 자연석판석 | B36: 자연석판석, 물갈기, 20mm, 포천석판재 | C36: M2 | D36: 0.176 | N36: 5D9DB315897EA9BB9B411D52F85F21 | O36: 5AB1035B88B44792960F6907B850F53FA14C84 | P36: F | Q36: F | R36: T | AW36: 5D9DB315897EA9BB9B411D52F85F215AB1035B88B44792960F6907B850F53FA14C84
A37: 모르타르비빔 - 돌붙임(바닥) | B37: 배합용적비 1:3, 시멘트, 모래 별도 | C37: M3 | D37: 0.0036 | N37: 5D9DB315897EA9BB9B411D52F85F21 | O37: 5D9DB315890BCD3C94C71543E8ECB1 | P37: T | Q37: F | R37: F | AW37: 5D9DB315897EA9BB9B411D52F85F215D9DB315890BCD3C94C71543E8ECB1
A38: 석재판 붙임 - 습식공법(화강석) | B38: 바닥부, 시공량 12m2/일당 | C38: M2 | D38: 0.12 | N38: 5D9DB315897EA9BB9B411D52F85F21 | O38: 5D9DB3158937247A97B8C832E89151 | P38: T | Q38: F | R38: F | AW38: 5D9DB315897EA9BB9B411D52F85F215D9DB3158937247A97B8C832E89151
A39: [ 합 계 ] | N39: TOTAL | O39: TOTAL
A41: 타일 떠붙이기(바탕 24mm) 벽, 300*600(백색줄눈) M2 ( 호표 8 ) | N41: 5D9DB3168B747201909B111698C871
A42: 모르타르 배합(배합품 포함) | B42: 배합용적비 1:3, 시멘트, 모래 별도 | C42: M3 | D42: 0.026 | N42: 5D9DB3168B747201909B111698C871 | O42: 5D9D1312863BA1609483A31F2895A1 | P42: T | Q42: F | R42: F | AW42: 5D9DB3168B747201909B111698C8715D9D1312863BA1609483A31F2895A1
A43: 줄눈 모르타르(배합품 제외) | B43: 배합용적비 1:1(백시멘트), 모래 별도 | C43: M3 | D43: 0.005 | N43: 5D9DB3168B747201909B111698C871 | O43: 5D9DB3168B7472139B002E31480431 | P43: T | Q43: F | R43: F | AW43: 5D9DB3168B747201909B111698C8715D9DB3168B7472139B002E31480431
A44: 타일 붙임 / 떠붙이기 | B44: 타일규격 m2, 0.11 ~ 0.20 이하, 15m2/일당 | C44: M2 | D44: 1 | N44: 5D9DB3168B747201909B111698C871 | O44: 5D9DB3168B7472139B09094CE81551 | P44: T | Q44: F | R44: F | AW44: 5D9DB3168B747201909B111698C8715D9DB3168B7472139B09094CE81551
A45: 타일줄눈 설치 / 벽면 | B45: 타일규격 m2, 0.11 ~ 0.20 이하 | C45: M2 | D45: 1 | N45: 5D9DB3168B747201909B111698C871 | O45: 5D9DB3168B74F7959F99CEE56846B1 | P45: T | Q45: F | R45: F | AW45: 5D9DB3168B747201909B111698C8715D9DB3168B74F7959F99CEE56846B1
A46: [ 합 계 ] | N46: TOTAL | O46: TOTAL
A48: 타일 압착 붙이기(바탕 24mm+압 5mm) 바닥, 300*300(타일C, 백색줄눈) M2 건축 3-2-2, -1-2 ( 호표 9 ) | N48: 5D9DB3168B5994B1986CDCD3C87731
A49: 모르타르 배합(배합품 포함) | B49: 배합용적비 1:3, 시멘트, 모래 별도 | C49: M3 | D49: 0.024 | N49: 5D9DB3168B5994B1986CDCD3C87731 | O49: 5D9D1312863BA1609483A31F2895A1 | P49: T | Q49: F | R49: F | AW49: 5D9DB3168B5994B1986CDCD3C877315D9D1312863BA1609483A31F2895A1
A50: 바탕고르기 | B50: 바닥, 24mm 이하 기준 | C50: M2 | D50: 1 | N50: 5D9DB3168B5994B1986CDCD3C87731 | O50: 5D9DB3168B7461CF953670D048ED61 | P50: T | Q50: F | R50: F | AW50: 5D9DB3168B5994B1986CDCD3C877315D9DB3168B7461CF953670D048ED61
A51: 압착 붙이기, 바닥면, 바름두께 5mm | B51: 0.04∼0.10 이하, 타일C, 백색줄눈 | C51: M2 | D51: 1 | N51: 5D9DB3168B5994B1986CDCD3C87731 | O51: 5D9DB3168B5994B19974D2C868AC31 | P51: T | Q51: F | R51: F | AW51: 5D9DB3168B5994B1986CDCD3C877315D9DB3168B5994B19974D2C868AC31
A52: [ 합 계 ] | N52: TOTAL | O52: TOTAL
A54: 후레싱설치 알루미늄후레싱 0.5MM M2 ( 호표 10 ) | N54: 5D9DD366813464189A27F7D4480DA1
A55: 알루미늄합금판 | B55: 알루미늄합금판, A1050, 0.5mm | C55: kg | D55: 1.496 | N55: 5D9DD366813464189A27F7D4480DA1 | O55: 5AB1035B888F3F1199781139C81F76856104FA | P55: F | Q55: F | R55: T | AW55: 5D9DD366813464189A27F7D4480DA15AB1035B888F3F1199781139C81F76856104FA
A56: 잡철물 제작 및 설치 | B56: 현장제작 설치, 경량철재 | C56: kg | D56: 1.36 | N56: 5D9DD366813464189A27F7D4480DA1 | O56: 5D9DC37382E9758A90C0FE98C88A31 | P56: T | Q56: F | R56: F | AW56: 5D9DD366813464189A27F7D4480DA15D9DC37382E9758A90C0FE98C88A31
A57: 철강설 | B57: 철강설, 알루미늄, 작업설부산물 | C57: kg | D57: -0.136 | N57: 5D9DD366813464189A27F7D4480DA1 | O57: 5A9623FF8E9AD5BE96AF1031386A0E33218BDE | P57: F | Q57: F | R57: T | AW57: 5D9DD366813464189A27F7D4480DA15A9623FF8E9AD5BE96AF1031386A0E33218BDE
A58: [ 합 계 ] | N58: TOTAL | O58: TOTAL
A60: 후레싱하지틀 ㅁ-50*50*1.6T@500 M2 ( 호표 11 ) | N60: 5D9DD366813464189A27F7D4480D91
A61: 일반구조용각형강관 | B61: 일반구조용각형강관, 각형강관, 50*50*1.6mm | C61: M | D61: 4.2 | N61: 5D9DD366813464189A27F7D4480D91 | O61: 5AC3736585686A7D96AF66D658BB09D9A1BC33 | P61: F | Q61: F | R61: T | AW61: 5D9DD366813464189A27F7D4480D915AC3736585686A7D96AF66D658BB09D9A1BC33
A62: 잡철물 제작 및 설치 | B62: 현장제작 설치, 일반철재 | C62: kg | D62: 9.52 | N62: 5D9DD366813464189A27F7D4480D91 | O62: 5D9DC37382E9758A90C2AC74781CB1 | P62: T | Q62: F | R62: F | AW62: 5D9DD366813464189A27F7D4480D915D9DC37382E9758A90C2AC74781CB1
A63: 철강설 | B63: 철강설, 고철, 작업설부산물 | C63: kg | D63: -0.476 | N63: 5D9DD366813464189A27F7D4480D91 | O63: 5A9623FF8E9AD5BE96AF103018AAE1A7315C96 | P63: F | Q63: F | R63: T | AW63: 5D9DD366813464189A27F7D4480D915A9623FF8E9AD5BE96AF103018AAE1A7315C96
A64: 녹막이페인트 붓칠 | B64: 철재면, 1회, 1종 | C64: M2 | D64: 0.8 | N64: 5D9DD366813464189A27F7D4480D91 | O64: 5D9D83E282FE2B8C9F3A008E988C91 | P64: T | Q64: F | R64: F | AW64: 5D9DD366813464189A27F7D4480D915D9D83E282FE2B8C9F3A008E988C91
A65: [ 합 계 ] | N65: TOTAL | O65: TOTAL
A67: 비닐시트 깔기 - 전면접합 비닐시트, 2.0mm, 모노륨 M2 건축 5-1-1 ( 호표 12 ) | N67: 5D9D93C88432DD8B944F089E588BF1
A68: 비닐시트 | B68: 비닐시트, 2.0mm, 모노륨 | C68: M2 | D68: 1.05 | N68: 5D9D93C88432DD8B944F089E588BF1 | O68: 5AB1035B88E1B9629F330A677886D1BBB122E9 | P68: F | Q68: F | R68: T | AW68: 5D9D93C88432DD8B944F089E588BF15AB1035B88E1B9629F330A677886D1BBB122E9
A69: PVC계 바닥재 설치 - 시트형 | B69: 주재료 제외, 전면접합 | C69: M2 | D69: 1 | N69: 5D9D93C88432DD8B944F089E588BF1 | O69: 5D9D93C88432DD959CC0098F885111 | P69: T | Q69: F | R69: F | AW69: 5D9D93C88432DD8B944F089E588BF15D9D93C88432DD959CC0098F885111
A70: [ 합 계 ] | N70: TOTAL | O70: TOTAL
A72: 천장텍스붙임 불연천장재, 마이톤, M-Bar용, 12*300*600mm M2 건축 5-2-1 ( 호표 13 ) | N72: 5D9D93CA8712A02997D16B0B182951
A73: 불연천장재 | B73: 불연천장재, 마이톤, M-Bar용, 12*300*600mm | C73: M2 | D73: 1.05 | N73: 5D9D93CA8712A02997D16B0B182951 | O73: 5AB1035B88E1B97396278FCD6894A51E118B2D | P73: F | Q73: F | R73: T | V73: 1 | AW73: 5D9D93CA8712A02997D16B0B1829515AB1035B88E1B97396278FCD6894A51E118B2D
A74: 잡재료 | B74: 주재료비의 3% | C74: 식 | D74: 1 | N74: 5D9D93CA8712A02997D16B0B182951 | O74: 5C81435D83B71F489B05D3CC58D1001 | P74: F | Q74: F | R74: F | S74: 0 | T74: 0 | U74: 0.03 | AW74: 5D9D93CA8712A02997D16B0B1829515C81435D83B71F489B05D3CC58D1001
A75: 흡음텍스 설치 | C75: M2 | D75: 1 | N75: 5D9D93CA8712A02997D16B0B182951 | O75: 5D9D93CA8712A02997D11128D843D1 | P75: T | Q75: F | R75: F | AW75: 5D9D93CA8712A02997D16B0B1829515D9D93CA8712A02997D11128D843D1
A76: [ 합 계 ] | N76: TOTAL | O76: TOTAL
A78: 압출발포폴리스티렌 설치(슬래브 위 깔기, 바닥) 비중 0.03, 50mm M2 건축 5-4-7 ( 호표 14 ) | N78: 5D9D93CD8C525A2F967569F3A8AC01
A79: 압출발포폴리스티렌단열재 | B79: 압출발포폴리스티렌단열재, 0.03, 900*1800*50mm | C79: M2 | D79: 1.05 | N79: 5D9D93CD8C525A2F967569F3A8AC01 | O79: 5AB1035B88C6D304951E95FB686FBE6361B1AC | P79: F | Q79: F | R79: T | AW79: 5D9D93CD8C525A2F967569F3A8AC015AB1035B88C6D304951E95FB686FBE6361B1AC
A80: 초산비닐계접착제 | B80: 초산비닐계접착제, 스치로폴, 암면 | C80: kg | N80: 5D9D93CD8C525A2F967569F3A8AC01 | O80: 5AB11363881BBE96939FEA72F89F841B411C8A | P80: F | Q80: F | R80: T | AW80: 5D9D93CD8C525A2F967569F3A8AC015AB11363881BBE96939FEA72F89F841B411C8A
A81: 단열재 슬래브 위 깔기 | B81: 50mm 이하 | C81: M2 | D81: 1 | N81: 5D9D93CD8C525A2F967569F3A8AC01 | O81: 5D9D93CD8C5276F692199E82881021 | P81: T | Q81: F | R81: F | AW81: 5D9D93CD8C525A2F967569F3A8AC015D9D93CD8C5276F692199E82881021
A82: [ 합 계 ] | N82: TOTAL | O82: TOTAL
A84: 시멘트 액체방수 바닥 M2 건축 6-4-1 ( 호표 15 ) | N84: 5D9DE342847CDFDF9A5A1581D82AE1
A85: 시멘트 | B85: 시멘트(별도) | C85: kg | D85: 13.05 | N85: 5D9DE342847CDFDF9A5A1581D82AE1 | O85: 5AB1035B889995099D09671CF863DCBC31AE1A | P85: F | Q85: F | R85: T | AW85: 5D9DE342847CDFDF9A5A1581D82AE15AB1035B889995099D09671CF863DCBC31AE1A
A86: 모래 | B86: (별도) | C86: M3 | D86: 0.017 | N86: 5D9DE342847CDFDF9A5A1581D82AE1 | O86: 5A9623FF8E157E239C6E5104B86E525E7161B9 | P86: F | Q86: F | R86: T | AW86: 5D9DE342847CDFDF9A5A1581D82AE15A9623FF8E157E239C6E5104B86E525E7161B9
A87: 침투성방수제 | B87: 침투성방수제, 급결방수액 | C87: L | D87: 0.3 | N87: 5D9DE342847CDFDF9A5A1581D82AE1 | O87: 5A9613D98FBC60549D2A272CA82FF70C419860 | P87: F | Q87: F | R87: T | AW87: 5D9DE342847CDFDF9A5A1581D82AE15A9613D98FBC60549D2A272CA82FF70C419860
A88: 시멘트 액체방수 바름 | B88: 바닥 | C88: M2 | D88: 1 | N88: 5D9DE342847CDFDF9A5A1581D82AE1 | O88: 5D9DE342847CDFDF9A5A1581A89991 | P88: T | Q88: F | R88: F | AW88: 5D9DE342847CDFDF9A5A1581D82AE15D9DE342847CDFDF9A5A1581A89991
A89: [ 합 계 ] | N89: TOTAL | O89: TOTAL
A91: 시멘트 액체방수 벽 M2 건축 6-4-1 ( 호표 16 ) | N91: 5D9DE342847CDFDF9A590EAFF82B61
A92: 시멘트 | B92: 시멘트(별도) | C92: kg | D92: 7.2 | N92: 5D9DE342847CDFDF9A590EAFF82B61 | O92: 5AB1035B889995099D09671CF863DCBC31AE1A | P92: F | Q92: F | R92: T | AW92: 5D9DE342847CDFDF9A590EAFF82B615AB1035B889995099D09671CF863DCBC31AE1A
A93: 모래 | B93: (별도) | C93: M3 | D93: 0.01 | N93: 5D9DE342847CDFDF9A590EAFF82B61 | O93: 5A9623FF8E157E239C6E5104B86E525E7161B9 | P93: F | Q93: F | R93: T | AW93: 5D9DE342847CDFDF9A590EAFF82B615A9623FF8E157E239C6E5104B86E525E7161B9
A94: 침투성방수제 | B94: 침투성방수제, 급결방수액 | C94: L | D94: 0.3 | N94: 5D9DE342847CDFDF9A590EAFF82B61 | O94: 5A9613D98FBC60549D2A272CA82FF70C419860 | P94: F | Q94: F | R94: T | AW94: 5D9DE342847CDFDF9A590EAFF82B615A9613D98FBC60549D2A272CA82FF70C419860
A95: 시멘트 액체방수 바름 | B95: 수직부 | C95: M2 | D95: 1 | N95: 5D9DE342847CDFDF9A590EAFF82B61 | O95: 5D9DE342847CDFDF9A590EAF889D21 | P95: T | Q95: F | R95: F | AW95: 5D9DE342847CDFDF9A590EAFF82B615D9DE342847CDFDF9A590EAF889D21
A96: [ 합 계 ] | N96: TOTAL | O96: TOTAL
A98: 선홈통(강관) 설치 101.6mm, 스테인리스관 M 건축 7-2-3 ( 호표 17 ) | N98: 5D9DD3668161871297EC1A00A8B251
A99: 기계구조용스테인리스강관 | B99: 기계구조용스테인리스강관, ∮101.6*1.2mm | C99: M | D99: 1.05 | N99: 5D9DD3668161871297EC1A00A8B251 | O99: 5AC3736585686A7D96A0FDAB182CF5234137A1 | P99: F | Q99: F | R99: T | AW99: 5D9DD3668161871297EC1A00A8B2515AC3736585686A7D96A0FDAB182CF5234137A1
A100: 일반철물 | B100: 일반철물, 선홈통지지철물, STS | C100: 개 | D100: 0.65 | N100: 5D9DD3668161871297EC1A00A8B251 | O100: 5AB113608CBC4104950DC1B02869A15771B34B | P100: F | Q100: F | R100: T | AW100: 5D9DD3668161871297EC1A00A8B2515AB113608CBC4104950DC1B02869A15771B34B
A101: 금속 선홈통 설치 | B101: 지름 150mm, 두께 2mm 이하 기준 | C101: M | D101: 1 | N101: 5D9DD3668161871297EC1A00A8B251 | O101: 5D9DD3668161871297EFEEBFD81771 | P101: T | Q101: F | R101: F | AW101: 5D9DD3668161871297EC1A00A8B2515D9DD3668161871297EFEEBFD81771
A102: [ 합 계 ] | N102: TOTAL | O102: TOTAL
A104: 크레인(장비대) 선홈통설치용 일 ( 호표 18 ) | N104: 5D9DD366813464189A27F7AEF8BA91
A105: 트럭탑재형 크레인 | B105: 5ton | C105: HR | D105: 8 | N105: 5D9DD366813464189A27F7AEF8BA91 | O105: 5A85C3938D4F0A3E9CF18B05D83C98860136C791 | P105: T | Q105: F | R105: F | AW105: 5D9DD366813464189A27F7AEF8BA915A85C3938D4F0A3E9CF18B05D83C98860136C791
A106: [ 합 계 ] | N106: TOTAL | O106: TOTAL
A108: 미장용 코너비드 설치 아연도, 50*50mm M 건축 8-1-2 ( 호표 19 ) | N108: 5D9D1319892095EF9B427487A812B1
A109: 코너비드 | B109: 코너비드, 아연도금, 코너, 50*50mm | C109: M | D109: 1 | N109: 5D9D1319892095EF9B427487A812B1 | O109: 5AB1035B88D7271E9B3B8B3668CC9958F15EBE | P109: F | Q109: F | R109: T | AW109: 5D9D1319892095EF9B427487A812B15AB1035B88D7271E9B3B8B3668CC9958F15EBE
A110: 코너비드 설치 | B110: 재료비 별도 | C110: M | D110: 1 | N110: 5D9D1319892095EF9B427487A812B1 | O110: 5D9D1319892095F890667A04D807E1 | P110: T | Q110: F | R110: F | AW110: 5D9D1319892095EF9B427487A812B15D9D1319892095F890667A04D807E1
A111: [ 합 계 ] | N111: TOTAL | O111: TOTAL
A113: 트랜치 스테인리스, W400*1000*2t EA ( 호표 20 ) | N113: 5D9DC3798B17AD6D941DEE48980B81
A114: 스텐그레이팅 | B114: I-25*5, W200 | C114: M | D114: 2 | N114: 5D9DC3798B17AD6D941DEE48980B81 | O114: 5AB1035B888F2EE8929193F128DABA79718F99 | P114: F | Q114: F | R114: T | V114: 1 | AW114: 5D9DC3798B17AD6D941DEE48980B815AB1035B888F2EE8929193F128DABA79718F99
A115: 스테인리스강판 | B115: 스테인리스강판, STS304, 2.0mm | C115: kg | D115: 16.75 | N115: 5D9DC3798B17AD6D941DEE48980B81 | O115: 5AB1035B888F3F11997F408728755C34A13456 | P115: F | Q115: F | R115: T | V115: 1 | AW115: 5D9DC3798B17AD6D941DEE48980B815AB1035B888F3F11997F408728755C34A13456
A116: 잡철물 제작 및 설치 | B116: 현장제작 설치, 경량철재 | C116: kg | D116: 15.2256 | N116: 5D9DC3798B17AD6D941DEE48980B81 | O116: 5D9DC37382E9758A90C0FE98C88A31 | P116: T | Q116: F | R116: F | V116: 1 | AW116: 5D9DC3798B17AD6D941DEE48980B815D9DC37382E9758A90C0FE98C88A31
A117: 철강설 | B117: 철강설, 스텐레스, 작업설부산물 | C117: kg | D117: -1.5244 | N117: 5D9DC3798B17AD6D941DEE48980B81 | O117: 5A9623FF8E9AD5BE96AF103018AAE1A7315DBA | P117: F | Q117: F | R117: T | V117: 1 | AW117: 5D9DC3798B17AD6D941DEE48980B815A9623FF8E9AD5BE96AF103018AAE1A7315DBA
A118: 각관 설치 | B118: ㅁ-50*50*1.6T | C118: M | D118: 2.8 | N118: 5D9DC3798B17AD6D941DEE48980B81 | O118: 5D9DC3798B17AD6D941DEE48980B91 | P118: T | Q118: F | R118: F | V118: 1 | AW118: 5D9DC3798B17AD6D941DEE48980B815D9DC3798B17AD6D941DEE48980B91
A119: ㄱ형강 | B119: ㄱ-30*30*3t | C119: M | D119: 2.8 | N119: 5D9DC3798B17AD6D941DEE48980B81 | O119: 5D9DC3798B1782A69DAC2BB5289461 | P119: T | Q119: F | R119: F | V119: 1 | AW119: 5D9DC3798B17AD6D941DEE48980B815D9DC3798B1782A69DAC2BB5289461
...

Sheet 단가산출목록
B1: 단 가 산 출 목 록
B2: [ 구덕운동장 씨름장 노후시설물 개보수공사 ]
A3: 코 드 | B3: 품 명 | C3: 규 격 | D3: 단위 | E3: 재 료 비 | F3: 노 무 비 | G3: 경 비 | H3: 합 계 | I3: 번 호 | J3: 비 고 | K3: START | L3: 품셈개요
A4: 5D9D434A8257143392D66B5D88FF31 | B4: 폐기물상차 | C4: 백호우0.7M3 | D4: M3 | E4: =단가산출서!B25 -> 0 | F4: =단가산출서!C25 -> 0 | G4: =단가산출서!D25 -> 0 | H4: =단가산출서!E25 -> 0 | I4: 산근 1 | K4: 5D9D434A8257143392D66B5D88FF31
A5: 5D9C238F8AB1A1A599D587F87841F1 | B5: 시멘트운반 | C5: L:20km, 덤프 8ton | D5: 포 | E5: =단가산출서!B96 -> 0 | F5: =단가산출서!C96 -> 0 | G5: =단가산출서!D96 -> 0 | H5: =단가산출서!E96 -> 0 | I5: 산근 2 | K5: 5D9C238F8AB1A1A599D587F87841F1 | L5: 공통 8-2-8
A6: 5D9C238F8AC2065A946923D6580CE1 | B6: 운반비(트레일러 20ton+크레인 10ton) | C6: 철골, L:20km | D6: TON | E6: =단가산출서!B154 -> 0 | F6: =단가산출서!C154 -> 0 | G6: =단가산출서!D154 -> 0 | H6: =단가산출서!E154 -> 0 | I6: 산근 3 | K6: 5D9C238F8AC2065A946923D6580CE1

Sheet 단가산출서
A1: 단 가 산 출 서
A2: [ 구덕운동장 씨름장 노후시설물 개보수공사 ]
A3: 산 출 내 역 | B3: 재 료 비 | C3: 노 무 비 | D3: 경 비 | E3: 합 계 | F3: 비 고 | G3: START | H3: 코드 | I3: 품명 | J3: 규격 | K3: 단위 | L3: 수량 | M3: 변수 | N3: 값 | O3: 소계 | P3: 소계 | Q3: 소계 | R3: 소계 | S3: 소계 | T3: 총계
A4: 폐기물상차 백호우0.7M3 M3 ( 산근 1 ) | G4: 5D9D434A8257143392D66B5D88FF31 | I4: 폐기물상차 | J4: 백호우0.7M3 | K4: M3
G5: 5D9D434A8257143392D66B5D88FF31 | H5: C | L5: 1
A6: 적재(0.7M3/HR) | G6: 5D9D434A8257143392D66B5D88FF31 | H6: C! | I6: '적재(0.7M3/HR)'
G7: 5D9D434A8257143392D66B5D88FF31 | H7: C!
A8: a 바켓용량 =0.7 | G8: 5D9D434A8257143392D66B5D88FF31 | H8: C! | I8: a '바켓용량' =0.7
A9: K 바켓계수(양호1.1,보통0.90,불량0.70,파쇄암0.55) = 0.55 | G9: 5D9D434A8257143392D66B5D88FF31 | H9: C! | I9: k '바켓계수(양호1.1,보통0.90,불량0.70,파쇄암0.55)'= 0.55
A10: f 토량환산계수 = 0.71 | G10: 5D9D434A8257143392D66B5D88FF31 | H10: C! | I10: f '토량환산계수'= 0.71
A11: E1 터파기에 대하여 -0.05 =0.05 | G11: 5D9D434A8257143392D66B5D88FF31 | H11: C! | I11: E1 '터파기에 대하여 -0.05'=0.05
A12: E 작업효율(보통0.45,불량0.35) = 0.45 | G12: 5D9D434A8257143392D66B5D88FF31 | H12: C! | I12: E '작업효율(보통0.45,불량0.35)'= 0.45
A13: CM 1회 싸이클시간(90˚) =18 | G13: 5D9D434A8257143392D66B5D88FF31 | H13: C! | I13: Cm '1회 싸이클시간(90˚)'=18
A14: Q 시간당 작업량 (M3/HR) = 3600*A*K*F*E/CM = 24.602 | G14: 5D9D434A8257143392D66B5D88FF31 | H14: C! | I14: Q '시간당 작업량 (M3/Hr)'= 3600*a*k*f*E/Cm =?
G15: 5D9D434A8257143392D66B5D88FF31 | H15: C!
G16: 5D9D434A8257143392D66B5D88FF31 | H16: C!
G17: 5D9D434A8257143392D66B5D88FF31 | H17: C!
G18: 5D9D434A8257143392D66B5D88FF31 | H18: C!
G19: 5D9D434A8257143392D66B5D88FF31 | H19: C!
A20: 재료비: 23449 / 24.602 = 953.1 | G20: 5D9D434A8257143392D66B5D88FF31 | H20: C! | I20: '재료비:' ~00000201007000000.M~ / {Q} =?MA
A21: 노무비: 59020 / 24.602 = 2398.9 | G21: 5D9D434A8257143392D66B5D88FF31 | H21: C! | I21: '노무비:' ~00000201007000000.L~ / {Q} =?LA
A22: 경 비: 24554 / 24.602 = 998 | G22: 5D9D434A8257143392D66B5D88FF31 | H22: C! | I22: '경 비:' ~00000201007000000.E~ / {Q} =?EQ
G23: 5D9D434A8257143392D66B5D88FF31 | H23: C!
A24: 소 계 | G24: 5D9D434A8257143392D66B5D88FF31 | H24: C! | I24: >'소 계'
A25: 총 계
A27: 시멘트운반 L:20km, 덤프 8ton 포 공통 8-2-8 ( 산근 2 ) | G27: 5D9C238F8AB1A1A599D587F87841F1 | I27: 시멘트운반 | J27: L:20km, 덤프 8ton | K27: 포
G28: 5D9C238F8AB1A1A599D587F87841F1 | H28: C | L28: 1
A29: 운반거리 L=20KM 덤프트럭(8톤), 포대당 | G29: 5D9C238F8AB1A1A599D587F87841F1 | H29: C! | I29: '운반거리 L=20KM 덤프트럭(8톤), 포대당'
G30: 5D9C238F8AB1A1A599D587F87841F1 | H30: C!
A31: 차량속도= 25/V1,25/V2,40KM/V3,40KM/V4,25KM/V5,25KM/V6 | G31: 5D9C238F8AB1A1A599D587F87841F1 | H31: C! | I31: '차량속도= 25/V1,25/V2,40KM/V3,40KM/V4,25KM/V5,25KM/V6 '
A32: 하치장○-----------------0------------0---------○20KM | G32: 5D9C238F8AB1A1A599D587F87841F1 | H32: C! | I32: '하치장○-----------------0------------0---------○20KM '
A33: 운반거리=하치장L1=0.0KM,시내L2=19.5KM,공사장L3=0.5KM | G33: 5D9C238F8AB1A1A599D587F87841F1 | H33: C! | I33: '운반거리=하치장L1=0.0KM,시내L2=19.5KM,공사장L3=0.5KM'
G34: 5D9C238F8AB1A1A599D587F87841F1 | H34: C!
A35: 인력운반 (품셈 1-5-1) 적재비(하치장 상차도 미계상,공장상차도 계상) | G35: 5D9C238F8AB1A1A599D587F87841F1 | H35: C! | I35: '인력운반 (품셈 1-5-1) 적재비(하치장 상차도 미계상,공장상차도 계상)'
A36: L 소운반거리(M) =20 | G36: 5D9C238F8AB1A1A599D587F87841F1 | H36: C! | I36: L '소운반거리(M)' =20
A37: A 1회 운반량(BG) =1 | G37: 5D9C238F8AB1A1A599D587F87841F1 | H37: C! | I37: A '1회 운반량(BG)' =1
A38: T 단위(KG) =8000 | G38: 5D9C238F8AB1A1A599D587F87841F1 | H38: C! | I38: T '단위(KG)' =8000
A39: RT 단위중량(KG) =40 | G39: 5D9C238F8AB1A1A599D587F87841F1 | H39: C! | I39: RT '단위중량(KG)' =40
A40: MV 운반인부의 속도2500M/HR =2500/60= 41.6666 | G40: 5D9C238F8AB1A1A599D587F87841F1 | H40: C! | I40: MV '운반인부의 속도2500M/HR' =2500/60=?
A41: T1 어깨메고부리기시간(MIN) =2.0 | G41: 5D9C238F8AB1A1A599D587F87841F1 | H41: C! | I41: T1 '어깨메고부리기시간(MIN)' =2.0
A42: QT 차량 1대당 적재용량(BG) =T/RT= 200 | G42: 5D9C238F8AB1A1A599D587F87841F1 | H42: C! | I42: QT '차량 1대당 적재용량(BG)' =T/RT=?
A43: N 차량 1대당 소요운반회수 =QT/A= 200 | G43: 5D9C238F8AB1A1A599D587F87841F1 | H43: C! | I43: N '차량 1대당 소요운반회수' =QT/A=?
A44: CMS 운반 1회당 소요시간(MIN) =L*2/MV+T1= 2.96 | G44: 5D9C238F8AB1A1A599D587F87841F1 | H44: C! | I44: CMS '운반 1회당 소요시간(MIN)' =L*2/MV+T1=?
A45: T1A 차량 1대당 적재소요시간(MIN) =CMS*N= 592 | G45: 5D9C238F8AB1A1A599D587F87841F1 | H45: C! | I45: T1A '차량 1대당 적재소요시간(MIN)' =CMS*N=?
A46: Q 단위당 소요인부(상,하차) =T1A/450*1/QT= 0.007 | G46: 5D9C238F8AB1A1A599D587F87841F1 | H46: C! | I46: Q '단위당 소요인부(상,하차)' =T1A/450*1/QT=?
G47: 5D9C238F8AB1A1A599D587F87841F1 | H47: C!
A48: 1.덤프트럭(8톤/HR) | G48: 5D9C238F8AB1A1A599D587F87841F1 | H48: C! | I48: '1.덤프트럭(8톤/HR)'
A49: T 적재용량(KG) =8000 | G49: 5D9C238F8AB1A1A599D587F87841F1 | H49: C! | I49: T '적재용량(KG)' =8000
A50: R1 단위중량(KG) =40 | G50: 5D9C238F8AB1A1A599D587F87841F1 | H50: C! | I50: r1 '단위중량(KG)' =40
A51: Q1 1회 적재량(BG) =T/R1= 200 | G51: 5D9C238F8AB1A1A599D587F87841F1 | H51: C! | I51: q1 '1회 적재량(BG)' =T/r1=?
A52: f 토량 환산계수 =1 | G52: 5D9C238F8AB1A1A599D587F87841F1 | H52: C! | I52: f '토량 환산계수' =1
A53: E 작업효율 =0.9 | G53: 5D9C238F8AB1A1A599D587F87841F1 | H53: C! | I53: E '작업효율' =0.9
G54: 5D9C238F8AB1A1A599D587F87841F1 | H54: C!
A55: L1 하치장내 운반거리(KM) =0.0 | G55: 5D9C238F8AB1A1A599D587F87841F1 | H55: C! | I55: L1 '하치장내 운반거리(KM)' =0.0
A56: L2 도로주행 운반거리(KM) =19.5 | G56: 5D9C238F8AB1A1A599D587F87841F1 | H56: C! | I56: L2 '도로주행 운반거리(KM)' =19.5
A57: L3 공사장내 운반거리(KM) =0.5 | G57: 5D9C238F8AB1A1A599D587F87841F1 | H57: C! | I57: L3 '공사장내 운반거리(KM)' =0.5
A58: V1 하치장내적재운반속도(KM/HR) =25 | G58: 5D9C238F8AB1A1A599D587F87841F1 | H58: C! | I58: V1 '하치장내적재운반속도(KM/HR)' =25
A59: V2 하치장내공차운반속도(KM/HR) =25 | G59: 5D9C238F8AB1A1A599D587F87841F1 | H59: C! | I59: V2 '하치장내공차운반속도(KM/HR)' =25
A60: V3 도로주행적재운반속도(KM/HR) =40 | G60: 5D9C238F8AB1A1A599D587F87841F1 | H60: C! | I60: V3 '도로주행적재운반속도(KM/HR)' =40
A61: V4 도로주행공차운반속도(KM/HR) =40 | G61: 5D9C238F8AB1A1A599D587F87841F1 | H61: C! | I61: V4 '도로주행공차운반속도(KM/HR)' =40
A62: V5 공사장내적재운반속도(KM/HR) =25 | G62: 5D9C238F8AB1A1A599D587F87841F1 | H62: C! | I62: V5 '공사장내적재운반속도(KM/HR)' =25
A63: V6 공사장내공차운반속도(KM/HR) =25 | G63: 5D9C238F8AB1A1A599D587F87841F1 | H63: C! | I63: V6 '공사장내공차운반속도(KM/HR)' =25
G64: 5D9C238F8AB1A1A599D587F87841F1 | H64: C!
A65: T1 적재시간(MIN) =CMS= 2.96 | G65: 5D9C238F8AB1A1A599D587F87841F1 | H65: C! | I65: t1 '적재시간(MIN)' =CMS=?
A66: T2 왕복시간(MIN) =((L1/V1)+(L1/V2)+(L2/V3)+(L2/V4)+(L3/V5)+(L3/V6))*60= 60.9 | G66: 5D9C238F8AB1A1A599D587F87841F1 | H66: C! | I66: t2 '왕복시간(MIN)' =((L1/V1)+(L1/V2)+(L2/V3)+(L2/V4)+(L3/V5)+(L3/V6))*60=?
A67: T3 적하시간(MIN) =CMS= 2.96 | G67: 5D9C238F8AB1A1A599D587F87841F1 | H67: C! | I67: t3 '적하시간(MIN)' =CMS=?
A68: T4 적재대기시간(MIN) =0.42 | G68: 5D9C238F8AB1A1A599D587F87841F1 | H68: C! | I68: t4 '적재대기시간(MIN)' =0.42
A69: T5 적재함덮개 및 해체시간(MIN) =3.77 | G69: 5D9C238F8AB1A1A599D587F87841F1 | H69: C! | I69: t5 '적재함덮개 및 해체시간(MIN)' =3.77
A70: T6 세륜시간 (MIN) =1.5 | G70: 5D9C238F8AB1A1A599D587F87841F1 | H70: C! | I70: t6 '세륜시간 (MIN)' =1.5
G71: 5D9C238F8AB1A1A599D587F87841F1 | H71: C!
A72: CM 1회 싸이클 시간(MIN) =T1+T2+T3+T4+T5+T6= 72.51 | G72: 5D9C238F8AB1A1A599D587F87841F1 | H72: C! | I72: Cm '1회 싸이클 시간(MIN)' =t1+t2+t3+t4+t5+t6=?
A73: Q 시간당 작업량(BG/HR) =60*Q1*F*E/CM= 148.945 | G73: 5D9C238F8AB1A1A599D587F87841F1 | H73: C! | I73: Q '시간당 작업량(BG/HR)' =60*q1*f*E/Cm=?
A74: Z 공제시간(HR) =(CM-(T1+T3+T4+T5))/CM= 0.8605 | G74: 5D9C238F8AB1A1A599D587F87841F1 | H74: C! | I74: Z '공제시간(HR)' =(Cm-(t1+t3+T4+t5))/Cm=?
A75: 재료비: 21265 / 148.945*Z = 122.8 | G75: 5D9C238F8AB1A1A599D587F87841F1 | H75: C! | I75: '재료비:' ~00000602008000000.M~ / {Q}*Z =?EQ+
A76: 노무비: 49778 / 148.945 = 334.2 | G76: 5D9C238F8AB1A1A599D587F87841F1 | H76: C! | I76: '노무비:' ~00000602008000000.L~ / {Q} =?EQ+
A77: 경 비: 10544 / 148.945 = 70.7 | G77: 5D9C238F8AB1A1A599D587F87841F1 | H77: C! | I77: '경 비:' ~00000602008000000.E~ / {Q} =?EQ+
A78: 소 계 | G78: 5D9C238F8AB1A1A599D587F87841F1 | H78: C! | I78: >'소 계'
G79: 5D9C238F8AB1A1A599D587F87841F1 | H79: C!
A80: 2.인력운반 (품셈 1-5-1) 적하비 | G80: 5D9C238F8AB1A1A599D587F87841F1 | H80: C! | I80: '2.인력운반 (품셈 1-5-1) 적하비
A81: L 소운반거리(M) =20 | G81: 5D9C238F8AB1A1A599D587F87841F1 | H81: C! | I81: L '소운반거리(M)' =20
A82: A 1회 운반량(BG) =1 | G82: 5D9C238F8AB1A1A599D587F87841F1 | H82: C! | I82: A '1회 운반량(BG)' =1
A83: T 단위(KG) =8000 | G83: 5D9C238F8AB1A1A599D587F87841F1 | H83: C! | I83: T '단위(KG)' =8000
A84: RT 단위중량(KG) =40 | G84: 5D9C238F8AB1A1A599D587F87841F1 | H84: C! | I84: RT '단위중량(KG)' =40
A85: MV 운반인부의 속도2500M/HR =2500/60= 41.6666 | G85: 5D9C238F8AB1A1A599D587F87841F1 | H85: C! | I85: MV '운반인부의 속도2500M/HR' =2500/60=?
A86: T1 어깨메고부리기시간(MIN) =2.0 | G86: 5D9C238F8AB1A1A599D587F87841F1 | H86: C! | I86: T1 '어깨메고부리기시간(MIN)' =2.0
A87: QT 차량 1대당 적재용량(BG) =T/RT= 200 | G87: 5D9C238F8AB1A1A599D587F87841F1 | H87: C! | I87: QT '차량 1대당 적재용량(BG)' =T/RT=?
A88: N 차량 1대당 소요운반회수 =QT/A= 200 | G88: 5D9C238F8AB1A1A599D587F87841F1 | H88: C! | I88: N '차량 1대당 소요운반회수' =QT/A=?
A89: CMS 운반 1회당 소요시간(MIN) =L*2/MV+T1= 2.96 | G89: 5D9C238F8AB1A1A599D587F87841F1 | H89: C! | I89: CMS '운반 1회당 소요시간(MIN)' =L*2/MV+T1=?
A90: T1A 차량 1대당 적재소요시간(MIN) =CMS*N= 592 | G90: 5D9C238F8AB1A1A599D587F87841F1 | H90: C! | I90: T1A '차량 1대당 적재소요시간(MIN)' =CMS*N=?
A91: Q 단위당 소요인부(상,하차) =T1A/450*1/QT= 0.007 | G91: 5D9C238F8AB1A1A599D587F87841F1 | H91: C! | I91: Q '단위당 소요인부(상,하차)' =T1A/450*1/QT=?
G92: 5D9C238F8AB1A1A599D587F87841F1 | H92: C!
A93: 보통인부 | G93: 5D9C238F8AB1A1A599D587F87841F1 | H93: C! | I93: '보통인부'
A94: 노무비: 172068*Q = 1204.4 | G94: 5D9C238F8AB1A1A599D587F87841F1 | H94: C! | I94: '노무비:'~L001010101000002.L~*Q =?EQ+
A95: 소 계 | G95: 5D9C238F8AB1A1A599D587F87841F1 | H95: C! | I95: >'소 계'
A96: 총 계
A98: 운반비(트레일러 20ton+크레인 10ton) 철골, L:20km TON ( 산근 3 ) | G98: 5D9C238F8AC2065A946923D6580CE1 | I98: 운반비(트레일러 20ton+크레인 10ton) | J98: 철골, L:20km | K98: TON
G99: 5D9C238F8AC2065A946923D6580CE1 | H99: C | L99: 1
A100: 운반거리 L=20KM 트레일러(20톤) 톤당 | G100: 5D9C238F8AC2065A946923D6580CE1 | H100: C! | I100: '운반거리 L=20KM 트레일러(20톤) 톤당 '
A101: 적용기준:현장에서 가까운 지역공장 상차도 | G101: 5D9C238F8AC2065A946923D6580CE1 | H101: C! | I101: '적용기준:현장에서 가까운 지역공장 상차도'
A102: (인천제철,광양제철,포항 등) | G102: 5D9C238F8AC2065A946923D6580CE1 | H102: C! | I102: ' (인천제철,광양제철,포항 등)'
...

Sheet 단가대비표
A1: 단 가 대 비 표
A2: [ 구덕운동장 씨름장 노후시설물 개보수공사 ]
A3: 코 드 | B3: 품 명 | C3: 규격 | D3: 단위 | E3: 재 료 비 | P3: 노 무 비 | Q3: 경 비 | W3: 번 호 | X3: 비 고 | Y3: 품목구분 | Z3: 노임구분 | AA3: 소수점처리 | AB3: 자재구분
E4: 조달청가격 | F4: PAGE | G4: 거래가격 | H4: PAGE | I4: 유통물가 | J4: PAGE | K4: 물가자료 | L4: PAGE | M4: 조사가격 | N4: PAGE | O4: 적용단가 | Q4: 조달청가격 | R4: 거래가격 | S4: 유통물가 | T4: 물가자료 | U4: 조사가격 | V4: 적용단가
A5: 5A85C3938D4F26D895DECE9AC83E8CF0419ABE | B5: 굴착기(무한궤도) | C5: 0.7㎥ | D5: 대 | X5: 천원
A6: 5A85C3938D4F26D895DECE9BE8B987C3B1B30D | B6: 굴착기(무한궤도) | C6: 1.0㎥ | D6: 대 | X6: 천원
A7: 5A85C3938D4F26929AED7E6D7862AB0B01993C | B7: 덤프트럭 | C7: 8ton | D7: 대 | X7: 천원
A8: 5A85C3938D4F0A3E9CF0E49B883B88570184E9 | B8: 크레인(타이어) | C8: 25ton | D8: 대 | X8: 천원
A9: 5A85C3938D4F0A3E9CF18B05D83C98860136C7 | B9: 트럭탑재형 크레인 | C9: 5ton | D9: 대 | X9: 천원
A10: 5A85C3938D4F0A3E9CF18B05D8225130C1DD94 | B10: 트럭탑재형 크레인 | C10: 10ton | D10: 대 | X10: 천원
A11: 5A85C3938D4F0A3E9CF18B05D822091321E31A | B11: 트럭탑재형 크레인 | C11: 15ton | D11: 대 | X11: 천원
A12: 5A85C3938D4F0A599A521610D8CD8AA4514445 | B12: 트럭 트랙터 및 평판트레일러 | C12: 20ton | D12: 대 | X12: 천원
A13: 5A85C3938D4F6CE19EEC3A69C8694BEE81D561 | B13: 커터(콘크리트 및 아스팔트용) | C13: 320∼400mm | D13: 대 | X13: 천원
A14: 5A85C3938D4F7D349336C587B801543551B796 | B14: 소형브레이커(전기식) | C14: 1.5kw | D14: 대 | X14: 천원
A15: 5A85C3938D4F5225900A833A2874525101CD73 | B15: 절단기 | C15: 40.64cm | D15: 대 | X15: 천원
A16: 5A9623FF8E157E239C6E5104B86E525E7161B9 | B16: 모래 | C16: (별도) | D16: M3 | X16: 별도
A17: 5A9623FF8E157E239C6E5104B86E525E7167C7 | B17: 모래 | C17: 모래, 도착도 | D17: M3
A18: 5A9623FF8E9AD5BE96AF103018AAE1A7315C95 | B18: 철강설 | C18: 철강설, 고철, 작업설부산물 | D18: TON | X18: 수집상차도
A19: 5A9623FF8E9AD5BE96AF103018AAE1A7315C96 | B19: 철강설 | C19: 철강설, 고철, 작업설부산물 | D19: kg | X19: 수집상차도
A20: 5A9623FF8E9AD5BE96AF103018AAE1A7315DBA | B20: 철강설 | C20: 철강설, 스텐레스, 작업설부산물 | D20: kg | X20: 수집상차도
A21: 5A9623FF8E9AD5BE96AF1031386A0E33218BDE | B21: 철강설 | C21: 철강설, 알루미늄, 작업설부산물 | D21: kg | X21: 수집상차도
A22: 5A9613D98F9147F19EDA79E3C800F9F2215580 | B22: 산소가스 | C22: 산소가스, 6000L | D22: 병 | X22: 대기압상태기준
A23: 5A9613D98FBC60549D2A272CA82FF70C419860 | B23: 침투성방수제 | C23: 침투성방수제, 급결방수액 | D23: L
A24: 5A966358863323B6958D0B97689D6A131198AF | B24: 경유 | C24: 경유, 저유황 | D24: L
A25: 5A966358863323B6958E2D3FD8006C28417578 | B25: 공업용휘발유 | C25: 공업용휘발유, 무연 | D25: L
A26: 5A9663588622DFF19EFCEB2BA8A862FC819970 | B26: 아세틸렌가스 | C26: 아세틸렌가스, kg | D26: kg
A27: 5AB1035B888F03AD9F9F507398425D79011EC9 | B27: ㄱ형강 | C27: ㄱ형강, 등변, 30*30*3mm | D27: kg
A28: 5AB1035B888F03AD9F9F507398425D79113D80 | B28: ㄱ형강 | C28: ㄱ형강, 부등변, 100*75*7mm | D28: TON
A29: 5AB1035B888F0381914C343228DEFDE291BDCE | B29: 경량형강 | C29: 경량형강, 블랙C형강, 100*50*20, t3.2 | D29: TON
A30: 5AB1035B888F3F1199781139C81F76856104FA | B30: 알루미늄합금판 | C30: 알루미늄합금판, A1050, 0.5mm | D30: kg
A31: 5AB1035B888F3F11997EBEB72828E5DF31429F | B31: 일반구조용압연강판 | C31: 일반구조용압연강판, 1.6mm | D31: kg
A32: 5AB1035B888F3F11997EBEB72828E5DF314298 | B32: 일반구조용압연강판 | C32: 일반구조용압연강판, 2.3mm | D32: kg
A33: 5AB1035B888F3F11997F408728755C34A13455 | B33: 스테인리스강판 | C33: 스테인리스강판, STS304, 1.5mm | D33: kg
A34: 5AB1035B888F3F11997F408728755C34A13456 | B34: 스테인리스강판 | C34: 스테인리스강판, STS304, 2.0mm | D34: kg
A35: 5AB1035B888F2EE8929193F128DABA79718F99 | B35: 스텐그레이팅 | C35: I-25*5, W200 | D35: M
A36: 5AB1035B889995099D09671CF863DCBC31AE1A | B36: 시멘트 | C36: 시멘트(별도) | D36: kg | X36: 별도
A37: 5AB1035B889995099D09671CF863DCBC31DDB8 | B37: 시멘트 | C37: 40KG | D37: 포
A38: 5AB1035B889995099D09671CF863DCDF4170B4 | B38: 특수시멘트 | C38: 특수시멘트, 백색시멘트 | D38: kg
A39: 5AB1035B889995099D09671CF863DCDF417C64 | B39: 타일시멘트 | C39: 타일시멘트, 압착용, 회색 | D39: kg
A40: 5AB1035B889995099D09671CF863DCDFB1A590 | B40: 타일시멘트 | C40: 타일시멘트, 줄눈용, 백색 | D40: kg
A41: 5AB1035B88B447819F1F430C18F647E411C87E | B41: 콘크리트벽돌 | C41: 콘크리트벽돌, 190*57*90mm, C종2급 | D41: 매
A42: 5AB1035B88B447819F1F430D28D86A8111E478 | B42: 콘크리트벽돌 | C42: 콘크리트벽돌, 190*57*90mm, C종2급 | D42: 매 | X42: 별도
A43: 5AB1035B88B44792960F6907B850F53FA14C84 | B43: 자연석판석 | C43: 자연석판석, 물갈기, 20mm, 포천석판재 | D43: M2
A44: 5AB1035B88B447929609C1CA28AC0CB9410C69 | B44: 도기질타일 | C44: 도기질타일, 300*600mm | D44: M2
A45: 5AB1035B88B447929609C1C87815923A3178A2 | B45: 자기질타일 | C45: 자기질타일, 300*300mm | D45: M2
A46: 5AB1035B88C6D304951E95FB686FBE6361B1AC | B46: 압출발포폴리스티렌단열재 | C46: 압출발포폴리스티렌단열재, 0.03, 900*1800*50mm | D46: M2
A47: 5AB1035B88D7271E9B3B8B3668CC9958F15EBE | B47: 코너비드 | C47: 코너비드, 아연도금, 코너, 50*50mm | D47: M
A48: 5AB1035B88E1B97396278FCD6894A51E118B2D | B48: 불연천장재 | C48: 불연천장재, 마이톤, M-Bar용, 12*300*600mm | D48: M2
A49: 5AB1035B88E1B97396278FCD68C07782C15CDD | B49: 열경화성수지천장재-현장설치도 | C49: 300*300*1.5T, 신원형, 신사각, 원형, 평판 | D49: M2
A50: 5AB1035B88E1B97396278FCD68C0656831B5D8 | B50: 열경화성수지천장재몰딩 | C50: 칼라<현장설치도> | D50: M | X50: 시공도
A51: 5AB1035B88E1B9739621664928CDB843E140FE | B51: 경량철골천장틀 | C51: 경량철골천장틀, M-BAR더블, 50*19*0.5mm | D51: M
A52: 5AB1035B88E1B9739621664928CDB843E1472E | B52: 경량철골천장틀 | C52: 경량철골천장틀, 달대볼트, 상6*1000mm | D52: 개
A53: 5AB1035B88E1B9739621664928CDB843E14455 | B53: 경량철골천장틀 | C53: 경량철골천장틀, 캐링찬넬, 38*12*1.2mm | D53: M
A54: 5AB1035B88E1B9739621664928CDB843E14454 | B54: 경량철골천장틀 | C54: 경량철골천장틀, 마이너찬넬, 19*10*1.2mm | D54: M
A55: 5AB1035B88E1B9739621664928CDB843E14457 | B55: 경량철골천장틀 | C55: 경량철골천장틀, 행가및핀, 110*23*18*2.3mm | D55: 조
A56: 5AB1035B88E1B9739621664928CDB843E14456 | B56: 경량철골천장틀 | C56: 경량철골천장틀, 찬넬크립, 37*30*10*1.2mm | D56: 조
A57: 5AB1035B88E1B9739621664928CDB843E14451 | B57: 경량철골천장틀 | C57: 경량철골천장틀, 캐링조인트, 90*40*13*0.5mm | D57: 조
A58: 5AB1035B88E1B9739621664928CDB843E14450 | B58: 경량철골천장틀 | C58: 경량철골천장틀, BAR크립, 더블 | D58: 개
A59: 5AB1035B88E1B9739621664928CDB843E14452 | B59: 경량철골천장틀 | C59: 경량철골천장틀, BAR조인트, 더블 | D59: 개
A60: 5AB1035B88E1B9739621664928CDB843E1457C | B60: 경량철골천장틀 | C60: 경량철골천장틀, 피스, 3*16mm | D60: 개 | X60: 필요시 계상
A61: 5AB1035B88E1B9739621664928CDB843E14AF8 | B61: 경량철골천장틀 | C61: 경량철골천장틀, 몰딩(알루미늄), W형, 15*15*15*15*1.0mm | D61: M
A62: 5AB1035B88E1B9629F330A677886D1BBB122E9 | B62: 비닐시트 | C62: 비닐시트, 2.0mm, 모노륨 | D62: M2 | X62: LG 명품기준
A63: 5AB1035B88F21FAE9C0D8842686C9AAA910BEE | B63: 합성수지 문틀 | C63: 230mm | D63: M
A64: 5AB1035B88F21FAE9C0D8842686C9AAA910939 | B64: 합성수지 문짝 | C64: 900*2100 | D64: 매
A65: 5AB1035B880BA7B69C61AABA7834553C01FA48 | B65: 화장실칸막이 | C65: 20T*600*1900mm,도어-코어보드,간벽포스트-방수PB<현장설치도> | D65: M2
A66: 5AB1035B880BA7B69C61AABA7834553C01FB54 | B66: 소변기칸막이 | C66: 20T*(450~500)*1200,코아보드소변기칸막이<현장설치도> | D66: EA
A67: 5AB1035B880BA7B69C61AABA7834553C01FB55 | B67: 샤워실칸막이 | C67: 20T*(450~500)*1200,코아보드칸막이<현장설치도> | D67: EA
A68: 5AB113608CBC41C79DFC2CC398711A8211546E | B68: 도어힌지 | C68: 도어힌지, 황동 | D68: 개
A69: 5AB113608CBC41049CB6AA786858C303817530 | B69: 도어핸들 | C69: 도어핸들, LEVER 스테인리스 | D69: 조
A70: 5AB113608CBC41049CB58350981AEBF7B1FBC2 | B70: 인서트 | C70: 퍼지인서트, 3/8" | D70: 개
A71: 5AB113608CBC4104950DC1B02869A15771B34B | B71: 일반철물 | C71: 일반철물, 선홈통지지철물, STS | D71: 개
A72: 5AB11363881BBE96939FEA72F89F841B411C88 | B72: 초산비닐계접착제 | C72: 초산비닐계접착제, 비닐타일용 | D72: kg
A73: 5AB11363881BBE96939FEA72F89F841B411C8A | B73: 초산비닐계접착제 | C73: 초산비닐계접착제, 스치로폴, 암면 | D73: kg
A74: 5AB11363881BBE96939B0FE3082652A8216801 | B74: 퍼티 | C74: 퍼티, #319퍼티, 회색 | D74: L
A75: 5AB11363881BBE96939B0FE3082652A83173D4 | B75: 퍼티 | C75: 퍼티, 친환경, 내부 | D75: kg
A76: 5AB11363881BBE96939B0FE3082652A801BF2F | B76: 퍼티 | C76: 퍼티, 319퍼티, 백색 | D76: kg | X76: 1L=1.55kg
A77: 5AB11363881B81A496046CB5C8189CBC1113C6 | B77: 에폭시프라이머 | D77: KG
A78: 5AB11363881B81A496046CB5C8189CBC1113C5 | B78: 탄성실링재 | D78: KG
A79: 5AB11363881B81A496046CB5C8189CBC1113C4 | B79: 다이아몬드날 | D79: EA
A80: 5AB11363881B81A496046CB5C8189B25A17CDC | B80: 아크릴탄성크랙커버제 | D80: kg
A81: 5AB1136388095E959F9F9C69888E8BAF31C0B4 | B81: 수성페인트 | C81: 수성페인트, 친환경, 내부 | D81: L
A82: 5AB1136388095E959F9F9C6BB8890881E10A4C | B82: 수성페인트 | C82: 수성페인트, KSM6010-1종1급, 백색 | D82: L
A83: 5AB1136388095E9596A34105A8869C4751FD95 | B83: 방청페인트 | C83: 방청페인트, KSM6030-1종1류, 광명단페인트 | D83: L
A84: 5AB1136388095E9596A34105A8869C4751FD94 | B84: 방청페인트 | C84: 방청페인트, KSM6030-1종2류, 광명단페인트 | D84: L
A85: 5AB1136388095E9596A73C8D482F64DE014449 | B85: 조합페인트 | C85: 조합페인트, KSM6020-1종1급, 백색 | D85: L
A86: 5AB1136388095EB09D7DF6E168FA3006118F34 | B86: 실링재 | C86: 실링재, 실리콘, 비초산, 유리용, 창호주위 | D86: L
A87: 5AB1136388095E4D9D41A9D208667A0A419700 | B87: 시너 | C87: 시너, KSM6060, 1종 | D87: L
A88: 5AB1136388095E4D9D41A9D208667A0A419701 | B88: 시너 | C88: 시너, KSM6060, 2종 | D88: L
A89: 5AC3736585686A7D96AF66D658BB09D9A1BC33 | B89: 일반구조용각형강관 | C89: 일반구조용각형강관, 각형강관, 50*50*1.6mm | D89: M
A90: 5AC3736585686A7D96AF66D658BB09D9A1BDDC | B90: 일반구조용각형강관 | C90: 일반구조용각형강관, 각형강관, 50*50*2.3mm | D90: TON
A91: 5AC3736585686A7D96A0FDAB182CF5234137A1 | B91: 기계구조용스테인리스강관 | C91: 기계구조용스테인리스강관, ∮101.6*1.2mm | D91: M
A92: 5DD013D285BE651192DDB1112813191C41919E | B92: 폐콘크리트 | C92: 이물질이 없는 순수한 폐콘크리트 | D92: TON | Y92: C
A93: 5DD013D285BE651192DDB1112813191C41919C | B93: 건설폐재류 | C93: 가연성이 제거된 재활용이 가능한 혼합물 | D93: TON | Y93: C
A94: 5DD013D285BE651192DDB1112813191C318BB4 | B94: 혼합건설폐기물 | C94: 불연성 건설폐기물에 가연성 5% 이하 혼합 | D94: TON | Y94: C
A95: 5DD013D285BE651192DDB1112813191C21E6F7 | B95: 혼합건설폐기물 | C95: 그 밖의 건설폐기물에 가연성 5% 이하 혼합 | D95: TON | Y95: C
A96: 5DD013D285BE651192DDB1112813191C11DC30 | B96: 혼합건설폐기물 | C96: 폐합성수지 | D96: TON
A97: 5DD013D285BE651192DDB11128028F2BD128B7 | B97: 건설폐재류 운반비 | C97: 24톤 덤프트럭, 30km | D97: TON | Y97: C
A98: 5DD013D285BE651192DDB11128028F2BD12D39 | B98: 혼합건설폐기물 운반비 | C98: 24톤 암롤트럭, 30km | D98: TON | Y98: C
A99: 5D42534E892FAF429008DB2C589906A4F18522 | B99: 보통인부 | C99: 일반공사 직종 | D99: 인 | X99: 2026년상반기 | Y99: B
A100: 5D42534E892FAF429008DB2C589906A4F18523 | B100: 특별인부 | C100: 일반공사 직종 | D100: 인 | X100: 2026년상반기 | Y100: B
...

Sheet  공사설정 
A1: 이 Sheet는 수정하지 마십시요
A2: 공사구분 | B2: A | C2: 타이틀
A3: 확정내역 | B3: 원내역
A4: 자재단가적용 | B4: 5
A5: 경비단가적용 | B5: 5
A6: 품목코드형식 | B6: XXXX-XXXX-XXXXXXXXX
A7: 내역금액소수점처리 | B7: C | C7: T
A8: 일위대가내역소수점처리 | B8: C | C8: 2
A9: 단가명 | B9: 조달청가격 | C9: 거래가격 | D9: 유통물가 | E9: 물가자료 | F9: 조사가격 | G9: TTTTT
A10: 환율 | B10: 1466 | C10: 0 | D10: 0
A11: 시간당작업량 | B11: R | C11: 4
A12: 1회 사이클시간 | B12: R | C12: 4
A13: 시간당 작업사이클 | B13: R | C13: 3
A14: 일반변수 | B14: C | C14: 5
A15: 시간당 노임산출 계수 | B15: A | C15: 1/8*16/12*25/20 | D15: 1/8*16/12*25/20 | E15: 1/8*16/12*25/20 | F15: 1
A16: 재료비 할증 계수 | B16: 1.11 | C16: 1.12
A17: 노무비 할증 계수 | B17: 1 | C17: 1.5 | D17: 1.16 | E17: 1.6 | F17: 1.6 | G17: 1.6 | H17: 1.94 | I17: 1.94 | J17: 1.94 | K17: 1 | L17: 1 | M17: 1
A18: 경비 할증 계수 | B18: 1.25 | C18: 1.071
A19: 내역,일위대가 품명,규격,단위 따로적용
A20: 내역단가 소수점처리 | B20: C | C20: 1
A21: 코드 | B21: 공종구분명 | C21: 원가비목코드
A22: 1 | B22: 작 업 부 산 물 | C22: A3
A23: 2 | B23: 운 반 비 | C23: C1
A24: 3 | B24: 관 급 자 재 비 | C24: DJ
A25: 4 | B25: 품 질 관 리 비 | C25: C9
A26: 5 | B26: 안 전 관 리 비 | C26: CE
A27: 6 | B27: 석면농도측정비 | C27: D4
A28: 7 | B28: 도급자관급자재비 | C28: DK
A29: 8 | B29: 관급자관급자재비 | C29: DL
A30: 9 | B30: 건설폐기물처리비 | C30: D5
A31: A | B31: 지정폐기물처리비 | C31: D6
A32: B | B32: .....
A33: C | B33: ....
A34: D | B34: 검사 및 시험비 | C34: D8
A35: E | B35: ....
A36: F | B36: ....
A37: G | B37: ....
A38: H | B38: ....
A39: I | B39: ....
A40: J | B40: ....
A43: 단가 순서 | B43: 1234

Sheet Sheet1
