Workbook

Sheet 원가계산서
B1: 공 사 원 가 계 산 서
B2: 공사명 : 구덕운동장 씨름장 노후시설물 개보수공사
B3: 비 목 | E3: 금 액 | F3: 구 성 비 | G3: 비 고
A4: A1 | B4: 순 공 사 원 가 | C4: 재 료 비 | D4: 직 접 재 료 비 | E4: =TRUNC(공종별집계표!F5, 0) -> 0
A5: A2 | D5: 간 접 재 료 비 | E5: 0
A6: A3 | D6: 작 업 부 산 물 | E6: =TRUNC(공종별집계표!T26, 0) -> 0
A7: AS | D7: [ 소 계 ] | E7: =TRUNC(E4+E5-E6, 0) -> 0
A8: B1 | C8: 노 무 비 | D8: 직 접 노 무 비 | E8: =TRUNC(공종별집계표!H5, 0) -> 0
A9: B2 | D9: 간 접 노 무 비 | E9: =TRUNC(E8*0.175, 0) -> 0 | F9: 직접노무비 * 17.5%
A10: BS | D10: [ 소 계 ] | E10: =TRUNC(E8+E9, 0) -> 0
A11: C2 | C11: 경 비 | D11: 경 비 | E11: =TRUNC(공종별집계표!J5, 0) -> 0
A12: C4 | D12: 산 재 보 험 료 | E12: =TRUNC(E10*0.0356, 0) -> 0 | F12: 노무비 * 3.56%
A13: C5 | D13: 고 용 보 험 료 | E13: =TRUNC(E10*0.0101, 0) -> 0 | F13: 노무비 * 1.01%
A14: C6 | D14: 국민 건강 보험료 | E14: =TRUNC(E8*0.03595, 0) -> 0 | F14: 직접노무비 * 3.595%
A15: C7 | D15: 국민 연금 보험료 | E15: =TRUNC(E8*0.0475, 0) -> 0 | F15: 직접노무비 * 4.75%
A16: CB | D16: 노인장기요양보험료 | E16: =TRUNC(E14*0.1314, 0) -> 0 | F16: 건강보험료 * 13.14%
A17: C8 | D17: 퇴직 공제 부금비 | E17: =TRUNC(E8*0.023, 0) -> 0 | F17: 직접노무비 * 2.3%
A18: CA | D18: 산업안전보건관리비 | E18: =TRUNC((E7+E8)*0.0311, 0) -> 0 | F18: (재료비+직노) * 3.11%
A19: CG | D19: 기 타 경 비 | E19: =TRUNC((E7+E10)*0.032, 0) -> 0 | F19: (재료비+노무비) * 3.2%
A20: CH | D20: 환 경 보 전 비 | E20: =TRUNC((E7+E8+E11)*0.003, 0) -> 0 | F20: (재료비+직노+경비) * 0.3%
A21: CK | D21: 하도급지급보증수수료 | E21: =TRUNC((E7+E8+E11)*0.00081, 0) -> 0 | F21: (재료비+직노+경비) * 0.081% | G21: 최저가대상공사
A22: CL | D22: 건설기계대여금지급보증서발급수수료 | E22: =TRUNC((E7+E8+E11)*0.0007, 0) -> 0 | F22: (재료비+직노+경비) * 0.07%
A23: CM | D23: 석 면 분 담 금 | E23: =TRUNC(E10*0.00006, 0) -> 0 | F23: 노무비 * 0.006%
A24: CN | D24: 임 금 채 권 부 담 금 | E24: =TRUNC(E10*0.0009, 0) -> 0 | F24: 노무비 * 0.09%
A25: CS | D25: [ 소 계 ] | E25: =TRUNC(E11+E12+E13+E14+E15+E17+E18+E16+E19+E20+E21+E22+E23+E24, 0) -> 0
A26: S1 | B26: 계 | E26: =TRUNC(E7+E10+E25, 0) -> 0
A27: D1 | B27: 일 반 관 리 비 | E27: =TRUNC(E26*0.05, 0) -> 0 | F27: 계 * 5%
A28: D2 | B28: 이 윤 | F28: (노무비+경비+일반관리비) * 10%
A29: D5 | B29: 건설폐기물처리비
A30: D9 | B30: 공 급 가 액
A31: DB | B31: 부 가 가 치 세 | F31: 공급가액 * 10%
A32: DH | B32: 도 급 액
A33: DL | B33: 관급자관급자재비
A34: S2 | B34: 총 공 사 비

Sheet 공종별집계표
A1: 공 종 별 집 계 표
A2: [ 구덕운동장 씨름장 노후시설물 개보수공사 ]
A3: 품 명 | B3: 규 격 | C3: 단위 | D3: 수량 | E3: 재 료 비 | G3: 노 무 비 | I3: 경 비 | K3: 합 계 | M3: 비 고 | N3: 공종코드 | O3: 변수 | P3: 상위공종 | Q3: 공종구분 | R3: 공종레벨 | S3: 공종소계 | T3: 원가계산서 연결금액
E4: 단 가 | F4: 금 액 | G4: 단 가 | H4: 금 액 | I4: 단 가 | J4: 금 액 | K4: 단 가 | L4: 금 액
A5: 구덕운동장 씨름장 노후시설물 개보수공사 | D5: 1 | E5: =F6+F23 -> 0 | F5: =E5*D5 -> 0 | G5: =H6+H23 -> 0 | H5: =G5*D5 -> 0 | I5: =J6+J23 -> 0 | J5: =I5*D5 -> 0 | K5: =E5+G5+I5 -> 0 | L5: =F5+H5+J5 -> 0 | N5: 01 | R5: 1
A6: ■건축공사 | D6: 1 | E6: =F7 -> 0 | F6: =E6*D6 -> 0 | G6: =H7 -> 0 | H6: =G6*D6 -> 0 | I6: =J7 -> 0 | J6: =I6*D6 -> 0 | K6: =E6+G6+I6 -> 0 | L6: =F6+H6+J6 -> 0 | N6: 0101 | P6: 01 | R6: 2
A7: ▣리모델링공사 | D7: 1 | E7: =F8+F9+F10+F11+F12+F13+F14+F15+F16+F17+F18+F19+F20+F21+F22 -> 0 | F7: =E7*D7 -> 0 | G7: =H8+H9+H10+H11+H12+H13+H14+H15+H16+H17+H18+H19+H20+H21+H22 -> 0 | H7: =G7*D7 -> 0 | I7: =J8+J9+J10+J11+J12+J13+J14+J15+J16+J17+J18+J19+J20+J21+J22 -> 0 | J7: =I7*D7 -> 0 | K7: =E7+G7+I7 -> 0 | L7: =F7+H7+J7 -> 0 | N7: 010101 | P7: 0101 | R7: 3
A8: 철 골 공 사 | D8: 1 | E8: =공종별내역서!F29 -> 0 | F8: =E8*D8 -> 0 | G8: =공종별내역서!H29 -> 0 | H8: =G8*D8 -> 0 | I8: =공종별내역서!J29 -> 0 | J8: =I8*D8 -> 0 | K8: =E8+G8+I8 -> 0 | L8: =F8+H8+J8 -> 0 | N8: 01010101 | P8: 010101 | R8: 4
A9: 조 적 공 사 | D9: 1 | E9: =공종별내역서!F55 -> 0 | F9: =E9*D9 -> 0 | G9: =공종별내역서!H55 -> 0 | H9: =G9*D9 -> 0 | I9: =공종별내역서!J55 -> 0 | J9: =I9*D9 -> 0 | K9: =E9+G9+I9 -> 0 | L9: =F9+H9+J9 -> 0 | N9: 01010102 | P9: 010101 | R9: 4
A10: 돌 공 사 | D10: 1 | E10: =공종별내역서!F81 -> 0 | F10: =E10*D10 -> 0 | G10: =공종별내역서!H81 -> 0 | H10: =G10*D10 -> 0 | I10: =공종별내역서!J81 -> 0 | J10: =I10*D10 -> 0 | K10: =E10+G10+I10 -> 0 | L10: =F10+H10+J10 -> 0 | N10: 01010103 | P10: 010101 | R10: 4
A11: 타 일 공 사 | D11: 1 | E11: =공종별내역서!F107 -> 0 | F11: =E11*D11 -> 0 | G11: =공종별내역서!H107 -> 0 | H11: =G11*D11 -> 0 | I11: =공종별내역서!J107 -> 0 | J11: =I11*D11 -> 0 | K11: =E11+G11+I11 -> 0 | L11: =F11+H11+J11 -> 0 | N11: 01010104 | P11: 010101 | R11: 4
A12: 목공사및수장공사 | D12: 1 | E12: =공종별내역서!F133 -> 0 | F12: =E12*D12 -> 0 | G12: =공종별내역서!H133 -> 0 | H12: =G12*D12 -> 0 | I12: =공종별내역서!J133 -> 0 | J12: =I12*D12 -> 0 | K12: =E12+G12+I12 -> 0 | L12: =F12+H12+J12 -> 0 | N12: 01010105 | P12: 010101 | R12: 4
A13: 방 수 공 사 | D13: 1 | E13: =공종별내역서!F159 -> 0 | F13: =E13*D13 -> 0 | G13: =공종별내역서!H159 -> 0 | H13: =G13*D13 -> 0 | I13: =공종별내역서!J159 -> 0 | J13: =I13*D13 -> 0 | K13: =E13+G13+I13 -> 0 | L13: =F13+H13+J13 -> 0 | N13: 01010106 | P13: 010101 | R13: 4
A14: 지붕 및 홈통공사 | D14: 1 | E14: =공종별내역서!F185 -> 0 | F14: =E14*D14 -> 0 | G14: =공종별내역서!H185 -> 0 | H14: =G14*D14 -> 0 | I14: =공종별내역서!J185 -> 0 | J14: =I14*D14 -> 0 | K14: =E14+G14+I14 -> 0 | L14: =F14+H14+J14 -> 0 | N14: 01010107 | P14: 010101 | R14: 4
A15: 금 속 공 사 | D15: 1 | E15: =공종별내역서!F211 -> 0 | F15: =E15*D15 -> 0 | G15: =공종별내역서!H211 -> 0 | H15: =G15*D15 -> 0 | I15: =공종별내역서!J211 -> 0 | J15: =I15*D15 -> 0 | K15: =E15+G15+I15 -> 0 | L15: =F15+H15+J15 -> 0 | N15: 01010108 | P15: 010101 | R15: 4
A16: 미 장 공 사 | D16: 1 | E16: =공종별내역서!F237 -> 0 | F16: =E16*D16 -> 0 | G16: =공종별내역서!H237 -> 0 | H16: =G16*D16 -> 0 | I16: =공종별내역서!J237 -> 0 | J16: =I16*D16 -> 0 | K16: =E16+G16+I16 -> 0 | L16: =F16+H16+J16 -> 0 | N16: 01010109 | P16: 010101 | R16: 4
A17: 창호 및 유리공사 | D17: 1 | E17: =공종별내역서!F263 -> 0 | F17: =E17*D17 -> 0 | G17: =공종별내역서!H263 -> 0 | H17: =G17*D17 -> 0 | I17: =공종별내역서!J263 -> 0 | J17: =I17*D17 -> 0 | K17: =E17+G17+I17 -> 0 | L17: =F17+H17+J17 -> 0 | N17: 01010110 | P17: 010101 | R17: 4
A18: 칠 공 사 | D18: 1 | E18: =공종별내역서!F289 -> 0 | F18: =E18*D18 -> 0 | G18: =공종별내역서!H289 -> 0 | H18: =G18*D18 -> 0 | I18: =공종별내역서!J289 -> 0 | J18: =I18*D18 -> 0 | K18: =E18+G18+I18 -> 0 | L18: =F18+H18+J18 -> 0 | N18: 01010111 | P18: 010101 | R18: 4
A19: 철 거 공 사 | D19: 1 | E19: =공종별내역서!F315 -> 0 | F19: =E19*D19 -> 0 | G19: =공종별내역서!H315 -> 0 | H19: =G19*D19 -> 0 | I19: =공종별내역서!J315 -> 0 | J19: =I19*D19 -> 0 | K19: =E19+G19+I19 -> 0 | L19: =F19+H19+J19 -> 0 | N19: 01010112 | P19: 010101 | R19: 4
A20: 보 수 공 사 | D20: 1 | E20: =공종별내역서!F341 -> 0 | F20: =E20*D20 -> 0 | G20: =공종별내역서!H341 -> 0 | H20: =G20*D20 -> 0 | I20: =공종별내역서!J341 -> 0 | J20: =I20*D20 -> 0 | K20: =E20+G20+I20 -> 0 | L20: =F20+H20+J20 -> 0 | N20: 01010113 | P20: 010101 | R20: 4
A21: 골 재 비 | D21: 1 | E21: =공종별내역서!F367 -> 0 | F21: =E21*D21 -> 0 | G21: =공종별내역서!H367 -> 0 | H21: =G21*D21 -> 0 | I21: =공종별내역서!J367 -> 0 | J21: =I21*D21 -> 0 | K21: =E21+G21+I21 -> 0 | L21: =F21+H21+J21 -> 0 | N21: 01010114 | P21: 010101 | R21: 4
A22: 운 반 비 | D22: 1 | E22: =공종별내역서!F393 -> 0 | F22: =E22*D22 -> 0 | G22: =공종별내역서!H393 -> 0 | H22: =G22*D22 -> 0 | I22: =공종별내역서!J393 -> 0 | J22: =I22*D22 -> 0 | K22: =E22+G22+I22 -> 0 | L22: =F22+H22+J22 -> 0 | N22: 01010115 | P22: 010101 | R22: 4
A23: ■기계설비공사 | D23: 1 | E23: =공종별내역서!F419 -> 0 | F23: =E23*D23 -> 0 | G23: =공종별내역서!H419 -> 0 | H23: =G23*D23 -> 0 | I23: =공종별내역서!J419 -> 0 | J23: =I23*D23 -> 0 | K23: =E23+G23+I23 -> 0 | L23: =F23+H23+J23 -> 0 | N23: 0102 | P23: 01 | R23: 2
A24: ■관급자관급자재비 | D24: 1 | E24: =F25 -> 0 | F24: =E24*D24 -> 0 | G24: =H25 -> 0 | H24: =G24*D24 -> 0 | I24: =J25 -> 0 | J24: =I24*D24 -> 0 | K24: =E24+G24+I24 -> 0 | L24: =F24+H24+J24 -> 0 | N24: 0103 | Q24: 8 | R24: 2 | T24: =L24*1 -> 0
A25: 건축공사 | D25: 1 | E25: =공종별내역서!F445 -> 0 | F25: =E25*D25 -> 0 | G25: =공종별내역서!H445 -> 0 | H25: =G25*D25 -> 0 | I25: =공종별내역서!J445 -> 0 | J25: =I25*D25 -> 0 | K25: =E25+G25+I25 -> 0 | L25: =F25+H25+J25 -> 0 | N25: 010301 | P25: 0103 | R25: 3
A26: ■고재처리비 | D26: 1 | E26: =F27 -> 0 | F26: =E26*D26 -> 0 | G26: =H27 -> 0 | H26: =G26*D26 -> 0 | I26: =J27 -> 0 | J26: =I26*D26 -> 0 | K26: =E26+G26+I26 -> 0 | L26: =F26+H26+J26 -> 0 | N26: 0104 | Q26: 1 | R26: 2 | T26: =L26*1 -> 0
A27: 건축공사 | D27: 1 | E27: =공종별내역서!F471 -> 0 | F27: =E27*D27 -> 0 | G27: =공종별내역서!H471 -> 0 | H27: =G27*D27 -> 0 | I27: =공종별내역서!J471 -> 0 | J27: =I27*D27 -> 0 | K27: =E27+G27+I27 -> 0 | L27: =F27+H27+J27 -> 0 | N27: 010401 | P27: 0104 | R27: 3
A28: ■건설폐기물처리비 | D28: 1 | E28: =공종별내역서!F497 -> 0 | F28: =E28*D28 -> 0 | G28: =공종별내역서!H497 -> 0 | H28: =G28*D28 -> 0 | I28: =공종별내역서!J497 -> 0 | J28: =I28*D28 -> 0 | K28: =E28+G28+I28 -> 0 | L28: =F28+H28+J28 -> 0 | N28: 0105 | Q28: 9 | R28: 2 | T28: =L28*1 -> 0
A29: [ 합 계 ] | F29: =F5 -> 0 | H29: =H5 -> 0 | J29: =J5 -> 0 | L29: =L5 -> 0

Sheet 공종별내역서
A1: [ 구덕운동장 씨름장 노후시설물 개보수공사 ]
A2: 품 명 | B2: 규 격 | C2: 단위 | D2: 수량 | E2: 재 료 비 | G2: 노 무 비 | I2: 경 비 | K2: 합 계 | M2: 비 고 | N2: 품목코드 | O2: 변수 | P2: 설정 | Q2: 공종코드 | R2: 일위 | S2: 단산 | T2: 자재 | U2: 손료적용 | V2: 손료저장 | W2: 적용율 | X2: JUK1 | Y2: JUK2 | Z2: JUK3 | AA2: JUK4 | AB2: JUK5 | AC2: JUK6 | AD2: JUK7 | AE2: JUK8 | AF2: JUK9 | AG2: JUK10 | AH2: JUK11 | AI2: JUK12 | AJ2: JUK13 | AK2: JUK14 | AL2: JUK15 | AM2: JUK16 | AN2: JUK17 | AO2: JUK18 | AP2: JUK19 | AQ2: JUK20 | AR2: 자재구분 | AS2: 공종구분 | AT2: 공종레벨 | AU2: 공종+자재 | AV2: 고유번호
E3: 단 가 | F3: 금 액 | G3: 단 가 | H3: 금 액 | I3: 단 가 | J3: 금 액 | K3: 단 가 | L3: 금 액
A4: 철 골 공 사 | B4: ■건축공사 ▣리모델링공사 | Q4: 01010101
A5: ㄱ형강 | B5: ㄱ형강, 부등변, 100*75*7mm | C5: TON | D5: 0.249 | E5: =TRUNC(단가대비표!O28,0) -> 0 | F5: =TRUNC(E5*D5, 0) -> 0 | G5: =TRUNC(단가대비표!P28,0) -> 0 | H5: =TRUNC(G5*D5, 0) -> 0 | I5: =TRUNC(단가대비표!V28,0) -> 0 | J5: =TRUNC(I5*D5, 0) -> 0 | K5: =TRUNC(E5+G5+I5, 0) -> 0 | L5: =TRUNC(F5+H5+J5, 0) -> 0 | M5: 자재 24 | N5: 5AB1035B888F03AD9F9F507398425D79113D80 | Q5: 01010101 | R5: F | S5: F | T5: T | AU5: 010101015AB1035B888F03AD9F9F507398425D79113D80 | AV5: 4
A6: 경량형강 | B6: 경량형강, 블랙C형강, 100*50*20, t3.2 | C6: TON | D6: 3.183 | E6: =TRUNC(단가대비표!O29,0) -> 0 | F6: =TRUNC(E6*D6, 0) -> 0 | G6: =TRUNC(단가대비표!P29,0) -> 0 | H6: =TRUNC(G6*D6, 0) -> 0 | I6: =TRUNC(단가대비표!V29,0) -> 0 | J6: =TRUNC(I6*D6, 0) -> 0 | K6: =TRUNC(E6+G6+I6, 0) -> 0 | L6: =TRUNC(F6+H6+J6, 0) -> 0 | M6: 자재 25 | N6: 5AB1035B888F0381914C343228DEFDE291BDCE | Q6: 01010101 | R6: F | S6: F | T6: T | AU6: 010101015AB1035B888F0381914C343228DEFDE291BDCE | AV6: 5
A7: 일반구조용각형강관 | B7: 일반구조용각형강관, 각형강관, 50*50*2.3mm | C7: TON | D7: 3.149 | E7: =TRUNC(단가대비표!O90,0) -> 0 | F7: =TRUNC(E7*D7, 0) -> 0 | G7: =TRUNC(단가대비표!P90,0) -> 0 | H7: =TRUNC(G7*D7, 0) -> 0 | I7: =TRUNC(단가대비표!V90,0) -> 0 | J7: =TRUNC(I7*D7, 0) -> 0 | K7: =TRUNC(E7+G7+I7, 0) -> 0 | L7: =TRUNC(F7+H7+J7, 0) -> 0 | M7: 자재 86 | N7: 5AC3736585686A7D96AF66D658BB09D9A1BDDC | Q7: 01010101 | R7: F | S7: F | T7: T | AU7: 010101015AC3736585686A7D96AF66D658BB09D9A1BDDC | AV7: 6
A8: 경량형강철골조 조립설치 | B8: 비내력식 | C8: TON | D8: 3.269 | E8: =TRUNC(일위대가목록!E4,0) -> 0 | F8: =TRUNC(E8*D8, 0) -> 0 | G8: =TRUNC(일위대가목록!F4,0) -> 0 | H8: =TRUNC(G8*D8, 0) -> 0 | I8: =TRUNC(일위대가목록!G4,0) -> 0 | J8: =TRUNC(I8*D8, 0) -> 0 | K8: =TRUNC(E8+G8+I8, 0) -> 0 | L8: =TRUNC(F8+H8+J8, 0) -> 0 | M8: 호표 1 | N8: 5D9D33628C12512795CEB555685721 | Q8: 01010101 | R8: T | S8: F | T8: F | AU8: 010101015D9D33628C12512795CEB555685721 | AV8: 105
A9: 철골 세우기 - 트럭 탑재령 크레인 15ton | B9: 소규모 건물 | C9: TON | D9: 3.269 | E9: =TRUNC(일위대가목록!E5,0) -> 0 | F9: =TRUNC(E9*D9, 0) -> 0 | G9: =TRUNC(일위대가목록!F5,0) -> 0 | H9: =TRUNC(G9*D9, 0) -> 0 | I9: =TRUNC(일위대가목록!G5,0) -> 0 | J9: =TRUNC(I9*D9, 0) -> 0 | K9: =TRUNC(E9+G9+I9, 0) -> 0 | L9: =TRUNC(F9+H9+J9, 0) -> 0 | M9: 호표 2 | N9: 5D9D73FF8B2DB46B97314033F8E701 | Q9: 01010101 | R9: T | S9: F | T9: F | AU9: 010101015D9D73FF8B2DB46B97314033F8E701 | AV9: 106
A10: 철강설 | B10: 철강설, 고철, 작업설부산물 | C10: TON | D10: -0.312 | E10: =TRUNC(단가대비표!O18,0) -> 0 | F10: =TRUNC(E10*D10, 0) -> 0 | G10: =TRUNC(단가대비표!P18,0) -> 0 | H10: =TRUNC(G10*D10, 0) -> 0 | I10: =TRUNC(단가대비표!V18,0) -> 0 | J10: =TRUNC(I10*D10, 0) -> 0 | K10: =TRUNC(E10+G10+I10, 0) -> 0 | L10: =TRUNC(F10+H10+J10, 0) -> 0 | M10: 자재 14 | N10: 5A9623FF8E9AD5BE96AF103018AAE1A7315C95 | Q10: 01010101 | R10: F | S10: F | T10: T | AU10: 010101015A9623FF8E9AD5BE96AF103018AAE1A7315C95 | AV10: 107
A11: 녹막이페인트(뿜칠) | B11: 1회. 1종 | C11: M2 | D11: 428.1 | E11: =TRUNC(일위대가목록!E6,0) -> 0 | F11: =TRUNC(E11*D11, 0) -> 0 | G11: =TRUNC(일위대가목록!F6,0) -> 0 | H11: =TRUNC(G11*D11, 0) -> 0 | I11: =TRUNC(일위대가목록!G6,0) -> 0 | J11: =TRUNC(I11*D11, 0) -> 0 | K11: =TRUNC(E11+G11+I11, 0) -> 0 | L11: =TRUNC(F11+H11+J11, 0) -> 0 | M11: 호표 3 | N11: 5D9D83E282FE2B8C9C62C73F380961 | Q11: 01010101 | R11: T | S11: F | T11: F | AU11: 010101015D9D83E282FE2B8C9C62C73F380961 | AV11: 7
A12: 조합페인트(뿜칠) | B12: 철재면 2회. 1급 | C12: M2 | D12: 428.1 | E12: =TRUNC(일위대가목록!E7,0) -> 0 | F12: =TRUNC(E12*D12, 0) -> 0 | G12: =TRUNC(일위대가목록!F7,0) -> 0 | H12: =TRUNC(G12*D12, 0) -> 0 | I12: =TRUNC(일위대가목록!G7,0) -> 0 | J12: =TRUNC(I12*D12, 0) -> 0 | K12: =TRUNC(E12+G12+I12, 0) -> 0 | L12: =TRUNC(F12+H12+J12, 0) -> 0 | M12: 호표 4 | N12: 5D9D83E1809FED3095E4521818CC81 | Q12: 01010101 | R12: T | S12: F | T12: F | AU12: 010101015D9D83E1809FED3095E4521818CC81 | AV12: 8
Q13: 01010101
Q14: 01010101
Q15: 01010101
Q16: 01010101
Q17: 01010101
Q18: 01010101
Q19: 01010101
Q20: 01010101
Q21: 01010101
Q22: 01010101
Q23: 01010101
Q24: 01010101
... Q28: 01010101
A29: [ 합 계 ] | F29: =SUMIF(Q5:Q28,"01010101",F5:F28) -> 0 | H29: =SUMIF(Q5:Q28,"01010101",H5:H28) -> 0 | J29: =SUMIF(Q5:Q28,"01010101",J5:J28) -> 0 | L29: =SUMIF(Q5:Q28,"01010101",L5:L28) -> 0 | N29: TOTAL
A30: 조 적 공 사 | B30: ■건축공사 ▣리모델링공사 | Q30: 01010102
A31: 콘크리트벽돌 | B31: 콘크리트벽돌, 190*57*90mm, C종2급 | C31: 매 | D31: 1237 | E31: =TRUNC(단가대비표!O41,0) -> 0 | F31: =TRUNC(E31*D31, 0) -> 0 | G31: =TRUNC(단가대비표!P41,0) -> 0 | H31: =TRUNC(G31*D31, 0) -> 0 | I31: =TRUNC(단가대비표!V41,0) -> 0 | J31: =TRUNC(I31*D31, 0) -> 0 | K31: =TRUNC(E31+G31+I31, 0) -> 0 | L31: =TRUNC(F31+H31+J31, 0) -> 0 | M31: 자재 37 | N31: 5AB1035B88B447819F1F430C18F647E411C87E | Q31: 01010102 | R31: F | S31: F | T31: T | AU31: 010101025AB1035B88B447819F1F430C18F647E411C87E | AV31: 110
A32: 0.5B 벽돌쌓기 | B32: 3.6m 이하, 시공량 25m2/일당 | C32: M2 | D32: 15.7 | E32: =TRUNC(일위대가목록!E8,0) -> 0 | F32: =TRUNC(E32*D32, 0) -> 0 | G32: =TRUNC(일위대가목록!F8,0) -> 0 | H32: =TRUNC(G32*D32, 0) -> 0 | I32: =TRUNC(일위대가목록!G8,0) -> 0 | J32: =TRUNC(I32*D32, 0) -> 0 | K32: =TRUNC(E32+G32+I32, 0) -> 0 | L32: =TRUNC(F32+H32+J32, 0) -> 0 | M32: 호표 5 | N32: 5D9D032C8CE883B497AC1E49985111 | Q32: 01010102 | R32: T | S32: F | T32: F | AU32: 010101025D9D032C8CE883B497AC1E49985111 | AV32: 10
A33: 벽돌운반 | B33: 인력, 1층 | C33: 천매 | D33: 1.237 | E33: =TRUNC(일위대가목록!E9,0) -> 0 | F33: =TRUNC(E33*D33, 0) -> 0 | G33: =TRUNC(일위대가목록!F9,0) -> 0 | H33: =TRUNC(G33*D33, 0) -> 0 | I33: =TRUNC(일위대가목록!G9,0) -> 0 | J33: =TRUNC(I33*D33, 0) -> 0 | K33: =TRUNC(E33+G33+I33, 0) -> 0 | L33: =TRUNC(F33+H33+J33, 0) -> 0 | M33: 호표 6 | N33: 5D9D032C8CCDD1239E0849E2D8B331 | Q33: 01010102 | R33: T | S33: F | T33: F | AU33: 010101025D9D032C8CCDD1239E0849E2D8B331 | AV33: 109
Q34: 01010102
Q35: 01010102
Q36: 01010102
Q37: 01010102
Q38: 01010102
Q39: 01010102
Q40: 01010102
Q41: 01010102
Q42: 01010102
Q43: 01010102
...

Sheet 일위대가목록
B1: 일 위 대 가 목 록
B2: [ 구덕운동장 씨름장 노후시설물 개보수공사 ]
A3: 코 드 | B3: 품 명 | C3: 규 격 | D3: 단위 | E3: 재 료 비 | F3: 노 무 비 | G3: 경 비 | H3: 합 계 | I3: 번 호 | J3: 비 고 | K3: 노임계수 | L3: 할증 | M3: 품셈개요 | N3: 장비일위
A4: 5D9D33628C12512795CEB555685721 | B4: 경량형강철골조 조립설치 | C4: 비내력식 | D4: TON | I4: 호표 1 | M4: 건축 1-4-4
A5: 5D9D73FF8B2DB46B97314033F8E701 | B5: 철골 세우기 - 트럭 탑재령 크레인 15ton | C5: 소규모 건물 | D5: TON | I5: 호표 2 | M5: 건축 1-2-3
A6: 5D9D83E282FE2B8C9C62C73F380961 | B6: 녹막이페인트(뿜칠) | C6: 1회. 1종 | D6: M2 | I6: 호표 3 | M6: 건축 11-2-3 준용
A7: 5D9D83E1809FED3095E4521818CC81 | B7: 조합페인트(뿜칠) | C7: 철재면 2회. 1급 | D7: M2 | I7: 호표 4
A8: 5D9D032C8CE883B497AC1E49985111 | B8: 0.5B 벽돌쌓기 | C8: 3.6m 이하, 시공량 25m2/일당 | D8: M2 | I8: 호표 5 | M8: 건축 2-1-1
A9: 5D9D032C8CCDD1239E0849E2D8B331 | B9: 벽돌운반 | C9: 인력, 1층 | D9: 천매 | I9: 호표 6 | M9: 공통 1-2-7.4
A10: 5D9DB315897EA9BB9B411D52F85F21 | B10: 화강석 두겁돌(습식, 물갈기) | C10: 포천석 120*20mm, 모르타르 30mm | D10: M | I10: 호표 7
A11: 5D9DB3168B747201909B111698C871 | B11: 타일 떠붙이기(바탕 24mm) | C11: 벽, 300*600(백색줄눈) | D11: M2 | I11: 호표 8
A12: 5D9DB3168B5994B1986CDCD3C87731 | B12: 타일 압착 붙이기(바탕 24mm+압 5mm) | C12: 바닥, 300*300(타일C, 백색줄눈) | D12: M2 | I12: 호표 9 | M12: 건축 3-2-2, -1-2
A13: 5D9DD366813464189A27F7D4480DA1 | B13: 후레싱설치 | C13: 알루미늄후레싱 0.5MM | D13: M2 | I13: 호표 10
A14: 5D9DD366813464189A27F7D4480D91 | B14: 후레싱하지틀 | C14: ㅁ-50*50*1.6T@500 | D14: M2 | I14: 호표 11
A15: 5D9D93C88432DD8B944F089E588BF1 | B15: 비닐시트 깔기 - 전면접합 | C15: 비닐시트, 2.0mm, 모노륨 | D15: M2 | I15: 호표 12 | M15: 건축 5-1-1
A16: 5D9D93CA8712A02997D16B0B182951 | B16: 천장텍스붙임 | C16: 불연천장재, 마이톤, M-Bar용, 12*300*600mm | D16: M2 | I16: 호표 13 | M16: 건축 5-2-1
A17: 5D9D93CD8C525A2F967569F3A8AC01 | B17: 압출발포폴리스티렌 설치(슬래브 위 깔기, 바닥) | C17: 비중 0.03, 50mm | D17: M2 | I17: 호표 14 | M17: 건축 5-4-7
A18: 5D9DE342847CDFDF9A5A1581D82AE1 | B18: 시멘트 액체방수 | C18: 바닥 | D18: M2 | I18: 호표 15 | M18: 건축 6-4-1
A19: 5D9DE342847CDFDF9A590EAFF82B61 | B19: 시멘트 액체방수 | C19: 벽 | D19: M2 | I19: 호표 16 | M19: 건축 6-4-1
A20: 5D9DD3668161871297EC1A00A8B251 | B20: 선홈통(강관) 설치 | C20: 101.6mm, 스테인리스관 | D20: M | I20: 호표 17 | M20: 건축 7-2-3
A21: 5D9DD366813464189A27F7AEF8BA91 | B21: 크레인(장비대) | C21: 선홈통설치용 | D21: 일 | I21: 호표 18
A22: 5D9D1319892095EF9B427487A812B1 | B22: 미장용 코너비드 설치 | C22: 아연도, 50*50mm | D22: M | I22: 호표 19 | M22: 건축 8-1-2
A23: 5D9DC3798B17AD6D941DEE48980B81 | B23: 트랜치 | C23: 스테인리스, W400*1000*2t | D23: EA | I23: 호표 20
A24: 5D9DC377886327CE926DF078A86431 | B24: 경량철골천정틀 | C24: M-BAR, H:1m미만. 인써트 유 | D24: M2 | I24: 호표 21 | M24: 건축 8-2-4
A25: 5D9D93CE8EA010E594A15BE4D85941 | B25: 스테인리스재료분리대 | C25: 바닥, W40*H20*1.5t | D25: M | I25: 호표 22
A26: 5D9D93C080E73ADD9FD8BFB9985B01 | B26: AL몰딩 설치 | C26: W형, 15*15*15*15*1.0mm | D26: M | I26: 호표 23 | M26: 건축 8-1-5
A27: 5D9D1312863B90C59AAA2F2838F061 | B27: 모르타르 바름 | C27: 바닥, 50mm | D27: M2 | I27: 호표 24
A28: 5D9DA33182AEE17496BC6434481A61 | B28: CAW01_A[창호실리콘보수] | C28: 4.100 x 5.950 = 24.395 | D28: EA | I28: 호표 25
A29: 5D9DA33182AEE17496BC6434481A41 | B29: CAW01_B[창호실리콘보수] | C29: 3.830 x 5.840 = 22.367 | D29: EA | I29: 호표 26
A30: 5D9DA33182AEE17496BC6434481A21 | B30: CAW01_C[창호실리콘보수] | C30: 3.010 x 5.405 = 16.269 | D30: EA | I30: 호표 27
A31: 5D9DA33182AEE17496BC6434481AE1 | B31: MS02[방충망보수] | C31: 2.000 x 1.000 = 2.000 | D31: EA | I31: 호표 28
A32: 5D9DA33182AEE17496BC6434480811 | B32: MS03[방충망보수] | C32: 1.500 x 0.800 = 1.200 | D32: EA | I32: 호표 29
A33: 5D9DA33182AEE17496BC6434480831 | B33: MS04[방충망보수] | C33: 0.990 x 0.600 = 0.594 | D33: EA | I33: 호표 30
A34: 5D9DA33182AEE17496BC6434480851 | B34: MS05[방충망보수] | C34: 3.520 x 1.000 = 3.520 | D34: EA | I34: 호표 31
A35: 5D9DA33182AEE17496BC6434480871 | B35: PD01[플라스틱 여닫이문] | C35: 0.800 x 2.100 = 1.680 | D35: EA | I35: 호표 32
A36: 5D9DA33182AEE17496BC6434480891 | B36: PD02[플라스틱 여닫이문] | C36: 0.750 x 2.100 = 1.575 | D36: EA | I36: 호표 33
A37: 5D9DE34D8527159897FC7A6BF87201 | B37: 수밀코킹(실리콘) | C37: 삼각, 10mm, 창호주위 | D37: M | I37: 호표 34 | M37: 건축 6-6-1
A38: 5D9DE34D8527159897FC7A6BF87211 | B38: 수밀코킹(실리콘) | C38: 삼각, 20mm, 창호보수 | D38: M | I38: 호표 35
A39: 5D9DE34D85318C4B9C192ABC784811 | B39: 유리주위 코킹 보수 | C39: 5*5, 실리콘 | D39: M | I39: 호표 36 | M39: 건축 6-6-1
A40: 5D9DA3368A80C73A9DD94FB5684BB1 | B40: 창호주위 모르타르 충전 | D40: M | I40: 호표 37 | M40: 건축 9-3-1
...

Sheet 일위대가
A1: [ 구덕운동장 씨름장 노후시설물 개보수공사 ]
A2: 품 명 | B2: 규 격 | C2: 단위 | D2: 수량 | E2: 재 료 비 | G2: 노 무 비 | I2: 경 비 | K2: 합 계 | M2: 비 고 | N2: 일위대가 | O2: 품목코드 | P2: 일위 | Q2: 단산 | R2: 자재 | S2: 손료적용 | T2: 손료저장 | U2: 적용율 | V2: JUK1 | W2: JUK2 | X2: JUK3 | Y2: JUK4 | Z2: JUK5 | AA2: JUK6 | AB2: JUK7 | AC2: JUK8 | AD2: JUK9 | AE2: JUK10 | AF2: JUK11 | AG2: JUK12 | AH2: JUK13 | AI2: JUK14 | AJ2: JUK15 | AK2: JUK16 | AL2: JUK17 | AM2: JUK18 | AN2: JUK19 | AO2: JUK20 | AP2: 할증적용 | AQ2: 할증저장 | AR2: 할증율 | AS2: HAL1 | AT2: HAL2 | AU2: HAL3 | AV2: 자재구분 | AW2: 일위대가+자재 | AX2: 장비일위 | AY2: 설정 | AZ2: 할증체크
E3: 단 가 | F3: 금 액 | G3: 단 가 | H3: 금 액 | I3: 단 가 | J3: 금 액 | K3: 단 가 | L3: 금 액
A4: 경량형강철골조 조립설치 비내력식 TON 건축 1-4-4 ( 호표 1 ) | N4: 5D9D33628C12512795CEB555685721
A5: 철공 | B5: 일반공사 직종 | C5: 인 | D5: 12.54 | N5: 5D9D33628C12512795CEB555685721 | O5: 5D42534E892FAF429008DB2C589906A4F18529 | P5: F | Q5: F | R5: T | V5: 1 | AW5: 5D9D33628C12512795CEB5556857215D42534E892FAF429008DB2C589906A4F18529
A6: 공구손료 | B6: 인력품의 3% | C6: 식 | D6: 1 | N6: 5D9D33628C12512795CEB555685721 | O6: 5C81435D83B71F489B05D3CC58D1001 | P6: F | Q6: F | R6: F | S6: 1 | T6: 2 | U6: 0.03 | AW6: 5D9D33628C12512795CEB5556857215C81435D83B71F489B05D3CC58D1001
A7: [ 합 계 ] | N7: TOTAL | O7: TOTAL
A9: 철골 세우기 - 트럭 탑재령 크레인 15ton 소규모 건물 TON 건축 1-2-3 ( 호표 2 ) | N9: 5D9D73FF8B2DB46B97314033F8E701
A10: 트럭탑재형 크레인 | B10: 15ton | C10: HR | D10: 0.8 | N10: 5D9D73FF8B2DB46B97314033F8E701 | O10: 5A85C3938D4F0A3E9CF18B05D822091321E31A0E | P10: T | Q10: F | R10: F | AW10: 5D9D73FF8B2DB46B97314033F8E7015A85C3938D4F0A3E9CF18B05D822091321E31A0E
A11: [ 합 계 ] | N11: TOTAL | O11: TOTAL
A13: 녹막이페인트(뿜칠) 1회. 1종 M2 건축 11-2-3 준용 ( 호표 3 ) | N13: 5D9D83E282FE2B8C9C62C73F380961
A14: 녹막이 페인트칠(뿜칠) | B14: 철재면, 1회, 1종 | C14: M2 | D14: 1 | N14: 5D9D83E282FE2B8C9C62C73F380961 | O14: 5D9D83E282FE2B8C9E10A38FC82251 | P14: T | Q14: F | R14: F | AW14: 5D9D83E282FE2B8C9C62C73F3809615D9D83E282FE2B8C9E10A38FC82251
A15: 녹막이페인트 뿜칠 | B15: 1회 | C15: M2 | D15: 1 | N15: 5D9D83E282FE2B8C9C62C73F380961 | O15: 5D9D83E08631F0A690FCA000984E61 | P15: T | Q15: F | R15: F | AW15: 5D9D83E282FE2B8C9C62C73F3809615D9D83E08631F0A690FCA000984E61
A16: [ 합 계 ] | N16: TOTAL | O16: TOTAL
A18: 조합페인트(뿜칠) 철재면 2회. 1급 M2 ( 호표 4 ) | N18: 5D9D83E1809FED3095E4521818CC81
A19: 유성페인트 뿜칠 | B19: 철재면, 2회, 1급 | C19: M2 | D19: 1 | N19: 5D9D83E1809FED3095E4521818CC81 | O19: 5D9D83E1809FED3095E3B0793804E1 | P19: T | Q19: F | R19: F | AW19: 5D9D83E1809FED3095E4521818CC815D9D83E1809FED3095E3B0793804E1
A20: 유성페인트 뿜칠 | B20: 2회 | C20: M2 | D20: 1 | N20: 5D9D83E1809FED3095E4521818CC81 | O20: 5D9D83E08631F0A690FCA000987B01 | P20: T | Q20: F | R20: F | AW20: 5D9D83E1809FED3095E4521818CC815D9D83E08631F0A690FCA000987B01
A21: [ 합 계 ] | N21: TOTAL | O21: TOTAL
A23: 0.5B 벽돌쌓기 3.6m 이하, 시공량 25m2/일당 M2 건축 2-1-1 ( 호표 5 ) | N23: 5D9D032C8CE883B497AC1E49985111
A24: 조적공 | B24: 일반공사 직종 | C24: 인 | D24: 0.12 | N24: 5D9D032C8CE883B497AC1E49985111 | O24: 5D42534E892FAF429008DB2C589906A4F187EC | P24: F | Q24: F | R24: T | V24: 1 | AW24: 5D9D032C8CE883B497AC1E499851115D42534E892FAF429008DB2C589906A4F187EC
A25: 보통인부 | B25: 일반공사 직종 | C25: 인 | D25: 0.04 | N25: 5D9D032C8CE883B497AC1E49985111 | O25: 5D42534E892FAF429008DB2C589906A4F18522 | P25: F | Q25: F | R25: T | V25: 1 | AW25: 5D9D032C8CE883B497AC1E499851115D42534E892FAF429008DB2C589906A4F18522
A26: 공구손료 | B26: 인력품의 2% | C26: 식 | D26: 1 | N26: 5D9D032C8CE883B497AC1E49985111 | O26: 5C81435D83B71F489B05D3CC58D1001 | P26: F | Q26: F | R26: F | S26: 1 | T26: 2 | U26: 0.02 | AW26: 5D9D032C8CE883B497AC1E499851115C81435D83B71F489B05D3CC58D1001
A27: 콘크리트벽돌 | B27: 콘크리트벽돌, 190*57*90mm, C종2급 | C27: 매 | D27: 75 | N27: 5D9D032C8CE883B497AC1E49985111 | O27: 5AB1035B88B447819F1F430D28D86A8111E478 | P27: F | Q27: F | R27: T | AW27: 5D9D032C8CE883B497AC1E499851115AB1035B88B447819F1F430D28D86A8111E478
A28: 모르타르 배합(배합품 포함) | B28: 배합용적비 1:3, 시멘트, 모래 별도 | C28: M3 | D28: 0.019 | N28: 5D9D032C8CE883B497AC1E49985111 | O28: 5D9D1312863BA1609483A31F2895A1 | P28: T | Q28: F | R28: F | AW28: 5D9D032C8CE883B497AC1E499851115D9D1312863BA1609483A31F2895A1
A29: [ 합 계 ] | N29: TOTAL | O29: TOTAL
A31: 벽돌운반 인력, 1층 천매 공통 1-2-7.4 ( 호표 6 ) | N31: 5D9D032C8CCDD1239E0849E2D8B331
A32: 보통인부 | B32: 일반공사 직종 | C32: 인 | D32: 0.44 | N32: 5D9D032C8CCDD1239E0849E2D8B331 | O32: 5D42534E892FAF429008DB2C589906A4F18522 | P32: F | Q32: F | R32: T | AW32: 5D9D032C8CCDD1239E0849E2D8B3315D42534E892FAF429008DB2C589906A4F18522
A33: [ 합 계 ] | N33: TOTAL | O33: TOTAL
A35: 화강석 두겁돌(습식, 물갈기) 포천석 120*20mm, 모르타르 30mm M ( 호표 7 ) | N35: 5D9DB315897EA9BB9B411D52F85F21
A36: 자연석판석 | B36: 자연석판석, 물갈기, 20mm, 포천석판재 | C36: M2 | D36: 0.176 | N36: 5D9DB315897EA9BB9B411D52F85F21 | O36: 5AB1035B88B44792960F6907B850F53FA14C84 | P36: F | Q36: F | R36: T | AW36: 5D9DB315897EA9BB9B411D52F85F215AB1035B88B44792960F6907B850F53FA14C84
A37: 모르타르비빔 - 돌붙임(바닥) | B37: 배합용적비 1:3, 시멘트, 모래 별도 | C37: M3 | D37: 0.0036 | N37: 5D9DB315897EA9BB9B411D52F85F21 | O37: 5D9DB315890BCD3C94C71543E8ECB1 | P37: T | Q37: F | R37: F | AW37: 5D9DB315897EA9BB9B411D52F85F215D9DB315890BCD3C94C71543E8ECB1
A38: 석재판 붙임 - 습식공법(화강석) | B38: 바닥부, 시공량 12m2/일당 | C38: M2 | D38: 0.12 | N38: 5D9DB315897EA9BB9B411D52F85F21 | O38: 5D9DB3158937247A97B8C832E89151 | P38: T | Q38: F | R38: F | AW38: 5D9DB315897EA9BB9B411D52F85F215D9DB3158937247A97B8C832E89151
A39: [ 합 계 ] | N39: TOTAL | O39: TOTAL
A41: 타일 떠붙이기(바탕 24mm) 벽, 300*600(백색줄눈) M2 ( 호표 8 ) | N41: 5D9DB3168B747201909B111698C871
A42: 모르타르 배합(배합품 포함) | B42: 배합용적비 1:3, 시멘트, 모래 별도 | C42: M3 | D42: 0.026 | N42: 5D9DB3168B747201909B111698C871 | O42: 5D9D1312863BA1609483A31F2895A1 | P42: T | Q42: F | R42: F | AW42: 5D9DB3168B747201909B111698C8715D9D1312863BA1609483A31F2895A1
A43: 줄눈 모르타르(배합품 제외) | B43: 배합용적비 1:1(백시멘트), 모래 별도 | C43: M3 | D43: 0.005 | N43: 5D9DB3168B747201909B111698C871 | O43: 5D9DB3168B7472139B002E31480431 | P43: T | Q43: F | R43: F | AW43: 5D9DB3168B747201909B111698C8715D9DB3168B7472139B002E31480431
A44: 타일 붙임 / 떠붙이기 | B44: 타일규격 m2, 0.11 ~ 0.20 이하, 15m2/일당 | C44: M2 | D44: 1 | N44: 5D9DB3168B747201909B111698C871 | O44: 5D9DB3168B7472139B09094CE81551 | P44: T | Q44: F | R44: F | AW44: 5D9DB3168B747201909B111698C8715D9DB3168B7472139B09094CE81551
A45: 타일줄눈 설치 / 벽면 | B45: 타일규격 m2, 0.11 ~ 0.20 이하 | C45: M2 | D45: 1 | N45: 5D9DB3168B747201909B111698C871 | O45: 5D9DB3168B74F7959F99CEE56846B1 | P45: T | Q45: F | R45: F | AW45: 5D9DB3168B747201909B111698C8715D9DB3168B74F7959F99CEE56846B1
A46: [ 합 계 ] | N46: TOTAL | O46: TOTAL
A48: 타일 압착 붙이기(바탕 24mm+압 5mm) 바닥, 300*300(타일C, 백색줄눈) M2 건축 3-2-2, -1-2 ( 호표 9 ) | N48: 5D9DB3168B5994B1986CDCD3C87731
...

Sheet 단가산출목록
B1: 단 가 산 출 목 록
B2: [ 구덕운동장 씨름장 노후시설물 개보수공사 ]
A3: 코 드 | B3: 품 명 | C3: 규 격 | D3: 단위 | E3: 재 료 비 | F3: 노 무 비 | G3: 경 비 | H3: 합 계 | I3: 번 호 | J3: 비 고 | K3: START | L3: 품셈개요
A4: 5D9D434A8257143392D66B5D88FF31 | B4: 폐기물상차 | C4: 백호우0.7M3 | D4: M3 | E4: =단가산출서!B25 -> 0 | F4: =단가산출서!C25 -> 0 | G4: =단가산출서!D25 -> 0 | H4: =단가산출서!E25 -> 0 | I4: 산근 1 | K4: 5D9D434A8257143392D66B5D88FF31
A5: 5D9C238F8AB1A1A599D587F87841F1 | B5: 시멘트운반 | C5: L:20km, 덤프 8ton | D5: 포 | E5: =단가산출서!B96 -> 0 | F5: =단가산출서!C96 -> 0 | G5: =단가산출서!D96 -> 0 | H5: =단가산출서!E96 -> 0 | I5: 산근 2 | K5: 5D9C238F8AB1A1A599D587F87841F1 | L5: 공통 8-2-8
A6: 5D9C238F8AC2065A946923D6580CE1 | B6: 운반비(트레일러 20ton+크레인 10ton) | C6: 철골, L:20km | D6: TON | E6: =단가산출서!B154 -> 0 | F6: =단가산출서!C154 -> 0 | G6: =단가산출서!D154 -> 0 | H6: =단가산출서!E154 -> 0 | I6: 산근 3 | K6: 5D9C238F8AC2065A946923D6580CE1

Sheet 단가산출서
A1: 단 가 산 출 서
A2: [ 구덕운동장 씨름장 노후시설물 개보수공사 ]
A3: 산 출 내 역 | B3: 재 료 비 | C3: 노 무 비 | D3: 경 비 | E3: 합 계 | F3: 비 고 | G3: START | H3: 코드 | I3: 품명 | J3: 규격 | K3: 단위 | L3: 수량 | M3: 변수 | N3: 값 | O3: 소계 | P3: 소계 | Q3: 소계 | R3: 소계 | S3: 소계 | T3: 총계
A4: 폐기물상차 백호우0.7M3 M3 ( 산근 1 ) | G4: 5D9D434A8257143392D66B5D88FF31 | I4: 폐기물상차 | J4: 백호우0.7M3 | K4: M3
G5: 5D9D434A8257143392D66B5D88FF31 | H5: C | L5: 1
A6: 적재(0.7M3/HR) | G6: 5D9D434A8257143392D66B5D88FF31 | H6: C! | I6: '적재(0.7M3/HR)'
G7: 5D9D434A8257143392D66B5D88FF31 | H7: C!
A8: a 바켓용량 =0.7 | G8: 5D9D434A8257143392D66B5D88FF31 | H8: C! | I8: a '바켓용량' =0.7
A9: K 바켓계수(양호1.1,보통0.90,불량0.70,파쇄암0.55) = 0.55 | G9: 5D9D434A8257143392D66B5D88FF31 | H9: C! | I9: k '바켓계수(양호1.1,보통0.90,불량0.70,파쇄암0.55)'= 0.55
A10: f 토량환산계수 = 0.71 | G10: 5D9D434A8257143392D66B5D88FF31 | H10: C! | I10: f '토량환산계수'= 0.71
A11: E1 터파기에 대하여 -0.05 =0.05 | G11: 5D9D434A8257143392D66B5D88FF31 | H11: C! | I11: E1 '터파기에 대하여 -0.05'=0.05
A12: E 작업효율(보통0.45,불량0.35) = 0.45 | G12: 5D9D434A8257143392D66B5D88FF31 | H12: C! | I12: E '작업효율(보통0.45,불량0.35)'= 0.45
A13: CM 1회 싸이클시간(90˚) =18 | G13: 5D9D434A8257143392D66B5D88FF31 | H13: C! | I13: Cm '1회 싸이클시간(90˚)'=18
A14: Q 시간당 작업량 (M3/HR) = 3600*A*K*F*E/CM = 24.602 | G14: 5D9D434A8257143392D66B5D88FF31 | H14: C! | I14: Q '시간당 작업량 (M3/Hr)'= 3600*a*k*f*E/Cm =?
G15: 5D9D434A8257143392D66B5D88FF31 | H15: C!
G16: 5D9D434A8257143392D66B5D88FF31 | H16: C!
G17: 5D9D434A8257143392D66B5D88FF31 | H17: C!
G18: 5D9D434A8257143392D66B5D88FF31 | H18: C!
G19: 5D9D434A8257143392D66B5D88FF31 | H19: C!
A20: 재료비: 23449 / 24.602 = 953.1 | G20: 5D9D434A8257143392D66B5D88FF31 | H20: C! | I20: '재료비:' ~00000201007000000.M~ / {Q} =?MA
A21: 노무비: 59020 / 24.602 = 2398.9 | G21: 5D9D434A8257143392D66B5D88FF31 | H21: C! | I21: '노무비:' ~00000201007000000.L~ / {Q} =?LA
A22: 경 비: 24554 / 24.602 = 998 | G22: 5D9D434A8257143392D66B5D88FF31 | H22: C! | I22: '경 비:' ~00000201007000000.E~ / {Q} =?EQ
G23: 5D9D434A8257143392D66B5D88FF31 | H23: C!
A24: 소 계 | G24: 5D9D434A8257143392D66B5D88FF31 | H24: C! | I24: >'소 계'
A25: 총 계
A27: 시멘트운반 L:20km, 덤프 8ton 포 공통 8-2-8 ( 산근 2 ) | G27: 5D9C238F8AB1A1A599D587F87841F1 | I27: 시멘트운반 | J27: L:20km, 덤프 8ton | K27: 포
G28: 5D9C238F8AB1A1A599D587F87841F1 | H28: C | L28: 1
A29: 운반거리 L=20KM 덤프트럭(8톤), 포대당 | G29: 5D9C238F8AB1A1A599D587F87841F1 | H29: C! | I29: '운반거리 L=20KM 덤프트럭(8톤), 포대당'
G30: 5D9C238F8AB1A1A599D587F87841F1 | H30: C!
A31: 차량속도= 25/V1,25/V2,40KM/V3,40KM/V4,25KM/V5,25KM/V6 | G31: 5D9C238F8AB1A1A599D587F87841F1 | H31: C! | I31: '차량속도= 25/V1,25/V2,40KM/V3,40KM/V4,25KM/V5,25KM/V6 '
A32: 하치장○-----------------0------------0---------○20KM | G32: 5D9C238F8AB1A1A599D587F87841F1 | H32: C! | I32: '하치장○-----------------0------------0---------○20KM '
A33: 운반거리=하치장L1=0.0KM,시내L2=19.5KM,공사장L3=0.5KM | G33: 5D9C238F8AB1A1A599D587F87841F1 | H33: C! | I33: '운반거리=하치장L1=0.0KM,시내L2=19.5KM,공사장L3=0.5KM'
G34: 5D9C238F8AB1A1A599D587F87841F1 | H34: C!
A35: 인력운반 (품셈 1-5-1) 적재비(하치장 상차도 미계상,공장상차도 계상) | G35: 5D9C238F8AB1A1A599D587F87841F1 | H35: C! | I35: '인력운반 (품셈 1-5-1) 적재비(하치장 상차도 미계상,공장상차도 계상)'
A36: L 소운반거리(M) =20 | G36: 5D9C238F8AB1A1A599D587F87841F1 | H36: C! | I36: L '소운반거리(M)' =20
A37: A 1회 운반량(BG) =1 | G37: 5D9C238F8AB1A1A599D587F87841F1 | H37: C! | I37: A '1회 운반량(BG)' =1
A38: T 단위(KG) =8000 | G38: 5D9C238F8AB1A1A599D587F87841F1 | H38: C! | I38: T '단위(KG)' =8000
A39: RT 단위중량(KG) =40 | G39: 5D9C238F8AB1A1A599D587F87841F1 | H39: C! | I39: RT '단위중량(KG)' =40
A40: MV 운반인부의 속도2500M/HR =2500/60= 41.6666 | G40: 5D9C238F8AB1A1A599D587F87841F1 | H40: C! | I40: MV '운반인부의 속도2500M/HR' =2500/60=?
A41: T1 어깨메고부리기시간(MIN) =2.0 | G41: 5D9C238F8AB1A1A599D587F87841F1 | H41: C! | I41: T1 '어깨메고부리기시간(MIN)' =2.0
...

Sheet 단가대비표
A1: 단 가 대 비 표
A2: [ 구덕운동장 씨름장 노후시설물 개보수공사 ]
A3: 코 드 | B3: 품 명 | C3: 규격 | D3: 단위 | E3: 재 료 비 | P3: 노 무 비 | Q3: 경 비 | W3: 번 호 | X3: 비 고 | Y3: 품목구분 | Z3: 노임구분 | AA3: 소수점처리 | AB3: 자재구분
E4: 조달청가격 | F4: PAGE | G4: 거래가격 | H4: PAGE | I4: 유통물가 | J4: PAGE | K4: 물가자료 | L4: PAGE | M4: 조사가격 | N4: PAGE | O4: 적용단가 | Q4: 조달청가격 | R4: 거래가격 | S4: 유통물가 | T4: 물가자료 | U4: 조사가격 | V4: 적용단가
A5: 5A85C3938D4F26D895DECE9AC83E8CF0419ABE | B5: 굴착기(무한궤도) | C5: 0.7㎥ | D5: 대 | X5: 천원
A6: 5A85C3938D4F26D895DECE9BE8B987C3B1B30D | B6: 굴착기(무한궤도) | C6: 1.0㎥ | D6: 대 | X6: 천원
A7: 5A85C3938D4F26929AED7E6D7862AB0B01993C | B7: 덤프트럭 | C7: 8ton | D7: 대 | X7: 천원
A8: 5A85C3938D4F0A3E9CF0E49B883B88570184E9 | B8: 크레인(타이어) | C8: 25ton | D8: 대 | X8: 천원
A9: 5A85C3938D4F0A3E9CF18B05D83C98860136C7 | B9: 트럭탑재형 크레인 | C9: 5ton | D9: 대 | X9: 천원
A10: 5A85C3938D4F0A3E9CF18B05D8225130C1DD94 | B10: 트럭탑재형 크레인 | C10: 10ton | D10: 대 | X10: 천원
A11: 5A85C3938D4F0A3E9CF18B05D822091321E31A | B11: 트럭탑재형 크레인 | C11: 15ton | D11: 대 | X11: 천원
A12: 5A85C3938D4F0A599A521610D8CD8AA4514445 | B12: 트럭 트랙터 및 평판트레일러 | C12: 20ton | D12: 대 | X12: 천원
A13: 5A85C3938D4F6CE19EEC3A69C8694BEE81D561 | B13: 커터(콘크리트 및 아스팔트용) | C13: 320∼400mm | D13: 대 | X13: 천원
A14: 5A85C3938D4F7D349336C587B801543551B796 | B14: 소형브레이커(전기식) | C14: 1.5kw | D14: 대 | X14: 천원
A15: 5A85C3938D4F5225900A833A2874525101CD73 | B15: 절단기 | C15: 40.64cm | D15: 대 | X15: 천원
A16: 5A9623FF8E157E239C6E5104B86E525E7161B9 | B16: 모래 | C16: (별도) | D16: M3 | X16: 별도
A17: 5A9623FF8E157E239C6E5104B86E525E7167C7 | B17: 모래 | C17: 모래, 도착도 | D17: M3
A18: 5A9623FF8E9AD5BE96AF103018AAE1A7315C95 | B18: 철강설 | C18: 철강설, 고철, 작업설부산물 | D18: TON | X18: 수집상차도
A19: 5A9623FF8E9AD5BE96AF103018AAE1A7315C96 | B19: 철강설 | C19: 철강설, 고철, 작업설부산물 | D19: kg | X19: 수집상차도
A20: 5A9623FF8E9AD5BE96AF103018AAE1A7315DBA | B20: 철강설 | C20: 철강설, 스텐레스, 작업설부산물 | D20: kg | X20: 수집상차도
A21: 5A9623FF8E9AD5BE96AF1031386A0E33218BDE | B21: 철강설 | C21: 철강설, 알루미늄, 작업설부산물 | D21: kg | X21: 수집상차도
A22: 5A9613D98F9147F19EDA79E3C800F9F2215580 | B22: 산소가스 | C22: 산소가스, 6000L | D22: 병 | X22: 대기압상태기준
A23: 5A9613D98FBC60549D2A272CA82FF70C419860 | B23: 침투성방수제 | C23: 침투성방수제, 급결방수액 | D23: L
A24: 5A966358863323B6958D0B97689D6A131198AF | B24: 경유 | C24: 경유, 저유황 | D24: L
A25: 5A966358863323B6958E2D3FD8006C28417578 | B25: 공업용휘발유 | C25: 공업용휘발유, 무연 | D25: L
A26: 5A9663588622DFF19EFCEB2BA8A862FC819970 | B26: 아세틸렌가스 | C26: 아세틸렌가스, kg | D26: kg
A27: 5AB1035B888F03AD9F9F507398425D79011EC9 | B27: ㄱ형강 | C27: ㄱ형강, 등변, 30*30*3mm | D27: kg
A28: 5AB1035B888F03AD9F9F507398425D79113D80 | B28: ㄱ형강 | C28: ㄱ형강, 부등변, 100*75*7mm | D28: TON
A29: 5AB1035B888F0381914C343228DEFDE291BDCE | B29: 경량형강 | C29: 경량형강, 블랙C형강, 100*50*20, t3.2 | D29: TON
A30: 5AB1035B888F3F1199781139C81F76856104FA | B30: 알루미늄합금판 | C30: 알루미늄합금판, A1050, 0.5mm | D30: kg
A31: 5AB1035B888F3F11997EBEB72828E5DF31429F | B31: 일반구조용압연강판 | C31: 일반구조용압연강판, 1.6mm | D31: kg
A32: 5AB1035B888F3F11997EBEB72828E5DF314298 | B32: 일반구조용압연강판 | C32: 일반구조용압연강판, 2.3mm | D32: kg
A33: 5AB1035B888F3F11997F408728755C34A13455 | B33: 스테인리스강판 | C33: 스테인리스강판, STS304, 1.5mm | D33: kg
A34: 5AB1035B888F3F11997F408728755C34A13456 | B34: 스테인리스강판 | C34: 스테인리스강판, STS304, 2.0mm | D34: kg
A35: 5AB1035B888F2EE8929193F128DABA79718F99 | B35: 스텐그레이팅 | C35: I-25*5, W200 | D35: M
A36: 5AB1035B889995099D09671CF863DCBC31AE1A | B36: 시멘트 | C36: 시멘트(별도) | D36: kg | X36: 별도
A37: 5AB1035B889995099D09671CF863DCBC31DDB8 | B37: 시멘트 | C37: 40KG | D37: 포
A38: 5AB1035B889995099D09671CF863DCDF4170B4 | B38: 특수시멘트 | C38: 특수시멘트, 백색시멘트 | D38: kg
A39: 5AB1035B889995099D09671CF863DCDF417C64 | B39: 타일시멘트 | C39: 타일시멘트, 압착용, 회색 | D39: kg
A40: 5AB1035B889995099D09671CF863DCDFB1A590 | B40: 타일시멘트 | C40: 타일시멘트, 줄눈용, 백색 | D40: kg
...

Sheet  공사설정 
A1: 이 Sheet는 수정하지 마십시요
A2: 공사구분 | B2: A | C2: 타이틀
A3: 확정내역 | B3: 원내역
A4: 자재단가적용 | B4: 5
A5: 경비단가적용 | B5: 5
A6: 품목코드형식 | B6: XXXX-XXXX-XXXXXXXXX
A7: 내역금액소수점처리 | B7: C | C7: T
A8: 일위대가내역소수점처리 | B8: C | C8: 2
A9: 단가명 | B9: 조달청가격 | C9: 거래가격 | D9: 유통물가 | E9: 물가자료 | F9: 조사가격 | G9: TTTTT
A10: 환율 | B10: 1466 | C10: 0 | D10: 0
A11: 시간당작업량 | B11: R | C11: 4
A12: 1회 사이클시간 | B12: R | C12: 4
A13: 시간당 작업사이클 | B13: R | C13: 3
A14: 일반변수 | B14: C | C14: 5
A15: 시간당 노임산출 계수 | B15: A | C15: 1/8*16/12*25/20 | D15: 1/8*16/12*25/20 | E15: 1/8*16/12*25/20 | F15: 1
A16: 재료비 할증 계수 | B16: 1.11 | C16: 1.12
A17: 노무비 할증 계수 | B17: 1 | C17: 1.5 | D17: 1.16 | E17: 1.6 | F17: 1.6 | G17: 1.6 | H17: 1.94 | I17: 1.94 | J17: 1.94 | K17: 1 | L17: 1 | M17: 1
A18: 경비 할증 계수 | B18: 1.25 | C18: 1.071
A19: 내역,일위대가 품명,규격,단위 따로적용
A20: 내역단가 소수점처리 | B20: C | C20: 1
A21: 코드 | B21: 공종구분명 | C21: 원가비목코드
A22: 1 | B22: 작 업 부 산 물 | C22: A3
A23: 2 | B23: 운 반 비 | C23: C1
A24: 3 | B24: 관 급 자 재 비 | C24: DJ
A25: 4 | B25: 품 질 관 리 비 | C25: C9
A26: 5 | B26: 안 전 관 리 비 | C26: CE
A27: 6 | B27: 석면농도측정비 | C27: D4
A28: 7 | B28: 도급자관급자재비 | C28: DK
A29: 8 | B29: 관급자관급자재비 | C29: DL
A30: 9 | B30: 건설폐기물처리비 | C30: D5
A31: A | B31: 지정폐기물처리비 | C31: D6
A32: B | B32: .....
A33: C | B33: ....
A34: D | B34: 검사 및 시험비 | C34: D8
A35: E | B35: ....
A36: F | B36: ....
A37: G | B37: ....
A38: H | B38: ....
A39: I | B39: ....
A40: J | B40: ....
...

Sheet Sheet1
