Workbook
Name _E81161: [1]깨기!$E$51161
Name _H81192: [1]깨기!$H$51192
Name _H91164: [1]깨기!$H$11164
Name _IV65999: #REF!
Name _IV65999: #REF!
Name _IV65999: #REF!
Name _IV65999: #REF!
Name _IV65999: #REF!
Name _IV65999: #REF!
Name _IV65999: #REF!
Name _IV65999: #REF!
Name _IV65999: #REF!
Name _IV66000: #REF!
Name _IV66000: #REF!
Name _IV66000: #REF!
Name _IV66000: #REF!
Name _IV66000: #REF!
Name _IV66000: #REF!
Name _IV66000: #REF!
Name _IV66000: #REF!
Name _IV66000: #REF!
Name _IV69999: #REF!
Name _IV69999: #REF!
Name _IV69999: #REF!
Name _IV69999: #REF!
Name _IV69999: #REF!
Name _IV69999: #REF!
Name _IV69999: #REF!
Name _IV69999: #REF!
Name _IV69999: #REF!
Name _IV70000: #REF!
Name _IV70000: #REF!
Name _IV70000: #REF!
Name _IV70000: #REF!
Name _IV70000: #REF!
Name _IV70000: #REF!
Name _IV70000: #REF!
Name _IV70000: #REF!
Name _IV70000: #REF!
Name _IV99999: #REF!
Name _IV99999: #REF!
Name _IV99999: #REF!
Name _IV99999: #REF!
Name _IV99999: #REF!
Name _IV99999: #REF!
Name _IV99999: #REF!
Name _IV99999: #REF!
Name _IV99999: #REF!
Name _Zz10137: #REF!
Name _Zz10137: #REF!
Name _Zz10137: #REF!
Name _Zz10137: #REF!
Name _Zz10137: #REF!
Name _Zz10137: #REF!
Name _Zz10137: #REF!
Name _Zz10137: #REF!
Name _Zz10137: #REF!
Name \p: #REF!
Name \p: #REF!
Name \p: #REF!

Sheet ★작성요령★
H17: ·

Sheet 총괄
A1: 손실보상금 산정 및 지급조서(총괄)
A3: ○ 사업명 : 승학터널 민간투자사업(1차:우선)
A5: 구분 | B5: 계 | C5: =개인별총괄!F4 -> 토지 | D5: =개인별총괄!G4 -> 지장물 | E5: =개인별총괄!H4 -> 영업보상 | F5: =개인별총괄!I4 -> 주거이전비 | G5: =개인별총괄!J4 -> 잔여지 | H5: =개인별총괄!K4 -> 잔여지 지장물 | I5: =개인별총괄!L4 -> 비고
A6: 건수(건) | B6: =SUM(C6:H6) -> 217 | C6: {=SUM(IF(토지!$E5:$E28<>"",1/COUNTIF(토지!$E5:$E28,토지!$E5:$E28)))} -> 6 | D6: =COUNTA(지장물!$F5:$F225) -> 211 | E6: {=SUM(IF(영업보상!$F5:$F51<>"",1/COUNTIF(영업보상!$F5:$F51,영업보상!$F5:$F51)))} -> 0 | F6: {=SUM(IF(주거이전비!AF5:AF51<>"",1/COUNTIF(주거이전비!AF5:AF51,주거이전비!AF5:AF51)))} -> 0 | G6: {=SUM(IF(잔여지!$E5:$E51<>"",1/COUNTIF(잔여지!$E5:$E51,잔여지!$E5:$E51)))} -> 0 | H6: =COUNTA(잔여지지장물!$F5:$F51) -> 0
A7: 금액(원) | B7: =개인별총괄!E5 -> #REF! | C7: =개인별총괄!F5 -> #REF! | D7: =개인별총괄!G5 -> #REF! | E7: =개인별총괄!H5 -> 0 | F7: =개인별총괄!I5 -> 0 | G7: =개인별총괄!J5 -> 0 | H7: =개인별총괄!K5 -> 0

Sheet 개인별총괄
A1: 개인별 총괄
A3: =총괄!$A$3 -> ○ 사업명 : 승학터널 민간투자사업(1차:우선) | AE3: 사용재결 2개 법인 평균
A4: 연번 | B4: 소재지 | C4: 지번 | D4: 성명 | E4: 합계 | F4: 토지 | G4: 지장물 | H4: 영업보상 | I4: 주거이전비 | J4: 잔여지 | K4: 잔여지 지장물 | L4: 비고
A5: 합계 | D5: =COUNTA(D6:D49)&"명" -> 0명 | E5: =SUBTOTAL(9,E6:E49) -> #REF! | F5: =SUBTOTAL(9,F6:F49) -> #REF! | G5: =SUBTOTAL(9,G6:G49) -> #REF! | H5: =SUBTOTAL(9,H6:H49) -> 0 | I5: =SUBTOTAL(9,I6:I49) -> 0 | J5: =SUBTOTAL(9,J6:J49) -> 0 | K5: =SUBTOTAL(9,K6:K49) -> 0 | L5: =SUBTOTAL(9,L6:L49) -> 0
A6: =ROW()-5 -> 1 | E6: =SUM(F6:L6) -> #REF! | F6: =SUMIF(토지!L:L,D6,토지!#REF!) -> #REF! | G6: =SUMIF(지장물!J:J,D6,지장물!#REF!) -> #REF! | H6: =SUMIF(영업보상!AF:AF,D6,영업보상!AE:AE) -> 0 | I6: =SUMIF(주거이전비!AF:AF,D6,주거이전비!AE:AE) -> 0 | J6: =SUMIF(잔여지!AF:AF,D6,잔여지!AE:AE) -> 0 | K6: =SUMIF(잔여지지장물!AF:AF,D6,잔여지지장물!AE:AE) -> 0
A7: =ROW()-5 -> 2 | E7: =SUM(F7:L7) -> #REF! | F7: =SUMIF(토지!L:L,D7,토지!#REF!) -> #REF! | G7: =SUMIF(지장물!J:J,D7,지장물!#REF!) -> #REF! | H7: =SUMIF(영업보상!AF:AF,D7,영업보상!AE:AE) -> 0 | I7: =SUMIF(주거이전비!AF:AF,D7,주거이전비!AE:AE) -> 0 | J7: =SUMIF(잔여지!AF:AF,D7,잔여지!AE:AE) -> 0 | K7: =SUMIF(잔여지지장물!AF:AF,D7,잔여지지장물!AE:AE) -> 0
A8: =ROW()-5 -> 3 | E8: =SUM(F8:L8) -> #REF! | F8: =SUMIF(토지!L:L,D8,토지!#REF!) -> #REF! | G8: =SUMIF(지장물!J:J,D8,지장물!#REF!) -> #REF! | H8: =SUMIF(영업보상!AF:AF,D8,영업보상!AE:AE) -> 0 | I8: =SUMIF(주거이전비!AF:AF,D8,주거이전비!AE:AE) -> 0 | J8: =SUMIF(잔여지!AF:AF,D8,잔여지!AE:AE) -> 0 | K8: =SUMIF(잔여지지장물!AF:AF,D8,잔여지지장물!AE:AE) -> 0
A9: =ROW()-5 -> 4 | E9: =SUM(F9:L9) -> #REF! | F9: =SUMIF(토지!L:L,D9,토지!#REF!) -> #REF! | G9: =SUMIF(지장물!J:J,D9,지장물!#REF!) -> #REF! | H9: =SUMIF(영업보상!AF:AF,D9,영업보상!AE:AE) -> 0 | I9: =SUMIF(주거이전비!AF:AF,D9,주거이전비!AE:AE) -> 0 | J9: =SUMIF(잔여지!AF:AF,D9,잔여지!AE:AE) -> 0 | K9: =SUMIF(잔여지지장물!AF:AF,D9,잔여지지장물!AE:AE) -> 0
A10: =ROW()-5 -> 5 | E10: =SUM(F10:L10) -> #REF! | F10: =SUMIF(토지!L:L,D10,토지!#REF!) -> #REF! | G10: =SUMIF(지장물!J:J,D10,지장물!#REF!) -> #REF! | H10: =SUMIF(영업보상!AF:AF,D10,영업보상!AE:AE) -> 0 | I10: =SUMIF(주거이전비!AF:AF,D10,주거이전비!AE:AE) -> 0 | J10: =SUMIF(잔여지!AF:AF,D10,잔여지!AE:AE) -> 0 | K10: =SUMIF(잔여지지장물!AF:AF,D10,잔여지지장물!AE:AE) -> 0
A11: =ROW()-5 -> 6 | E11: =SUM(F11:L11) -> #REF! | F11: =SUMIF(토지!L:L,D11,토지!#REF!) -> #REF! | G11: =SUMIF(지장물!J:J,D11,지장물!#REF!) -> #REF! | H11: =SUMIF(영업보상!AF:AF,D11,영업보상!AE:AE) -> 0 | I11: =SUMIF(주거이전비!AF:AF,D11,주거이전비!AE:AE) -> 0 | J11: =SUMIF(잔여지!AF:AF,D11,잔여지!AE:AE) -> 0 | K11: =SUMIF(잔여지지장물!AF:AF,D11,잔여지지장물!AE:AE) -> 0
A12: =ROW()-5 -> 7 | E12: =SUM(F12:L12) -> #REF! | F12: =SUMIF(토지!L:L,D12,토지!#REF!) -> #REF! | G12: =SUMIF(지장물!J:J,D12,지장물!#REF!) -> #REF! | H12: =SUMIF(영업보상!AF:AF,D12,영업보상!AE:AE) -> 0 | I12: =SUMIF(주거이전비!AF:AF,D12,주거이전비!AE:AE) -> 0 | J12: =SUMIF(잔여지!AF:AF,D12,잔여지!AE:AE) -> 0 | K12: =SUMIF(잔여지지장물!AF:AF,D12,잔여지지장물!AE:AE) -> 0
A13: =ROW()-5 -> 8 | E13: =SUM(F13:L13) -> #REF! | F13: =SUMIF(토지!L:L,D13,토지!#REF!) -> #REF! | G13: =SUMIF(지장물!J:J,D13,지장물!#REF!) -> #REF! | H13: =SUMIF(영업보상!AF:AF,D13,영업보상!AE:AE) -> 0 | I13: =SUMIF(주거이전비!AF:AF,D13,주거이전비!AE:AE) -> 0 | J13: =SUMIF(잔여지!AF:AF,D13,잔여지!AE:AE) -> 0 | K13: =SUMIF(잔여지지장물!AF:AF,D13,잔여지지장물!AE:AE) -> 0
A14: =ROW()-5 -> 9 | E14: =SUM(F14:L14) -> #REF! | F14: =SUMIF(토지!L:L,D14,토지!#REF!) -> #REF! | G14: =SUMIF(지장물!J:J,D14,지장물!#REF!) -> #REF! | H14: =SUMIF(영업보상!AF:AF,D14,영업보상!AE:AE) -> 0 | I14: =SUMIF(주거이전비!AF:AF,D14,주거이전비!AE:AE) -> 0 | J14: =SUMIF(잔여지!AF:AF,D14,잔여지!AE:AE) -> 0 | K14: =SUMIF(잔여지지장물!AF:AF,D14,잔여지지장물!AE:AE) -> 0
A15: =ROW()-5 -> 10 | E15: =SUM(F15:L15) -> #REF! | F15: =SUMIF(토지!L:L,D15,토지!#REF!) -> #REF! | G15: =SUMIF(지장물!J:J,D15,지장물!#REF!) -> #REF! | H15: =SUMIF(영업보상!AF:AF,D15,영업보상!AE:AE) -> 0 | I15: =SUMIF(주거이전비!AF:AF,D15,주거이전비!AE:AE) -> 0 | J15: =SUMIF(잔여지!AF:AF,D15,잔여지!AE:AE) -> 0 | K15: =SUMIF(잔여지지장물!AF:AF,D15,잔여지지장물!AE:AE) -> 0
A16: =ROW()-5 -> 11 | E16: =SUM(F16:L16) -> #REF! | F16: =SUMIF(토지!L:L,D16,토지!#REF!) -> #REF! | G16: =SUMIF(지장물!J:J,D16,지장물!#REF!) -> #REF! | H16: =SUMIF(영업보상!AF:AF,D16,영업보상!AE:AE) -> 0 | I16: =SUMIF(주거이전비!AF:AF,D16,주거이전비!AE:AE) -> 0 | J16: =SUMIF(잔여지!AF:AF,D16,잔여지!AE:AE) -> 0 | K16: =SUMIF(잔여지지장물!AF:AF,D16,잔여지지장물!AE:AE) -> 0
A17: =ROW()-5 -> 12 | E17: =SUM(F17:L17) -> #REF! | F17: =SUMIF(토지!L:L,D17,토지!#REF!) -> #REF! | G17: =SUMIF(지장물!J:J,D17,지장물!#REF!) -> #REF! | H17: =SUMIF(영업보상!AF:AF,D17,영업보상!AE:AE) -> 0 | I17: =SUMIF(주거이전비!AF:AF,D17,주거이전비!AE:AE) -> 0 | J17: =SUMIF(잔여지!AF:AF,D17,잔여지!AE:AE) -> 0 | K17: =SUMIF(잔여지지장물!AF:AF,D17,잔여지지장물!AE:AE) -> 0
... A49: =ROW()-5 -> 44 | E49: =SUM(F49:L49) -> #REF! | F49: =SUMIF(토지!L:L,D49,토지!#REF!) -> #REF! | G49: =SUMIF(지장물!J:J,D49,지장물!#REF!) -> #REF! | H49: =SUMIF(영업보상!AF:AF,D49,영업보상!AE:AE) -> 0 | I49: =SUMIF(주거이전비!AF:AF,D49,주거이전비!AE:AE) -> 0 | J49: =SUMIF(잔여지!AF:AF,D49,잔여지!AE:AE) -> 0 | K49: =SUMIF(잔여지지장물!AF:AF,D49,잔여지지장물!AE:AE) -> 0

Sheet (개인별 총괄)
A1: 소유자 | C1: ※ 각 물건별 150명 기준임
A2: ='(소유자물건별)'!A2 -> #REF!
A3: ='(소유자물건별)'!A3 -> #REF!
A4: ='(소유자물건별)'!A4 -> #REF!
A5: ='(소유자물건별)'!A5 -> #REF!
A6: ='(소유자물건별)'!A6 -> #REF!
A7: ='(소유자물건별)'!A7 -> #REF!
A8: ='(소유자물건별)'!A8 -> #REF!
A9: ='(소유자물건별)'!A9 -> #REF!
A10: ='(소유자물건별)'!A10 -> #REF!
A11: ='(소유자물건별)'!A11 -> #REF!
A12: ='(소유자물건별)'!A12 -> #REF!
A13: ='(소유자물건별)'!A13 -> #REF!
... A151: ='(소유자물건별)'!A151
A152: ='(소유자물건별)'!B2
A153: ='(소유자물건별)'!B3
A154: ='(소유자물건별)'!B4
A155: ='(소유자물건별)'!B5
A156: ='(소유자물건별)'!B6
A157: ='(소유자물건별)'!B7
A158: ='(소유자물건별)'!B8 -> #REF!
A159: ='(소유자물건별)'!B9
A160: ='(소유자물건별)'!B10
A161: ='(소유자물건별)'!B11
A162: ='(소유자물건별)'!B12
A163: ='(소유자물건별)'!B13
... A301: ='(소유자물건별)'!B151
A302: ='(소유자물건별)'!C2
A303: ='(소유자물건별)'!C3
A304: ='(소유자물건별)'!C4
A305: ='(소유자물건별)'!C5
A306: ='(소유자물건별)'!C6
A307: ='(소유자물건별)'!C7
A308: ='(소유자물건별)'!C8
A309: ='(소유자물건별)'!C9
A310: ='(소유자물건별)'!C10
A311: ='(소유자물건별)'!C11
A312: ='(소유자물건별)'!C12
A313: ='(소유자물건별)'!C13
... A451: ='(소유자물건별)'!C151
...

Sheet (소유자물건별)
A1: 토지 | B1: 지장물 | C1: 영업보상 | D1: 농업보상 | E1: 지하사용권 | F1: 주거이전비 | G1: 분묘 | H1: 잔여지 | I1: 잔여지지장물
A2: =IF(토지!#REF!="","",토지!#REF!) -> #REF! | B2: =IF(지장물!J5="","",지장물!J5) | C2: =IF(영업보상!AF5="","",영업보상!AF5) | D2: =IF(#REF!="","",#REF!) -> #REF! | E2: =IF(#REF!="","",#REF!) -> #REF! | F2: =IF(주거이전비!AF5="","",주거이전비!AF5) | G2: =IF(#REF!="","",#REF!) -> #REF! | H2: =IF(잔여지!AF5="","",잔여지!AF5) | I2: =IF(잔여지지장물!AF5="","",잔여지지장물!AF5)
A3: =IF(토지!#REF!="","",토지!#REF!) -> #REF! | B3: =IF(지장물!J6="","",지장물!J6) | C3: =IF(영업보상!AF6="","",영업보상!AF6) | D3: =IF(#REF!="","",#REF!) -> #REF! | E3: =IF(#REF!="","",#REF!) -> #REF! | F3: =IF(주거이전비!AF6="","",주거이전비!AF6) | G3: =IF(#REF!="","",#REF!) -> #REF! | H3: =IF(잔여지!AF6="","",잔여지!AF6) | I3: =IF(잔여지지장물!AF6="","",잔여지지장물!AF6)
A4: =IF(토지!#REF!="","",토지!#REF!) -> #REF! | B4: =IF(지장물!J7="","",지장물!J7) | C4: =IF(영업보상!AF7="","",영업보상!AF7) | D4: =IF(#REF!="","",#REF!) -> #REF! | E4: =IF(#REF!="","",#REF!) -> #REF! | F4: =IF(주거이전비!AF7="","",주거이전비!AF7) | G4: =IF(#REF!="","",#REF!) -> #REF! | H4: =IF(잔여지!AF7="","",잔여지!AF7) | I4: =IF(잔여지지장물!AF7="","",잔여지지장물!AF7)
A5: =IF(토지!#REF!="","",토지!#REF!) -> #REF! | B5: =IF(지장물!J8="","",지장물!J8) | C5: =IF(영업보상!AF8="","",영업보상!AF8) | D5: =IF(#REF!="","",#REF!) -> #REF! | E5: =IF(#REF!="","",#REF!) -> #REF! | F5: =IF(주거이전비!AF8="","",주거이전비!AF8) | G5: =IF(#REF!="","",#REF!) -> #REF! | H5: =IF(잔여지!AF8="","",잔여지!AF8) | I5: =IF(잔여지지장물!AF8="","",잔여지지장물!AF8)
A6: =IF(토지!#REF!="","",토지!#REF!) -> #REF! | B6: =IF(지장물!J9="","",지장물!J9) | C6: =IF(영업보상!AF9="","",영업보상!AF9) | D6: =IF(#REF!="","",#REF!) -> #REF! | E6: =IF(#REF!="","",#REF!) -> #REF! | F6: =IF(주거이전비!AF9="","",주거이전비!AF9) | G6: =IF(#REF!="","",#REF!) -> #REF! | H6: =IF(잔여지!AF9="","",잔여지!AF9) | I6: =IF(잔여지지장물!AF9="","",잔여지지장물!AF9)
A7: =IF(토지!#REF!="","",토지!#REF!) -> #REF! | B7: =IF(지장물!J10="","",지장물!J10) | C7: =IF(영업보상!AF10="","",영업보상!AF10) | D7: =IF(#REF!="","",#REF!) -> #REF! | E7: =IF(#REF!="","",#REF!) -> #REF! | F7: =IF(주거이전비!AF10="","",주거이전비!AF10) | G7: =IF(#REF!="","",#REF!) -> #REF! | H7: =IF(잔여지!AF10="","",잔여지!AF10) | I7: =IF(잔여지지장물!AF10="","",잔여지지장물!AF10)
A8: =IF(토지!#REF!="","",토지!#REF!) -> #REF! | B8: =IF(지장물!#REF!="","",지장물!#REF!) -> #REF! | C8: =IF(영업보상!AF11="","",영업보상!AF11) | D8: =IF(#REF!="","",#REF!) -> #REF! | E8: =IF(#REF!="","",#REF!) -> #REF! | F8: =IF(주거이전비!AF11="","",주거이전비!AF11) | G8: =IF(#REF!="","",#REF!) -> #REF! | H8: =IF(잔여지!AF11="","",잔여지!AF11) | I8: =IF(잔여지지장물!AF11="","",잔여지지장물!AF11)
A9: =IF(토지!#REF!="","",토지!#REF!) -> #REF! | B9: =IF(지장물!J11="","",지장물!J11) | C9: =IF(영업보상!AF12="","",영업보상!AF12) | D9: =IF(#REF!="","",#REF!) -> #REF! | E9: =IF(#REF!="","",#REF!) -> #REF! | F9: =IF(주거이전비!AF12="","",주거이전비!AF12) | G9: =IF(#REF!="","",#REF!) -> #REF! | H9: =IF(잔여지!AF12="","",잔여지!AF12) | I9: =IF(잔여지지장물!AF12="","",잔여지지장물!AF12)
A10: =IF(토지!#REF!="","",토지!#REF!) -> #REF! | B10: =IF(지장물!J12="","",지장물!J12) | C10: =IF(영업보상!AF13="","",영업보상!AF13) | D10: =IF(#REF!="","",#REF!) -> #REF! | E10: =IF(#REF!="","",#REF!) -> #REF! | F10: =IF(주거이전비!AF13="","",주거이전비!AF13) | G10: =IF(#REF!="","",#REF!) -> #REF! | H10: =IF(잔여지!AF13="","",잔여지!AF13) | I10: =IF(잔여지지장물!AF13="","",잔여지지장물!AF13)
A11: =IF(토지!#REF!="","",토지!#REF!) -> #REF! | B11: =IF(지장물!J13="","",지장물!J13) | C11: =IF(영업보상!AF14="","",영업보상!AF14) | D11: =IF(#REF!="","",#REF!) -> #REF! | E11: =IF(#REF!="","",#REF!) -> #REF! | F11: =IF(주거이전비!AF14="","",주거이전비!AF14) | G11: =IF(#REF!="","",#REF!) -> #REF! | H11: =IF(잔여지!AF14="","",잔여지!AF14) | I11: =IF(잔여지지장물!AF14="","",잔여지지장물!AF14)
A12: =IF(토지!#REF!="","",토지!#REF!) -> #REF! | B12: =IF(지장물!J14="","",지장물!J14) | C12: =IF(영업보상!AF15="","",영업보상!AF15) | D12: =IF(#REF!="","",#REF!) -> #REF! | E12: =IF(#REF!="","",#REF!) -> #REF! | F12: =IF(주거이전비!AF15="","",주거이전비!AF15) | G12: =IF(#REF!="","",#REF!) -> #REF! | H12: =IF(잔여지!AF15="","",잔여지!AF15) | I12: =IF(잔여지지장물!AF15="","",잔여지지장물!AF15)
A13: =IF(토지!#REF!="","",토지!#REF!) -> #REF! | B13: =IF(지장물!J15="","",지장물!J15) | C13: =IF(영업보상!AF16="","",영업보상!AF16) | D13: =IF(#REF!="","",#REF!) -> #REF! | E13: =IF(#REF!="","",#REF!) -> #REF! | F13: =IF(주거이전비!AF16="","",주거이전비!AF16) | G13: =IF(#REF!="","",#REF!) -> #REF! | H13: =IF(잔여지!AF16="","",잔여지!AF16) | I13: =IF(잔여지지장물!AF16="","",잔여지지장물!AF16)
A14: =IF(토지!#REF!="","",토지!#REF!) -> #REF! | B14: =IF(지장물!J16="","",지장물!J16) | C14: =IF(영업보상!AF17="","",영업보상!AF17) | D14: =IF(#REF!="","",#REF!) -> #REF! | E14: =IF(#REF!="","",#REF!) -> #REF! | F14: =IF(주거이전비!AF17="","",주거이전비!AF17) | G14: =IF(#REF!="","",#REF!) -> #REF! | H14: =IF(잔여지!AF17="","",잔여지!AF17) | I14: =IF(잔여지지장물!AF17="","",잔여지지장물!AF17)
A15: =IF(토지!#REF!="","",토지!#REF!) -> #REF! | B15: =IF(지장물!J17="","",지장물!J17) | C15: =IF(영업보상!AF18="","",영업보상!AF18) | D15: =IF(#REF!="","",#REF!) -> #REF! | E15: =IF(#REF!="","",#REF!) -> #REF! | F15: =IF(주거이전비!AF18="","",주거이전비!AF18) | G15: =IF(#REF!="","",#REF!) -> #REF! | H15: =IF(잔여지!AF18="","",잔여지!AF18) | I15: =IF(잔여지지장물!AF18="","",잔여지지장물!AF18)
A16: =IF(토지!#REF!="","",토지!#REF!) -> #REF! | B16: =IF(지장물!J18="","",지장물!J18) | C16: =IF(영업보상!AF19="","",영업보상!AF19) | D16: =IF(#REF!="","",#REF!) -> #REF! | E16: =IF(#REF!="","",#REF!) -> #REF! | F16: =IF(주거이전비!AF19="","",주거이전비!AF19) | G16: =IF(#REF!="","",#REF!) -> #REF! | H16: =IF(잔여지!AF19="","",잔여지!AF19) | I16: =IF(잔여지지장물!AF19="","",잔여지지장물!AF19)
A17: =IF(토지!#REF!="","",토지!#REF!) -> #REF! | B17: =IF(지장물!J19="","",지장물!J19) | C17: =IF(영업보상!AF20="","",영업보상!AF20) | D17: =IF(#REF!="","",#REF!) -> #REF! | E17: =IF(#REF!="","",#REF!) -> #REF! | F17: =IF(주거이전비!AF20="","",주거이전비!AF20) | G17: =IF(#REF!="","",#REF!) -> #REF! | H17: =IF(잔여지!AF20="","",잔여지!AF20) | I17: =IF(잔여지지장물!AF20="","",잔여지지장물!AF20)
A18: =IF(토지!#REF!="","",토지!#REF!) -> #REF! | B18: =IF(지장물!J20="","",지장물!J20) | C18: =IF(영업보상!AF21="","",영업보상!AF21) | D18: =IF(#REF!="","",#REF!) -> #REF! | E18: =IF(#REF!="","",#REF!) -> #REF! | F18: =IF(주거이전비!AF21="","",주거이전비!AF21) | G18: =IF(#REF!="","",#REF!) -> #REF! | H18: =IF(잔여지!AF21="","",잔여지!AF21) | I18: =IF(잔여지지장물!AF21="","",잔여지지장물!AF21)
A19: =IF(토지!#REF!="","",토지!#REF!) -> #REF! | B19: =IF(지장물!J21="","",지장물!J21) | C19: =IF(영업보상!AF22="","",영업보상!AF22) | D19: =IF(#REF!="","",#REF!) -> #REF! | E19: =IF(#REF!="","",#REF!) -> #REF! | F19: =IF(주거이전비!AF22="","",주거이전비!AF22) | G19: =IF(#REF!="","",#REF!) -> #REF! | H19: =IF(잔여지!AF22="","",잔여지!AF22) | I19: =IF(잔여지지장물!AF22="","",잔여지지장물!AF22)
A20: =IF(토지!#REF!="","",토지!#REF!) -> #REF! | B20: =IF(지장물!J27="","",지장물!J27) | C20: =IF(영업보상!AF23="","",영업보상!AF23) | D20: =IF(#REF!="","",#REF!) -> #REF! | E20: =IF(#REF!="","",#REF!) -> #REF! | F20: =IF(주거이전비!AF23="","",주거이전비!AF23) | G20: =IF(#REF!="","",#REF!) -> #REF! | H20: =IF(잔여지!AF23="","",잔여지!AF23) | I20: =IF(잔여지지장물!AF23="","",잔여지지장물!AF23)
A21: =IF(토지!#REF!="","",토지!#REF!) -> #REF! | B21: =IF(지장물!#REF!="","",지장물!#REF!) -> #REF! | C21: =IF(영업보상!AF24="","",영업보상!AF24) | D21: =IF(#REF!="","",#REF!) -> #REF! | E21: =IF(#REF!="","",#REF!) -> #REF! | F21: =IF(주거이전비!AF24="","",주거이전비!AF24) | G21: =IF(#REF!="","",#REF!) -> #REF! | H21: =IF(잔여지!AF24="","",잔여지!AF24) | I21: =IF(잔여지지장물!AF24="","",잔여지지장물!AF24)
A22: =IF(토지!#REF!="","",토지!#REF!) -> #REF! | B22: =IF(지장물!J22="","",지장물!J22) | C22: =IF(영업보상!AF25="","",영업보상!AF25) | D22: =IF(#REF!="","",#REF!) -> #REF! | E22: =IF(#REF!="","",#REF!) -> #REF! | F22: =IF(주거이전비!AF25="","",주거이전비!AF25) | G22: =IF(#REF!="","",#REF!) -> #REF! | H22: =IF(잔여지!AF25="","",잔여지!AF25) | I22: =IF(잔여지지장물!AF25="","",잔여지지장물!AF25)
A23: =IF(토지!#REF!="","",토지!#REF!) -> #REF! | B23: =IF(지장물!#REF!="","",지장물!#REF!) -> #REF! | C23: =IF(영업보상!AF26="","",영업보상!AF26) | D23: =IF(#REF!="","",#REF!) -> #REF! | E23: =IF(#REF!="","",#REF!) -> #REF! | F23: =IF(주거이전비!AF26="","",주거이전비!AF26) | G23: =IF(#REF!="","",#REF!) -> #REF! | H23: =IF(잔여지!AF26="","",잔여지!AF26) | I23: =IF(잔여지지장물!AF26="","",잔여지지장물!AF26)
A24: =IF(토지!#REF!="","",토지!#REF!) -> #REF! | B24: =IF(지장물!#REF!="","",지장물!#REF!) -> #REF! | C24: =IF(영업보상!AF27="","",영업보상!AF27) | D24: =IF(#REF!="","",#REF!) -> #REF! | E24: =IF(#REF!="","",#REF!) -> #REF! | F24: =IF(주거이전비!AF27="","",주거이전비!AF27) | G24: =IF(#REF!="","",#REF!) -> #REF! | H24: =IF(잔여지!AF27="","",잔여지!AF27) | I24: =IF(잔여지지장물!AF27="","",잔여지지장물!AF27)
A25: =IF(토지!#REF!="","",토지!#REF!) -> #REF! | B25: =IF(지장물!J34="","",지장물!J34) | C25: =IF(영업보상!AF28="","",영업보상!AF28) | D25: =IF(#REF!="","",#REF!) -> #REF! | E25: =IF(#REF!="","",#REF!) -> #REF! | F25: =IF(주거이전비!AF28="","",주거이전비!AF28) | G25: =IF(#REF!="","",#REF!) -> #REF! | H25: =IF(잔여지!AF28="","",잔여지!AF28) | I25: =IF(잔여지지장물!AF28="","",잔여지지장물!AF28)
A26: =IF(토지!#REF!="","",토지!#REF!) -> #REF! | B26: =IF(지장물!J35="","",지장물!J35) | C26: =IF(영업보상!AF29="","",영업보상!AF29) | D26: =IF(#REF!="","",#REF!) -> #REF! | E26: =IF(#REF!="","",#REF!) -> #REF! | F26: =IF(주거이전비!AF29="","",주거이전비!AF29) | G26: =IF(#REF!="","",#REF!) -> #REF! | H26: =IF(잔여지!AF29="","",잔여지!AF29) | I26: =IF(잔여지지장물!AF29="","",잔여지지장물!AF29)
A27: =IF(토지!#REF!="","",토지!#REF!) -> #REF! | B27: =IF(지장물!J36="","",지장물!J36) | C27: =IF(영업보상!AF30="","",영업보상!AF30) | D27: =IF(#REF!="","",#REF!) -> #REF! | E27: =IF(#REF!="","",#REF!) -> #REF! | F27: =IF(주거이전비!AF30="","",주거이전비!AF30) | G27: =IF(#REF!="","",#REF!) -> #REF! | H27: =IF(잔여지!AF30="","",잔여지!AF30) | I27: =IF(잔여지지장물!AF30="","",잔여지지장물!AF30)
A28: =IF(토지!#REF!="","",토지!#REF!) -> #REF! | B28: =IF(지장물!J37="","",지장물!J37) | C28: =IF(영업보상!AF31="","",영업보상!AF31) | D28: =IF(#REF!="","",#REF!) -> #REF! | E28: =IF(#REF!="","",#REF!) -> #REF! | F28: =IF(주거이전비!AF31="","",주거이전비!AF31) | G28: =IF(#REF!="","",#REF!) -> #REF! | H28: =IF(잔여지!AF31="","",잔여지!AF31) | I28: =IF(잔여지지장물!AF31="","",잔여지지장물!AF31)
A29: =IF(토지!#REF!="","",토지!#REF!) -> #REF! | B29: =IF(지장물!J38="","",지장물!J38) | C29: =IF(영업보상!AF32="","",영업보상!AF32) | D29: =IF(#REF!="","",#REF!) -> #REF! | E29: =IF(#REF!="","",#REF!) -> #REF! | F29: =IF(주거이전비!AF32="","",주거이전비!AF32) | G29: =IF(#REF!="","",#REF!) -> #REF! | H29: =IF(잔여지!AF32="","",잔여지!AF32) | I29: =IF(잔여지지장물!AF32="","",잔여지지장물!AF32)
A30: =IF(토지!#REF!="","",토지!#REF!) -> #REF! | B30: =IF(지장물!#REF!="","",지장물!#REF!) -> #REF! | C30: =IF(영업보상!AF33="","",영업보상!AF33) | D30: =IF(#REF!="","",#REF!) -> #REF! | E30: =IF(#REF!="","",#REF!) -> #REF! | F30: =IF(주거이전비!AF33="","",주거이전비!AF33) | G30: =IF(#REF!="","",#REF!) -> #REF! | H30: =IF(잔여지!AF33="","",잔여지!AF33) | I30: =IF(잔여지지장물!AF33="","",잔여지지장물!AF33)
A31: =IF(토지!#REF!="","",토지!#REF!) -> #REF! | B31: =IF(지장물!J39="","",지장물!J39) | C31: =IF(영업보상!AF34="","",영업보상!AF34) | D31: =IF(#REF!="","",#REF!) -> #REF! | E31: =IF(#REF!="","",#REF!) -> #REF! | F31: =IF(주거이전비!AF34="","",주거이전비!AF34) | G31: =IF(#REF!="","",#REF!) -> #REF! | H31: =IF(잔여지!AF34="","",잔여지!AF34) | I31: =IF(잔여지지장물!AF34="","",잔여지지장물!AF34)
A32: =IF(토지!#REF!="","",토지!#REF!) -> #REF! | B32: =IF(지장물!J40="","",지장물!J40) | C32: =IF(영업보상!AF35="","",영업보상!AF35) | D32: =IF(#REF!="","",#REF!) -> #REF! | E32: =IF(#REF!="","",#REF!) -> #REF! | F32: =IF(주거이전비!AF35="","",주거이전비!AF35) | G32: =IF(#REF!="","",#REF!) -> #REF! | H32: =IF(잔여지!AF35="","",잔여지!AF35) | I32: =IF(잔여지지장물!AF35="","",잔여지지장물!AF35)
A33: =IF(토지!#REF!="","",토지!#REF!) -> #REF! | B33: =IF(지장물!J41="","",지장물!J41) | C33: =IF(영업보상!AF36="","",영업보상!AF36) | D33: =IF(#REF!="","",#REF!) -> #REF! | E33: =IF(#REF!="","",#REF!) -> #REF! | F33: =IF(주거이전비!AF36="","",주거이전비!AF36) | G33: =IF(#REF!="","",#REF!) -> #REF! | H33: =IF(잔여지!AF36="","",잔여지!AF36) | I33: =IF(잔여지지장물!AF36="","",잔여지지장물!AF36)
A34: =IF(토지!#REF!="","",토지!#REF!) -> #REF! | B34: =IF(지장물!J42="","",지장물!J42) | C34: =IF(영업보상!AF37="","",영업보상!AF37) | D34: =IF(#REF!="","",#REF!) -> #REF! | E34: =IF(#REF!="","",#REF!) -> #REF! | F34: =IF(주거이전비!AF37="","",주거이전비!AF37) | G34: =IF(#REF!="","",#REF!) -> #REF! | H34: =IF(잔여지!AF37="","",잔여지!AF37) | I34: =IF(잔여지지장물!AF37="","",잔여지지장물!AF37)
A35: =IF(토지!#REF!="","",토지!#REF!) -> #REF! | B35: =IF(지장물!J43="","",지장물!J43) | C35: =IF(영업보상!AF38="","",영업보상!AF38) | D35: =IF(#REF!="","",#REF!) -> #REF! | E35: =IF(#REF!="","",#REF!) -> #REF! | F35: =IF(주거이전비!AF38="","",주거이전비!AF38) | G35: =IF(#REF!="","",#REF!) -> #REF! | H35: =IF(잔여지!AF38="","",잔여지!AF38) | I35: =IF(잔여지지장물!AF38="","",잔여지지장물!AF38)
A36: =IF(토지!#REF!="","",토지!#REF!) -> #REF! | B36: =IF(지장물!J44="","",지장물!J44) | C36: =IF(영업보상!AF39="","",영업보상!AF39) | D36: =IF(#REF!="","",#REF!) -> #REF! | E36: =IF(#REF!="","",#REF!) -> #REF! | F36: =IF(주거이전비!AF39="","",주거이전비!AF39) | G36: =IF(#REF!="","",#REF!) -> #REF! | H36: =IF(잔여지!AF39="","",잔여지!AF39) | I36: =IF(잔여지지장물!AF39="","",잔여지지장물!AF39)
A37: =IF(토지!#REF!="","",토지!#REF!) -> #REF! | B37: =IF(지장물!J45="","",지장물!J45) | C37: =IF(영업보상!AF40="","",영업보상!AF40) | D37: =IF(#REF!="","",#REF!) -> #REF! | E37: =IF(#REF!="","",#REF!) -> #REF! | F37: =IF(주거이전비!AF40="","",주거이전비!AF40) | G37: =IF(#REF!="","",#REF!) -> #REF! | H37: =IF(잔여지!AF40="","",잔여지!AF40) | I37: =IF(잔여지지장물!AF40="","",잔여지지장물!AF40)
A38: =IF(토지!#REF!="","",토지!#REF!) -> #REF! | B38: =IF(지장물!J46="","",지장물!J46) | C38: =IF(영업보상!AF41="","",영업보상!AF41) | D38: =IF(#REF!="","",#REF!) -> #REF! | E38: =IF(#REF!="","",#REF!) -> #REF! | F38: =IF(주거이전비!AF41="","",주거이전비!AF41) | G38: =IF(#REF!="","",#REF!) -> #REF! | H38: =IF(잔여지!AF41="","",잔여지!AF41) | I38: =IF(잔여지지장물!AF41="","",잔여지지장물!AF41)
A39: =IF(토지!#REF!="","",토지!#REF!) -> #REF! | B39: =IF(지장물!J47="","",지장물!J47) | C39: =IF(영업보상!AF42="","",영업보상!AF42) | D39: =IF(#REF!="","",#REF!) -> #REF! | E39: =IF(#REF!="","",#REF!) -> #REF! | F39: =IF(주거이전비!AF42="","",주거이전비!AF42) | G39: =IF(#REF!="","",#REF!) -> #REF! | H39: =IF(잔여지!AF42="","",잔여지!AF42) | I39: =IF(잔여지지장물!AF42="","",잔여지지장물!AF42)
A40: =IF(토지!#REF!="","",토지!#REF!) -> #REF! | B40: =IF(지장물!J48="","",지장물!J48) | C40: =IF(영업보상!AF43="","",영업보상!AF43) | D40: =IF(#REF!="","",#REF!) -> #REF! | E40: =IF(#REF!="","",#REF!) -> #REF! | F40: =IF(주거이전비!AF43="","",주거이전비!AF43) | G40: =IF(#REF!="","",#REF!) -> #REF! | H40: =IF(잔여지!AF43="","",잔여지!AF43) | I40: =IF(잔여지지장물!AF43="","",잔여지지장물!AF43)
...

Sheet 토지
A1: 손실보상금 산정 및 지급조서(토지)
A2: =총괄!$A$3 -> ○ 사업명 : 승학터널 민간투자사업(1차:우선)
A3: 세목 고시 | B3: 소재지 | D3: 지번 | F3: 지목 | I3: 지적 | K3: 소유 | L3: 소유자 | N3: 소유권이외의 권리
A4: 일련번호 | B4: 구 | C4: 동 | D4: 당초지번 | E4: 편입지번 | F4: 공부상 지목 | G4: 현황 지목 | H4: 공부상 총면적 | I4: 편입 면적 | J4: 단위 | K4: 지분 | L4: 성명 | M4: 주소 | N4: 권리자 | O4: 주소 | P4: 권리 내용
A5: 1 | B5: 사상 | C5: 엄궁 | D5: 141-30 | E5: 141-54 | F5: 장 | G5: 공장용지 | H5: 137 | I5: 137 | J5: ㎡ | K5: 1/1
A7: 2 | B7: 사상 | C7: 엄궁 | D7: 141-21 | E7: 141-21 | F7: 대 | G7: 대지 | H7: 1653 | I7: 1653 | J7: ㎡ | K7: 1/1
A9: 3 | B9: 사상 | C9: 엄궁 | D9: 141-20 | E9: 141-52 | F9: 주 | G9: 주유소 | H9: 711 | I9: 711 | J9: ㎡ | K9: 1/1
A10: 4 | B10: 사상 | C10: 엄궁 | D10: 141-24 | E10: 141-24 | F10: 대 | G10: 대지 | H10: 992 | I10: 992 | J10: ㎡ | K10: 1/1
A11: 5 | B11: 사상 | C11: 엄궁 | D11: 141-22 | E11: 141-22 | F11: 대 | G11: 대지 | H11: 661 | I11: 661 | J11: ㎡ | K11: 1/1
A12: 6 | B12: 사상 | C12: 엄궁 | D12: 141-26 | E12: 141-53 | F12: 대 | G12: 대지 | H12: 33 | I12: 33 | J12: ㎡ | K12: 1/1

Sheet 지하사용권
A1: 사용 또는 수용할 토지 및 소유권 이외의 권리자 조서(지하보상)
A2: =총괄!A3 -> ○ 사업명 : 승학터널 민간투자사업(1차:우선)
A3: 세목고시일련번호 | B3: 소재지 | D3: 지번 | F3: 지목 | H3: 토피 (m) | I3: 범위 (평균해 수면기준) | J3: 지하권깊이 산출근거 | K3: 지적 | N3: 소유지분 | O3: 지분 | P3: 지분 | Q3: 지분 | R3: 프라임 | T3: 미래새한 | V3: - | X3: 최고 | Y3: 최저 | Z3: 단가비율 | AD3: 감정평가 법인 평균 | AF3: 소유자 | AK3: 소유권이외의 권리 | AN3: 비고 | AO3: 공탁 | AR3: 등기 | AT3: 취득방법 | BA3: 세목 고시 | BB3: 소재지 | BD3: 지번 | BF3: 지목 | BH3: 토지이용계획원 상 용도지역,용도지구,용도구역 등 | BL3: 지적 | BN3: 소유 | BO3: 지분 | BP3: 지분 | BQ3: 지분 | BR3: OO법인 | BT3: OO법인 | BV3: - | BX3: 최고 | BY3: 최저 | BZ3: 단가비율 | CA3: 감정평가 법인 평균 | CC3: 개별공시지가 | CD3: 소유자 | CH3: 소유권이외의 권리 | CK3: 공탁 | CN3: 등기 | CP3: 취득방법
B4: 구 | C4: 동 | D4: 당초지번 | E4: 편입지번 | F4: 공부상 지목 | G4: 현황 지목 | K4: 공부상 총면적 | L4: 지하권 보상면적 | M4: 단위 | O4: (분자) | P4: (분모) | Q4: 계산 | R4: 단가 | S4: 금액 | T4: 단가 | U4: 금액 | V4: 단가 | W4: 금액 | X4: 단가 | Y4: 단가 | Z4: (최고/최저) | AD4: 평균단가 | AE4: 평균금액(원) | AF4: 성명 | AG4: 등기주소 | AH4: 송달주소 | AI4: 주민 등록번호 | AJ4: 연락처 | AK4: 권리자 | AL4: 주소 | AM4: 권리 내용 | AO4: 공탁일 | AP4: 공탁번호 | AQ4: 공탁기관 | AR4: 등기일 | AS4: 등기번호 | AT4: 취득일 | AU4: 방법 | BA4: 일련번호 | BB4: 구 | BC4: 동 | BD4: 당초지번 | BE4: 편입지번 | BF4: 공부상 지목 | BG4: 현황 지목 | BH4: 용도지역 | BI4: 국토개발법 저촉 (용도지구, 용도구역) | BJ4: 다른 법령 등 저촉 | BK4: 공부상 총면적 | BL4: 편입 면적 | BM4: 단위 | BN4: 지분 | BO4: (분자) | BP4: (분모) | BQ4: 계산 | BR4: 단가 | BS4: 금액 | BT4: 단가 | BU4: 금액 | BV4: 단가 | BW4: 금액 | BX4: 단가 | BY4: 단가 | BZ4: (최고/최저) | CA4: 평균단가 | CB4: 평균금액(원) | CC4: (OOOO년OO월) | CD4: 성명 | CE4: 주소 | CF4: 주민등록번호 | CG4: 연락처 | CH4: 권리자 | CI4: 주소 | CJ4: 권리 내용 | CK4: 공탁일 | CL4: 공탁번호 | CM4: 공탁기관 | CN4: 등기일 | CO4: 등기번호 | CP4: 취득일 | CQ4: 방법 | CR4: 비고
BA5: 1 | BS5: 0 | BU5: 0 | BW5: 0 | BX5: 0 | BY5: 0 | BZ5: #DIV/0! | CA5: 0 | CB5: 0
BA6: 2 | BS6: 0 | BU6: 0 | BW6: 0 | BX6: 0 | BY6: 0 | BZ6: #DIV/0! | CA6: 0 | CB6: 0
BA7: 3 | BS7: 0 | BU7: 0 | BW7: 0 | BX7: 0 | BY7: 0 | BZ7: #DIV/0! | CA7: 0 | CB7: 0
BA8: 4 | BS8: 0 | BU8: 0 | BW8: 0 | BX8: 0 | BY8: 0 | BZ8: #DIV/0! | CA8: 0 | CB8: 0
BA9: 5 | BS9: 0 | BU9: 0 | BW9: 0 | BX9: 0 | BY9: 0 | BZ9: #DIV/0! | CA9: 0 | CB9: 0
BA10: 6 | BS10: 0 | BU10: 0 | BW10: 0 | BX10: 0 | BY10: 0 | BZ10: #DIV/0! | CA10: 0 | CB10: 0
BA11: 7 | BS11: 0 | BU11: 0 | BW11: 0 | BX11: 0 | BY11: 0 | BZ11: #DIV/0! | CA11: 0 | CB11: 0
BA12: 8 | BS12: 0 | BU12: 0 | BW12: 0 | BX12: 0 | BY12: 0 | BZ12: #DIV/0! | CA12: 0 | CB12: 0
BA13: 9 | BS13: 0 | BU13: 0 | BW13: 0 | BX13: 0 | BY13: 0 | BZ13: #DIV/0! | CA13: 0 | CB13: 0
BA14: 10 | BS14: 0 | BU14: 0 | BW14: 0 | BX14: 0 | BY14: 0 | BZ14: #DIV/0! | CA14: 0 | CB14: 0
BS15: 0 | BU15: 0 | BW15: 0 | BX15: 0 | BY15: 0 | BZ15: #DIV/0! | CA15: 0 | CB15: 0
BS16: 0 | BU16: 0 | BW16: 0 | BX16: 0 | BY16: 0 | BZ16: #DIV/0! | CA16: 0 | CB16: 0
BS17: 0 | BU17: 0 | BW17: 0 | BX17: 0 | BY17: 0 | BZ17: #DIV/0! | CA17: 0 | CB17: 0
BS18: 0 | BU18: 0 | BW18: 0 | BX18: 0 | BY18: 0 | BZ18: #DIV/0! | CA18: 0 | CB18: 0
BS19: 0 | BU19: 0 | BW19: 0 | BX19: 0 | BY19: 0 | BZ19: #DIV/0! | CA19: 0 | CB19: 0
BS20: 0 | BU20: 0 | BW20: 0 | BX20: 0 | BY20: 0 | BZ20: #DIV/0! | CA20: 0 | CB20: 0
BS21: 0 | BU21: 0 | BW21: 0 | BX21: 0 | BY21: 0 | BZ21: #DIV/0! | CA21: 0 | CB21: 0
BA22: 11 | BS22: 0 | BU22: 0 | BW22: 0 | BX22: 0 | BY22: 0 | BZ22: #DIV/0! | CA22: 0 | CB22: 0
BA23: 12 | BS23: 0 | BU23: 0 | BW23: 0 | BX23: 0 | BY23: 0 | BZ23: #DIV/0! | CA23: 0 | CB23: 0
BS24: 0 | BU24: 0 | BW24: 0 | BX24: 0 | BY24: 0 | BZ24: #DIV/0! | CA24: 0 | CB24: 0
BA25: 13 | BS25: 0 | BU25: 0 | BW25: 0 | BX25: 0 | BY25: 0 | BZ25: #DIV/0! | CA25: 0 | CB25: 0
BA26: 14 | BS26: 0 | BU26: 0 | BW26: 0 | BX26: 0 | BY26: 0 | BZ26: #DIV/0! | CA26: 0 | CB26: 0
BS27: 0 | BU27: 0 | BW27: 0 | BX27: 0 | BY27: 0 | BZ27: #DIV/0! | CA27: 0 | CB27: 0
BS28: 0 | BU28: 0 | BW28: 0 | BX28: 0 | BY28: 0 | BZ28: #DIV/0! | CA28: 0 | CB28: 0
BS29: 0 | BU29: 0 | BW29: 0 | BX29: 0 | BY29: 0 | BZ29: #DIV/0! | CA29: 0 | CB29: 0
BS30: 0 | BU30: 0 | BW30: 0 | BX30: 0 | BY30: 0 | BZ30: #DIV/0! | CA30: 0 | CB30: 0
BS31: 0 | BU31: 0 | BW31: 0 | BX31: 0 | BY31: 0 | BZ31: #DIV/0! | CA31: 0 | CB31: 0
BA32: 15 | BS32: 0 | BU32: 0 | BW32: 0 | BX32: 0 | BY32: 0 | BZ32: #DIV/0! | CA32: 0 | CB32: 0
BA33: 16 | BS33: 0 | BU33: 0 | BW33: 0 | BX33: 0 | BY33: 0 | BZ33: #DIV/0! | CA33: 0 | CB33: 0
BA34: 17 | BS34: 0 | BU34: 0 | BW34: 0 | BX34: 0 | BY34: 0 | BZ34: #DIV/0! | CA34: 0 | CB34: 0
BA35: 18 | BS35: 0 | BU35: 0 | BW35: 0 | BX35: 0 | BY35: 0 | BZ35: #DIV/0! | CA35: 0 | CB35: 0
BS36: 0 | BU36: 0 | BW36: 0 | BX36: 0 | BY36: 0 | BZ36: #DIV/0! | CA36: 0 | CB36: 0
BS37: 0 | BU37: 0 | BW37: 0 | BX37: 0 | BY37: 0 | BZ37: #DIV/0! | CA37: 0 | CB37: 0
BS38: 0 | BU38: 0 | BW38: 0 | BX38: 0 | BY38: 0 | BZ38: #DIV/0! | CA38: 0 | CB38: 0
BS39: 0 | BU39: 0 | BW39: 0 | BX39: 0 | BY39: 0 | BZ39: #DIV/0! | CA39: 0 | CB39: 0
BS40: 0 | BU40: 0 | BW40: 0 | BX40: 0 | BY40: 0 | BZ40: #DIV/0! | CA40: 0 | CB40: 0
...

Sheet 지장물
A1: 손실보상금 산정 및 지급조서(지장물)
A2: =총괄!$A$3 -> ○ 사업명 : 승학터널 민간투자사업(1차:우선)
A3: 일련 | B3: 소재지 | D3: 지번 | F3: 물건 | G3: 구조 및 | H3: 수량 | I3: 단위 | J3: 소유자 | L3: 소유권이외의 권리 | O3: 공탁 | R3: 등기 | T3: 취득방법
A4: 번호 | B4: 구 | C4: 동 | D4: 당초지번 | E4: 편입지번 | F4: 종류 | G4: 규격 | H4: (면적) | J4: 성명 | K4: 주소 | L4: 권리자 | M4: 주소 | N4: 권리 내용 | O4: 공탁일 | P4: 공탁번호 | Q4: 공탁기관 | R4: 등기일 | S4: 등기번호 | T4: 취득일 | U4: 방법 | V4: 비고
A5: 1 | B5: 사상 | C5: 엄궁 | D5: 141-30 | E5: 141-54 | F5: 영업보상 | H5: 1 | I5: 식 | X5: =IF(총괄!$A$3="(","1",RIGHT(총괄!$A$3,LEN(총괄!$A$3)-FIND(":",총괄!$A$3)-1)) -> 승학터널 민간투자사업(1차:우선) | Y5: 지장물
A6: 2 | B6: 사상 | C6: 엄궁 | D6: 141-30 | E6: 141-54 | F6: 아스팔트 믹싱플랜트 | G6: FULLY AUTOMATIC OPERATION(완전자동 운전 시스템) 모델:KIPCOAP-3000/믹서용량:4,000kg/회(batch) 등시설일체포함 | H6: 1 | I6: 식 | X6: =IF(총괄!$A$3="(","1",RIGHT(총괄!$A$3,LEN(총괄!$A$3)-FIND(":",총괄!$A$3)-1)) -> 승학터널 민간투자사업(1차:우선) | Y6: 지장물
A7: 3 | B7: 사상 | C7: 엄궁 | D7: 141-30 | E7: 141-54 | F7: 골재공급 장치1 | G7: COLD BIN(콜드빈) : 18㎥ | H7: 5 | I7: 식 | X7: =IF(총괄!$A$3="(","1",RIGHT(총괄!$A$3,LEN(총괄!$A$3)-FIND(":",총괄!$A$3)-1)) -> 승학터널 민간투자사업(1차:우선) | Y7: 지장물
A8: 4 | B8: 사상 | C8: 엄궁 | D8: 141-30 | E8: 141-54 | F8: 골재공급 장치2 | G8: BELT FEEDER(벨트 피더) : W0.75m | H8: 5 | I8: 식 | X8: =IF(총괄!$A$3="(","1",RIGHT(총괄!$A$3,LEN(총괄!$A$3)-FIND(":",총괄!$A$3)-1)) -> 승학터널 민간투자사업(1차:우선) | Y8: 지장물
A9: 5 | B9: 사상 | C9: 엄궁 | D9: 141-30 | E9: 141-54 | F9: 골재공급 장치3 | G9: HORIZONTAL BELT CONVEYOR(수평 벨트컨베이어) W0.9mX32m | H9: 5 | I9: 식 | X9: =IF(총괄!$A$3="(","1",RIGHT(총괄!$A$3,LEN(총괄!$A$3)-FIND(":",총괄!$A$3)-1)) -> 승학터널 민간투자사업(1차:우선) | Y9: 지장물
A10: 6 | B10: 사상 | C10: 엄궁 | D10: 141-30 | E10: 141-54 | F10: 골재공급 장치4 | G10: INCLINED BELT CONVEYOR(경사 벨트컨베이어) W0.9m×12m | H10: 1 | I10: 식 | X10: =IF(총괄!$A$3="(","1",RIGHT(총괄!$A$3,LEN(총괄!$A$3)-FIND(":",총괄!$A$3)-1)) -> 승학터널 민간투자사업(1차:우선) | Y10: 지장물
A11: 7 | B11: 사상 | C11: 엄궁 | D11: 141-30 | E11: 141-54 | F11: 골재공급 장치5 | G11: OVER SIZE SCREEN(오버사이즈 스크린) 골재공급장치모터포함 | H11: 1 | I11: 식 | X11: =IF(총괄!$A$3="(","1",RIGHT(총괄!$A$3,LEN(총괄!$A$3)-FIND(":",총괄!$A$3)-1)) -> 승학터널 민간투자사업(1차:우선) | Y11: 지장물
A12: 8 | B12: 사상 | C12: 엄궁 | D12: 141-30 | E12: 141-54 | F12: 골재가열장치1 | G12: DRY KILN(드라이 킬른) : 240 ton/HR | H12: 1 | I12: 식 | X12: =IF(총괄!$A$3="(","1",RIGHT(총괄!$A$3,LEN(총괄!$A$3)-FIND(":",총괄!$A$3)-1)) -> 승학터널 민간투자사업(1차:우선) | Y12: 지장물
A13: 9 | B13: 사상 | C13: 엄궁 | D13: 141-30 | E13: 141-54 | F13: 골재가열장치2 | G13: 범양써머텍사 CC800,버너제어판, 가스배관,모터30kw 등 시설일체 포함 | H13: 1 | I13: 식 | X13: =IF(총괄!$A$3="(","1",RIGHT(총괄!$A$3,LEN(총괄!$A$3)-FIND(":",총괄!$A$3)-1)) -> 승학터널 민간투자사업(1차:우선) | Y13: 지장물
A14: 10 | B14: 사상 | C14: 엄궁 | D14: 141-30 | E14: 141-54 | F14: 골재가열장치3 | G14: HOT ELEVATOR(핫 엘리베이터) 240ton/HR 공재가열장치 모터 포함 | H14: 1 | I14: 식 | X14: =IF(총괄!$A$3="(","1",RIGHT(총괄!$A$3,LEN(총괄!$A$3)-FIND(":",총괄!$A$3)-1)) -> 승학터널 민간투자사업(1차:우선) | Y14: 지장물
A15: 11 | B15: 사상 | C15: 엄궁 | D15: 141-30 | E15: 141-54 | F15: 골재 선별 및 저장 장치1 | G15: VIBRATING SCREEN(진동 스크린) | H15: 1 | I15: 식 | X15: =IF(총괄!$A$3="(","1",RIGHT(총괄!$A$3,LEN(총괄!$A$3)-FIND(":",총괄!$A$3)-1)) -> 승학터널 민간투자사업(1차:우선) | Y15: 지장물
A16: 12 | B16: 사상 | C16: 엄궁 | D16: 141-30 | E16: 141-54 | F16: 골재 선별 및 저장 장치2 | G16: HOT BIN(핫 빈) : 5BIN | H16: 1 | I16: 식 | X16: =IF(총괄!$A$3="(","1",RIGHT(총괄!$A$3,LEN(총괄!$A$3)-FIND(":",총괄!$A$3)-1)) -> 승학터널 민간투자사업(1차:우선) | Y16: 지장물
A17: 13 | B17: 사상 | C17: 엄궁 | D17: 141-30 | E17: 141-54 | F17: 골재 선별 및 저장 장치3 | G17: OVER FLOW HOPPER(오버 플로우 호퍼) 골재선별및저장장치모터포함 | H17: 1 | I17: 식 | X17: =IF(총괄!$A$3="(","1",RIGHT(총괄!$A$3,LEN(총괄!$A$3)-FIND(":",총괄!$A$3)-1)) -> 승학터널 민간투자사업(1차:우선) | Y17: 지장물
... A52: 48 | B52: 사상 | C52: 엄궁 | D52: 141-30 | E52: 141-54 | F52: 차양 | G52: 경량철골조 칼라강판지붕, 5×4m, 계단 및 작업대 등 시설일체 포함 (골재가열장치2 앞) | H52: 20 | I52: ㎡ | X52: =IF(총괄!$A$3="(","1",RIGHT(총괄!$A$3,LEN(총괄!$A$3)-FIND(":",총괄!$A$3)-1)) -> 승학터널 민간투자사업(1차:우선) | Y52: 지장물
A53: 49 | B53: 사상 | C53: 엄궁 | D53: 141-30 | E53: 141-54 | F53: 바닥포장 | G53: 콘크리트 (플랜트설비 하부) | H53: 360 | I53: ㎡
A54: 50 | B54: 사상 | C54: 엄궁 | D54: 141-30 | E54: 141-54 | F54: 휀스 | G54: 칼라강판, H4m | H54: 25 | I54: m
A55: 51 | B55: 사상 | C55: 엄궁 | D55: 141-30 | E55: 141-54 | F55: 계단 | G55: 철제, 3.5×0.6m | H55: 1 | I55: 식 | X55: =IF(총괄!$A$3="(","1",RIGHT(총괄!$A$3,LEN(총괄!$A$3)-FIND(":",총괄!$A$3)-1)) -> 승학터널 민간투자사업(1차:우선) | Y55: 지장물
A56: 52 | B56: 사상 | C56: 엄궁 | D56: 141-30 | E56: 141-54 | F56: CCTV시설 | G56: 3ea | H56: 1 | I56: 식 | X56: =IF(총괄!$A$3="(","1",RIGHT(총괄!$A$3,LEN(총괄!$A$3)-FIND(":",총괄!$A$3)-1)) -> 승학터널 민간투자사업(1차:우선) | Y56: 지장물
A57: 53 | B57: 사상 | C57: 엄궁 | D57: 141-20 | E57: 141-52 | F57: 제2종근린생활시설(사무소)(1층) | G57: 철근콘크리트조 스라브지붕 | H57: 114.79 | I57: ㎡ | X57: =IF(총괄!$A$3="(","1",RIGHT(총괄!$A$3,LEN(총괄!$A$3)-FIND(":",총괄!$A$3)-1)) -> 승학터널 민간투자사업(1차:우선) | Y57: 지장물
A58: 54 | B58: 사상 | C58: 엄궁 | D58: 141-20 | E58: 141-52 | F58: 위험물저장및처리시설(주유소)(1층) | G58: 철근콘크리트조 스라브지붕 | H58: 106.18 | I58: ㎡ | X58: =IF(총괄!$A$3="(","1",RIGHT(총괄!$A$3,LEN(총괄!$A$3)-FIND(":",총괄!$A$3)-1)) -> 승학터널 민간투자사업(1차:우선) | Y58: 지장물
A59: 55 | B59: 사상 | C59: 엄궁 | D59: 141-20 | E59: 141-52 | F59: 위험물저장및처리시설(주유소)(2층) | G59: 철근콘크리트조 스라브지붕 | H59: 106.18 | I59: ㎡ | X59: =IF(총괄!$A$3="(","1",RIGHT(총괄!$A$3,LEN(총괄!$A$3)-FIND(":",총괄!$A$3)-1)) -> 승학터널 민간투자사업(1차:우선) | Y59: 지장물
A60: 56 | B60: 사상 | C60: 엄궁 | D60: 141-20 | E60: 141-52 | F60: 제2종근린생활시설(사무소)(2층) | G60: 철근콘크리트조 스라브지붕 | H60: 114.79 | I60: ㎡ | X60: =IF(총괄!$A$3="(","1",RIGHT(총괄!$A$3,LEN(총괄!$A$3)-FIND(":",총괄!$A$3)-1)) -> 승학터널 민간투자사업(1차:우선) | Y60: 지장물
A61: 57 | B61: 사상 | C61: 엄궁 | D61: 141-20 | E61: 141-52 | F61: 위험물저장및처리시설(주유소)(3층) | G61: 철근콘크리트조 스라브지붕 | H61: 106.18 | I61: ㎡
A62: 58 | B62: 사상 | C62: 엄궁 | D62: 141-20 | E62: 141-52 | F62: 제2종근린생활시설(사무소)(3층) | G62: 철근콘크리트조 스라브지붕 | H62: 114.79 | I62: ㎡ | X62: =IF(총괄!$A$3="(","1",RIGHT(총괄!$A$3,LEN(총괄!$A$3)-FIND(":",총괄!$A$3)-1)) -> 승학터널 민간투자사업(1차:우선) | Y62: 지장물
A63: 59 | B63: 사상 | C63: 엄궁 | D63: 141-20 | E63: 141-52 | F63: 위험물저장및처리시설(주유소)(4층) | G63: 철근콘크리트조(일부벽체 판넬) 스라브지붕 | H63: 65 | I63: ㎡
A64: 60 | B64: 사상 | C64: 엄궁 | D64: 141-20 | E64: 141-52 | F64: 위험물저장및처리시설(주유소)(4층)계단실 및 화장실 | G64: 철근콘크리트조 스라브지붕 | H64: 40.35 | I64: ㎡
A65: 61 | B65: 사상 | C65: 엄궁 | D65: 141-20 | E65: 141-52 | F65: 제2종근린생활시설(사무소)(4층) | G65: 기타강구조(각파이프) 기타지붕(샌드위치판넬) / 2008년 증축신고 / 현재는 멸실 | H65: 20.72 | I65: ㎡
A66: 62 | B66: 사상 | C66: 엄궁 | D66: 141-20 | E66: 141-52 | F66: 캐노피, 위험물저장및처리시설(주유소)(4층) | G66: 일반철골구조 칼라강판지붕, 캐노피 간판, 조명시설 등 시설일체포함 | H66: 185.47 | I66: ㎡ | X66: =IF(총괄!$A$3="(","1",RIGHT(총괄!$A$3,LEN(총괄!$A$3)-FIND(":",총괄!$A$3)-1)) -> 승학터널 민간투자사업(1차:우선) | Y66: 지장물
A67: 63 | B67: 사상 | C67: 엄궁 | D67: 141-20 | E67: 141-52 | F67: 위험물저장및처리시설(주유소)5층 | G67: 철근콘크리트조 스라브지붕 | H67: 105.35 | I67: ㎡ | X67: =IF(총괄!$A$3="(","1",RIGHT(총괄!$A$3,LEN(총괄!$A$3)-FIND(":",총괄!$A$3)-1)) -> 승학터널 민간투자사업(1차:우선) | Y67: 지장물
A68: 64 | B68: 사상 | C68: 엄궁 | D68: 141-20 | E68: 141-52 | F68: 계단탑(6층) | G68: 철근콘크리트조 스라브지붕 (3+2.5)×6m×1/2 | H68: 16.5 | I68: ㎡ | X68: =IF(총괄!$A$3="(","1",RIGHT(총괄!$A$3,LEN(총괄!$A$3)-FIND(":",총괄!$A$3)-1)) -> 승학터널 민간투자사업(1차:우선) | Y68: 지장물
A69: 65 | B69: 사상 | C69: 엄궁 | D69: 141-20 | E69: 141-52 | F69: 주유기 시설 | G69: (외부) 주유기 5ea, ,천장형 주유기 2ea, 주유기아일랜드 2ea(철근콘크리트,8.6m×1.1m, 3.5m×1.1m), 유수분리시설 등 시설일체 포함 | H69: 1 | I69: 식 | X69: =IF(총괄!$A$3="(","1",RIGHT(총괄!$A$3,LEN(총괄!$A$3)-FIND(":",총괄!$A$3)-1)) -> 승학터널 민간투자사업(1차:우선) | Y69: 지장물
A70: 66 | B70: 사상 | C70: 엄궁 | D70: 141-20 | E70: 141-52 | F70: 유류저장실 | G70: 철근콘크리트조 27.4m×11.0m, H 4.0m(매립) | H70: 301.4 | I70: ㎡ | X70: =IF(총괄!$A$3="(","1",RIGHT(총괄!$A$3,LEN(총괄!$A$3)-FIND(":",총괄!$A$3)-1)) -> 승학터널 민간투자사업(1차:우선) | Y70: 지장물
A71: 67 | B71: 사상 | C71: 엄궁 | D71: 141-20 | E71: 141-52 | F71: 유류저장탱크시설 | G71: 유류저장탱크 12개 총 42만리터, 배관시설, 펌프시설, 방재시설, 유증기 통기관12ea, (유류주입구 12ea, 유루주입구 철제보호시설 3.4×0.5,H1m 포함) 등 시설일체 포함 | H71: 1 | I71: 식 | X71: =IF(총괄!$A$3="(","1",RIGHT(총괄!$A$3,LEN(총괄!$A$3)-FIND(":",총괄!$A$3)-1)) -> 승학터널 민간투자사업(1차:우선) | Y71: 지장물
A72: 68 | B72: 사상 | C72: 엄궁 | D72: 141-20 | E72: 141-52 | F72: 동력인입 시설 | G72: 계약종별 : 산업용(갑) 저압 계약전력:55Kwh | H72: 1 | I72: 식 | X72: =IF(총괄!$A$3="(","1",RIGHT(총괄!$A$3,LEN(총괄!$A$3)-FIND(":",총괄!$A$3)-1)) -> 승학터널 민간투자사업(1차:우선) | Y72: 지장물
A73: 69 | B73: 사상 | C73: 엄궁 | D73: 141-20 | E73: 141-52 | F73: 바닥포장 | G73: 콘크리트 ,배수시설 등 시설일체 포함(외부) | H73: 704 | I73: ㎡ | X73: =IF(총괄!$A$3="(","1",RIGHT(총괄!$A$3,LEN(총괄!$A$3)-FIND(":",총괄!$A$3)-1)) -> 승학터널 민간투자사업(1차:우선) | Y73: 지장물
A74: 70 | B74: 사상 | C74: 엄궁 | D74: 141-20 | E74: 141-52 | F74: 방호벽 | G74: 블록조, H2.1m(외부 | H74: 95 | I74: m | X74: =IF(총괄!$A$3="(","1",RIGHT(총괄!$A$3,LEN(총괄!$A$3)-FIND(":",총괄!$A$3)-1)) -> 승학터널 민간투자사업(1차:우선) | Y74: 지장물
...

Sheet 영업보상
A1: 손실보상금 산정 및 지급조서(영업보상)
A2: =총괄!$A$3 -> ○ 사업명 : 승학터널 민간투자사업(1차:우선)
A3: 세목 고시 | B3: 소재지 | D3: 지번 | F3: 상호 | G3: 구조 및 | L3: 수량 | M3: 단위 | N3: 소유 | O3: 지분 | P3: 지분 | Q3: 지분 | R3: 프라임 | T3: 미래새한 | V3: - | X3: 최고 | Y3: 최저 | Z3: 단가비율 | AD3: 감정평가 법인 평균 | AF3: 소유자 | AJ3: 소유권이외의 권리 | AM3: 공탁 | AP3: 등기 | AR3: 취득방법
A4: 일련번호 | B4: 구 | C4: 동 | D4: 당초지번 | E4: 편입지번 | G4: 규격 | L4: (면적) | N4: 지분 | O4: (분자) | P4: (분모) | Q4: 계산 | R4: 단가 | S4: 금액 | T4: 단가 | U4: 금액 | V4: 단가 | W4: 금액 | X4: 단가 | Y4: 단가 | Z4: (최고/최저) | AD4: 평균단가 | AE4: 평균금액(원) | AF4: 성명 | AG4: 주소 | AH4: 주민등록번호 | AI4: 연락처 | AJ4: 권리자 | AK4: 주소 | AL4: 권리 내용 | AM4: 공탁일 | AN4: 공탁번호 | AO4: 공탁기관 | AP4: 등기일 | AQ4: 등기번호 | AR4: 취득일 | AS4: 방법 | AT4: 비고
O5: =IF(N5="1","1",LEFT(N5,FIND("/",N5)-1)) -> #VALUE! | P5: =IF(N5="1","1",RIGHT(N5,LEN(N5)-FIND("/",N5))) -> #VALUE! | Q5: =O5/P5 -> #VALUE! | S5: =IF(ISNUMBER(FIND("↑",R5))=TRUE,"↑",IF(ISNUMBER(FIND("↑",R6))=TRUE,R5,IF(ISNUMBER(FIND("포함",R5))=TRUE,R5,IFERROR(ROUNDDOWN(R5*$L5*$Q5,-1),0)))) -> 0 | U5: =IF(ISNUMBER(FIND("↑",T5))=TRUE,"↑",IF(ISNUMBER(FIND("↑",T6))=TRUE,T5,IF(ISNUMBER(FIND("포함",T5))=TRUE,T5,IFERROR(ROUNDDOWN(T5*$L5*$Q5,-1),0)))) -> 0 | W5: =IF(ISNUMBER(FIND("↑",V5))=TRUE,"↑",IF(ISNUMBER(FIND("↑",V6))=TRUE,V5,IF(ISNUMBER(FIND("포함",V5))=TRUE,V5,IFERROR(ROUNDDOWN(V5*$L5*$Q5,-1),0)))) -> 0 | X5: =MAX(R5,T5,V5) -> 0 | Y5: =MIN(R5,T5,V5) -> 0 | Z5: =X5/Y5 -> #DIV/0! | AD5: =IF(ISNUMBER(FIND("↑",R5))=TRUE,"↑",IF(ISNUMBER(FIND("포함",R5))=TRUE,R5,IF(ISNUMBER(FIND("↑",R6))=TRUE,"일괄",IFERROR(AVERAGE(R5,T5,V5),0)))) -> 0 | AE5: =IF(ISNUMBER(FIND("↑",R5))=TRUE,"↑",IF(ISNUMBER(FIND("포함",R5))=TRUE,R5,IF(ISNUMBER(FIND("↑",R6))=TRUE,IFERROR(ROUNDDOWN(IF(V5="",AVERAGEA(U5,S5),AVERAGEA(S5,U5,W5)),-1),0),IFERROR(ROUNDDOWN(AD5*L5*Q5,-1),0)))) -> 0 | AV5: =IF(총괄!$A$3="(","1",RIGHT(총괄!$A$3,LEN(총괄!$A$3)-FIND(":",총괄!$A$3)-1)) -> 승학터널 민간투자사업(1차:우선) | AW5: 영업보상
O6: =IF(N6="1","1",LEFT(N6,FIND("/",N6)-1)) -> #VALUE! | P6: =IF(N6="1","1",RIGHT(N6,LEN(N6)-FIND("/",N6))) -> #VALUE! | Q6: =O6/P6 -> #VALUE! | S6: =IF(ISNUMBER(FIND("↑",R6))=TRUE,"↑",IF(ISNUMBER(FIND("↑",R7))=TRUE,R6,IF(ISNUMBER(FIND("포함",R6))=TRUE,R6,IFERROR(ROUNDDOWN(R6*$L6*$Q6,-1),0)))) -> 0 | U6: =IF(ISNUMBER(FIND("↑",T6))=TRUE,"↑",IF(ISNUMBER(FIND("↑",T7))=TRUE,T6,IF(ISNUMBER(FIND("포함",T6))=TRUE,T6,IFERROR(ROUNDDOWN(T6*$L6*$Q6,-1),0)))) -> 0 | W6: =IF(ISNUMBER(FIND("↑",V6))=TRUE,"↑",IF(ISNUMBER(FIND("↑",V7))=TRUE,V6,IF(ISNUMBER(FIND("포함",V6))=TRUE,V6,IFERROR(ROUNDDOWN(V6*$L6*$Q6,-1),0)))) -> 0 | X6: =MAX(R6,T6,V6) -> 0 | Y6: =MIN(R6,T6,V6) -> 0 | Z6: =X6/Y6 -> #DIV/0! | AD6: =IF(ISNUMBER(FIND("↑",R6))=TRUE,"↑",IF(ISNUMBER(FIND("포함",R6))=TRUE,R6,IF(ISNUMBER(FIND("↑",R7))=TRUE,"일괄",IFERROR(AVERAGE(R6,T6,V6),0)))) -> 0 | AE6: =IF(ISNUMBER(FIND("↑",R6))=TRUE,"↑",IF(ISNUMBER(FIND("포함",R6))=TRUE,R6,IF(ISNUMBER(FIND("↑",R7))=TRUE,IFERROR(ROUNDDOWN(IF(V6="",AVERAGEA(U6,S6),AVERAGEA(S6,U6,W6)),-1),0),IFERROR(ROUNDDOWN(AD6*L6*Q6,-1),0)))) -> 0 | AV6: =IF(총괄!$A$3="(","1",RIGHT(총괄!$A$3,LEN(총괄!$A$3)-FIND(":",총괄!$A$3)-1)) -> 승학터널 민간투자사업(1차:우선) | AW6: 영업보상
O7: =IF(N7="1","1",LEFT(N7,FIND("/",N7)-1)) -> #VALUE! | P7: =IF(N7="1","1",RIGHT(N7,LEN(N7)-FIND("/",N7))) -> #VALUE! | Q7: =O7/P7 -> #VALUE! | S7: =IF(ISNUMBER(FIND("↑",R7))=TRUE,"↑",IF(ISNUMBER(FIND("↑",R8))=TRUE,R7,IF(ISNUMBER(FIND("포함",R7))=TRUE,R7,IFERROR(ROUNDDOWN(R7*$L7*$Q7,-1),0)))) -> 0 | U7: =IF(ISNUMBER(FIND("↑",T7))=TRUE,"↑",IF(ISNUMBER(FIND("↑",T8))=TRUE,T7,IF(ISNUMBER(FIND("포함",T7))=TRUE,T7,IFERROR(ROUNDDOWN(T7*$L7*$Q7,-1),0)))) -> 0 | W7: =IF(ISNUMBER(FIND("↑",V7))=TRUE,"↑",IF(ISNUMBER(FIND("↑",V8))=TRUE,V7,IF(ISNUMBER(FIND("포함",V7))=TRUE,V7,IFERROR(ROUNDDOWN(V7*$L7*$Q7,-1),0)))) -> 0 | X7: =MAX(R7,T7,V7) -> 0 | Y7: =MIN(R7,T7,V7) -> 0 | Z7: =X7/Y7 -> #DIV/0! | AD7: =IF(ISNUMBER(FIND("↑",R7))=TRUE,"↑",IF(ISNUMBER(FIND("포함",R7))=TRUE,R7,IF(ISNUMBER(FIND("↑",R8))=TRUE,"일괄",IFERROR(AVERAGE(R7,T7,V7),0)))) -> 0 | AE7: =IF(ISNUMBER(FIND("↑",R7))=TRUE,"↑",IF(ISNUMBER(FIND("포함",R7))=TRUE,R7,IF(ISNUMBER(FIND("↑",R8))=TRUE,IFERROR(ROUNDDOWN(IF(V7="",AVERAGEA(U7,S7),AVERAGEA(S7,U7,W7)),-1),0),IFERROR(ROUNDDOWN(AD7*L7*Q7,-1),0)))) -> 0 | AV7: =IF(총괄!$A$3="(","1",RIGHT(총괄!$A$3,LEN(총괄!$A$3)-FIND(":",총괄!$A$3)-1)) -> 승학터널 민간투자사업(1차:우선) | AW7: 영업보상
O8: =IF(N8="1","1",LEFT(N8,FIND("/",N8)-1)) -> #VALUE! | P8: =IF(N8="1","1",RIGHT(N8,LEN(N8)-FIND("/",N8))) -> #VALUE! | Q8: =O8/P8 -> #VALUE! | S8: =IF(ISNUMBER(FIND("↑",R8))=TRUE,"↑",IF(ISNUMBER(FIND("↑",R9))=TRUE,R8,IF(ISNUMBER(FIND("포함",R8))=TRUE,R8,IFERROR(ROUNDDOWN(R8*$L8*$Q8,-1),0)))) -> 0 | U8: =IF(ISNUMBER(FIND("↑",T8))=TRUE,"↑",IF(ISNUMBER(FIND("↑",T9))=TRUE,T8,IF(ISNUMBER(FIND("포함",T8))=TRUE,T8,IFERROR(ROUNDDOWN(T8*$L8*$Q8,-1),0)))) -> 0 | W8: =IF(ISNUMBER(FIND("↑",V8))=TRUE,"↑",IF(ISNUMBER(FIND("↑",V9))=TRUE,V8,IF(ISNUMBER(FIND("포함",V8))=TRUE,V8,IFERROR(ROUNDDOWN(V8*$L8*$Q8,-1),0)))) -> 0 | X8: =MAX(R8,T8,V8) -> 0 | Y8: =MIN(R8,T8,V8) -> 0 | Z8: =X8/Y8 -> #DIV/0! | AD8: =IF(ISNUMBER(FIND("↑",R8))=TRUE,"↑",IF(ISNUMBER(FIND("포함",R8))=TRUE,R8,IF(ISNUMBER(FIND("↑",R9))=TRUE,"일괄",IFERROR(AVERAGE(R8,T8,V8),0)))) -> 0 | AE8: =IF(ISNUMBER(FIND("↑",R8))=TRUE,"↑",IF(ISNUMBER(FIND("포함",R8))=TRUE,R8,IF(ISNUMBER(FIND("↑",R9))=TRUE,IFERROR(ROUNDDOWN(IF(V8="",AVERAGEA(U8,S8),AVERAGEA(S8,U8,W8)),-1),0),IFERROR(ROUNDDOWN(AD8*L8*Q8,-1),0)))) -> 0 | AV8: =IF(총괄!$A$3="(","1",RIGHT(총괄!$A$3,LEN(총괄!$A$3)-FIND(":",총괄!$A$3)-1)) -> 승학터널 민간투자사업(1차:우선) | AW8: 영업보상
O9: =IF(N9="1","1",LEFT(N9,FIND("/",N9)-1)) -> #VALUE! | P9: =IF(N9="1","1",RIGHT(N9,LEN(N9)-FIND("/",N9))) -> #VALUE! | Q9: =O9/P9 -> #VALUE! | S9: =IF(ISNUMBER(FIND("↑",R9))=TRUE,"↑",IF(ISNUMBER(FIND("↑",R10))=TRUE,R9,IF(ISNUMBER(FIND("포함",R9))=TRUE,R9,IFERROR(ROUNDDOWN(R9*$L9*$Q9,-1),0)))) -> 0 | U9: =IF(ISNUMBER(FIND("↑",T9))=TRUE,"↑",IF(ISNUMBER(FIND("↑",T10))=TRUE,T9,IF(ISNUMBER(FIND("포함",T9))=TRUE,T9,IFERROR(ROUNDDOWN(T9*$L9*$Q9,-1),0)))) -> 0 | W9: =IF(ISNUMBER(FIND("↑",V9))=TRUE,"↑",IF(ISNUMBER(FIND("↑",V10))=TRUE,V9,IF(ISNUMBER(FIND("포함",V9))=TRUE,V9,IFERROR(ROUNDDOWN(V9*$L9*$Q9,-1),0)))) -> 0 | X9: =MAX(R9,T9,V9) -> 0 | Y9: =MIN(R9,T9,V9) -> 0 | Z9: =X9/Y9 -> #DIV/0! | AD9: =IF(ISNUMBER(FIND("↑",R9))=TRUE,"↑",IF(ISNUMBER(FIND("포함",R9))=TRUE,R9,IF(ISNUMBER(FIND("↑",R10))=TRUE,"일괄",IFERROR(AVERAGE(R9,T9,V9),0)))) -> 0 | AE9: =IF(ISNUMBER(FIND("↑",R9))=TRUE,"↑",IF(ISNUMBER(FIND("포함",R9))=TRUE,R9,IF(ISNUMBER(FIND("↑",R10))=TRUE,IFERROR(ROUNDDOWN(IF(V9="",AVERAGEA(U9,S9),AVERAGEA(S9,U9,W9)),-1),0),IFERROR(ROUNDDOWN(AD9*L9*Q9,-1),0)))) -> 0 | AV9: =IF(총괄!$A$3="(","1",RIGHT(총괄!$A$3,LEN(총괄!$A$3)-FIND(":",총괄!$A$3)-1)) -> 승학터널 민간투자사업(1차:우선) | AW9: 영업보상
O10: =IF(N10="1","1",LEFT(N10,FIND("/",N10)-1)) -> #VALUE! | P10: =IF(N10="1","1",RIGHT(N10,LEN(N10)-FIND("/",N10))) -> #VALUE! | Q10: =O10/P10 -> #VALUE! | S10: =IF(ISNUMBER(FIND("↑",R10))=TRUE,"↑",IF(ISNUMBER(FIND("↑",R11))=TRUE,R10,IF(ISNUMBER(FIND("포함",R10))=TRUE,R10,IFERROR(ROUNDDOWN(R10*$L10*$Q10,-1),0)))) -> 0 | U10: =IF(ISNUMBER(FIND("↑",T10))=TRUE,"↑",IF(ISNUMBER(FIND("↑",T11))=TRUE,T10,IF(ISNUMBER(FIND("포함",T10))=TRUE,T10,IFERROR(ROUNDDOWN(T10*$L10*$Q10,-1),0)))) -> 0 | W10: =IF(ISNUMBER(FIND("↑",V10))=TRUE,"↑",IF(ISNUMBER(FIND("↑",V11))=TRUE,V10,IF(ISNUMBER(FIND("포함",V10))=TRUE,V10,IFERROR(ROUNDDOWN(V10*$L10*$Q10,-1),0)))) -> 0 | X10: =MAX(R10,T10,V10) -> 0 | Y10: =MIN(R10,T10,V10) -> 0 | Z10: =X10/Y10 -> #DIV/0! | AD10: =IF(ISNUMBER(FIND("↑",R10))=TRUE,"↑",IF(ISNUMBER(FIND("포함",R10))=TRUE,R10,IF(ISNUMBER(FIND("↑",R11))=TRUE,"일괄",IFERROR(AVERAGE(R10,T10,V10),0)))) -> 0 | AE10: =IF(ISNUMBER(FIND("↑",R10))=TRUE,"↑",IF(ISNUMBER(FIND("포함",R10))=TRUE,R10,IF(ISNUMBER(FIND("↑",R11))=TRUE,IFERROR(ROUNDDOWN(IF(V10="",AVERAGEA(U10,S10),AVERAGEA(S10,U10,W10)),-1),0),IFERROR(ROUNDDOWN(AD10*L10*Q10,-1),0)))) -> 0 | AV10: =IF(총괄!$A$3="(","1",RIGHT(총괄!$A$3,LEN(총괄!$A$3)-FIND(":",총괄!$A$3)-1)) -> 승학터널 민간투자사업(1차:우선) | AW10: 영업보상
O11: =IF(N11="1","1",LEFT(N11,FIND("/",N11)-1)) -> #VALUE! | P11: =IF(N11="1","1",RIGHT(N11,LEN(N11)-FIND("/",N11))) -> #VALUE! | Q11: =O11/P11 -> #VALUE! | S11: =IF(ISNUMBER(FIND("↑",R11))=TRUE,"↑",IF(ISNUMBER(FIND("↑",R12))=TRUE,R11,IF(ISNUMBER(FIND("포함",R11))=TRUE,R11,IFERROR(ROUNDDOWN(R11*$L11*$Q11,-1),0)))) -> 0 | U11: =IF(ISNUMBER(FIND("↑",T11))=TRUE,"↑",IF(ISNUMBER(FIND("↑",T12))=TRUE,T11,IF(ISNUMBER(FIND("포함",T11))=TRUE,T11,IFERROR(ROUNDDOWN(T11*$L11*$Q11,-1),0)))) -> 0 | W11: =IF(ISNUMBER(FIND("↑",V11))=TRUE,"↑",IF(ISNUMBER(FIND("↑",V12))=TRUE,V11,IF(ISNUMBER(FIND("포함",V11))=TRUE,V11,IFERROR(ROUNDDOWN(V11*$L11*$Q11,-1),0)))) -> 0 | X11: =MAX(R11,T11,V11) -> 0 | Y11: =MIN(R11,T11,V11) -> 0 | Z11: =X11/Y11 -> #DIV/0! | AD11: =IF(ISNUMBER(FIND("↑",R11))=TRUE,"↑",IF(ISNUMBER(FIND("포함",R11))=TRUE,R11,IF(ISNUMBER(FIND("↑",R12))=TRUE,"일괄",IFERROR(AVERAGE(R11,T11,V11),0)))) -> 0 | AE11: =IF(ISNUMBER(FIND("↑",R11))=TRUE,"↑",IF(ISNUMBER(FIND("포함",R11))=TRUE,R11,IF(ISNUMBER(FIND("↑",R12))=TRUE,IFERROR(ROUNDDOWN(IF(V11="",AVERAGEA(U11,S11),AVERAGEA(S11,U11,W11)),-1),0),IFERROR(ROUNDDOWN(AD11*L11*Q11,-1),0)))) -> 0 | AV11: =IF(총괄!$A$3="(","1",RIGHT(총괄!$A$3,LEN(총괄!$A$3)-FIND(":",총괄!$A$3)-1)) -> 승학터널 민간투자사업(1차:우선) | AW11: 영업보상
O12: =IF(N12="1","1",LEFT(N12,FIND("/",N12)-1)) -> #VALUE! | P12: =IF(N12="1","1",RIGHT(N12,LEN(N12)-FIND("/",N12))) -> #VALUE! | Q12: =O12/P12 -> #VALUE! | S12: =IF(ISNUMBER(FIND("↑",R12))=TRUE,"↑",IF(ISNUMBER(FIND("↑",R13))=TRUE,R12,IF(ISNUMBER(FIND("포함",R12))=TRUE,R12,IFERROR(ROUNDDOWN(R12*$L12*$Q12,-1),0)))) -> 0 | U12: =IF(ISNUMBER(FIND("↑",T12))=TRUE,"↑",IF(ISNUMBER(FIND("↑",T13))=TRUE,T12,IF(ISNUMBER(FIND("포함",T12))=TRUE,T12,IFERROR(ROUNDDOWN(T12*$L12*$Q12,-1),0)))) -> 0 | W12: =IF(ISNUMBER(FIND("↑",V12))=TRUE,"↑",IF(ISNUMBER(FIND("↑",V13))=TRUE,V12,IF(ISNUMBER(FIND("포함",V12))=TRUE,V12,IFERROR(ROUNDDOWN(V12*$L12*$Q12,-1),0)))) -> 0 | X12: =MAX(R12,T12,V12) -> 0 | Y12: =MIN(R12,T12,V12) -> 0 | Z12: =X12/Y12 -> #DIV/0! | AD12: =IF(ISNUMBER(FIND("↑",R12))=TRUE,"↑",IF(ISNUMBER(FIND("포함",R12))=TRUE,R12,IF(ISNUMBER(FIND("↑",R13))=TRUE,"일괄",IFERROR(AVERAGE(R12,T12,V12),0)))) -> 0 | AE12: =IF(ISNUMBER(FIND("↑",R12))=TRUE,"↑",IF(ISNUMBER(FIND("포함",R12))=TRUE,R12,IF(ISNUMBER(FIND("↑",R13))=TRUE,IFERROR(ROUNDDOWN(IF(V12="",AVERAGEA(U12,S12),AVERAGEA(S12,U12,W12)),-1),0),IFERROR(ROUNDDOWN(AD12*L12*Q12,-1),0)))) -> 0 | AV12: =IF(총괄!$A$3="(","1",RIGHT(총괄!$A$3,LEN(총괄!$A$3)-FIND(":",총괄!$A$3)-1)) -> 승학터널 민간투자사업(1차:우선) | AW12: 영업보상
O13: =IF(N13="1","1",LEFT(N13,FIND("/",N13)-1)) -> #VALUE! | P13: =IF(N13="1","1",RIGHT(N13,LEN(N13)-FIND("/",N13))) -> #VALUE! | Q13: =O13/P13 -> #VALUE! | S13: =IF(ISNUMBER(FIND("↑",R13))=TRUE,"↑",IF(ISNUMBER(FIND("↑",R14))=TRUE,R13,IF(ISNUMBER(FIND("포함",R13))=TRUE,R13,IFERROR(ROUNDDOWN(R13*$L13*$Q13,-1),0)))) -> 0 | U13: =IF(ISNUMBER(FIND("↑",T13))=TRUE,"↑",IF(ISNUMBER(FIND("↑",T14))=TRUE,T13,IF(ISNUMBER(FIND("포함",T13))=TRUE,T13,IFERROR(ROUNDDOWN(T13*$L13*$Q13,-1),0)))) -> 0 | W13: =IF(ISNUMBER(FIND("↑",V13))=TRUE,"↑",IF(ISNUMBER(FIND("↑",V14))=TRUE,V13,IF(ISNUMBER(FIND("포함",V13))=TRUE,V13,IFERROR(ROUNDDOWN(V13*$L13*$Q13,-1),0)))) -> 0 | X13: =MAX(R13,T13,V13) -> 0 | Y13: =MIN(R13,T13,V13) -> 0 | Z13: =X13/Y13 -> #DIV/0! | AD13: =IF(ISNUMBER(FIND("↑",R13))=TRUE,"↑",IF(ISNUMBER(FIND("포함",R13))=TRUE,R13,IF(ISNUMBER(FIND("↑",R14))=TRUE,"일괄",IFERROR(AVERAGE(R13,T13,V13),0)))) -> 0 | AE13: =IF(ISNUMBER(FIND("↑",R13))=TRUE,"↑",IF(ISNUMBER(FIND("포함",R13))=TRUE,R13,IF(ISNUMBER(FIND("↑",R14))=TRUE,IFERROR(ROUNDDOWN(IF(V13="",AVERAGEA(U13,S13),AVERAGEA(S13,U13,W13)),-1),0),IFERROR(ROUNDDOWN(AD13*L13*Q13,-1),0)))) -> 0 | AV13: =IF(총괄!$A$3="(","1",RIGHT(총괄!$A$3,LEN(총괄!$A$3)-FIND(":",총괄!$A$3)-1)) -> 승학터널 민간투자사업(1차:우선) | AW13: 영업보상
O14: =IF(N14="1","1",LEFT(N14,FIND("/",N14)-1)) -> #VALUE! | P14: =IF(N14="1","1",RIGHT(N14,LEN(N14)-FIND("/",N14))) -> #VALUE! | Q14: =O14/P14 -> #VALUE! | S14: =IF(ISNUMBER(FIND("↑",R14))=TRUE,"↑",IF(ISNUMBER(FIND("↑",R15))=TRUE,R14,IF(ISNUMBER(FIND("포함",R14))=TRUE,R14,IFERROR(ROUNDDOWN(R14*$L14*$Q14,-1),0)))) -> 0 | U14: =IF(ISNUMBER(FIND("↑",T14))=TRUE,"↑",IF(ISNUMBER(FIND("↑",T15))=TRUE,T14,IF(ISNUMBER(FIND("포함",T14))=TRUE,T14,IFERROR(ROUNDDOWN(T14*$L14*$Q14,-1),0)))) -> 0 | W14: =IF(ISNUMBER(FIND("↑",V14))=TRUE,"↑",IF(ISNUMBER(FIND("↑",V15))=TRUE,V14,IF(ISNUMBER(FIND("포함",V14))=TRUE,V14,IFERROR(ROUNDDOWN(V14*$L14*$Q14,-1),0)))) -> 0 | X14: =MAX(R14,T14,V14) -> 0 | Y14: =MIN(R14,T14,V14) -> 0 | Z14: =X14/Y14 -> #DIV/0! | AD14: =IF(ISNUMBER(FIND("↑",R14))=TRUE,"↑",IF(ISNUMBER(FIND("포함",R14))=TRUE,R14,IF(ISNUMBER(FIND("↑",R15))=TRUE,"일괄",IFERROR(AVERAGE(R14,T14,V14),0)))) -> 0 | AE14: =IF(ISNUMBER(FIND("↑",R14))=TRUE,"↑",IF(ISNUMBER(FIND("포함",R14))=TRUE,R14,IF(ISNUMBER(FIND("↑",R15))=TRUE,IFERROR(ROUNDDOWN(IF(V14="",AVERAGEA(U14,S14),AVERAGEA(S14,U14,W14)),-1),0),IFERROR(ROUNDDOWN(AD14*L14*Q14,-1),0)))) -> 0 | AV14: =IF(총괄!$A$3="(","1",RIGHT(총괄!$A$3,LEN(총괄!$A$3)-FIND(":",총괄!$A$3)-1)) -> 승학터널 민간투자사업(1차:우선) | AW14: 영업보상
O15: =IF(N15="1","1",LEFT(N15,FIND("/",N15)-1)) -> #VALUE! | P15: =IF(N15="1","1",RIGHT(N15,LEN(N15)-FIND("/",N15))) -> #VALUE! | Q15: =O15/P15 -> #VALUE! | S15: =IF(ISNUMBER(FIND("↑",R15))=TRUE,"↑",IF(ISNUMBER(FIND("↑",R16))=TRUE,R15,IF(ISNUMBER(FIND("포함",R15))=TRUE,R15,IFERROR(ROUNDDOWN(R15*$L15*$Q15,-1),0)))) -> 0 | U15: =IF(ISNUMBER(FIND("↑",T15))=TRUE,"↑",IF(ISNUMBER(FIND("↑",T16))=TRUE,T15,IF(ISNUMBER(FIND("포함",T15))=TRUE,T15,IFERROR(ROUNDDOWN(T15*$L15*$Q15,-1),0)))) -> 0 | W15: =IF(ISNUMBER(FIND("↑",V15))=TRUE,"↑",IF(ISNUMBER(FIND("↑",V16))=TRUE,V15,IF(ISNUMBER(FIND("포함",V15))=TRUE,V15,IFERROR(ROUNDDOWN(V15*$L15*$Q15,-1),0)))) -> 0 | X15: =MAX(R15,T15,V15) -> 0 | Y15: =MIN(R15,T15,V15) -> 0 | Z15: =X15/Y15 -> #DIV/0! | AD15: =IF(ISNUMBER(FIND("↑",R15))=TRUE,"↑",IF(ISNUMBER(FIND("포함",R15))=TRUE,R15,IF(ISNUMBER(FIND("↑",R16))=TRUE,"일괄",IFERROR(AVERAGE(R15,T15,V15),0)))) -> 0 | AE15: =IF(ISNUMBER(FIND("↑",R15))=TRUE,"↑",IF(ISNUMBER(FIND("포함",R15))=TRUE,R15,IF(ISNUMBER(FIND("↑",R16))=TRUE,IFERROR(ROUNDDOWN(IF(V15="",AVERAGEA(U15,S15),AVERAGEA(S15,U15,W15)),-1),0),IFERROR(ROUNDDOWN(AD15*L15*Q15,-1),0)))) -> 0 | AV15: =IF(총괄!$A$3="(","1",RIGHT(총괄!$A$3,LEN(총괄!$A$3)-FIND(":",총괄!$A$3)-1)) -> 승학터널 민간투자사업(1차:우선) | AW15: 영업보상
O16: =IF(N16="1","1",LEFT(N16,FIND("/",N16)-1)) -> #VALUE! | P16: =IF(N16="1","1",RIGHT(N16,LEN(N16)-FIND("/",N16))) -> #VALUE! | Q16: =O16/P16 -> #VALUE! | S16: =IF(ISNUMBER(FIND("↑",R16))=TRUE,"↑",IF(ISNUMBER(FIND("↑",R17))=TRUE,R16,IF(ISNUMBER(FIND("포함",R16))=TRUE,R16,IFERROR(ROUNDDOWN(R16*$L16*$Q16,-1),0)))) -> 0 | U16: =IF(ISNUMBER(FIND("↑",T16))=TRUE,"↑",IF(ISNUMBER(FIND("↑",T17))=TRUE,T16,IF(ISNUMBER(FIND("포함",T16))=TRUE,T16,IFERROR(ROUNDDOWN(T16*$L16*$Q16,-1),0)))) -> 0 | W16: =IF(ISNUMBER(FIND("↑",V16))=TRUE,"↑",IF(ISNUMBER(FIND("↑",V17))=TRUE,V16,IF(ISNUMBER(FIND("포함",V16))=TRUE,V16,IFERROR(ROUNDDOWN(V16*$L16*$Q16,-1),0)))) -> 0 | X16: =MAX(R16,T16,V16) -> 0 | Y16: =MIN(R16,T16,V16) -> 0 | Z16: =X16/Y16 -> #DIV/0! | AD16: =IF(ISNUMBER(FIND("↑",R16))=TRUE,"↑",IF(ISNUMBER(FIND("포함",R16))=TRUE,R16,IF(ISNUMBER(FIND("↑",R17))=TRUE,"일괄",IFERROR(AVERAGE(R16,T16,V16),0)))) -> 0 | AE16: =IF(ISNUMBER(FIND("↑",R16))=TRUE,"↑",IF(ISNUMBER(FIND("포함",R16))=TRUE,R16,IF(ISNUMBER(FIND("↑",R17))=TRUE,IFERROR(ROUNDDOWN(IF(V16="",AVERAGEA(U16,S16),AVERAGEA(S16,U16,W16)),-1),0),IFERROR(ROUNDDOWN(AD16*L16*Q16,-1),0)))) -> 0 | AV16: =IF(총괄!$A$3="(","1",RIGHT(총괄!$A$3,LEN(총괄!$A$3)-FIND(":",총괄!$A$3)-1)) -> 승학터널 민간투자사업(1차:우선) | AW16: 영업보상
... O51: =IF(N51="1","1",LEFT(N51,FIND("/",N51)-1)) -> #VALUE! | P51: =IF(N51="1","1",RIGHT(N51,LEN(N51)-FIND("/",N51))) -> #VALUE! | Q51: =O51/P51 -> #VALUE! | S51: =IF(ISNUMBER(FIND("↑",R51))=TRUE,"↑",IF(ISNUMBER(FIND("↑",R52))=TRUE,R51,IF(ISNUMBER(FIND("포함",R51))=TRUE,R51,IFERROR(ROUNDDOWN(R51*$L51*$Q51,-1),0)))) -> 0 | U51: =IF(ISNUMBER(FIND("↑",T51))=TRUE,"↑",IF(ISNUMBER(FIND("↑",T52))=TRUE,T51,IF(ISNUMBER(FIND("포함",T51))=TRUE,T51,IFERROR(ROUNDDOWN(T51*$L51*$Q51,-1),0)))) -> 0 | W51: =IF(ISNUMBER(FIND("↑",V51))=TRUE,"↑",IF(ISNUMBER(FIND("↑",V52))=TRUE,V51,IF(ISNUMBER(FIND("포함",V51))=TRUE,V51,IFERROR(ROUNDDOWN(V51*$L51*$Q51,-1),0)))) -> 0 | X51: =MAX(R51,T51,V51) -> 0 | Y51: =MIN(R51,T51,V51) -> 0 | Z51: =X51/Y51 -> #DIV/0! | AD51: =IF(ISNUMBER(FIND("↑",R51))=TRUE,"↑",IF(ISNUMBER(FIND("포함",R51))=TRUE,R51,IF(ISNUMBER(FIND("↑",R52))=TRUE,"일괄",IFERROR(AVERAGE(R51,T51,V51),0)))) -> 0 | AE51: =IF(ISNUMBER(FIND("↑",R51))=TRUE,"↑",IF(ISNUMBER(FIND("포함",R51))=TRUE,R51,IF(ISNUMBER(FIND("↑",R52))=TRUE,IFERROR(ROUNDDOWN(IF(V51="",AVERAGEA(U51,S51),AVERAGEA(S51,U51,W51)),-1),0),IFERROR(ROUNDDOWN(AD51*L51*Q51,-1),0)))) -> 0 | AV51: =IF(총괄!$A$3="(","1",RIGHT(총괄!$A$3,LEN(총괄!$A$3)-FIND(":",총괄!$A$3)-1)) -> 승학터널 민간투자사업(1차:우선) | AW51: 영업보상

Sheet 주거이전비
A1: 손실보상금 산정 및 지급조서(주거이전비)
A2: =총괄!$A$3 -> ○ 사업명 : 승학터널 민간투자사업(1차:우선)
A3: 세목 고시 | B3: 소재지 | D3: 지번 | F3: 거주 | G3: 가족수 | L3: 거주면적 | M3: 지급분야(원) | AE3: 지급합계 | AF3: 세대주 | AJ3: 건물주 | AM3: 공탁 | AP3: 등기 | AR3: 취득방법
A4: 일련번호 | B4: 구 | C4: 동 | D4: 당초지번 | E4: 편입지번 | F4: 구분 | G4: (명) | L4: (㎡) | M4: 주거이전비 | N4: 이사비 | AB4: 건축물 등 평가액(원) | AC4: 건축물 등 평가액30%(원) | AD4: 이주정착금 | AE4: (원) | AF4: 성명 | AG4: 주소 | AH4: 주민등록번호 | AI4: 연락처 | AJ4: 건물주 | AK4: 주소 | AL4: 권리 내용 | AM4: 공탁일 | AN4: 공탁번호 | AO4: 공탁기관 | AP4: 등기일 | AQ4: 등기번호 | AR4: 취득일 | AS4: 방법 | AT4: 비고
F5: =IF(AF5="","",IF(AF5=AJ5,"가옥주","세입자")) | M5: =IF(F5="",0,IF(F5="가옥주",LOOKUP(1,1/(G5='(주거이전비)'!K:K),'(주거이전비)'!M:M),LOOKUP(1,1/(G5='(주거이전비)'!K:K),'(주거이전비)'!N:N))) -> 0 | N5: =IF(L5="",0,IF(L5<33,'(주거이전비)'!$E$18,IF(L5<49.5,'(주거이전비)'!$E$19,IF(L5<66,'(주거이전비)'!$E$20,IF(L5<99,'(주거이전비)'!$E$21,'(주거이전비)'!$E$22))))) -> 0 | AC5: =IF(AB5="",0,AB5*0.3) -> 0 | AD5: =IF(F5="가옥주",IF(AB5="","",IF(AC5<=6000000,6000000,IF(AC5>=12000000,12000000,AC5))),0) -> 0 | AE5: =ROUNDDOWN(SUM(AD5,N5,M5),-1) -> 0 | AV5: =IF(총괄!$A$3="(","1",RIGHT(총괄!$A$3,LEN(총괄!$A$3)-FIND(":",총괄!$A$3)-1)) -> 승학터널 민간투자사업(1차:우선) | AW5: 주거이전비
F6: =IF(AF6="","",IF(AF6=AJ6,"가옥주","세입자")) | M6: =IF(F6="",0,IF(F6="가옥주",LOOKUP(1,1/(G6='(주거이전비)'!K:K),'(주거이전비)'!M:M),LOOKUP(1,1/(G6='(주거이전비)'!K:K),'(주거이전비)'!N:N))) -> 0 | N6: =IF(L6="",0,IF(L6<33,'(주거이전비)'!$E$18,IF(L6<49.5,'(주거이전비)'!$E$19,IF(L6<66,'(주거이전비)'!$E$20,IF(L6<99,'(주거이전비)'!$E$21,'(주거이전비)'!$E$22))))) -> 0 | AC6: =IF(AB6="",0,AB6*0.3) -> 0 | AD6: =IF(F6="가옥주",IF(AB6="","",IF(AC6<=6000000,6000000,IF(AC6>=12000000,12000000,AC6))),0) -> 0 | AE6: =ROUNDDOWN(SUM(AD6,N6,M6),-1) -> 0 | AV6: =IF(총괄!$A$3="(","1",RIGHT(총괄!$A$3,LEN(총괄!$A$3)-FIND(":",총괄!$A$3)-1)) -> 승학터널 민간투자사업(1차:우선) | AW6: 주거이전비
F7: =IF(AF7="","",IF(AF7=AJ7,"가옥주","세입자")) | M7: =IF(F7="",0,IF(F7="가옥주",LOOKUP(1,1/(G7='(주거이전비)'!K:K),'(주거이전비)'!M:M),LOOKUP(1,1/(G7='(주거이전비)'!K:K),'(주거이전비)'!N:N))) -> 0 | N7: =IF(L7="",0,IF(L7<33,'(주거이전비)'!$E$18,IF(L7<49.5,'(주거이전비)'!$E$19,IF(L7<66,'(주거이전비)'!$E$20,IF(L7<99,'(주거이전비)'!$E$21,'(주거이전비)'!$E$22))))) -> 0 | AC7: =IF(AB7="",0,AB7*0.3) -> 0 | AD7: =IF(F7="가옥주",IF(AB7="","",IF(AC7<=6000000,6000000,IF(AC7>=12000000,12000000,AC7))),0) -> 0 | AE7: =ROUNDDOWN(SUM(AD7,N7,M7),-1) -> 0 | AV7: =IF(총괄!$A$3="(","1",RIGHT(총괄!$A$3,LEN(총괄!$A$3)-FIND(":",총괄!$A$3)-1)) -> 승학터널 민간투자사업(1차:우선) | AW7: 주거이전비
F8: =IF(AF8="","",IF(AF8=AJ8,"가옥주","세입자")) | M8: =IF(F8="",0,IF(F8="가옥주",LOOKUP(1,1/(G8='(주거이전비)'!K:K),'(주거이전비)'!M:M),LOOKUP(1,1/(G8='(주거이전비)'!K:K),'(주거이전비)'!N:N))) -> 0 | N8: =IF(L8="",0,IF(L8<33,'(주거이전비)'!$E$18,IF(L8<49.5,'(주거이전비)'!$E$19,IF(L8<66,'(주거이전비)'!$E$20,IF(L8<99,'(주거이전비)'!$E$21,'(주거이전비)'!$E$22))))) -> 0 | AC8: =IF(AB8="",0,AB8*0.3) -> 0 | AD8: =IF(F8="가옥주",IF(AB8="","",IF(AC8<=6000000,6000000,IF(AC8>=12000000,12000000,AC8))),0) -> 0 | AE8: =ROUNDDOWN(SUM(AD8,N8,M8),-1) -> 0 | AV8: =IF(총괄!$A$3="(","1",RIGHT(총괄!$A$3,LEN(총괄!$A$3)-FIND(":",총괄!$A$3)-1)) -> 승학터널 민간투자사업(1차:우선) | AW8: 주거이전비
F9: =IF(AF9="","",IF(AF9=AJ9,"가옥주","세입자")) | M9: =IF(F9="",0,IF(F9="가옥주",LOOKUP(1,1/(G9='(주거이전비)'!K:K),'(주거이전비)'!M:M),LOOKUP(1,1/(G9='(주거이전비)'!K:K),'(주거이전비)'!N:N))) -> 0 | N9: =IF(L9="",0,IF(L9<33,'(주거이전비)'!$E$18,IF(L9<49.5,'(주거이전비)'!$E$19,IF(L9<66,'(주거이전비)'!$E$20,IF(L9<99,'(주거이전비)'!$E$21,'(주거이전비)'!$E$22))))) -> 0 | AC9: =IF(AB9="",0,AB9*0.3) -> 0 | AD9: =IF(F9="가옥주",IF(AB9="","",IF(AC9<=6000000,6000000,IF(AC9>=12000000,12000000,AC9))),0) -> 0 | AE9: =ROUNDDOWN(SUM(AD9,N9,M9),-1) -> 0 | AV9: =IF(총괄!$A$3="(","1",RIGHT(총괄!$A$3,LEN(총괄!$A$3)-FIND(":",총괄!$A$3)-1)) -> 승학터널 민간투자사업(1차:우선) | AW9: 주거이전비
F10: =IF(AF10="","",IF(AF10=AJ10,"가옥주","세입자")) | M10: =IF(F10="",0,IF(F10="가옥주",LOOKUP(1,1/(G10='(주거이전비)'!K:K),'(주거이전비)'!M:M),LOOKUP(1,1/(G10='(주거이전비)'!K:K),'(주거이전비)'!N:N))) -> 0 | N10: =IF(L10="",0,IF(L10<33,'(주거이전비)'!$E$18,IF(L10<49.5,'(주거이전비)'!$E$19,IF(L10<66,'(주거이전비)'!$E$20,IF(L10<99,'(주거이전비)'!$E$21,'(주거이전비)'!$E$22))))) -> 0 | AC10: =IF(AB10="",0,AB10*0.3) -> 0 | AD10: =IF(F10="가옥주",IF(AB10="","",IF(AC10<=6000000,6000000,IF(AC10>=12000000,12000000,AC10))),0) -> 0 | AE10: =ROUNDDOWN(SUM(AD10,N10,M10),-1) -> 0 | AV10: =IF(총괄!$A$3="(","1",RIGHT(총괄!$A$3,LEN(총괄!$A$3)-FIND(":",총괄!$A$3)-1)) -> 승학터널 민간투자사업(1차:우선) | AW10: 주거이전비
F11: =IF(AF11="","",IF(AF11=AJ11,"가옥주","세입자")) | M11: =IF(F11="",0,IF(F11="가옥주",LOOKUP(1,1/(G11='(주거이전비)'!K:K),'(주거이전비)'!M:M),LOOKUP(1,1/(G11='(주거이전비)'!K:K),'(주거이전비)'!N:N))) -> 0 | N11: =IF(L11="",0,IF(L11<33,'(주거이전비)'!$E$18,IF(L11<49.5,'(주거이전비)'!$E$19,IF(L11<66,'(주거이전비)'!$E$20,IF(L11<99,'(주거이전비)'!$E$21,'(주거이전비)'!$E$22))))) -> 0 | AC11: =IF(AB11="",0,AB11*0.3) -> 0 | AD11: =IF(F11="가옥주",IF(AB11="","",IF(AC11<=6000000,6000000,IF(AC11>=12000000,12000000,AC11))),0) -> 0 | AE11: =ROUNDDOWN(SUM(AD11,N11,M11),-1) -> 0 | AV11: =IF(총괄!$A$3="(","1",RIGHT(총괄!$A$3,LEN(총괄!$A$3)-FIND(":",총괄!$A$3)-1)) -> 승학터널 민간투자사업(1차:우선) | AW11: 주거이전비
F12: =IF(AF12="","",IF(AF12=AJ12,"가옥주","세입자")) | M12: =IF(F12="",0,IF(F12="가옥주",LOOKUP(1,1/(G12='(주거이전비)'!K:K),'(주거이전비)'!M:M),LOOKUP(1,1/(G12='(주거이전비)'!K:K),'(주거이전비)'!N:N))) -> 0 | N12: =IF(L12="",0,IF(L12<33,'(주거이전비)'!$E$18,IF(L12<49.5,'(주거이전비)'!$E$19,IF(L12<66,'(주거이전비)'!$E$20,IF(L12<99,'(주거이전비)'!$E$21,'(주거이전비)'!$E$22))))) -> 0 | AC12: =IF(AB12="",0,AB12*0.3) -> 0 | AD12: =IF(F12="가옥주",IF(AB12="","",IF(AC12<=6000000,6000000,IF(AC12>=12000000,12000000,AC12))),0) -> 0 | AE12: =ROUNDDOWN(SUM(AD12,N12,M12),-1) -> 0 | AV12: =IF(총괄!$A$3="(","1",RIGHT(총괄!$A$3,LEN(총괄!$A$3)-FIND(":",총괄!$A$3)-1)) -> 승학터널 민간투자사업(1차:우선) | AW12: 주거이전비
F13: =IF(AF13="","",IF(AF13=AJ13,"가옥주","세입자")) | M13: =IF(F13="",0,IF(F13="가옥주",LOOKUP(1,1/(G13='(주거이전비)'!K:K),'(주거이전비)'!M:M),LOOKUP(1,1/(G13='(주거이전비)'!K:K),'(주거이전비)'!N:N))) -> 0 | N13: =IF(L13="",0,IF(L13<33,'(주거이전비)'!$E$18,IF(L13<49.5,'(주거이전비)'!$E$19,IF(L13<66,'(주거이전비)'!$E$20,IF(L13<99,'(주거이전비)'!$E$21,'(주거이전비)'!$E$22))))) -> 0 | AC13: =IF(AB13="",0,AB13*0.3) -> 0 | AD13: =IF(F13="가옥주",IF(AB13="","",IF(AC13<=6000000,6000000,IF(AC13>=12000000,12000000,AC13))),0) -> 0 | AE13: =ROUNDDOWN(SUM(AD13,N13,M13),-1) -> 0 | AV13: =IF(총괄!$A$3="(","1",RIGHT(총괄!$A$3,LEN(총괄!$A$3)-FIND(":",총괄!$A$3)-1)) -> 승학터널 민간투자사업(1차:우선) | AW13: 주거이전비
F14: =IF(AF14="","",IF(AF14=AJ14,"가옥주","세입자")) | M14: =IF(F14="",0,IF(F14="가옥주",LOOKUP(1,1/(G14='(주거이전비)'!K:K),'(주거이전비)'!M:M),LOOKUP(1,1/(G14='(주거이전비)'!K:K),'(주거이전비)'!N:N))) -> 0 | N14: =IF(L14="",0,IF(L14<33,'(주거이전비)'!$E$18,IF(L14<49.5,'(주거이전비)'!$E$19,IF(L14<66,'(주거이전비)'!$E$20,IF(L14<99,'(주거이전비)'!$E$21,'(주거이전비)'!$E$22))))) -> 0 | AC14: =IF(AB14="",0,AB14*0.3) -> 0 | AD14: =IF(F14="가옥주",IF(AB14="","",IF(AC14<=6000000,6000000,IF(AC14>=12000000,12000000,AC14))),0) -> 0 | AE14: =ROUNDDOWN(SUM(AD14,N14,M14),-1) -> 0 | AV14: =IF(총괄!$A$3="(","1",RIGHT(총괄!$A$3,LEN(총괄!$A$3)-FIND(":",총괄!$A$3)-1)) -> 승학터널 민간투자사업(1차:우선) | AW14: 주거이전비
F15: =IF(AF15="","",IF(AF15=AJ15,"가옥주","세입자")) | M15: =IF(F15="",0,IF(F15="가옥주",LOOKUP(1,1/(G15='(주거이전비)'!K:K),'(주거이전비)'!M:M),LOOKUP(1,1/(G15='(주거이전비)'!K:K),'(주거이전비)'!N:N))) -> 0 | N15: =IF(L15="",0,IF(L15<33,'(주거이전비)'!$E$18,IF(L15<49.5,'(주거이전비)'!$E$19,IF(L15<66,'(주거이전비)'!$E$20,IF(L15<99,'(주거이전비)'!$E$21,'(주거이전비)'!$E$22))))) -> 0 | AC15: =IF(AB15="",0,AB15*0.3) -> 0 | AD15: =IF(F15="가옥주",IF(AB15="","",IF(AC15<=6000000,6000000,IF(AC15>=12000000,12000000,AC15))),0) -> 0 | AE15: =ROUNDDOWN(SUM(AD15,N15,M15),-1) -> 0 | AV15: =IF(총괄!$A$3="(","1",RIGHT(총괄!$A$3,LEN(총괄!$A$3)-FIND(":",총괄!$A$3)-1)) -> 승학터널 민간투자사업(1차:우선) | AW15: 주거이전비
