Workbook
Name _E81161: [1]깨기!$E$51161
Name _H81192: [1]깨기!$H$51192
Name _H91164: [1]깨기!$H$11164
Name _IV65999: #REF!
Name _IV65999: #REF!
Name _IV65999: #REF!
Name _IV65999: #REF!
Name _IV65999: #REF!
Name _IV65999: #REF!
Name _IV65999: #REF!
Name _IV65999: #REF!
Name _IV65999: #REF!
Name _IV66000: #REF!
Name _IV66000: #REF!
Name _IV66000: #REF!
Name _IV66000: #REF!
Name _IV66000: #REF!
Name _IV66000: #REF!
Name _IV66000: #REF!
Name _IV66000: #REF!
Name _IV66000: #REF!
Name _IV69999: #REF!
Name _IV69999: #REF!
Name _IV69999: #REF!
Name _IV69999: #REF!
Name _IV69999: #REF!
Name _IV69999: #REF!
Name _IV69999: #REF!
Name _IV69999: #REF!
Name _IV69999: #REF!
Name _IV70000: #REF!
Name _IV70000: #REF!
Name _IV70000: #REF!
Name _IV70000: #REF!
Name _IV70000: #REF!
Name _IV70000: #REF!
Name _IV70000: #REF!
Name _IV70000: #REF!
Name _IV70000: #REF!
Name _IV99999: #REF!
Name _IV99999: #REF!
Name _IV99999: #REF!
Name _IV99999: #REF!
Name _IV99999: #REF!
Name _IV99999: #REF!
Name _IV99999: #REF!
Name _IV99999: #REF!
Name _IV99999: #REF!
Name _Zz10137: #REF!
Name _Zz10137: #REF!
Name _Zz10137: #REF!
Name _Zz10137: #REF!
Name _Zz10137: #REF!
Name _Zz10137: #REF!
Name _Zz10137: #REF!
Name _Zz10137: #REF!
Name _Zz10137: #REF!
Name \p: #REF!
Name \p: #REF!
Name \p: #REF!

Sheet ★작성요령★
H17: ·

Sheet 총괄
A1: 손실보상금 산정 및 지급조서(총괄)
A3: ○ 사업명 : 승학터널 민간투자사업(1차:우선)
A5: 구분 | B5: 계 | C5: =개인별총괄!F4 -> 토지 | D5: =개인별총괄!G4 -> 지장물 | E5: =개인별총괄!H4 -> 영업보상 | F5: =개인별총괄!I4 -> 주거이전비 | G5: =개인별총괄!J4 -> 잔여지 | H5: =개인별총괄!K4 -> 잔여지 지장물 | I5: =개인별총괄!L4 -> 비고
A6: 건수(건) | B6: =SUM(C6:H6) -> 217 | C6: {=SUM(IF(토지!$E5:$E28<>"",1/COUNTIF(토지!$E5:$E28,토지!$E5:$E28)))} -> 6 | D6: =COUNTA(지장물!$F5:$F225) -> 211 | E6: {=SUM(IF(영업보상!$F5:$F51<>"",1/COUNTIF(영업보상!$F5:$F51,영업보상!$F5:$F51)))} -> 0 | F6: {=SUM(IF(주거이전비!AF5:AF51<>"",1/COUNTIF(주거이전비!AF5:AF51,주거이전비!AF5:AF51)))} -> 0 | G6: {=SUM(IF(잔여지!$E5:$E51<>"",1/COUNTIF(잔여지!$E5:$E51,잔여지!$E5:$E51)))} -> 0 | H6: =COUNTA(잔여지지장물!$F5:$F51) -> 0
A7: 금액(원) | B7: =개인별총괄!E5 -> #REF! | C7: =개인별총괄!F5 -> #REF! | D7: =개인별총괄!G5 -> #REF! | E7: =개인별총괄!H5 -> 0 | F7: =개인별총괄!I5 -> 0 | G7: =개인별총괄!J5 -> 0 | H7: =개인별총괄!K5 -> 0

Sheet 개인별총괄
A1: 개인별 총괄
A3: =총괄!$A$3 -> ○ 사업명 : 승학터널 민간투자사업(1차:우선) | AE3: 사용재결 2개 법인 평균
A4: 연번 | B4: 소재지 | C4: 지번 | D4: 성명 | E4: 합계 | F4: 토지 | G4: 지장물 | H4: 영업보상 | I4: 주거이전비 | J4: 잔여지 | K4: 잔여지 지장물 | L4: 비고
A5: 합계 | D5: =COUNTA(D6:D49)&"명" -> 0명 | E5: =SUBTOTAL(9,E6:E49) -> #REF! | F5: =SUBTOTAL(9,F6:F49) -> #REF! | G5: =SUBTOTAL(9,G6:G49) -> #REF! | H5: =SUBTOTAL(9,H6:H49) -> 0 | I5: =SUBTOTAL(9,I6:I49) -> 0 | J5: =SUBTOTAL(9,J6:J49) -> 0 | K5: =SUBTOTAL(9,K6:K49) -> 0 | L5: =SUBTOTAL(9,L6:L49) -> 0
A6: =ROW()-5 -> 1 | E6: =SUM(F6:L6) -> #REF! | F6: =SUMIF(토지!L:L,D6,토지!#REF!) -> #REF! | G6: =SUMIF(지장물!J:J,D6,지장물!#REF!) -> #REF! | H6: =SUMIF(영업보상!AF:AF,D6,영업보상!AE:AE) -> 0 | I6: =SUMIF(주거이전비!AF:AF,D6,주거이전비!AE:AE) -> 0 | J6: =SUMIF(잔여지!AF:AF,D6,잔여지!AE:AE) -> 0 | K6: =SUMIF(잔여지지장물!AF:AF,D6,잔여지지장물!AE:AE) -> 0
A7: =ROW()-5 -> 2 | E7: =SUM(F7:L7) -> #REF! | F7: =SUMIF(토지!L:L,D7,토지!#REF!) -> #REF! | G7: =SUMIF(지장물!J:J,D7,지장물!#REF!) -> #REF! | H7: =SUMIF(영업보상!AF:AF,D7,영업보상!AE:AE) -> 0 | I7: =SUMIF(주거이전비!AF:AF,D7,주거이전비!AE:AE) -> 0 | J7: =SUMIF(잔여지!AF:AF,D7,잔여지!AE:AE) -> 0 | K7: =SUMIF(잔여지지장물!AF:AF,D7,잔여지지장물!AE:AE) -> 0
A8: =ROW()-5 -> 3 | E8: =SUM(F8:L8) -> #REF! | F8: =SUMIF(토지!L:L,D8,토지!#REF!) -> #REF! | G8: =SUMIF(지장물!J:J,D8,지장물!#REF!) -> #REF! | H8: =SUMIF(영업보상!AF:AF,D8,영업보상!AE:AE) -> 0 | I8: =SUMIF(주거이전비!AF:AF,D8,주거이전비!AE:AE) -> 0 | J8: =SUMIF(잔여지!AF:AF,D8,잔여지!AE:AE) -> 0 | K8: =SUMIF(잔여지지장물!AF:AF,D8,잔여지지장물!AE:AE) -> 0
A9: =ROW()-5 -> 4 | E9: =SUM(F9:L9) -> #REF! | F9: =SUMIF(토지!L:L,D9,토지!#REF!) -> #REF! | G9: =SUMIF(지장물!J:J,D9,지장물!#REF!) -> #REF! | H9: =SUMIF(영업보상!AF:AF,D9,영업보상!AE:AE) -> 0 | I9: =SUMIF(주거이전비!AF:AF,D9,주거이전비!AE:AE) -> 0 | J9: =SUMIF(잔여지!AF:AF,D9,잔여지!AE:AE) -> 0 | K9: =SUMIF(잔여지지장물!AF:AF,D9,잔여지지장물!AE:AE) -> 0
A10: =ROW()-5 -> 5 | E10: =SUM(F10:L10) -> #REF! | F10: =SUMIF(토지!L:L,D10,토지!#REF!) -> #REF! | G10: =SUMIF(지장물!J:J,D10,지장물!#REF!) -> #REF! | H10: =SUMIF(영업보상!AF:AF,D10,영업보상!AE:AE) -> 0 | I10: =SUMIF(주거이전비!AF:AF,D10,주거이전비!AE:AE) -> 0 | J10: =SUMIF(잔여지!AF:AF,D10,잔여지!AE:AE) -> 0 | K10: =SUMIF(잔여지지장물!AF:AF,D10,잔여지지장물!AE:AE) -> 0
A11: =ROW()-5 -> 6 | E11: =SUM(F11:L11) -> #REF! | F11: =SUMIF(토지!L:L,D11,토지!#REF!) -> #REF! | G11: =SUMIF(지장물!J:J,D11,지장물!#REF!) -> #REF! | H11: =SUMIF(영업보상!AF:AF,D11,영업보상!AE:AE) -> 0 | I11: =SUMIF(주거이전비!AF:AF,D11,주거이전비!AE:AE) -> 0 | J11: =SUMIF(잔여지!AF:AF,D11,잔여지!AE:AE) -> 0 | K11: =SUMIF(잔여지지장물!AF:AF,D11,잔여지지장물!AE:AE) -> 0
A12: =ROW()-5 -> 7 | E12: =SUM(F12:L12) -> #REF! | F12: =SUMIF(토지!L:L,D12,토지!#REF!) -> #REF! | G12: =SUMIF(지장물!J:J,D12,지장물!#REF!) -> #REF! | H12: =SUMIF(영업보상!AF:AF,D12,영업보상!AE:AE) -> 0 | I12: =SUMIF(주거이전비!AF:AF,D12,주거이전비!AE:AE) -> 0 | J12: =SUMIF(잔여지!AF:AF,D12,잔여지!AE:AE) -> 0 | K12: =SUMIF(잔여지지장물!AF:AF,D12,잔여지지장물!AE:AE) -> 0
A13: =ROW()-5 -> 8 | E13: =SUM(F13:L13) -> #REF! | F13: =SUMIF(토지!L:L,D13,토지!#REF!) -> #REF! | G13: =SUMIF(지장물!J:J,D13,지장물!#REF!) -> #REF! | H13: =SUMIF(영업보상!AF:AF,D13,영업보상!AE:AE) -> 0 | I13: =SUMIF(주거이전비!AF:AF,D13,주거이전비!AE:AE) -> 0 | J13: =SUMIF(잔여지!AF:AF,D13,잔여지!AE:AE) -> 0 | K13: =SUMIF(잔여지지장물!AF:AF,D13,잔여지지장물!AE:AE) -> 0
A14: =ROW()-5 -> 9 | E14: =SUM(F14:L14) -> #REF! | F14: =SUMIF(토지!L:L,D14,토지!#REF!) -> #REF! | G14: =SUMIF(지장물!J:J,D14,지장물!#REF!) -> #REF! | H14: =SUMIF(영업보상!AF:AF,D14,영업보상!AE:AE) -> 0 | I14: =SUMIF(주거이전비!AF:AF,D14,주거이전비!AE:AE) -> 0 | J14: =SUMIF(잔여지!AF:AF,D14,잔여지!AE:AE) -> 0 | K14: =SUMIF(잔여지지장물!AF:AF,D14,잔여지지장물!AE:AE) -> 0
A15: =ROW()-5 -> 10 | E15: =SUM(F15:L15) -> #REF! | F15: =SUMIF(토지!L:L,D15,토지!#REF!) -> #REF! | G15: =SUMIF(지장물!J:J,D15,지장물!#REF!) -> #REF! | H15: =SUMIF(영업보상!AF:AF,D15,영업보상!AE:AE) -> 0 | I15: =SUMIF(주거이전비!AF:AF,D15,주거이전비!AE:AE) -> 0 | J15: =SUMIF(잔여지!AF:AF,D15,잔여지!AE:AE) -> 0 | K15: =SUMIF(잔여지지장물!AF:AF,D15,잔여지지장물!AE:AE) -> 0
A16: =ROW()-5 -> 11 | E16: =SUM(F16:L16) -> #REF! | F16: =SUMIF(토지!L:L,D16,토지!#REF!) -> #REF! | G16: =SUMIF(지장물!J:J,D16,지장물!#REF!) -> #REF! | H16: =SUMIF(영업보상!AF:AF,D16,영업보상!AE:AE) -> 0 | I16: =SUMIF(주거이전비!AF:AF,D16,주거이전비!AE:AE) -> 0 | J16: =SUMIF(잔여지!AF:AF,D16,잔여지!AE:AE) -> 0 | K16: =SUMIF(잔여지지장물!AF:AF,D16,잔여지지장물!AE:AE) -> 0
A17: =ROW()-5 -> 12 | E17: =SUM(F17:L17) -> #REF! | F17: =SUMIF(토지!L:L,D17,토지!#REF!) -> #REF! | G17: =SUMIF(지장물!J:J,D17,지장물!#REF!) -> #REF! | H17: =SUMIF(영업보상!AF:AF,D17,영업보상!AE:AE) -> 0 | I17: =SUMIF(주거이전비!AF:AF,D17,주거이전비!AE:AE) -> 0 | J17: =SUMIF(잔여지!AF:AF,D17,잔여지!AE:AE) -> 0 | K17: =SUMIF(잔여지지장물!AF:AF,D17,잔여지지장물!AE:AE) -> 0
... A49: =ROW()-5 -> 44 | E49: =SUM(F49:L49) -> #REF! | F49: =SUMIF(토지!L:L,D49,토지!#REF!) -> #REF! | G49: =SUMIF(지장물!J:J,D49,지장물!#REF!) -> #REF! | H49: =SUMIF(영업보상!AF:AF,D49,영업보상!AE:AE) -> 0 | I49: =SUMIF(주거이전비!AF:AF,D49,주거이전비!AE:AE) -> 0 | J49: =SUMIF(잔여지!AF:AF,D49,잔여지!AE:AE) -> 0 | K49: =SUMIF(잔여지지장물!AF:AF,D49,잔여지지장물!AE:AE) -> 0

Sheet (개인별 총괄)
A1: 소유자 | C1: ※ 각 물건별 150명 기준임
A2: ='(소유자물건별)'!A2 -> #REF!
A3: ='(소유자물건별)'!A3 -> #REF!
A4: ='(소유자물건별)'!A4 -> #REF!
A5: ='(소유자물건별)'!A5 -> #REF!
A6: ='(소유자물건별)'!A6 -> #REF!
A7: ='(소유자물건별)'!A7 -> #REF!
A8: ='(소유자물건별)'!A8 -> #REF!
A9: ='(소유자물건별)'!A9 -> #REF!
A10: ='(소유자물건별)'!A10 -> #REF!
A11: ='(소유자물건별)'!A11 -> #REF!
A12: ='(소유자물건별)'!A12 -> #REF!
A13: ='(소유자물건별)'!A13 -> #REF!
... A151: ='(소유자물건별)'!A151
A152: ='(소유자물건별)'!B2
A153: ='(소유자물건별)'!B3
A154: ='(소유자물건별)'!B4
A155: ='(소유자물건별)'!B5
A156: ='(소유자물건별)'!B6
A157: ='(소유자물건별)'!B7
A158: ='(소유자물건별)'!B8 -> #REF!
A159: ='(소유자물건별)'!B9
A160: ='(소유자물건별)'!B10
A161: ='(소유자물건별)'!B11
A162: ='(소유자물건별)'!B12
A163: ='(소유자물건별)'!B13
... A301: ='(소유자물건별)'!B151
A302: ='(소유자물건별)'!C2
A303: ='(소유자물건별)'!C3
A304: ='(소유자물건별)'!C4
A305: ='(소유자물건별)'!C5
A306: ='(소유자물건별)'!C6
A307: ='(소유자물건별)'!C7
A308: ='(소유자물건별)'!C8
A309: ='(소유자물건별)'!C9
A310: ='(소유자물건별)'!C10
A311: ='(소유자물건별)'!C11
A312: ='(소유자물건별)'!C12
A313: ='(소유자물건별)'!C13
... A451: ='(소유자물건별)'!C151
A452: ='(소유자물건별)'!D2 -> #REF!
A453: ='(소유자물건별)'!D3 -> #REF!
A454: ='(소유자물건별)'!D4 -> #REF!
A455: ='(소유자물건별)'!D5 -> #REF!
A456: ='(소유자물건별)'!D6 -> #REF!
A457: ='(소유자물건별)'!D7 -> #REF!
A458: ='(소유자물건별)'!D8 -> #REF!
A459: ='(소유자물건별)'!D9 -> #REF!
A460: ='(소유자물건별)'!D10 -> #REF!
A461: ='(소유자물건별)'!D11 -> #REF!
A462: ='(소유자물건별)'!D12 -> #REF!
A463: ='(소유자물건별)'!D13 -> #REF!
... A601: ='(소유자물건별)'!D151 -> #REF!
A602: ='(소유자물건별)'!E2 -> #REF!
A603: ='(소유자물건별)'!E3 -> #REF!
A604: ='(소유자물건별)'!E4 -> #REF!
A605: ='(소유자물건별)'!E5 -> #REF!
A606: ='(소유자물건별)'!E6 -> #REF!
A607: ='(소유자물건별)'!E7 -> #REF!
A608: ='(소유자물건별)'!E8 -> #REF!
A609: ='(소유자물건별)'!E9 -> #REF!
A610: ='(소유자물건별)'!E10 -> #REF!
A611: ='(소유자물건별)'!E11 -> #REF!
A612: ='(소유자물건별)'!E12 -> #REF!
A613: ='(소유자물건별)'!E13 -> #REF!
... A751: ='(소유자물건별)'!E151 -> #REF!
A752: ='(소유자물건별)'!F2
A753: ='(소유자물건별)'!F3
A754: ='(소유자물건별)'!F4
A755: ='(소유자물건별)'!F5
A756: ='(소유자물건별)'!F6
A757: ='(소유자물건별)'!F7
A758: ='(소유자물건별)'!F8
A759: ='(소유자물건별)'!F9
A760: ='(소유자물건별)'!F10
A761: ='(소유자물건별)'!F11
A762: ='(소유자물건별)'!F12
A763: ='(소유자물건별)'!F13
... A901: ='(소유자물건별)'!F151
A902: ='(소유자물건별)'!G2 -> #REF!
A903: ='(소유자물건별)'!G3 -> #REF!
A904: ='(소유자물건별)'!G4 -> #REF!
A905: ='(소유자물건별)'!G5 -> #REF!
A906: ='(소유자물건별)'!G6 -> #REF!
A907: ='(소유자물건별)'!G7 -> #REF!
A908: ='(소유자물건별)'!G8 -> #REF!
A909: ='(소유자물건별)'!G9 -> #REF!
A910: ='(소유자물건별)'!G10 -> #REF!
A911: ='(소유자물건별)'!G11 -> #REF!
A912: ='(소유자물건별)'!G12 -> #REF!
A913: ='(소유자물건별)'!G13 -> #REF!
... A1051: ='(소유자물건별)'!G151 -> #REF!
A1052: ='(소유자물건별)'!H2
A1053: ='(소유자물건별)'!H3
A1054: ='(소유자물건별)'!H4
A1055: ='(소유자물건별)'!H5
A1056: ='(소유자물건별)'!H6
A1057: ='(소유자물건별)'!H7
A1058: ='(소유자물건별)'!H8
A1059: ='(소유자물건별)'!H9
...

Sheet (소유자물건별)
A1: 토지 | B1: 지장물 | C1: 영업보상 | D1: 농업보상 | E1: 지하사용권 | F1: 주거이전비 | G1: 분묘 | H1: 잔여지 | I1: 잔여지지장물
A2: =IF(토지!#REF!="","",토지!#REF!) -> #REF! | B2: =IF(지장물!J5="","",지장물!J5) | C2: =IF(영업보상!AF5="","",영업보상!AF5) | D2: =IF(#REF!="","",#REF!) -> #REF! | E2: =IF(#REF!="","",#REF!) -> #REF! | F2: =IF(주거이전비!AF5="","",주거이전비!AF5) | G2: =IF(#REF!="","",#REF!) -> #REF! | H2: =IF(잔여지!AF5="","",잔여지!AF5) | I2: =IF(잔여지지장물!AF5="","",잔여지지장물!AF5)
A3: =IF(토지!#REF!="","",토지!#REF!) -> #REF! | B3: =IF(지장물!J6="","",지장물!J6) | C3: =IF(영업보상!AF6="","",영업보상!AF6) | D3: =IF(#REF!="","",#REF!) -> #REF! | E3: =IF(#REF!="","",#REF!) -> #REF! | F3: =IF(주거이전비!AF6="","",주거이전비!AF6) | G3: =IF(#REF!="","",#REF!) -> #REF! | H3: =IF(잔여지!AF6="","",잔여지!AF6) | I3: =IF(잔여지지장물!AF6="","",잔여지지장물!AF6)
A4: =IF(토지!#REF!="","",토지!#REF!) -> #REF! | B4: =IF(지장물!J7="","",지장물!J7) | C4: =IF(영업보상!AF7="","",영업보상!AF7) | D4: =IF(#REF!="","",#REF!) -> #REF! | E4: =IF(#REF!="","",#REF!) -> #REF! | F4: =IF(주거이전비!AF7="","",주거이전비!AF7) | G4: =IF(#REF!="","",#REF!) -> #REF! | H4: =IF(잔여지!AF7="","",잔여지!AF7) | I4: =IF(잔여지지장물!AF7="","",잔여지지장물!AF7)
A5: =IF(토지!#REF!="","",토지!#REF!) -> #REF! | B5: =IF(지장물!J8="","",지장물!J8) | C5: =IF(영업보상!AF8="","",영업보상!AF8) | D5: =IF(#REF!="","",#REF!) -> #REF! | E5: =IF(#REF!="","",#REF!) -> #REF! | F5: =IF(주거이전비!AF8="","",주거이전비!AF8) | G5: =IF(#REF!="","",#REF!) -> #REF! | H5: =IF(잔여지!AF8="","",잔여지!AF8) | I5: =IF(잔여지지장물!AF8="","",잔여지지장물!AF8)
A6: =IF(토지!#REF!="","",토지!#REF!) -> #REF! | B6: =IF(지장물!J9="","",지장물!J9) | C6: =IF(영업보상!AF9="","",영업보상!AF9) | D6: =IF(#REF!="","",#REF!) -> #REF! | E6: =IF(#REF!="","",#REF!) -> #REF! | F6: =IF(주거이전비!AF9="","",주거이전비!AF9) | G6: =IF(#REF!="","",#REF!) -> #REF! | H6: =IF(잔여지!AF9="","",잔여지!AF9) | I6: =IF(잔여지지장물!AF9="","",잔여지지장물!AF9)
A7: =IF(토지!#REF!="","",토지!#REF!) -> #REF! | B7: =IF(지장물!J10="","",지장물!J10) | C7: =IF(영업보상!AF10="","",영업보상!AF10) | D7: =IF(#REF!="","",#REF!) -> #REF! | E7: =IF(#REF!="","",#REF!) -> #REF! | F7: =IF(주거이전비!AF10="","",주거이전비!AF10) | G7: =IF(#REF!="","",#REF!) -> #REF! | H7: =IF(잔여지!AF10="","",잔여지!AF10) | I7: =IF(잔여지지장물!AF10="","",잔여지지장물!AF10)
A8: =IF(토지!#REF!="","",토지!#REF!) -> #REF! | B8: =IF(지장물!#REF!="","",지장물!#REF!) -> #REF! | C8: =IF(영업보상!AF11="","",영업보상!AF11) | D8: =IF(#REF!="","",#REF!) -> #REF! | E8: =IF(#REF!="","",#REF!) -> #REF! | F8: =IF(주거이전비!AF11="","",주거이전비!AF11) | G8: =IF(#REF!="","",#REF!) -> #REF! | H8: =IF(잔여지!AF11="","",잔여지!AF11) | I8: =IF(잔여지지장물!AF11="","",잔여지지장물!AF11)
A9: =IF(토지!#REF!="","",토지!#REF!) -> #REF! | B9: =IF(지장물!J11="","",지장물!J11) | C9: =IF(영업보상!AF12="","",영업보상!AF12) | D9: =IF(#REF!="","",#REF!) -> #REF! | E9: =IF(#REF!="","",#REF!) -> #REF! | F9: =IF(주거이전비!AF12="","",주거이전비!AF12) | G9: =IF(#REF!="","",#REF!) -> #REF! | H9: =IF(잔여지!AF12="","",잔여지!AF12) | I9: =IF(잔여지지장물!AF12="","",잔여지지장물!AF12)
A10: =IF(토지!#REF!="","",토지!#REF!) -> #REF! | B10: =IF(지장물!J12="","",지장물!J12) | C10: =IF(영업보상!AF13="","",영업보상!AF13) | D10: =IF(#REF!="","",#REF!) -> #REF! | E10: =IF(#REF!="","",#REF!) -> #REF! | F10: =IF(주거이전비!AF13="","",주거이전비!AF13) | G10: =IF(#REF!="","",#REF!) -> #REF! | H10: =IF(잔여지!AF13="","",잔여지!AF13) | I10: =IF(잔여지지장물!AF13="","",잔여지지장물!AF13)
A11: =IF(토지!#REF!="","",토지!#REF!) -> #REF! | B11: =IF(지장물!J13="","",지장물!J13) | C11: =IF(영업보상!AF14="","",영업보상!AF14) | D11: =IF(#REF!="","",#REF!) -> #REF! | E11: =IF(#REF!="","",#REF!) -> #REF! | F11: =IF(주거이전비!AF14="","",주거이전비!AF14) | G11: =IF(#REF!="","",#REF!) -> #REF! | H11: =IF(잔여지!AF14="","",잔여지!AF14) | I11: =IF(잔여지지장물!AF14="","",잔여지지장물!AF14)
A12: =IF(토지!#REF!="","",토지!#REF!) -> #REF! | B12: =IF(지장물!J14="","",지장물!J14) | C12: =IF(영업보상!AF15="","",영업보상!AF15) | D12: =IF(#REF!="","",#REF!) -> #REF! | E12: =IF(#REF!="","",#REF!) -> #REF! | F12: =IF(주거이전비!AF15="","",주거이전비!AF15) | G12: =IF(#REF!="","",#REF!) -> #REF! | H12: =IF(잔여지!AF15="","",잔여지!AF15) | I12: =IF(잔여지지장물!AF15="","",잔여지지장물!AF15)
A13: =IF(토지!#REF!="","",토지!#REF!) -> #REF! | B13: =IF(지장물!J15="","",지장물!J15) | C13: =IF(영업보상!AF16="","",영업보상!AF16) | D13: =IF(#REF!="","",#REF!) -> #REF! | E13: =IF(#REF!="","",#REF!) -> #REF! | F13: =IF(주거이전비!AF16="","",주거이전비!AF16) | G13: =IF(#REF!="","",#REF!) -> #REF! | H13: =IF(잔여지!AF16="","",잔여지!AF16) | I13: =IF(잔여지지장물!AF16="","",잔여지지장물!AF16)
A14: =IF(토지!#REF!="","",토지!#REF!) -> #REF! | B14: =IF(지장물!J16="","",지장물!J16) | C14: =IF(영업보상!AF17="","",영업보상!AF17) | D14: =IF(#REF!="","",#REF!) -> #REF! | E14: =IF(#REF!="","",#REF!) -> #REF! | F14: =IF(주거이전비!AF17="","",주거이전비!AF17) | G14: =IF(#REF!="","",#REF!) -> #REF! | H14: =IF(잔여지!AF17="","",잔여지!AF17) | I14: =IF(잔여지지장물!AF17="","",잔여지지장물!AF17)
A15: =IF(토지!#REF!="","",토지!#REF!) -> #REF! | B15: =IF(지장물!J17="","",지장물!J17) | C15: =IF(영업보상!AF18="","",영업보상!AF18) | D15: =IF(#REF!="","",#REF!) -> #REF! | E15: =IF(#REF!="","",#REF!) -> #REF! | F15: =IF(주거이전비!AF18="","",주거이전비!AF18) | G15: =IF(#REF!="","",#REF!) -> #REF! | H15: =IF(잔여지!AF18="","",잔여지!AF18) | I15: =IF(잔여지지장물!AF18="","",잔여지지장물!AF18)
A16: =IF(토지!#REF!="","",토지!#REF!) -> #REF! | B16: =IF(지장물!J18="","",지장물!J18) | C16: =IF(영업보상!AF19="","",영업보상!AF19) | D16: =IF(#REF!="","",#REF!) -> #REF! | E16: =IF(#REF!="","",#REF!) -> #REF! | F16: =IF(주거이전비!AF19="","",주거이전비!AF19) | G16: =IF(#REF!="","",#REF!) -> #REF! | H16: =IF(잔여지!AF19="","",잔여지!AF19) | I16: =IF(잔여지지장물!AF19="","",잔여지지장물!AF19)
A17: =IF(토지!#REF!="","",토지!#REF!) -> #REF! | B17: =IF(지장물!J19="","",지장물!J19) | C17: =IF(영업보상!AF20="","",영업보상!AF20) | D17: =IF(#REF!="","",#REF!) -> #REF! | E17: =IF(#REF!="","",#REF!) -> #REF! | F17: =IF(주거이전비!AF20="","",주거이전비!AF20) | G17: =IF(#REF!="","",#REF!) -> #REF! | H17: =IF(잔여지!AF20="","",잔여지!AF20) | I17: =IF(잔여지지장물!AF20="","",잔여지지장물!AF20)
A18: =IF(토지!#REF!="","",토지!#REF!) -> #REF! | B18: =IF(지장물!J20="","",지장물!J20) | C18: =IF(영업보상!AF21="","",영업보상!AF21) | D18: =IF(#REF!="","",#REF!) -> #REF! | E18: =IF(#REF!="","",#REF!) -> #REF! | F18: =IF(주거이전비!AF21="","",주거이전비!AF21) | G18: =IF(#REF!="","",#REF!) -> #REF! | H18: =IF(잔여지!AF21="","",잔여지!AF21) | I18: =IF(잔여지지장물!AF21="","",잔여지지장물!AF21)
A19: =IF(토지!#REF!="","",토지!#REF!) -> #REF! | B19: =IF(지장물!J21="","",지장물!J21) | C19: =IF(영업보상!AF22="","",영업보상!AF22) | D19: =IF(#REF!="","",#REF!) -> #REF! | E19: =IF(#REF!="","",#REF!) -> #REF! | F19: =IF(주거이전비!AF22="","",주거이전비!AF22) | G19: =IF(#REF!="","",#REF!) -> #REF! | H19: =IF(잔여지!AF22="","",잔여지!AF22) | I19: =IF(잔여지지장물!AF22="","",잔여지지장물!AF22)
A20: =IF(토지!#REF!="","",토지!#REF!) -> #REF! | B20: =IF(지장물!J27="","",지장물!J27) | C20: =IF(영업보상!AF23="","",영업보상!AF23) | D20: =IF(#REF!="","",#REF!) -> #REF! | E20: =IF(#REF!="","",#REF!) -> #REF! | F20: =IF(주거이전비!AF23="","",주거이전비!AF23) | G20: =IF(#REF!="","",#REF!) -> #REF! | H20: =IF(잔여지!AF23="","",잔여지!AF23) | I20: =IF(잔여지지장물!AF23="","",잔여지지장물!AF23)
A21: =IF(토지!#REF!="","",토지!#REF!) -> #REF! | B21: =IF(지장물!#REF!="","",지장물!#REF!) -> #REF! | C21: =IF(영업보상!AF24="","",영업보상!AF24) | D21: =IF(#REF!="","",#REF!) -> #REF! | E21: =IF(#REF!="","",#REF!) -> #REF! | F21: =IF(주거이전비!AF24="","",주거이전비!AF24) | G21: =IF(#REF!="","",#REF!) -> #REF! | H21: =IF(잔여지!AF24="","",잔여지!AF24) | I21: =IF(잔여지지장물!AF24="","",잔여지지장물!AF24)
A22: =IF(토지!#REF!="","",토지!#REF!) -> #REF! | B22: =IF(지장물!J22="","",지장물!J22) | C22: =IF(영업보상!AF25="","",영업보상!AF25) | D22: =IF(#REF!="","",#REF!) -> #REF! | E22: =IF(#REF!="","",#REF!) -> #REF! | F22: =IF(주거이전비!AF25="","",주거이전비!AF25) | G22: =IF(#REF!="","",#REF!) -> #REF! | H22: =IF(잔여지!AF25="","",잔여지!AF25) | I22: =IF(잔여지지장물!AF25="","",잔여지지장물!AF25)
A23: =IF(토지!#REF!="","",토지!#REF!) -> #REF! | B23: =IF(지장물!#REF!="","",지장물!#REF!) -> #REF! | C23: =IF(영업보상!AF26="","",영업보상!AF26) | D23: =IF(#REF!="","",#REF!) -> #REF! | E23: =IF(#REF!="","",#REF!) -> #REF! | F23: =IF(주거이전비!AF26="","",주거이전비!AF26) | G23: =IF(#REF!="","",#REF!) -> #REF! | H23: =IF(잔여지!AF26="","",잔여지!AF26) | I23: =IF(잔여지지장물!AF26="","",잔여지지장물!AF26)
A24: =IF(토지!#REF!="","",토지!#REF!) -> #REF! | B24: =IF(지장물!#REF!="","",지장물!#REF!) -> #REF! | C24: =IF(영업보상!AF27="","",영업보상!AF27) | D24: =IF(#REF!="","",#REF!) -> #REF! | E24: =IF(#REF!="","",#REF!) -> #REF! | F24: =IF(주거이전비!AF27="","",주거이전비!AF27) | G24: =IF(#REF!="","",#REF!) -> #REF! | H24: =IF(잔여지!AF27="","",잔여지!AF27) | I24: =IF(잔여지지장물!AF27="","",잔여지지장물!AF27)
A25: =IF(토지!#REF!="","",토지!#REF!) -> #REF! | B25: =IF(지장물!J34="","",지장물!J34) | C25: =IF(영업보상!AF28="","",영업보상!AF28) | D25: =IF(#REF!="","",#REF!) -> #REF! | E25: =IF(#REF!="","",#REF!) -> #REF! | F25: =IF(주거이전비!AF28="","",주거이전비!AF28) | G25: =IF(#REF!="","",#REF!) -> #REF! | H25: =IF(잔여지!AF28="","",잔여지!AF28) | I25: =IF(잔여지지장물!AF28="","",잔여지지장물!AF28)
A26: =IF(토지!#REF!="","",토지!#REF!) -> #REF! | B26: =IF(지장물!J35="","",지장물!J35) | C26: =IF(영업보상!AF29="","",영업보상!AF29) | D26: =IF(#REF!="","",#REF!) -> #REF! | E26: =IF(#REF!="","",#REF!) -> #REF! | F26: =IF(주거이전비!AF29="","",주거이전비!AF29) | G26: =IF(#REF!="","",#REF!) -> #REF! | H26: =IF(잔여지!AF29="","",잔여지!AF29) | I26: =IF(잔여지지장물!AF29="","",잔여지지장물!AF29)
A27: =IF(토지!#REF!="","",토지!#REF!) -> #REF! | B27: =IF(지장물!J36="","",지장물!J36) | C27: =IF(영업보상!AF30="","",영업보상!AF30) | D27: =IF(#REF!="","",#REF!) -> #REF! | E27: =IF(#REF!="","",#REF!) -> #REF! | F27: =IF(주거이전비!AF30="","",주거이전비!AF30) | G27: =IF(#REF!="","",#REF!) -> #REF! | H27: =IF(잔여지!AF30="","",잔여지!AF30) | I27: =IF(잔여지지장물!AF30="","",잔여지지장물!AF30)
A28: =IF(토지!#REF!="","",토지!#REF!) -> #REF! | B28: =IF(지장물!J37="","",지장물!J37) | C28: =IF(영업보상!AF31="","",영업보상!AF31) | D28: =IF(#REF!="","",#REF!) -> #REF! | E28: =IF(#REF!="","",#REF!) -> #REF! | F28: =IF(주거이전비!AF31="","",주거이전비!AF31) | G28: =IF(#REF!="","",#REF!) -> #REF! | H28: =IF(잔여지!AF31="","",잔여지!AF31) | I28: =IF(잔여지지장물!AF31="","",잔여지지장물!AF31)
A29: =IF(토지!#REF!="","",토지!#REF!) -> #REF! | B29: =IF(지장물!J38="","",지장물!J38) | C29: =IF(영업보상!AF32="","",영업보상!AF32) | D29: =IF(#REF!="","",#REF!) -> #REF! | E29: =IF(#REF!="","",#REF!) -> #REF! | F29: =IF(주거이전비!AF32="","",주거이전비!AF32) | G29: =IF(#REF!="","",#REF!) -> #REF! | H29: =IF(잔여지!AF32="","",잔여지!AF32) | I29: =IF(잔여지지장물!AF32="","",잔여지지장물!AF32)
A30: =IF(토지!#REF!="","",토지!#REF!) -> #REF! | B30: =IF(지장물!#REF!="","",지장물!#REF!) -> #REF! | C30: =IF(영업보상!AF33="","",영업보상!AF33) | D30: =IF(#REF!="","",#REF!) -> #REF! | E30: =IF(#REF!="","",#REF!) -> #REF! | F30: =IF(주거이전비!AF33="","",주거이전비!AF33) | G30: =IF(#REF!="","",#REF!) -> #REF! | H30: =IF(잔여지!AF33="","",잔여지!AF33) | I30: =IF(잔여지지장물!AF33="","",잔여지지장물!AF33)
A31: =IF(토지!#REF!="","",토지!#REF!) -> #REF! | B31: =IF(지장물!J39="","",지장물!J39) | C31: =IF(영업보상!AF34="","",영업보상!AF34) | D31: =IF(#REF!="","",#REF!) -> #REF! | E31: =IF(#REF!="","",#REF!) -> #REF! | F31: =IF(주거이전비!AF34="","",주거이전비!AF34) | G31: =IF(#REF!="","",#REF!) -> #REF! | H31: =IF(잔여지!AF34="","",잔여지!AF34) | I31: =IF(잔여지지장물!AF34="","",잔여지지장물!AF34)
A32: =IF(토지!#REF!="","",토지!#REF!) -> #REF! | B32: =IF(지장물!J40="","",지장물!J40) | C32: =IF(영업보상!AF35="","",영업보상!AF35) | D32: =IF(#REF!="","",#REF!) -> #REF! | E32: =IF(#REF!="","",#REF!) -> #REF! | F32: =IF(주거이전비!AF35="","",주거이전비!AF35) | G32: =IF(#REF!="","",#REF!) -> #REF! | H32: =IF(잔여지!AF35="","",잔여지!AF35) | I32: =IF(잔여지지장물!AF35="","",잔여지지장물!AF35)
A33: =IF(토지!#REF!="","",토지!#REF!) -> #REF! | B33: =IF(지장물!J41="","",지장물!J41) | C33: =IF(영업보상!AF36="","",영업보상!AF36) | D33: =IF(#REF!="","",#REF!) -> #REF! | E33: =IF(#REF!="","",#REF!) -> #REF! | F33: =IF(주거이전비!AF36="","",주거이전비!AF36) | G33: =IF(#REF!="","",#REF!) -> #REF! | H33: =IF(잔여지!AF36="","",잔여지!AF36) | I33: =IF(잔여지지장물!AF36="","",잔여지지장물!AF36)
A34: =IF(토지!#REF!="","",토지!#REF!) -> #REF! | B34: =IF(지장물!J42="","",지장물!J42) | C34: =IF(영업보상!AF37="","",영업보상!AF37) | D34: =IF(#REF!="","",#REF!) -> #REF! | E34: =IF(#REF!="","",#REF!) -> #REF! | F34: =IF(주거이전비!AF37="","",주거이전비!AF37) | G34: =IF(#REF!="","",#REF!) -> #REF! | H34: =IF(잔여지!AF37="","",잔여지!AF37) | I34: =IF(잔여지지장물!AF37="","",잔여지지장물!AF37)
A35: =IF(토지!#REF!="","",토지!#REF!) -> #REF! | B35: =IF(지장물!J43="","",지장물!J43) | C35: =IF(영업보상!AF38="","",영업보상!AF38) | D35: =IF(#REF!="","",#REF!) -> #REF! | E35: =IF(#REF!="","",#REF!) -> #REF! | F35: =IF(주거이전비!AF38="","",주거이전비!AF38) | G35: =IF(#REF!="","",#REF!) -> #REF! | H35: =IF(잔여지!AF38="","",잔여지!AF38) | I35: =IF(잔여지지장물!AF38="","",잔여지지장물!AF38)
A36: =IF(토지!#REF!="","",토지!#REF!) -> #REF! | B36: =IF(지장물!J44="","",지장물!J44) | C36: =IF(영업보상!AF39="","",영업보상!AF39) | D36: =IF(#REF!="","",#REF!) -> #REF! | E36: =IF(#REF!="","",#REF!) -> #REF! | F36: =IF(주거이전비!AF39="","",주거이전비!AF39) | G36: =IF(#REF!="","",#REF!) -> #REF! | H36: =IF(잔여지!AF39="","",잔여지!AF39) | I36: =IF(잔여지지장물!AF39="","",잔여지지장물!AF39)
A37: =IF(토지!#REF!="","",토지!#REF!) -> #REF! | B37: =IF(지장물!J45="","",지장물!J45) | C37: =IF(영업보상!AF40="","",영업보상!AF40) | D37: =IF(#REF!="","",#REF!) -> #REF! | E37: =IF(#REF!="","",#REF!) -> #REF! | F37: =IF(주거이전비!AF40="","",주거이전비!AF40) | G37: =IF(#REF!="","",#REF!) -> #REF! | H37: =IF(잔여지!AF40="","",잔여지!AF40) | I37: =IF(잔여지지장물!AF40="","",잔여지지장물!AF40)
A38: =IF(토지!#REF!="","",토지!#REF!) -> #REF! | B38: =IF(지장물!J46="","",지장물!J46) | C38: =IF(영업보상!AF41="","",영업보상!AF41) | D38: =IF(#REF!="","",#REF!) -> #REF! | E38: =IF(#REF!="","",#REF!) -> #REF! | F38: =IF(주거이전비!AF41="","",주거이전비!AF41) | G38: =IF(#REF!="","",#REF!) -> #REF! | H38: =IF(잔여지!AF41="","",잔여지!AF41) | I38: =IF(잔여지지장물!AF41="","",잔여지지장물!AF41)
A39: =IF(토지!#REF!="","",토지!#REF!) -> #REF! | B39: =IF(지장물!J47="","",지장물!J47) | C39: =IF(영업보상!AF42="","",영업보상!AF42) | D39: =IF(#REF!="","",#REF!) -> #REF! | E39: =IF(#REF!="","",#REF!) -> #REF! | F39: =IF(주거이전비!AF42="","",주거이전비!AF42) | G39: =IF(#REF!="","",#REF!) -> #REF! | H39: =IF(잔여지!AF42="","",잔여지!AF42) | I39: =IF(잔여지지장물!AF42="","",잔여지지장물!AF42)
A40: =IF(토지!#REF!="","",토지!#REF!) -> #REF! | B40: =IF(지장물!J48="","",지장물!J48) | C40: =IF(영업보상!AF43="","",영업보상!AF43) | D40: =IF(#REF!="","",#REF!) -> #REF! | E40: =IF(#REF!="","",#REF!) -> #REF! | F40: =IF(주거이전비!AF43="","",주거이전비!AF43) | G40: =IF(#REF!="","",#REF!) -> #REF! | H40: =IF(잔여지!AF43="","",잔여지!AF43) | I40: =IF(잔여지지장물!AF43="","",잔여지지장물!AF43)
A41: =IF(토지!#REF!="","",토지!#REF!) -> #REF! | B41: =IF(지장물!J49="","",지장물!J49) | C41: =IF(영업보상!AF44="","",영업보상!AF44) | D41: =IF(#REF!="","",#REF!) -> #REF! | E41: =IF(#REF!="","",#REF!) -> #REF! | F41: =IF(주거이전비!AF44="","",주거이전비!AF44) | G41: =IF(#REF!="","",#REF!) -> #REF! | H41: =IF(잔여지!AF44="","",잔여지!AF44) | I41: =IF(잔여지지장물!AF44="","",잔여지지장물!AF44)
A42: =IF(토지!#REF!="","",토지!#REF!) -> #REF! | B42: =IF(지장물!J50="","",지장물!J50) | C42: =IF(영업보상!AF45="","",영업보상!AF45) | D42: =IF(#REF!="","",#REF!) -> #REF! | E42: =IF(#REF!="","",#REF!) -> #REF! | F42: =IF(주거이전비!AF45="","",주거이전비!AF45) | G42: =IF(#REF!="","",#REF!) -> #REF! | H42: =IF(잔여지!AF45="","",잔여지!AF45) | I42: =IF(잔여지지장물!AF45="","",잔여지지장물!AF45)
A43: =IF(토지!#REF!="","",토지!#REF!) -> #REF! | B43: =IF(지장물!J51="","",지장물!J51) | C43: =IF(영업보상!AF46="","",영업보상!AF46) | D43: =IF(#REF!="","",#REF!) -> #REF! | E43: =IF(#REF!="","",#REF!) -> #REF! | F43: =IF(주거이전비!AF46="","",주거이전비!AF46) | G43: =IF(#REF!="","",#REF!) -> #REF! | H43: =IF(잔여지!AF46="","",잔여지!AF46) | I43: =IF(잔여지지장물!AF46="","",잔여지지장물!AF46)
A44: =IF(토지!#REF!="","",토지!#REF!) -> #REF! | B44: =IF(지장물!#REF!="","",지장물!#REF!) -> #REF! | C44: =IF(영업보상!AF47="","",영업보상!AF47) | D44: =IF(#REF!="","",#REF!) -> #REF! | E44: =IF(#REF!="","",#REF!) -> #REF! | F44: =IF(주거이전비!AF47="","",주거이전비!AF47) | G44: =IF(#REF!="","",#REF!) -> #REF! | H44: =IF(잔여지!AF47="","",잔여지!AF47) | I44: =IF(잔여지지장물!AF47="","",잔여지지장물!AF47)
A45: =IF(토지!#REF!="","",토지!#REF!) -> #REF! | B45: =IF(지장물!J52="","",지장물!J52) | C45: =IF(영업보상!AF48="","",영업보상!AF48) | D45: =IF(#REF!="","",#REF!) -> #REF! | E45: =IF(#REF!="","",#REF!) -> #REF! | F45: =IF(주거이전비!AF48="","",주거이전비!AF48) | G45: =IF(#REF!="","",#REF!) -> #REF! | H45: =IF(잔여지!AF48="","",잔여지!AF48) | I45: =IF(잔여지지장물!AF48="","",잔여지지장물!AF48)
A46: =IF(토지!#REF!="","",토지!#REF!) -> #REF! | B46: =IF(지장물!#REF!="","",지장물!#REF!) -> #REF! | C46: =IF(영업보상!AF49="","",영업보상!AF49) | D46: =IF(#REF!="","",#REF!) -> #REF! | E46: =IF(#REF!="","",#REF!) -> #REF! | F46: =IF(주거이전비!AF49="","",주거이전비!AF49) | G46: =IF(#REF!="","",#REF!) -> #REF! | H46: =IF(잔여지!AF49="","",잔여지!AF49) | I46: =IF(잔여지지장물!AF49="","",잔여지지장물!AF49)
A47: =IF(토지!#REF!="","",토지!#REF!) -> #REF! | B47: =IF(지장물!J55="","",지장물!J55) | C47: =IF(영업보상!AF50="","",영업보상!AF50) | D47: =IF(#REF!="","",#REF!) -> #REF! | E47: =IF(#REF!="","",#REF!) -> #REF! | F47: =IF(주거이전비!AF50="","",주거이전비!AF50) | G47: =IF(#REF!="","",#REF!) -> #REF! | H47: =IF(잔여지!AF50="","",잔여지!AF50) | I47: =IF(잔여지지장물!AF50="","",잔여지지장물!AF50)
A48: =IF(토지!#REF!="","",토지!#REF!) -> #REF! | B48: =IF(지장물!#REF!="","",지장물!#REF!) -> #REF! | C48: =IF(영업보상!AF51="","",영업보상!AF51) | D48: =IF(#REF!="","",#REF!) -> #REF! | E48: =IF(#REF!="","",#REF!) -> #REF! | F48: =IF(주거이전비!AF51="","",주거이전비!AF51) | G48: =IF(#REF!="","",#REF!) -> #REF! | H48: =IF(잔여지!AF51="","",잔여지!AF51) | I48: =IF(잔여지지장물!AF51="","",잔여지지장물!AF51)
A49: =IF(토지!#REF!="","",토지!#REF!) -> #REF! | B49: =IF(지장물!#REF!="","",지장물!#REF!) -> #REF! | C49: =IF(영업보상!AF52="","",영업보상!AF52) | D49: =IF(#REF!="","",#REF!) -> #REF! | E49: =IF(#REF!="","",#REF!) -> #REF! | F49: =IF(주거이전비!AF52="","",주거이전비!AF52) | G49: =IF(#REF!="","",#REF!) -> #REF! | H49: =IF(잔여지!AF52="","",잔여지!AF52) | I49: =IF(잔여지지장물!AF52="","",잔여지지장물!AF52)
A50: =IF(토지!#REF!="","",토지!#REF!) -> #REF! | B50: =IF(지장물!#REF!="","",지장물!#REF!) -> #REF! | C50: =IF(영업보상!AF53="","",영업보상!AF53) | D50: =IF(#REF!="","",#REF!) -> #REF! | E50: =IF(#REF!="","",#REF!) -> #REF! | F50: =IF(주거이전비!AF53="","",주거이전비!AF53) | G50: =IF(#REF!="","",#REF!) -> #REF! | H50: =IF(잔여지!AF53="","",잔여지!AF53) | I50: =IF(잔여지지장물!AF53="","",잔여지지장물!AF53)
A51: =IF(토지!#REF!="","",토지!#REF!) -> #REF! | B51: =IF(지장물!#REF!="","",지장물!#REF!) -> #REF! | C51: =IF(영업보상!AF54="","",영업보상!AF54) | D51: =IF(#REF!="","",#REF!) -> #REF! | E51: =IF(#REF!="","",#REF!) -> #REF! | F51: =IF(주거이전비!AF54="","",주거이전비!AF54) | G51: =IF(#REF!="","",#REF!) -> #REF! | H51: =IF(잔여지!AF54="","",잔여지!AF54) | I51: =IF(잔여지지장물!AF54="","",잔여지지장물!AF54)
A52: =IF(토지!#REF!="","",토지!#REF!) -> #REF! | B52: =IF(지장물!#REF!="","",지장물!#REF!) -> #REF! | C52: =IF(영업보상!AF55="","",영업보상!AF55) | D52: =IF(#REF!="","",#REF!) -> #REF! | E52: =IF(#REF!="","",#REF!) -> #REF! | F52: =IF(주거이전비!AF55="","",주거이전비!AF55) | G52: =IF(#REF!="","",#REF!) -> #REF! | H52: =IF(잔여지!AF55="","",잔여지!AF55) | I52: =IF(잔여지지장물!AF55="","",잔여지지장물!AF55)
A53: =IF(토지!#REF!="","",토지!#REF!) -> #REF! | B53: =IF(지장물!#REF!="","",지장물!#REF!) -> #REF! | C53: =IF(영업보상!AF56="","",영업보상!AF56) | D53: =IF(#REF!="","",#REF!) -> #REF! | E53: =IF(#REF!="","",#REF!) -> #REF! | F53: =IF(주거이전비!AF56="","",주거이전비!AF56) | G53: =IF(#REF!="","",#REF!) -> #REF! | H53: =IF(잔여지!AF56="","",잔여지!AF56) | I53: =IF(잔여지지장물!AF56="","",잔여지지장물!AF56)
A54: =IF(토지!#REF!="","",토지!#REF!) -> #REF! | B54: =IF(지장물!#REF!="","",지장물!#REF!) -> #REF! | C54: =IF(영업보상!AF57="","",영업보상!AF57) | D54: =IF(#REF!="","",#REF!) -> #REF! | E54: =IF(#REF!="","",#REF!) -> #REF! | F54: =IF(주거이전비!AF57="","",주거이전비!AF57) | G54: =IF(#REF!="","",#REF!) -> #REF! | H54: =IF(잔여지!AF57="","",잔여지!AF57) | I54: =IF(잔여지지장물!AF57="","",잔여지지장물!AF57)
A55: =IF(토지!L29="","",토지!L29) | B55: =IF(지장물!#REF!="","",지장물!#REF!) -> #REF! | C55: =IF(영업보상!AF58="","",영업보상!AF58) | D55: =IF(#REF!="","",#REF!) -> #REF! | E55: =IF(#REF!="","",#REF!) -> #REF! | F55: =IF(주거이전비!AF58="","",주거이전비!AF58) | G55: =IF(#REF!="","",#REF!) -> #REF! | H55: =IF(잔여지!AF58="","",잔여지!AF58) | I55: =IF(잔여지지장물!AF58="","",잔여지지장물!AF58)
A56: =IF(토지!L30="","",토지!L30) | B56: =IF(지장물!#REF!="","",지장물!#REF!) -> #REF! | C56: =IF(영업보상!AF59="","",영업보상!AF59) | D56: =IF(#REF!="","",#REF!) -> #REF! | E56: =IF(#REF!="","",#REF!) -> #REF! | F56: =IF(주거이전비!AF59="","",주거이전비!AF59) | G56: =IF(#REF!="","",#REF!) -> #REF! | H56: =IF(잔여지!AF59="","",잔여지!AF59) | I56: =IF(잔여지지장물!AF59="","",잔여지지장물!AF59)
A57: =IF(토지!L31="","",토지!L31) | B57: =IF(지장물!#REF!="","",지장물!#REF!) -> #REF! | C57: =IF(영업보상!AF60="","",영업보상!AF60) | D57: =IF(#REF!="","",#REF!) -> #REF! | E57: =IF(#REF!="","",#REF!) -> #REF! | F57: =IF(주거이전비!AF60="","",주거이전비!AF60) | G57: =IF(#REF!="","",#REF!) -> #REF! | H57: =IF(잔여지!AF60="","",잔여지!AF60) | I57: =IF(잔여지지장물!AF60="","",잔여지지장물!AF60)
A58: =IF(토지!L32="","",토지!L32) | B58: =IF(지장물!#REF!="","",지장물!#REF!) -> #REF! | C58: =IF(영업보상!AF61="","",영업보상!AF61) | D58: =IF(#REF!="","",#REF!) -> #REF! | E58: =IF(#REF!="","",#REF!) -> #REF! | F58: =IF(주거이전비!AF61="","",주거이전비!AF61) | G58: =IF(#REF!="","",#REF!) -> #REF! | H58: =IF(잔여지!AF61="","",잔여지!AF61) | I58: =IF(잔여지지장물!AF61="","",잔여지지장물!AF61)
A59: =IF(토지!L33="","",토지!L33) | B59: =IF(지장물!#REF!="","",지장물!#REF!) -> #REF! | C59: =IF(영업보상!AF62="","",영업보상!AF62) | D59: =IF(#REF!="","",#REF!) -> #REF! | E59: =IF(#REF!="","",#REF!) -> #REF! | F59: =IF(주거이전비!AF62="","",주거이전비!AF62) | G59: =IF(#REF!="","",#REF!) -> #REF! | H59: =IF(잔여지!AF62="","",잔여지!AF62) | I59: =IF(잔여지지장물!AF62="","",잔여지지장물!AF62)
A60: =IF(토지!L34="","",토지!L34) | B60: =IF(지장물!#REF!="","",지장물!#REF!) -> #REF! | C60: =IF(영업보상!AF63="","",영업보상!AF63) | D60: =IF(#REF!="","",#REF!) -> #REF! | E60: =IF(#REF!="","",#REF!) -> #REF! | F60: =IF(주거이전비!AF63="","",주거이전비!AF63) | G60: =IF(#REF!="","",#REF!) -> #REF! | H60: =IF(잔여지!AF63="","",잔여지!AF63) | I60: =IF(잔여지지장물!AF63="","",잔여지지장물!AF63)
A61: =IF(토지!L35="","",토지!L35) | B61: =IF(지장물!#REF!="","",지장물!#REF!) -> #REF! | C61: =IF(영업보상!AF64="","",영업보상!AF64) | D61: =IF(#REF!="","",#REF!) -> #REF! | E61: =IF(#REF!="","",#REF!) -> #REF! | F61: =IF(주거이전비!AF64="","",주거이전비!AF64) | G61: =IF(#REF!="","",#REF!) -> #REF! | H61: =IF(잔여지!AF64="","",잔여지!AF64) | I61: =IF(잔여지지장물!AF64="","",잔여지지장물!AF64)
A62: =IF(토지!L36="","",토지!L36) | B62: =IF(지장물!J226="","",지장물!J226) | C62: =IF(영업보상!AF65="","",영업보상!AF65) | D62: =IF(#REF!="","",#REF!) -> #REF! | E62: =IF(#REF!="","",#REF!) -> #REF! | F62: =IF(주거이전비!AF65="","",주거이전비!AF65) | G62: =IF(#REF!="","",#REF!) -> #REF! | H62: =IF(잔여지!AF65="","",잔여지!AF65) | I62: =IF(잔여지지장물!AF65="","",잔여지지장물!AF65)
A63: =IF(토지!L37="","",토지!L37) | B63: =IF(지장물!J227="","",지장물!J227) | C63: =IF(영업보상!AF66="","",영업보상!AF66) | D63: =IF(#REF!="","",#REF!) -> #REF! | E63: =IF(#REF!="","",#REF!) -> #REF! | F63: =IF(주거이전비!AF66="","",주거이전비!AF66) | G63: =IF(#REF!="","",#REF!) -> #REF! | H63: =IF(잔여지!AF66="","",잔여지!AF66) | I63: =IF(잔여지지장물!AF66="","",잔여지지장물!AF66)
A64: =IF(토지!L38="","",토지!L38) | B64: =IF(지장물!#REF!="","",지장물!#REF!) -> #REF! | C64: =IF(영업보상!AF67="","",영업보상!AF67) | D64: =IF(#REF!="","",#REF!) -> #REF! | E64: =IF(#REF!="","",#REF!) -> #REF! | F64: =IF(주거이전비!AF67="","",주거이전비!AF67) | G64: =IF(#REF!="","",#REF!) -> #REF! | H64: =IF(잔여지!AF67="","",잔여지!AF67) | I64: =IF(잔여지지장물!AF67="","",잔여지지장물!AF67)
A65: =IF(토지!L39="","",토지!L39) | B65: =IF(지장물!J228="","",지장물!J228) | C65: =IF(영업보상!AF68="","",영업보상!AF68) | D65: =IF(#REF!="","",#REF!) -> #REF! | E65: =IF(#REF!="","",#REF!) -> #REF! | F65: =IF(주거이전비!AF68="","",주거이전비!AF68) | G65: =IF(#REF!="","",#REF!) -> #REF! | H65: =IF(잔여지!AF68="","",잔여지!AF68) | I65: =IF(잔여지지장물!AF68="","",잔여지지장물!AF68)
A66: =IF(토지!L40="","",토지!L40) | B66: =IF(지장물!#REF!="","",지장물!#REF!) -> #REF! | C66: =IF(영업보상!AF69="","",영업보상!AF69) | D66: =IF(#REF!="","",#REF!) -> #REF! | E66: =IF(#REF!="","",#REF!) -> #REF! | F66: =IF(주거이전비!AF69="","",주거이전비!AF69) | G66: =IF(#REF!="","",#REF!) -> #REF! | H66: =IF(잔여지!AF69="","",잔여지!AF69) | I66: =IF(잔여지지장물!AF69="","",잔여지지장물!AF69)
A67: =IF(토지!L41="","",토지!L41) | B67: =IF(지장물!#REF!="","",지장물!#REF!) -> #REF! | C67: =IF(영업보상!AF70="","",영업보상!AF70) | D67: =IF(#REF!="","",#REF!) -> #REF! | E67: =IF(#REF!="","",#REF!) -> #REF! | F67: =IF(주거이전비!AF70="","",주거이전비!AF70) | G67: =IF(#REF!="","",#REF!) -> #REF! | H67: =IF(잔여지!AF70="","",잔여지!AF70) | I67: =IF(잔여지지장물!AF70="","",잔여지지장물!AF70)
A68: =IF(토지!L42="","",토지!L42) | B68: =IF(지장물!#REF!="","",지장물!#REF!) -> #REF! | C68: =IF(영업보상!AF71="","",영업보상!AF71) | D68: =IF(#REF!="","",#REF!) -> #REF! | E68: =IF(#REF!="","",#REF!) -> #REF! | F68: =IF(주거이전비!AF71="","",주거이전비!AF71) | G68: =IF(#REF!="","",#REF!) -> #REF! | H68: =IF(잔여지!AF71="","",잔여지!AF71) | I68: =IF(잔여지지장물!AF71="","",잔여지지장물!AF71)
A69: =IF(토지!L43="","",토지!L43) | B69: =IF(지장물!J229="","",지장물!J229) | C69: =IF(영업보상!AF72="","",영업보상!AF72) | D69: =IF(#REF!="","",#REF!) -> #REF! | E69: =IF(#REF!="","",#REF!) -> #REF! | F69: =IF(주거이전비!AF72="","",주거이전비!AF72) | G69: =IF(#REF!="","",#REF!) -> #REF! | H69: =IF(잔여지!AF72="","",잔여지!AF72) | I69: =IF(잔여지지장물!AF72="","",잔여지지장물!AF72)
A70: =IF(토지!L44="","",토지!L44) | B70: =IF(지장물!J230="","",지장물!J230) | C70: =IF(영업보상!AF73="","",영업보상!AF73) | D70: =IF(#REF!="","",#REF!) -> #REF! | E70: =IF(#REF!="","",#REF!) -> #REF! | F70: =IF(주거이전비!AF73="","",주거이전비!AF73) | G70: =IF(#REF!="","",#REF!) -> #REF! | H70: =IF(잔여지!AF73="","",잔여지!AF73) | I70: =IF(잔여지지장물!AF73="","",잔여지지장물!AF73)
A71: =IF(토지!L45="","",토지!L45) | B71: =IF(지장물!J231="","",지장물!J231) | C71: =IF(영업보상!AF74="","",영업보상!AF74) | D71: =IF(#REF!="","",#REF!) -> #REF! | E71: =IF(#REF!="","",#REF!) -> #REF! | F71: =IF(주거이전비!AF74="","",주거이전비!AF74) | G71: =IF(#REF!="","",#REF!) -> #REF! | H71: =IF(잔여지!AF74="","",잔여지!AF74) | I71: =IF(잔여지지장물!AF74="","",잔여지지장물!AF74)
A72: =IF(토지!L46="","",토지!L46) | B72: =IF(지장물!J232="","",지장물!J232) | C72: =IF(영업보상!AF75="","",영업보상!AF75) | D72: =IF(#REF!="","",#REF!) -> #REF! | E72: =IF(#REF!="","",#REF!) -> #REF! | F72: =IF(주거이전비!AF75="","",주거이전비!AF75) | G72: =IF(#REF!="","",#REF!) -> #REF! | H72: =IF(잔여지!AF75="","",잔여지!AF75) | I72: =IF(잔여지지장물!AF75="","",잔여지지장물!AF75)
A73: =IF(토지!L47="","",토지!L47) | B73: =IF(지장물!J233="","",지장물!J233) | C73: =IF(영업보상!AF76="","",영업보상!AF76) | D73: =IF(#REF!="","",#REF!) -> #REF! | E73: =IF(#REF!="","",#REF!) -> #REF! | F73: =IF(주거이전비!AF76="","",주거이전비!AF76) | G73: =IF(#REF!="","",#REF!) -> #REF! | H73: =IF(잔여지!AF76="","",잔여지!AF76) | I73: =IF(잔여지지장물!AF76="","",잔여지지장물!AF76)
A74: =IF(토지!L48="","",토지!L48) | B74: =IF(지장물!J234="","",지장물!J234) | C74: =IF(영업보상!AF77="","",영업보상!AF77) | D74: =IF(#REF!="","",#REF!) -> #REF! | E74: =IF(#REF!="","",#REF!) -> #REF! | F74: =IF(주거이전비!AF77="","",주거이전비!AF77) | G74: =IF(#REF!="","",#REF!) -> #REF! | H74: =IF(잔여지!AF77="","",잔여지!AF77) | I74: =IF(잔여지지장물!AF77="","",잔여지지장물!AF77)
A75: =IF(토지!L49="","",토지!L49) | B75: =IF(지장물!J235="","",지장물!J235) | C75: =IF(영업보상!AF78="","",영업보상!AF78) | D75: =IF(#REF!="","",#REF!) -> #REF! | E75: =IF(#REF!="","",#REF!) -> #REF! | F75: =IF(주거이전비!AF78="","",주거이전비!AF78) | G75: =IF(#REF!="","",#REF!) -> #REF! | H75: =IF(잔여지!AF78="","",잔여지!AF78) | I75: =IF(잔여지지장물!AF78="","",잔여지지장물!AF78)
A76: =IF(토지!L50="","",토지!L50) | B76: =IF(지장물!J236="","",지장물!J236) | C76: =IF(영업보상!AF79="","",영업보상!AF79) | D76: =IF(#REF!="","",#REF!) -> #REF! | E76: =IF(#REF!="","",#REF!) -> #REF! | F76: =IF(주거이전비!AF79="","",주거이전비!AF79) | G76: =IF(#REF!="","",#REF!) -> #REF! | H76: =IF(잔여지!AF79="","",잔여지!AF79) | I76: =IF(잔여지지장물!AF79="","",잔여지지장물!AF79)
A77: =IF(토지!L51="","",토지!L51) | B77: =IF(지장물!J237="","",지장물!J237) | C77: =IF(영업보상!AF80="","",영업보상!AF80) | D77: =IF(#REF!="","",#REF!) -> #REF! | E77: =IF(#REF!="","",#REF!) -> #REF! | F77: =IF(주거이전비!AF80="","",주거이전비!AF80) | G77: =IF(#REF!="","",#REF!) -> #REF! | H77: =IF(잔여지!AF80="","",잔여지!AF80) | I77: =IF(잔여지지장물!AF80="","",잔여지지장물!AF80)
A78: =IF(토지!L52="","",토지!L52) | B78: =IF(지장물!J238="","",지장물!J238) | C78: =IF(영업보상!AF81="","",영업보상!AF81) | D78: =IF(#REF!="","",#REF!) -> #REF! | E78: =IF(#REF!="","",#REF!) -> #REF! | F78: =IF(주거이전비!AF81="","",주거이전비!AF81) | G78: =IF(#REF!="","",#REF!) -> #REF! | H78: =IF(잔여지!AF81="","",잔여지!AF81) | I78: =IF(잔여지지장물!AF81="","",잔여지지장물!AF81)
A79: =IF(토지!L53="","",토지!L53) | B79: =IF(지장물!J239="","",지장물!J239) | C79: =IF(영업보상!AF82="","",영업보상!AF82) | D79: =IF(#REF!="","",#REF!) -> #REF! | E79: =IF(#REF!="","",#REF!) -> #REF! | F79: =IF(주거이전비!AF82="","",주거이전비!AF82) | G79: =IF(#REF!="","",#REF!) -> #REF! | H79: =IF(잔여지!AF82="","",잔여지!AF82) | I79: =IF(잔여지지장물!AF82="","",잔여지지장물!AF82)
A80: =IF(토지!L54="","",토지!L54) | B80: =IF(지장물!J240="","",지장물!J240) | C80: =IF(영업보상!AF83="","",영업보상!AF83) | D80: =IF(#REF!="","",#REF!) -> #REF! | E80: =IF(#REF!="","",#REF!) -> #REF! | F80: =IF(주거이전비!AF83="","",주거이전비!AF83) | G80: =IF(#REF!="","",#REF!) -> #REF! | H80: =IF(잔여지!AF83="","",잔여지!AF83) | I80: =IF(잔여지지장물!AF83="","",잔여지지장물!AF83)
... A151: =IF(토지!L125="","",토지!L125) | B151: =IF(지장물!J311="","",지장물!J311) | C151: =IF(영업보상!AF154="","",영업보상!AF154) | D151: =IF(#REF!="","",#REF!) -> #REF! | E151: =IF(#REF!="","",#REF!) -> #REF! | F151: =IF(주거이전비!AF154="","",주거이전비!AF154) | G151: =IF(#REF!="","",#REF!) -> #REF! | H151: =IF(잔여지!AF154="","",잔여지!AF154) | I151: =IF(잔여지지장물!AF154="","",잔여지지장물!AF154)

Sheet 토지
A1: 손실보상금 산정 및 지급조서(토지)
A2: =총괄!$A$3 -> ○ 사업명 : 승학터널 민간투자사업(1차:우선)
A3: 세목 고시 | B3: 소재지 | D3: 지번 | F3: 지목 | I3: 지적 | K3: 소유 | L3: 소유자 | N3: 소유권이외의 권리
A4: 일련번호 | B4: 구 | C4: 동 | D4: 당초지번 | E4: 편입지번 | F4: 공부상 지목 | G4: 현황 지목 | H4: 공부상 총면적 | I4: 편입 면적 | J4: 단위 | K4: 지분 | L4: 성명 | M4: 주소 | N4: 권리자 | O4: 주소 | P4: 권리 내용
A5: 1 | B5: 사상 | C5: 엄궁 | D5: 141-30 | E5: 141-54 | F5: 장 | G5: 공장용지 | H5: 137 | I5: 137 | J5: ㎡ | K5: 1/1
A7: 2 | B7: 사상 | C7: 엄궁 | D7: 141-21 | E7: 141-21 | F7: 대 | G7: 대지 | H7: 1653 | I7: 1653 | J7: ㎡ | K7: 1/1
A9: 3 | B9: 사상 | C9: 엄궁 | D9: 141-20 | E9: 141-52 | F9: 주 | G9: 주유소 | H9: 711 | I9: 711 | J9: ㎡ | K9: 1/1
A10: 4 | B10: 사상 | C10: 엄궁 | D10: 141-24 | E10: 141-24 | F10: 대 | G10: 대지 | H10: 992 | I10: 992 | J10: ㎡ | K10: 1/1
A11: 5 | B11: 사상 | C11: 엄궁 | D11: 141-22 | E11: 141-22 | F11: 대 | G11: 대지 | H11: 661 | I11: 661 | J11: ㎡ | K11: 1/1
A12: 6 | B12: 사상 | C12: 엄궁 | D12: 141-26 | E12: 141-53 | F12: 대 | G12: 대지 | H12: 33 | I12: 33 | J12: ㎡ | K12: 1/1

Sheet 지하사용권
A1: 사용 또는 수용할 토지 및 소유권 이외의 권리자 조서(지하보상)
A2: =총괄!A3 -> ○ 사업명 : 승학터널 민간투자사업(1차:우선)
A3: 세목고시일련번호 | B3: 소재지 | D3: 지번 | F3: 지목 | H3: 토피 (m) | I3: 범위 (평균해 수면기준) | J3: 지하권깊이 산출근거 | K3: 지적 | N3: 소유지분 | O3: 지분 | P3: 지분 | Q3: 지분 | R3: 프라임 | T3: 미래새한 | V3: - | X3: 최고 | Y3: 최저 | Z3: 단가비율 | AD3: 감정평가 법인 평균 | AF3: 소유자 | AK3: 소유권이외의 권리 | AN3: 비고 | AO3: 공탁 | AR3: 등기 | AT3: 취득방법 | BA3: 세목 고시 | BB3: 소재지 | BD3: 지번 | BF3: 지목 | BH3: 토지이용계획원 상 용도지역,용도지구,용도구역 등 | BL3: 지적 | BN3: 소유 | BO3: 지분 | BP3: 지분 | BQ3: 지분 | BR3: OO법인 | BT3: OO법인 | BV3: - | BX3: 최고 | BY3: 최저 | BZ3: 단가비율 | CA3: 감정평가 법인 평균 | CC3: 개별공시지가 | CD3: 소유자 | CH3: 소유권이외의 권리 | CK3: 공탁 | CN3: 등기 | CP3: 취득방법
B4: 구 | C4: 동 | D4: 당초지번 | E4: 편입지번 | F4: 공부상 지목 | G4: 현황 지목 | K4: 공부상 총면적 | L4: 지하권 보상면적 | M4: 단위 | O4: (분자) | P4: (분모) | Q4: 계산 | R4: 단가 | S4: 금액 | T4: 단가 | U4: 금액 | V4: 단가 | W4: 금액 | X4: 단가 | Y4: 단가 | Z4: (최고/최저) | AD4: 평균단가 | AE4: 평균금액(원) | AF4: 성명 | AG4: 등기주소 | AH4: 송달주소 | AI4: 주민 등록번호 | AJ4: 연락처 | AK4: 권리자 | AL4: 주소 | AM4: 권리 내용 | AO4: 공탁일 | AP4: 공탁번호 | AQ4: 공탁기관 | AR4: 등기일 | AS4: 등기번호 | AT4: 취득일 | AU4: 방법 | BA4: 일련번호 | BB4: 구 | BC4: 동 | BD4: 당초지번 | BE4: 편입지번 | BF4: 공부상 지목 | BG4: 현황 지목 | BH4: 용도지역 | BI4: 국토개발법 저촉 (용도지구, 용도구역) | BJ4: 다른 법령 등 저촉 | BK4: 공부상 총면적 | BL4: 편입 면적 | BM4: 단위 | BN4: 지분 | BO4: (분자) | BP4: (분모) | BQ4: 계산 | BR4: 단가 | BS4: 금액 | BT4: 단가 | BU4: 금액 | BV4: 단가 | BW4: 금액 | BX4: 단가 | BY4: 단가 | BZ4: (최고/최저) | CA4: 평균단가 | CB4: 평균금액(원) | CC4: (OOOO년OO월) | CD4: 성명 | CE4: 주소 | CF4: 주민등록번호 | CG4: 연락처 | CH4: 권리자 | CI4: 주소 | CJ4: 권리 내용 | CK4: 공탁일 | CL4: 공탁번호 | CM4: 공탁기관 | CN4: 등기일 | CO4: 등기번호 | CP4: 취득일 | CQ4: 방법 | CR4: 비고
BA5: 1 | BS5: 0 | BU5: 0 | BW5: 0 | BX5: 0 | BY5: 0 | BZ5: #DIV/0! | CA5: 0 | CB5: 0
BA6: 2 | BS6: 0 | BU6: 0 | BW6: 0 | BX6: 0 | BY6: 0 | BZ6: #DIV/0! | CA6: 0 | CB6: 0
BA7: 3 | BS7: 0 | BU7: 0 | BW7: 0 | BX7: 0 | BY7: 0 | BZ7: #DIV/0! | CA7: 0 | CB7: 0
BA8: 4 | BS8: 0 | BU8: 0 | BW8: 0 | BX8: 0 | BY8: 0 | BZ8: #DIV/0! | CA8: 0 | CB8: 0
BA9: 5 | BS9: 0 | BU9: 0 | BW9: 0 | BX9: 0 | BY9: 0 | BZ9: #DIV/0! | CA9: 0 | CB9: 0
BA10: 6 | BS10: 0 | BU10: 0 | BW10: 0 | BX10: 0 | BY10: 0 | BZ10: #DIV/0! | CA10: 0 | CB10: 0
BA11: 7 | BS11: 0 | BU11: 0 | BW11: 0 | BX11: 0 | BY11: 0 | BZ11: #DIV/0! | CA11: 0 | CB11: 0
BA12: 8 | BS12: 0 | BU12: 0 | BW12: 0 | BX12: 0 | BY12: 0 | BZ12: #DIV/0! | CA12: 0 | CB12: 0
BA13: 9 | BS13: 0 | BU13: 0 | BW13: 0 | BX13: 0 | BY13: 0 | BZ13: #DIV/0! | CA13: 0 | CB13: 0
BA14: 10 | BS14: 0 | BU14: 0 | BW14: 0 | BX14: 0 | BY14: 0 | BZ14: #DIV/0! | CA14: 0 | CB14: 0
BS15: 0 | BU15: 0 | BW15: 0 | BX15: 0 | BY15: 0 | BZ15: #DIV/0! | CA15: 0 | CB15: 0
BS16: 0 | BU16: 0 | BW16: 0 | BX16: 0 | BY16: 0 | BZ16: #DIV/0! | CA16: 0 | CB16: 0
BS17: 0 | BU17: 0 | BW17: 0 | BX17: 0 | BY17: 0 | BZ17: #DIV/0! | CA17: 0 | CB17: 0
BS18: 0 | BU18: 0 | BW18: 0 | BX18: 0 | BY18: 0 | BZ18: #DIV/0! | CA18: 0 | CB18: 0
BS19: 0 | BU19: 0 | BW19: 0 | BX19: 0 | BY19: 0 | BZ19: #DIV/0! | CA19: 0 | CB19: 0
BS20: 0 | BU20: 0 | BW20: 0 | BX20: 0 | BY20: 0 | BZ20: #DIV/0! | CA20: 0 | CB20: 0
BS21: 0 | BU21: 0 | BW21: 0 | BX21: 0 | BY21: 0 | BZ21: #DIV/0! | CA21: 0 | CB21: 0
BA22: 11 | BS22: 0 | BU22: 0 | BW22: 0 | BX22: 0 | BY22: 0 | BZ22: #DIV/0! | CA22: 0 | CB22: 0
BA23: 12 | BS23: 0 | BU23: 0 | BW23: 0 | BX23: 0 | BY23: 0 | BZ23: #DIV/0! | CA23: 0 | CB23: 0
BS24: 0 | BU24: 0 | BW24: 0 | BX24: 0 | BY24: 0 | BZ24: #DIV/0! | CA24: 0 | CB24: 0
BA25: 13 | BS25: 0 | BU25: 0 | BW25: 0 | BX25: 0 | BY25: 0 | BZ25: #DIV/0! | CA25: 0 | CB25: 0
BA26: 14 | BS26: 0 | BU26: 0 | BW26: 0 | BX26: 0 | BY26: 0 | BZ26: #DIV/0! | CA26: 0 | CB26: 0
BS27: 0 | BU27: 0 | BW27: 0 | BX27: 0 | BY27: 0 | BZ27: #DIV/0! | CA27: 0 | CB27: 0
BS28: 0 | BU28: 0 | BW28: 0 | BX28: 0 | BY28: 0 | BZ28: #DIV/0! | CA28: 0 | CB28: 0
BS29: 0 | BU29: 0 | BW29: 0 | BX29: 0 | BY29: 0 | BZ29: #DIV/0! | CA29: 0 | CB29: 0
BS30: 0 | BU30: 0 | BW30: 0 | BX30: 0 | BY30: 0 | BZ30: #DIV/0! | CA30: 0 | CB30: 0
BS31: 0 | BU31: 0 | BW31: 0 | BX31: 0 | BY31: 0 | BZ31: #DIV/0! | CA31: 0 | CB31: 0
BA32: 15 | BS32: 0 | BU32: 0 | BW32: 0 | BX32: 0 | BY32: 0 | BZ32: #DIV/0! | CA32: 0 | CB32: 0
BA33: 16 | BS33: 0 | BU33: 0 | BW33: 0 | BX33: 0 | BY33: 0 | BZ33: #DIV/0! | CA33: 0 | CB33: 0
BA34: 17 | BS34: 0 | BU34: 0 | BW34: 0 | BX34: 0 | BY34: 0 | BZ34: #DIV/0! | CA34: 0 | CB34: 0
BA35: 18 | BS35: 0 | BU35: 0 | BW35: 0 | BX35: 0 | BY35: 0 | BZ35: #DIV/0! | CA35: 0 | CB35: 0
BS36: 0 | BU36: 0 | BW36: 0 | BX36: 0 | BY36: 0 | BZ36: #DIV/0! | CA36: 0 | CB36: 0
BS37: 0 | BU37: 0 | BW37: 0 | BX37: 0 | BY37: 0 | BZ37: #DIV/0! | CA37: 0 | CB37: 0
BS38: 0 | BU38: 0 | BW38: 0 | BX38: 0 | BY38: 0 | BZ38: #DIV/0! | CA38: 0 | CB38: 0
BS39: 0 | BU39: 0 | BW39: 0 | BX39: 0 | BY39: 0 | BZ39: #DIV/0! | CA39: 0 | CB39: 0
BS40: 0 | BU40: 0 | BW40: 0 | BX40: 0 | BY40: 0 | BZ40: #DIV/0! | CA40: 0 | CB40: 0
BA41: 19 | BS41: 0 | BU41: 0 | BW41: 0 | BX41: 0 | BY41: 0 | BZ41: #DIV/0! | CA41: 0 | CB41: 0

Sheet 지장물
A1: 손실보상금 산정 및 지급조서(지장물)
A2: =총괄!$A$3 -> ○ 사업명 : 승학터널 민간투자사업(1차:우선)
A3: 일련 | B3: 소재지 | D3: 지번 | F3: 물건 | G3: 구조 및 | H3: 수량 | I3: 단위 | J3: 소유자 | L3: 소유권이외의 권리 | O3: 공탁 | R3: 등기 | T3: 취득방법
A4: 번호 | B4: 구 | C4: 동 | D4: 당초지번 | E4: 편입지번 | F4: 종류 | G4: 규격 | H4: (면적) | J4: 성명 | K4: 주소 | L4: 권리자 | M4: 주소 | N4: 권리 내용 | O4: 공탁일 | P4: 공탁번호 | Q4: 공탁기관 | R4: 등기일 | S4: 등기번호 | T4: 취득일 | U4: 방법 | V4: 비고
A5: 1 | B5: 사상 | C5: 엄궁 | D5: 141-30 | E5: 141-54 | F5: 영업보상 | H5: 1 | I5: 식 | X5: =IF(총괄!$A$3="(","1",RIGHT(총괄!$A$3,LEN(총괄!$A$3)-FIND(":",총괄!$A$3)-1)) -> 승학터널 민간투자사업(1차:우선) | Y5: 지장물
A6: 2 | B6: 사상 | C6: 엄궁 | D6: 141-30 | E6: 141-54 | F6: 아스팔트 믹싱플랜트 | G6: FULLY AUTOMATIC OPERATION(완전자동 운전 시스템) 모델:KIPCOAP-3000/믹서용량:4,000kg/회(batch) 등시설일체포함 | H6: 1 | I6: 식 | X6: =IF(총괄!$A$3="(","1",RIGHT(총괄!$A$3,LEN(총괄!$A$3)-FIND(":",총괄!$A$3)-1)) -> 승학터널 민간투자사업(1차:우선) | Y6: 지장물
A7: 3 | B7: 사상 | C7: 엄궁 | D7: 141-30 | E7: 141-54 | F7: 골재공급 장치1 | G7: COLD BIN(콜드빈) : 18㎥ | H7: 5 | I7: 식 | X7: =IF(총괄!$A$3="(","1",RIGHT(총괄!$A$3,LEN(총괄!$A$3)-FIND(":",총괄!$A$3)-1)) -> 승학터널 민간투자사업(1차:우선) | Y7: 지장물
A8: 4 | B8: 사상 | C8: 엄궁 | D8: 141-30 | E8: 141-54 | F8: 골재공급 장치2 | G8: BELT FEEDER(벨트 피더) : W0.75m | H8: 5 | I8: 식 | X8: =IF(총괄!$A$3="(","1",RIGHT(총괄!$A$3,LEN(총괄!$A$3)-FIND(":",총괄!$A$3)-1)) -> 승학터널 민간투자사업(1차:우선) | Y8: 지장물
A9: 5 | B9: 사상 | C9: 엄궁 | D9: 141-30 | E9: 141-54 | F9: 골재공급 장치3 | G9: HORIZONTAL BELT CONVEYOR(수평 벨트컨베이어) W0.9mX32m | H9: 5 | I9: 식 | X9: =IF(총괄!$A$3="(","1",RIGHT(총괄!$A$3,LEN(총괄!$A$3)-FIND(":",총괄!$A$3)-1)) -> 승학터널 민간투자사업(1차:우선) | Y9: 지장물
A10: 6 | B10: 사상 | C10: 엄궁 | D10: 141-30 | E10: 141-54 | F10: 골재공급 장치4 | G10: INCLINED BELT CONVEYOR(경사 벨트컨베이어) W0.9m×12m | H10: 1 | I10: 식 | X10: =IF(총괄!$A$3="(","1",RIGHT(총괄!$A$3,LEN(총괄!$A$3)-FIND(":",총괄!$A$3)-1)) -> 승학터널 민간투자사업(1차:우선) | Y10: 지장물
A11: 7 | B11: 사상 | C11: 엄궁 | D11: 141-30 | E11: 141-54 | F11: 골재공급 장치5 | G11: OVER SIZE SCREEN(오버사이즈 스크린) 골재공급장치모터포함 | H11: 1 | I11: 식 | X11: =IF(총괄!$A$3="(","1",RIGHT(총괄!$A$3,LEN(총괄!$A$3)-FIND(":",총괄!$A$3)-1)) -> 승학터널 민간투자사업(1차:우선) | Y11: 지장물
A12: 8 | B12: 사상 | C12: 엄궁 | D12: 141-30 | E12: 141-54 | F12: 골재가열장치1 | G12: DRY KILN(드라이 킬른) : 240 ton/HR | H12: 1 | I12: 식 | X12: =IF(총괄!$A$3="(","1",RIGHT(총괄!$A$3,LEN(총괄!$A$3)-FIND(":",총괄!$A$3)-1)) -> 승학터널 민간투자사업(1차:우선) | Y12: 지장물
A13: 9 | B13: 사상 | C13: 엄궁 | D13: 141-30 | E13: 141-54 | F13: 골재가열장치2 | G13: 범양써머텍사 CC800,버너제어판, 가스배관,모터30kw 등 시설일체 포함 | H13: 1 | I13: 식 | X13: =IF(총괄!$A$3="(","1",RIGHT(총괄!$A$3,LEN(총괄!$A$3)-FIND(":",총괄!$A$3)-1)) -> 승학터널 민간투자사업(1차:우선) | Y13: 지장물
A14: 10 | B14: 사상 | C14: 엄궁 | D14: 141-30 | E14: 141-54 | F14: 골재가열장치3 | G14: HOT ELEVATOR(핫 엘리베이터) 240ton/HR 공재가열장치 모터 포함 | H14: 1 | I14: 식 | X14: =IF(총괄!$A$3="(","1",RIGHT(총괄!$A$3,LEN(총괄!$A$3)-FIND(":",총괄!$A$3)-1)) -> 승학터널 민간투자사업(1차:우선) | Y14: 지장물
A15: 11 | B15: 사상 | C15: 엄궁 | D15: 141-30 | E15: 141-54 | F15: 골재 선별 및 저장 장치1 | G15: VIBRATING SCREEN(진동 스크린) | H15: 1 | I15: 식 | X15: =IF(총괄!$A$3="(","1",RIGHT(총괄!$A$3,LEN(총괄!$A$3)-FIND(":",총괄!$A$3)-1)) -> 승학터널 민간투자사업(1차:우선) | Y15: 지장물
A16: 12 | B16: 사상 | C16: 엄궁 | D16: 141-30 | E16: 141-54 | F16: 골재 선별 및 저장 장치2 | G16: HOT BIN(핫 빈) : 5BIN | H16: 1 | I16: 식 | X16: =IF(총괄!$A$3="(","1",RIGHT(총괄!$A$3,LEN(총괄!$A$3)-FIND(":",총괄!$A$3)-1)) -> 승학터널 민간투자사업(1차:우선) | Y16: 지장물
A17: 13 | B17: 사상 | C17: 엄궁 | D17: 141-30 | E17: 141-54 | F17: 골재 선별 및 저장 장치3 | G17: OVER FLOW HOPPER(오버 플로우 호퍼) 골재선별및저장장치모터포함 | H17: 1 | I17: 식 | X17: =IF(총괄!$A$3="(","1",RIGHT(총괄!$A$3,LEN(총괄!$A$3)-FIND(":",총괄!$A$3)-1)) -> 승학터널 민간투자사업(1차:우선) | Y17: 지장물
... A52: 48 | B52: 사상 | C52: 엄궁 | D52: 141-30 | E52: 141-54 | F52: 차양 | G52: 경량철골조 칼라강판지붕, 5×4m, 계단 및 작업대 등 시설일체 포함 (골재가열장치2 앞) | H52: 20 | I52: ㎡ | X52: =IF(총괄!$A$3="(","1",RIGHT(총괄!$A$3,LEN(총괄!$A$3)-FIND(":",총괄!$A$3)-1)) -> 승학터널 민간투자사업(1차:우선) | Y52: 지장물
A53: 49 | B53: 사상 | C53: 엄궁 | D53: 141-30 | E53: 141-54 | F53: 바닥포장 | G53: 콘크리트 (플랜트설비 하부) | H53: 360 | I53: ㎡
A54: 50 | B54: 사상 | C54: 엄궁 | D54: 141-30 | E54: 141-54 | F54: 휀스 | G54: 칼라강판, H4m | H54: 25 | I54: m
A55: 51 | B55: 사상 | C55: 엄궁 | D55: 141-30 | E55: 141-54 | F55: 계단 | G55: 철제, 3.5×0.6m | H55: 1 | I55: 식 | X55: =IF(총괄!$A$3="(","1",RIGHT(총괄!$A$3,LEN(총괄!$A$3)-FIND(":",총괄!$A$3)-1)) -> 승학터널 민간투자사업(1차:우선) | Y55: 지장물
A56: 52 | B56: 사상 | C56: 엄궁 | D56: 141-30 | E56: 141-54 | F56: CCTV시설 | G56: 3ea | H56: 1 | I56: 식 | X56: =IF(총괄!$A$3="(","1",RIGHT(총괄!$A$3,LEN(총괄!$A$3)-FIND(":",총괄!$A$3)-1)) -> 승학터널 민간투자사업(1차:우선) | Y56: 지장물
A57: 53 | B57: 사상 | C57: 엄궁 | D57: 141-20 | E57: 141-52 | F57: 제2종근린생활시설(사무소)(1층) | G57: 철근콘크리트조 스라브지붕 | H57: 114.79 | I57: ㎡ | X57: =IF(총괄!$A$3="(","1",RIGHT(총괄!$A$3,LEN(총괄!$A$3)-FIND(":",총괄!$A$3)-1)) -> 승학터널 민간투자사업(1차:우선) | Y57: 지장물
A58: 54 | B58: 사상 | C58: 엄궁 | D58: 141-20 | E58: 141-52 | F58: 위험물저장및처리시설(주유소)(1층) | G58: 철근콘크리트조 스라브지붕 | H58: 106.18 | I58: ㎡ | X58: =IF(총괄!$A$3="(","1",RIGHT(총괄!$A$3,LEN(총괄!$A$3)-FIND(":",총괄!$A$3)-1)) -> 승학터널 민간투자사업(1차:우선) | Y58: 지장물
A59: 55 | B59: 사상 | C59: 엄궁 | D59: 141-20 | E59: 141-52 | F59: 위험물저장및처리시설(주유소)(2층) | G59: 철근콘크리트조 스라브지붕 | H59: 106.18 | I59: ㎡ | X59: =IF(총괄!$A$3="(","1",RIGHT(총괄!$A$3,LEN(총괄!$A$3)-FIND(":",총괄!$A$3)-1)) -> 승학터널 민간투자사업(1차:우선) | Y59: 지장물
A60: 56 | B60: 사상 | C60: 엄궁 | D60: 141-20 | E60: 141-52 | F60: 제2종근린생활시설(사무소)(2층) | G60: 철근콘크리트조 스라브지붕 | H60: 114.79 | I60: ㎡ | X60: =IF(총괄!$A$3="(","1",RIGHT(총괄!$A$3,LEN(총괄!$A$3)-FIND(":",총괄!$A$3)-1)) -> 승학터널 민간투자사업(1차:우선) | Y60: 지장물
A61: 57 | B61: 사상 | C61: 엄궁 | D61: 141-20 | E61: 141-52 | F61: 위험물저장및처리시설(주유소)(3층) | G61: 철근콘크리트조 스라브지붕 | H61: 106.18 | I61: ㎡
A62: 58 | B62: 사상 | C62: 엄궁 | D62: 141-20 | E62: 141-52 | F62: 제2종근린생활시설(사무소)(3층) | G62: 철근콘크리트조 스라브지붕 | H62: 114.79 | I62: ㎡ | X62: =IF(총괄!$A$3="(","1",RIGHT(총괄!$A$3,LEN(총괄!$A$3)-FIND(":",총괄!$A$3)-1)) -> 승학터널 민간투자사업(1차:우선) | Y62: 지장물
A63: 59 | B63: 사상 | C63: 엄궁 | D63: 141-20 | E63: 141-52 | F63: 위험물저장및처리시설(주유소)(4층) | G63: 철근콘크리트조(일부벽체 판넬) 스라브지붕 | H63: 65 | I63: ㎡
A64: 60 | B64: 사상 | C64: 엄궁 | D64: 141-20 | E64: 141-52 | F64: 위험물저장및처리시설(주유소)(4층)계단실 및 화장실 | G64: 철근콘크리트조 스라브지붕 | H64: 40.35 | I64: ㎡
A65: 61 | B65: 사상 | C65: 엄궁 | D65: 141-20 | E65: 141-52 | F65: 제2종근린생활시설(사무소)(4층) | G65: 기타강구조(각파이프) 기타지붕(샌드위치판넬) / 2008년 증축신고 / 현재는 멸실 | H65: 20.72 | I65: ㎡
A66: 62 | B66: 사상 | C66: 엄궁 | D66: 141-20 | E66: 141-52 | F66: 캐노피, 위험물저장및처리시설(주유소)(4층) | G66: 일반철골구조 칼라강판지붕, 캐노피 간판, 조명시설 등 시설일체포함 | H66: 185.47 | I66: ㎡ | X66: =IF(총괄!$A$3="(","1",RIGHT(총괄!$A$3,LEN(총괄!$A$3)-FIND(":",총괄!$A$3)-1)) -> 승학터널 민간투자사업(1차:우선) | Y66: 지장물
A67: 63 | B67: 사상 | C67: 엄궁 | D67: 141-20 | E67: 141-52 | F67: 위험물저장및처리시설(주유소)5층 | G67: 철근콘크리트조 스라브지붕 | H67: 105.35 | I67: ㎡ | X67: =IF(총괄!$A$3="(","1",RIGHT(총괄!$A$3,LEN(총괄!$A$3)-FIND(":",총괄!$A$3)-1)) -> 승학터널 민간투자사업(1차:우선) | Y67: 지장물
A68: 64 | B68: 사상 | C68: 엄궁 | D68: 141-20 | E68: 141-52 | F68: 계단탑(6층) | G68: 철근콘크리트조 스라브지붕 (3+2.5)×6m×1/2 | H68: 16.5 | I68: ㎡ | X68: =IF(총괄!$A$3="(","1",RIGHT(총괄!$A$3,LEN(총괄!$A$3)-FIND(":",총괄!$A$3)-1)) -> 승학터널 민간투자사업(1차:우선) | Y68: 지장물
A69: 65 | B69: 사상 | C69: 엄궁 | D69: 141-20 | E69: 141-52 | F69: 주유기 시설 | G69: (외부) 주유기 5ea, ,천장형 주유기 2ea, 주유기아일랜드 2ea(철근콘크리트,8.6m×1.1m, 3.5m×1.1m), 유수분리시설 등 시설일체 포함 | H69: 1 | I69: 식 | X69: =IF(총괄!$A$3="(","1",RIGHT(총괄!$A$3,LEN(총괄!$A$3)-FIND(":",총괄!$A$3)-1)) -> 승학터널 민간투자사업(1차:우선) | Y69: 지장물
A70: 66 | B70: 사상 | C70: 엄궁 | D70: 141-20 | E70: 141-52 | F70: 유류저장실 | G70: 철근콘크리트조 27.4m×11.0m, H 4.0m(매립) | H70: 301.4 | I70: ㎡ | X70: =IF(총괄!$A$3="(","1",RIGHT(총괄!$A$3,LEN(총괄!$A$3)-FIND(":",총괄!$A$3)-1)) -> 승학터널 민간투자사업(1차:우선) | Y70: 지장물
A71: 67 | B71: 사상 | C71: 엄궁 | D71: 141-20 | E71: 141-52 | F71: 유류저장탱크시설 | G71: 유류저장탱크 12개 총 42만리터, 배관시설, 펌프시설, 방재시설, 유증기 통기관12ea, (유류주입구 12ea, 유루주입구 철제보호시설 3.4×0.5,H1m 포함) 등 시설일체 포함 | H71: 1 | I71: 식 | X71: =IF(총괄!$A$3="(","1",RIGHT(총괄!$A$3,LEN(총괄!$A$3)-FIND(":",총괄!$A$3)-1)) -> 승학터널 민간투자사업(1차:우선) | Y71: 지장물
A72: 68 | B72: 사상 | C72: 엄궁 | D72: 141-20 | E72: 141-52 | F72: 동력인입 시설 | G72: 계약종별 : 산업용(갑) 저압 계약전력:55Kwh | H72: 1 | I72: 식 | X72: =IF(총괄!$A$3="(","1",RIGHT(총괄!$A$3,LEN(총괄!$A$3)-FIND(":",총괄!$A$3)-1)) -> 승학터널 민간투자사업(1차:우선) | Y72: 지장물
A73: 69 | B73: 사상 | C73: 엄궁 | D73: 141-20 | E73: 141-52 | F73: 바닥포장 | G73: 콘크리트 ,배수시설 등 시설일체 포함(외부) | H73: 704 | I73: ㎡ | X73: =IF(총괄!$A$3="(","1",RIGHT(총괄!$A$3,LEN(총괄!$A$3)-FIND(":",총괄!$A$3)-1)) -> 승학터널 민간투자사업(1차:우선) | Y73: 지장물
A74: 70 | B74: 사상 | C74: 엄궁 | D74: 141-20 | E74: 141-52 | F74: 방호벽 | G74: 블록조, H2.1m(외부 | H74: 95 | I74: m | X74: =IF(총괄!$A$3="(","1",RIGHT(총괄!$A$3,LEN(총괄!$A$3)-FIND(":",총괄!$A$3)-1)) -> 승학터널 민간투자사업(1차:우선) | Y74: 지장물
A75: 71 | B75: 사상 | C75: 엄궁 | D75: 141-20 | E75: 141-52 | F75: 담장 | G75: 아연강판벽체 철제파이프기둥, H5.5m, 등 시설일체 포함(외부 양측) | H75: 25 | I75: m | X75: =IF(총괄!$A$3="(","1",RIGHT(총괄!$A$3,LEN(총괄!$A$3)-FIND(":",총괄!$A$3)-1)) -> 승학터널 민간투자사업(1차:우선) | Y75: 지장물
A76: 72 | B76: 사상 | C76: 엄궁 | D76: 141-20 | E76: 141-52 | F76: 방진시설1 | G76: 철제파이프 천막, H5.5m 등 시설일체 포함(외부우측) | H76: 8 | I76: m | X76: =IF(총괄!$A$3="(","1",RIGHT(총괄!$A$3,LEN(총괄!$A$3)-FIND(":",총괄!$A$3)-1)) -> 승학터널 민간투자사업(1차:우선) | Y76: 지장물
A77: 73 | B77: 사상 | C77: 엄궁 | D77: 141-20 | E77: 141-52 | F77: 방진시설2 | G77: 철제파이프 천막, H2m 등 시설일체 포함(외부우측) | H77: 9 | I77: m | X77: =IF(총괄!$A$3="(","1",RIGHT(총괄!$A$3,LEN(총괄!$A$3)-FIND(":",총괄!$A$3)-1)) -> 승학터널 민간투자사업(1차:우선) | Y77: 지장물
... A112: 108 | B112: 사상 | C112: 엄궁 | D112: 141-20 | E112: 141-52 | F112: 동산이전(4층,외부) | G112: 요소수,점보롤,책상,TV,금고,냉장고,정수기,이동식난로,철제캐비넷,철제선반(0.5×2.0,H1.8m×2ea) 등 각종 동산일체포함 | H112: 1 | I112: 식 | X112: =IF(총괄!$A$3="(","1",RIGHT(총괄!$A$3,LEN(총괄!$A$3)-FIND(":",총괄!$A$3)-1)) -> 승학터널 민간투자사업(1차:우선) | Y112: 지장물
A113: 109 | B113: 사상 | C113: 엄궁 | D113: 141-20 | E113: 141-52 | F113: 영업보상 | H113: 1 | I113: 식 | X113: =IF(총괄!$A$3="(","1",RIGHT(총괄!$A$3,LEN(총괄!$A$3)-FIND(":",총괄!$A$3)-1)) -> 승학터널 민간투자사업(1차:우선) | Y113: 지장물
A114: 110 | B114: 사상 | C114: 엄궁 | D114: 141-21 | E114: 141-21 | F114: 자원순환관련시설(폐기물재활용시설-창고)1층 (제시목록 1번) | G114: 일반철골구조 칼라시트강판지붕(현황 공장) Ｈ-Beam 300ｘ300mm | H114: 422.98 | I114: ㎡ | X114: =IF(총괄!$A$3="(","1",RIGHT(총괄!$A$3,LEN(총괄!$A$3)-FIND(":",총괄!$A$3)-1)) -> 승학터널 민간투자사업(1차:우선) | Y114: 지장물
A116: 111 | B116: 사상 | C116: 엄궁 | D116: 141-21 | E116: 141-21 | F116: 자원순환관련시설(폐기물재활용시설-관리실)1층 (제시목록 2번) | G116: 철근콘크리트구조 슬래브지붕 (실측 제외면적 (5.8 x 3.2) - (2 x 1.8) / 2 = 16.7㎡) | H116: 76.9 | I116: ㎡ | X116: =IF(총괄!$A$3="(","1",RIGHT(총괄!$A$3,LEN(총괄!$A$3)-FIND(":",총괄!$A$3)-1)) -> 승학터널 민간투자사업(1차:우선) | Y116: 지장물
A118: 112 | B118: 사상 | C118: 엄궁 | D118: 141-21 | E118: 141-21 | F118: 계단실 2층 (폐기물시설, 관리실) (제시목록 3번) | G118: 일반철골구조 슬래브지붕 Ｈ-Beam 300ｘ300mm | H118: 16.24 | I118: ㎡
A120: 113 | B120: 사상 | C120: 엄궁 | D120: 141-21 | E120: 141-21 | F120: 자원순환관련시설(폐기물재활용시설-사무실)3층 (제시목록 4번) | G120: 일반철골구조 슬래브지붕 Ｈ-Beam 300ｘ300mm | H120: 131.02 | I120: ㎡ | X120: =IF(총괄!$A$3="(","1",RIGHT(총괄!$A$3,LEN(총괄!$A$3)-FIND(":",총괄!$A$3)-1)) -> 승학터널 민간투자사업(1차:우선) | Y120: 지장물
A122: 114 | B122: 사상 | C122: 엄궁 | D122: 141-21 | E122: 141-21 | F122: 자원순환관련시설(폐기물재활용시설-사무실)4층 (제시목록 5번) | G122: 일반철골구조 슬래브지붕 Ｈ-Beam 300ｘ300mm | H122: 125.59 | I122: ㎡ | X122: =IF(총괄!$A$3="(","1",RIGHT(총괄!$A$3,LEN(총괄!$A$3)-FIND(":",총괄!$A$3)-1)) -> 승학터널 민간투자사업(1차:우선) | Y122: 지장물
A124: 115 | B124: 사상 | C124: 엄궁 | D124: 141-21 | E124: 141-21 | F124: 계단실(옥상) (제시목록 6번) | G124: 일반철골조 판넬지붕. 3.2 x 4.5m Ｈ-Beam 300ｘ300ｍｍ | H124: 14.4 | I124: ㎡
A125: 116 | B125: 사상 | C125: 엄궁 | D125: 141-21 | E125: 141-21 | F125: 2층 화장실(달아내기) (제시목록 7번) | G125: 철골조 판넬지붕, 2.8 x 3.6m | H125: 10.1 | I125: ㎡ | X125: =IF(총괄!$A$3="(","1",RIGHT(총괄!$A$3,LEN(총괄!$A$3)-FIND(":",총괄!$A$3)-1)) -> 승학터널 민간투자사업(1차:우선) | Y125: 지장물
A126: 117 | B126: 사상 | C126: 엄궁 | D126: 141-21 | E126: 141-21 | F126: 2층창고(위험물저장소) (제시목록 8번) | G126: 판넬조 판넬지붕, 3m x 1.7m, H2.7m | H126: 5.1 | I126: ㎡
A127: 118 | B127: 사상 | C127: 엄궁 | D127: 141-21 | E127: 141-21 | F127: 1층 조종 기계실 (제시목록 9번) | G127: 조립식/판넬지붕 2.1 x 3.3m, H2m | H127: 6.9 | I127: ㎡
A128: 119 | B128: 사상 | C128: 엄궁 | D128: 141-21 | E128: 141-21 | F128: 1층 컨테이너(자재실) (제시목록 10번) | G128: 6.3 x 2.9m, H2.2m 철제 선반: 6x0.6xH1.8m 앵글선반, 쇼파, 냉온수기, 냉장고, 철제 캐비닛, 목재선반 및 기타 잡자재 일체포함 | H128: 18.3 | I128: ㎡
A129: 120 | B129: 사상 | C129: 엄궁 | D129: 141-21 | E129: 141-21 | F129: 건축 및 건설 폐기물 처리시설 (제시목록 15~43,45,47~50,52번) | G129: 처리용량 : 200Ton/Hr 설비 세부내역 : 별첨 참조 | H129: 1 | I129: 식 | X129: =IF(총괄!$A$3="(","1",RIGHT(총괄!$A$3,LEN(총괄!$A$3)-FIND(":",총괄!$A$3)-1)) -> 승학터널 민간투자사업(1차:우선) | Y129: 지장물
A130: 121 | B130: 사상 | C130: 엄궁 | D130: 141-21 | E130: 141-21 | F130: Air Compressor (제시목록 46번) | G130: 4HP x 2대, 이동식 | H130: 1 | I130: 식 | X130: =IF(총괄!$A$3="(","1",RIGHT(총괄!$A$3,LEN(총괄!$A$3)-FIND(":",총괄!$A$3)-1)) -> 승학터널 민간투자사업(1차:우선) | Y130: 지장물
A131: 122 | B131: 사상 | C131: 엄궁 | D131: 141-21 | E131: 141-21 | F131: 물탱크 시설2(1, 2층) (제시목록 55번) | G131: 1층: 1.5톤1개, 2층: 2톤3개, 3톤1개 및 시설일체 포함 | H131: 1 | I131: 식 | X131: =IF(총괄!$A$3="(","1",RIGHT(총괄!$A$3,LEN(총괄!$A$3)-FIND(":",총괄!$A$3)-1)) -> 승학터널 민간투자사업(1차:우선) | Y131: 지장물
A132: 123 | B132: 사상 | C132: 엄궁 | D132: 141-21 | E132: 141-21 | F132: 살수시설(고압펌프)-1, 2층 (제시목록 51, 56, 57번) | G132: House(앵글 및 철판): 1.7 x 2.1m, 호스길이 95m x 5HP + 57m x 5HP . 분사노즐 : ￠20mm x App.75ea | H132: 1 | I132: 식 | X132: =IF(총괄!$A$3="(","1",RIGHT(총괄!$A$3,LEN(총괄!$A$3)-FIND(":",총괄!$A$3)-1)) -> 승학터널 민간투자사업(1차:우선) | Y132: 지장물
A133: 124 | B133: 사상 | C133: 엄궁 | D133: 141-24 | E133: 141-24 | F133: 계근대(계량대) (제시목록 58번) | G133: Cap : 50Ton/10kg 철제 Platform: 3 x 7.5M, Load Cell, Indicator 등 일체 포함 | H133: 1 | I133: 식 | X133: =IF(총괄!$A$3="(","1",RIGHT(총괄!$A$3,LEN(총괄!$A$3)-FIND(":",총괄!$A$3)-1)) -> 승학터널 민간투자사업(1차:우선) | Y133: 지장물
A134: 125 | B134: 사상 | C134: 엄궁 | D134: 141-21 | E134: 141-21 | F134: 계량대 (제시목록 59번) | G134: 50톤/10kg(건설폐기물 야적장에 매립) | H134: 1 | I134: 식 | X134: =IF(총괄!$A$3="(","1",RIGHT(총괄!$A$3,LEN(총괄!$A$3)-FIND(":",총괄!$A$3)-1)) -> 승학터널 민간투자사업(1차:우선) | Y134: 지장물
A135: 126 | B135: 사상 | C135: 엄궁 | D135: 141-21 141-24 | E135: 141-21 141-24 | F135: 세륜기 (제시목록 60번) | G135: [DTW-110, 5.5 x 2.3 x D1M, 기초 콘크리트, 구동 모터 등 시설일체 포함] x 2ea 및 , 수중모터 5HPx 1대 포함 | H135: 1 | I135: 식
A136: 127 | B136: 사상 | C136: 엄궁 | D136: 141-21 | E136: 141-21 | F136: 고압 살수기 (제시목록 61번) | G136: 2층, 이동식, 1.5HP(1대) | H136: 1 | I136: 식 | X136: =IF(총괄!$A$3="(","1",RIGHT(총괄!$A$3,LEN(총괄!$A$3)-FIND(":",총괄!$A$3)-1)) -> 승학터널 민간투자사업(1차:우선) | Y136: 지장물
A137: 128 | B137: 사상 | C137: 엄궁 | D137: 141-21 | E137: 141-21 | F137: 수변전 설비 (제시목록 44) | G137: 계약전력 : 650Kw 계약종별: 726 산업용(을)고압A T.R: 3Ø 350KVA & 300KVA 22,900 / 440, 380/220V ASS, PF, MOF, COS 철제 지지구조물, 배전반 2Box 및 기타 부대시설 일체 | H137: 1 | I137: 식
A138: 129 | B138: 사상 | C138: 엄궁 | D138: 141-21 141-22 141-24 | E138: 141-21 141-22 141-24 | F138: 상부 방진벽 (철제&판넬) (제시목록 64번) | G138: 철제(2T) &, 판넬 1. 외부 34 x H10m =340㎡ 내부 34 x H2.7m=91.8㎡ 2. 18 x H10m=180㎡ 3. 25.4 x H10m=254㎡ 4. 10 x H10m=100㎡ 5. 6.4 x H10m=64㎡ 6. 53 x H10m=530㎡ 7. 26 x H10m=260㎡ 총 : 1,819.8㎡ | H138: 1 | I138: 식
A139: 130 | B139: 사상 | C139: 엄궁 | D139: 141-21 | E139: 141-21 | F139: 상부 방진벽 (강판) (제시목록 65번) | G139: 강판(8T), 3.5 x 1.8M x 130Sheets | H139: 1 | I139: 식
A140: 131 | B140: 사상 | C140: 엄궁 | D140: 141-21 141-22 141-24 | E140: 141-21 141-22 141-24 | F140: 상부 방진벽 (H-Beam) (제시목록 66번) | G140: 총 : H-Beam(250x250mm) 89ea, 가로H-Beam(200x200mm) 332ea (가로Beam 2m 간격 H-Beam 사이4ea) 1. 200 x 400 x 13T x 13(L)m = 10ea .가로Beam: L 2m x 36ea 2. 300 x 350 x 10T x 10(L)m = 15ea .가로Beam: L 2m x 56ea 3. 300 x 300 x 15T x 15(L)m = 15ea .가로Beam: L 2m x 56ea 4. 550 x 310 x 25T x 15(L)m = 10ea .가로Beam: L 2m x36ea 5. 350 x 175 x 10T x 13(L)m = 25ea .가로Beam: L 2m x 96ea 6. 250 x 250 x 12T x 10(L)m = 14ea .가로Beam: L 2m x 52ea | H140: 1 | I140: 식 | X140: =IF(총괄!$A$3="(","1",RIGHT(총괄!$A$3,LEN(총괄!$A$3)-FIND(":",총괄!$A$3)-1)) -> 승학터널 민간투자사업(1차:우선) | Y140: 지장물
A141: 132 | B141: 사상 | C141: 엄궁 | D141: 141-21 141-22 141-24 | E141: 141-21 141-22 141-24 | F141: 상부 방진벽(그물망) (제시목록 67번) | G141: 1. 14 x 2.1m=29.4㎡ 2. 17.1 x 2.1m=35.91㎡ 3. 34 x 2.1m=71.4㎡ 4. 18 x 2.1m=37.8㎡ 5. 10 x 2.1m=21㎡ 6. 6.4 x 2.1m=13.44㎡ 7. 53 x 2.1m=111.3㎡ 8. 26 x 2.1m=54.6㎡ 총 : 374.85㎡ | H141: 1 | I141: 식
A142: 133 | B142: 사상 | C142: 엄궁 | D142: 141-21 141-22 141-24 | E142: 141-21 141-22 141-24 | F142: 하부벽(옹벽) (제시목록 68번) | G142: 지표면 하부 매설 철근콘크리트 2 x 3 x ×230(L)=1380㎥ 기초바닥 H-Beam : 250 x 250 x 12T x 12M x 38ea 가로Beam 200 x 200 x 10T x 2M x 176ea | H142: 1 | I142: 식 | X142: =IF(총괄!$A$3="(","1",RIGHT(총괄!$A$3,LEN(총괄!$A$3)-FIND(":",총괄!$A$3)-1)) -> 승학터널 민간투자사업(1차:우선) | Y142: 지장물
A143: 134 | B143: 사상 | C143: 엄궁 | D143: 141-21 | E143: 141-21 | F143: 2층 방지벽 (제시목록 69번) | G143: 출입구 옆, 피로티 부분: 판넬, H2.7m | H143: 18 | I143: m
A144: 135 | B144: 사상 | C144: 엄궁 | D144: 141-21 | E144: 141-21 | F144: 1층 방지벽 (제시목록 70번) | G144: 주유소 옆: 판넬, H5m | H144: 14 | I144: m
A145: 136 | B145: 사상 | C145: 엄궁 | D145: 141-21 141-22 | E145: 141-21 141-22 | F145: 사업장 바닥포장 (제시목록 71번) | G145: 철근콘크리트, 1층 : 913㎡ x D2m 2층 : 237㎡ x D2m=474㎥ | H145: 1 | I145: 식 | X145: =IF(총괄!$A$3="(","1",RIGHT(총괄!$A$3,LEN(총괄!$A$3)-FIND(":",총괄!$A$3)-1)) -> 승학터널 민간투자사업(1차:우선) | Y145: 지장물
A146: 137 | B146: 사상 | C146: 엄궁 | D146: 141-21 | E146: 141-21 | F146: 대형기계 바닥포장 (제시목록 72번) | G146: 철근콘크리트, 400㎡ x D3m (Crusher설비, Conveyor 등 설비 설치된 바닥부분) | H146: 1 | I146: 식
A147: 138 | B147: 사상 | C147: 엄궁 | D147: 141-24 | E147: 141-24 | F147: 폐기물 처리장 (폐지류 등 보관용) (제시목록 73번) | G147: 상부 철근콘크리트 : 13.6 x 5.6 x D6m 바닥기초 철근콘크리트 : 13.6 x 5.6 x D2m | H147: 1 | I147: 식
A148: 139 | B148: 사상 | C148: 엄궁 | D148: 141-21 141-24 | E148: 141-21 141-24 | F148: 대문(철재, 철판) (제시목록 74번) | G148: 문주: H-Beam 200 x 170㎜ 1층 대문(서측): L12.5 x H2.1m 2층 대문(동측): L12.7 x H2m | H148: 1 | I148: 식
A149: 140 | B149: 사상 | C149: 엄궁 | D149: 141-21 | E149: 141-21 | F149: 철재 계단 (외부 이동통로) (제시목록 75번) | G149: 1. W0.8 x L6.5m 2. W0.8 x L2.5m 3. W1 x L6m 4. W0.4 x L3.1m 5. W0.7 x L5.9m 6. W0.6 x L3.4m 7. W0.6 x L3m | H149: 1 | I149: 식 | X149: =IF(총괄!$A$3="(","1",RIGHT(총괄!$A$3,LEN(총괄!$A$3)-FIND(":",총괄!$A$3)-1)) -> 승학터널 민간투자사업(1차:우선) | Y149: 지장물
A150: 141 | B150: 사상 | C150: 엄궁 | D150: 141-24 | E150: 141-24 | F150: 출하실(1층, 사무실) (제시목록 76번) | G150: 컨테이너, 3 x 2.3 x H2.7m | H150: 6.9 | I150: ㎡ | X150: =IF(총괄!$A$3="(","1",RIGHT(총괄!$A$3,LEN(총괄!$A$3)-FIND(":",총괄!$A$3)-1)) -> 승학터널 민간투자사업(1차:우선) | Y150: 지장물
A151: 142 | B151: 사상 | C151: 엄궁 | D151: 141-21 141-22 141-24 | E151: 141-21 141-22 141-24 | F151: 전기굴삭기 전원공급설비 (제시목록 78번) | G151: . 주동력선: 120SQ . 지상송전탑 : Φ450mm x H13M(상하 보정추 & 콘크리트기초 포함) . 수전탑 : 철제 앵글 0.6 x 0.6 x H6m . 브러쉬 슬립링 장치 . 기타 부대시설 일체 포함 | H151: 3 | I151: 식 | X151: =IF(총괄!$A$3="(","1",RIGHT(총괄!$A$3,LEN(총괄!$A$3)-FIND(":",총괄!$A$3)-1)) -> 승학터널 민간투자사업(1차:우선) | Y151: 지장물
A152: 143 | B152: 사상 | C152: 엄궁 | D152: 141-21 | E152: 141-21 | F152: 전기굴삭기(두산) (제시목록 79번) | G152: DX350LC / 부산02-3708 Operating Weight: 34.1Ton 동력선 120SQ - 150M . Driving: Caterpillar Type | H152: 1 | I152: 대 | X152: =IF(총괄!$A$3="(","1",RIGHT(총괄!$A$3,LEN(총괄!$A$3)-FIND(":",총괄!$A$3)-1)) -> 승학터널 민간투자사업(1차:우선) | Y152: 지장물
A153: 144 | B153: 사상 | C153: 엄궁 | D153: 141-21 | E153: 141-21 | F153: 전기굴삭기(현대) (제시목록 80번) | G153: ROBEX 300LC-7/부산02-3461 Operating Weight: 29.6Ton 동력선 120SQ - 170M . Driving: Caterpillar Type | H153: 1 | I153: 대 | X153: =IF(총괄!$A$3="(","1",RIGHT(총괄!$A$3,LEN(총괄!$A$3)-FIND(":",총괄!$A$3)-1)) -> 승학터널 민간투자사업(1차:우선) | Y153: 지장물
A154: 145 | B154: 사상 | C154: 엄궁 | D154: 141-21 | E154: 141-21 | F154: 전기굴삭기(현대) (제시목록 81번) | G154: ROBEX 300LC-7/부산02-3315 Operating Weight: 29.6Ton 동력선 120SQ - 150M . Driving: Caterpillar Type | H154: 1 | I154: 대 | X154: =IF(총괄!$A$3="(","1",RIGHT(총괄!$A$3,LEN(총괄!$A$3)-FIND(":",총괄!$A$3)-1)) -> 승학터널 민간투자사업(1차:우선) | Y154: 지장물
A155: 146 | B155: 사상 | C155: 엄궁 | D155: 141-21 | E155: 141-21 | F155: 10포크레인(현대) (제시목록 82번) | G155: ROBEX 300LC/부산02가4156/경유 Operating Weight: 29.9Ton . Driving: Caterpillar Type | H155: 1 | I155: 대
A156: 147 | B156: 사상 | C156: 엄궁 | D156: 141-21 | E156: 141-21 | F156: 10포크레인(현대) (제시목록 83번) | G156: ROBEX 300LC/부산02가1575/경유 Operating Weight: 29.7Ton . Driving: Caterpillar Type | H156: 1 | I156: 대 | X156: =IF(총괄!$A$3="(","1",RIGHT(총괄!$A$3,LEN(총괄!$A$3)-FIND(":",총괄!$A$3)-1)) -> 승학터널 민간투자사업(1차:우선) | Y156: 지장물
A157: 148 | B157: 사상 | C157: 엄궁 | D157: 141-21 | E157: 141-21 | F157: 03미니 포크레인 (제시목록 84번) | G157: ROBEX 55/부산02가4131/경유 Operating Weight: 5.5Ton | H157: 1 | I157: 대
A158: 149 | B158: 사상 | C158: 엄궁 | D158: 141-21 | E158: 141-21 | F158: 대형화물차 (제시목록 86번) | G158: 24톤 암롤트럭 (부산95아4417) | H158: 1 | I158: 대
A159: 150 | B159: 사상 | C159: 엄궁 | D159: 141-21 | E159: 141-21 | F159: 대형화물차 (제시목록 87번) | G159: 21.7톤 암롤트럭 (부산95아1789) | H159: 1 | I159: 대
A160: 151 | B160: 사상 | C160: 엄궁 | D160: 141-21 | E160: 141-21 | F160: 대형화물차 (제시목록 88번) | G160: 5톤 카고트럭 - 집게차 (부산95아3538) | H160: 1 | I160: 대 | X160: =IF(총괄!$A$3="(","1",RIGHT(총괄!$A$3,LEN(총괄!$A$3)-FIND(":",총괄!$A$3)-1)) -> 승학터널 민간투자사업(1차:우선) | Y160: 지장물
A161: 152 | B161: 사상 | C161: 엄궁 | D161: 141-21 | E161: 141-21 | F161: 대형화물차 (제시목록 89번) | G161: 뉴파워트럭 (부산95아1790) | H161: 1 | I161: 대
A162: 153 | B162: 사상 | C162: 엄궁 | D162: 141-21 | E162: 141-21 | F162: 대형화물차 (제시목록 90번) | G162: 25.5톤 덤프트럭 (006러6737) | H162: 1 | I162: 대 | X162: =IF(총괄!$A$3="(","1",RIGHT(총괄!$A$3,LEN(총괄!$A$3)-FIND(":",총괄!$A$3)-1)) -> 승학터널 민간투자사업(1차:우선) | Y162: 지장물
A163: 154 | B163: 사상 | C163: 엄궁 | D163: 141-21 | E163: 141-21 | F163: 대형화물차 (제시목록 91번) | G163: 25.5톤 덤프트럭 (006러6738) | H163: 1 | I163: 대
A164: 155 | B164: 사상 | C164: 엄궁 | D164: 141-21 | E164: 141-21 | F164: 화물차 (제시목록 92번) | G164: 1톤 트럭 (89주8359) | H164: 1 | I164: 대
A165: 156 | B165: 사상 | C165: 엄궁 | D165: 141-21 141-22 | E165: 141-21 141-22 | F165: 순환골재 (제시목록 62번) | G165: 석분(13mm), 5,000Ton | H165: 1 | I165: 식 | X165: =IF(총괄!$A$3="(","1",RIGHT(총괄!$A$3,LEN(총괄!$A$3)-FIND(":",총괄!$A$3)-1)) -> 승학터널 민간투자사업(1차:우선) | Y165: 지장물
A166: 157 | B166: 사상 | C166: 엄궁 | D166: 141-21 141-22 141-24 | E166: 141-21 141-22 141-24 | F166: 건설폐기물 (제시목록 63번) | G166: 건설폐기물, 20,174Ton(12,609㎥) | H166: 1 | I166: 식
A167: 158 | B167: 사상 | C167: 엄궁 | D167: 141-21 | E167: 141-21 | F167: 물탱크 시설1(옥상) (제시목록 11, 12번) | G167: PE, 2.4 x 2.4 x H2.1m, 가압펌프(600W) 등 시설일체 포함 | H167: 1 | I167: 식
A168: 159 | B168: 사상 | C168: 엄궁 | D168: 141-21 | E168: 141-21 | F168: 철제펜스(옥상) (제시목록 13번) | G168: (수변전 설비)메쉬, H2.1m | H168: 10 | I168: m
A169: 160 | B169: 사상 | C169: 엄궁 | D169: 141-21 | E169: 141-21 | F169: 간판(동측도로변) (제시목록 14번) | G169: 아크릴, 2.9 x H1.1m(1ea), 5.8 x H1.3m(1ea) | H169: 1 | I169: 식 | X169: =IF(총괄!$A$3="(","1",RIGHT(총괄!$A$3,LEN(총괄!$A$3)-FIND(":",총괄!$A$3)-1)) -> 승학터널 민간투자사업(1차:우선) | Y169: 지장물
A170: 161 | B170: 사상 | C170: 엄궁 | D170: 141-24 | E170: 141-24 | F170: 수변전 설비 (제시목록 53, 54번) | G170: 계약전력 : 500Kw 계약종별: 726 산업용(을)고압A T.R: 3Ø 500KVA 22,900 / 440V ASS, PF, MOF, COS 전주x2ea, 배전반 및 기타 부대시설 일체 | H170: 1 | I170: 식 | X170: =IF(총괄!$A$3="(","1",RIGHT(총괄!$A$3,LEN(총괄!$A$3)-FIND(":",총괄!$A$3)-1)) -> 승학터널 민간투자사업(1차:우선) | Y170: 지장물
A171: 162 | B171: 사상 | C171: 엄궁 | D171: 141-21 | E171: 141-21 | F171: CCTV시설 (제시기호(동산) 18,61,62,77번) | G171: 카메라 35대, 모니터 3대(삼성2, LG1), 본체 등 일체 | H171: 1 | I171: 식 | X171: =IF(총괄!$A$3="(","1",RIGHT(총괄!$A$3,LEN(총괄!$A$3)-FIND(":",총괄!$A$3)-1)) -> 승학터널 민간투자사업(1차:우선) | Y171: 지장물
A172: 163 | B172: 사상 | C172: 엄궁 | D172: 141-21 | E172: 141-21 | F172: 폐기물 입고장(2층) | G172: 철판, 3 x 5.4m, T2㎝ | H172: 16.2 | I172: ㎡ | X172: =IF(총괄!$A$3="(","1",RIGHT(총괄!$A$3,LEN(총괄!$A$3)-FIND(":",총괄!$A$3)-1)) -> 승학터널 민간투자사업(1차:우선) | Y172: 지장물
A173: 164 | B173: 사상 | C173: 엄궁 | D173: 141-21 | E173: 141-21 | F173: 전기온수기 | G173: 2층 화장실, ARISTON, 배관 등 시설일체 | H173: 1 | I173: 식 | X173: =IF(총괄!$A$3="(","1",RIGHT(총괄!$A$3,LEN(총괄!$A$3)-FIND(":",총괄!$A$3)-1)) -> 승학터널 민간투자사업(1차:우선) | Y173: 지장물
...

Sheet 영업보상
A1: 손실보상금 산정 및 지급조서(영업보상)
A2: =총괄!$A$3 -> ○ 사업명 : 승학터널 민간투자사업(1차:우선)
A3: 세목 고시 | B3: 소재지 | D3: 지번 | F3: 상호 | G3: 구조 및 | L3: 수량 | M3: 단위 | N3: 소유 | O3: 지분 | P3: 지분 | Q3: 지분 | R3: 프라임 | T3: 미래새한 | V3: - | X3: 최고 | Y3: 최저 | Z3: 단가비율 | AD3: 감정평가 법인 평균 | AF3: 소유자 | AJ3: 소유권이외의 권리 | AM3: 공탁 | AP3: 등기 | AR3: 취득방법
A4: 일련번호 | B4: 구 | C4: 동 | D4: 당초지번 | E4: 편입지번 | G4: 규격 | L4: (면적) | N4: 지분 | O4: (분자) | P4: (분모) | Q4: 계산 | R4: 단가 | S4: 금액 | T4: 단가 | U4: 금액 | V4: 단가 | W4: 금액 | X4: 단가 | Y4: 단가 | Z4: (최고/최저) | AD4: 평균단가 | AE4: 평균금액(원) | AF4: 성명 | AG4: 주소 | AH4: 주민등록번호 | AI4: 연락처 | AJ4: 권리자 | AK4: 주소 | AL4: 권리 내용 | AM4: 공탁일 | AN4: 공탁번호 | AO4: 공탁기관 | AP4: 등기일 | AQ4: 등기번호 | AR4: 취득일 | AS4: 방법 | AT4: 비고
O5: =IF(N5="1","1",LEFT(N5,FIND("/",N5)-1)) -> #VALUE! | P5: =IF(N5="1","1",RIGHT(N5,LEN(N5)-FIND("/",N5))) -> #VALUE! | Q5: =O5/P5 -> #VALUE! | S5: =IF(ISNUMBER(FIND("↑",R5))=TRUE,"↑",IF(ISNUMBER(FIND("↑",R6))=TRUE,R5,IF(ISNUMBER(FIND("포함",R5))=TRUE,R5,IFERROR(ROUNDDOWN(R5*$L5*$Q5,-1),0)))) -> 0 | U5: =IF(ISNUMBER(FIND("↑",T5))=TRUE,"↑",IF(ISNUMBER(FIND("↑",T6))=TRUE,T5,IF(ISNUMBER(FIND("포함",T5))=TRUE,T5,IFERROR(ROUNDDOWN(T5*$L5*$Q5,-1),0)))) -> 0 | W5: =IF(ISNUMBER(FIND("↑",V5))=TRUE,"↑",IF(ISNUMBER(FIND("↑",V6))=TRUE,V5,IF(ISNUMBER(FIND("포함",V5))=TRUE,V5,IFERROR(ROUNDDOWN(V5*$L5*$Q5,-1),0)))) -> 0 | X5: =MAX(R5,T5,V5) -> 0 | Y5: =MIN(R5,T5,V5) -> 0 | Z5: =X5/Y5 -> #DIV/0! | AD5: =IF(ISNUMBER(FIND("↑",R5))=TRUE,"↑",IF(ISNUMBER(FIND("포함",R5))=TRUE,R5,IF(ISNUMBER(FIND("↑",R6))=TRUE,"일괄",IFERROR(AVERAGE(R5,T5,V5),0)))) -> 0 | AE5: =IF(ISNUMBER(FIND("↑",R5))=TRUE,"↑",IF(ISNUMBER(FIND("포함",R5))=TRUE,R5,IF(ISNUMBER(FIND("↑",R6))=TRUE,IFERROR(ROUNDDOWN(IF(V5="",AVERAGEA(U5,S5),AVERAGEA(S5,U5,W5)),-1),0),IFERROR(ROUNDDOWN(AD5*L5*Q5,-1),0)))) -> 0 | AV5: =IF(총괄!$A$3="(","1",RIGHT(총괄!$A$3,LEN(총괄!$A$3)-FIND(":",총괄!$A$3)-1)) -> 승학터널 민간투자사업(1차:우선) | AW5: 영업보상
O6: =IF(N6="1","1",LEFT(N6,FIND("/",N6)-1)) -> #VALUE! | P6: =IF(N6="1","1",RIGHT(N6,LEN(N6)-FIND("/",N6))) -> #VALUE! | Q6: =O6/P6 -> #VALUE! | S6: =IF(ISNUMBER(FIND("↑",R6))=TRUE,"↑",IF(ISNUMBER(FIND("↑",R7))=TRUE,R6,IF(ISNUMBER(FIND("포함",R6))=TRUE,R6,IFERROR(ROUNDDOWN(R6*$L6*$Q6,-1),0)))) -> 0 | U6: =IF(ISNUMBER(FIND("↑",T6))=TRUE,"↑",IF(ISNUMBER(FIND("↑",T7))=TRUE,T6,IF(ISNUMBER(FIND("포함",T6))=TRUE,T6,IFERROR(ROUNDDOWN(T6*$L6*$Q6,-1),0)))) -> 0 | W6: =IF(ISNUMBER(FIND("↑",V6))=TRUE,"↑",IF(ISNUMBER(FIND("↑",V7))=TRUE,V6,IF(ISNUMBER(FIND("포함",V6))=TRUE,V6,IFERROR(ROUNDDOWN(V6*$L6*$Q6,-1),0)))) -> 0 | X6: =MAX(R6,T6,V6) -> 0 | Y6: =MIN(R6,T6,V6) -> 0 | Z6: =X6/Y6 -> #DIV/0! | AD6: =IF(ISNUMBER(FIND("↑",R6))=TRUE,"↑",IF(ISNUMBER(FIND("포함",R6))=TRUE,R6,IF(ISNUMBER(FIND("↑",R7))=TRUE,"일괄",IFERROR(AVERAGE(R6,T6,V6),0)))) -> 0 | AE6: =IF(ISNUMBER(FIND("↑",R6))=TRUE,"↑",IF(ISNUMBER(FIND("포함",R6))=TRUE,R6,IF(ISNUMBER(FIND("↑",R7))=TRUE,IFERROR(ROUNDDOWN(IF(V6="",AVERAGEA(U6,S6),AVERAGEA(S6,U6,W6)),-1),0),IFERROR(ROUNDDOWN(AD6*L6*Q6,-1),0)))) -> 0 | AV6: =IF(총괄!$A$3="(","1",RIGHT(총괄!$A$3,LEN(총괄!$A$3)-FIND(":",총괄!$A$3)-1)) -> 승학터널 민간투자사업(1차:우선) | AW6: 영업보상
O7: =IF(N7="1","1",LEFT(N7,FIND("/",N7)-1)) -> #VALUE! | P7: =IF(N7="1","1",RIGHT(N7,LEN(N7)-FIND("/",N7))) -> #VALUE! | Q7: =O7/P7 -> #VALUE! | S7: =IF(ISNUMBER(FIND("↑",R7))=TRUE,"↑",IF(ISNUMBER(FIND("↑",R8))=TRUE,R7,IF(ISNUMBER(FIND("포함",R7))=TRUE,R7,IFERROR(ROUNDDOWN(R7*$L7*$Q7,-1),0)))) -> 0 | U7: =IF(ISNUMBER(FIND("↑",T7))=TRUE,"↑",IF(ISNUMBER(FIND("↑",T8))=TRUE,T7,IF(ISNUMBER(FIND("포함",T7))=TRUE,T7,IFERROR(ROUNDDOWN(T7*$L7*$Q7,-1),0)))) -> 0 | W7: =IF(ISNUMBER(FIND("↑",V7))=TRUE,"↑",IF(ISNUMBER(FIND("↑",V8))=TRUE,V7,IF(ISNUMBER(FIND("포함",V7))=TRUE,V7,IFERROR(ROUNDDOWN(V7*$L7*$Q7,-1),0)))) -> 0 | X7: =MAX(R7,T7,V7) -> 0 | Y7: =MIN(R7,T7,V7) -> 0 | Z7: =X7/Y7 -> #DIV/0! | AD7: =IF(ISNUMBER(FIND("↑",R7))=TRUE,"↑",IF(ISNUMBER(FIND("포함",R7))=TRUE,R7,IF(ISNUMBER(FIND("↑",R8))=TRUE,"일괄",IFERROR(AVERAGE(R7,T7,V7),0)))) -> 0 | AE7: =IF(ISNUMBER(FIND("↑",R7))=TRUE,"↑",IF(ISNUMBER(FIND("포함",R7))=TRUE,R7,IF(ISNUMBER(FIND("↑",R8))=TRUE,IFERROR(ROUNDDOWN(IF(V7="",AVERAGEA(U7,S7),AVERAGEA(S7,U7,W7)),-1),0),IFERROR(ROUNDDOWN(AD7*L7*Q7,-1),0)))) -> 0 | AV7: =IF(총괄!$A$3="(","1",RIGHT(총괄!$A$3,LEN(총괄!$A$3)-FIND(":",총괄!$A$3)-1)) -> 승학터널 민간투자사업(1차:우선) | AW7: 영업보상
O8: =IF(N8="1","1",LEFT(N8,FIND("/",N8)-1)) -> #VALUE! | P8: =IF(N8="1","1",RIGHT(N8,LEN(N8)-FIND("/",N8))) -> #VALUE! | Q8: =O8/P8 -> #VALUE! | S8: =IF(ISNUMBER(FIND("↑",R8))=TRUE,"↑",IF(ISNUMBER(FIND("↑",R9))=TRUE,R8,IF(ISNUMBER(FIND("포함",R8))=TRUE,R8,IFERROR(ROUNDDOWN(R8*$L8*$Q8,-1),0)))) -> 0 | U8: =IF(ISNUMBER(FIND("↑",T8))=TRUE,"↑",IF(ISNUMBER(FIND("↑",T9))=TRUE,T8,IF(ISNUMBER(FIND("포함",T8))=TRUE,T8,IFERROR(ROUNDDOWN(T8*$L8*$Q8,-1),0)))) -> 0 | W8: =IF(ISNUMBER(FIND("↑",V8))=TRUE,"↑",IF(ISNUMBER(FIND("↑",V9))=TRUE,V8,IF(ISNUMBER(FIND("포함",V8))=TRUE,V8,IFERROR(ROUNDDOWN(V8*$L8*$Q8,-1),0)))) -> 0 | X8: =MAX(R8,T8,V8) -> 0 | Y8: =MIN(R8,T8,V8) -> 0 | Z8: =X8/Y8 -> #DIV/0! | AD8: =IF(ISNUMBER(FIND("↑",R8))=TRUE,"↑",IF(ISNUMBER(FIND("포함",R8))=TRUE,R8,IF(ISNUMBER(FIND("↑",R9))=TRUE,"일괄",IFERROR(AVERAGE(R8,T8,V8),0)))) -> 0 | AE8: =IF(ISNUMBER(FIND("↑",R8))=TRUE,"↑",IF(ISNUMBER(FIND("포함",R8))=TRUE,R8,IF(ISNUMBER(FIND("↑",R9))=TRUE,IFERROR(ROUNDDOWN(IF(V8="",AVERAGEA(U8,S8),AVERAGEA(S8,U8,W8)),-1),0),IFERROR(ROUNDDOWN(AD8*L8*Q8,-1),0)))) -> 0 | AV8: =IF(총괄!$A$3="(","1",RIGHT(총괄!$A$3,LEN(총괄!$A$3)-FIND(":",총괄!$A$3)-1)) -> 승학터널 민간투자사업(1차:우선) | AW8: 영업보상
O9: =IF(N9="1","1",LEFT(N9,FIND("/",N9)-1)) -> #VALUE! | P9: =IF(N9="1","1",RIGHT(N9,LEN(N9)-FIND("/",N9))) -> #VALUE! | Q9: =O9/P9 -> #VALUE! | S9: =IF(ISNUMBER(FIND("↑",R9))=TRUE,"↑",IF(ISNUMBER(FIND("↑",R10))=TRUE,R9,IF(ISNUMBER(FIND("포함",R9))=TRUE,R9,IFERROR(ROUNDDOWN(R9*$L9*$Q9,-1),0)))) -> 0 | U9: =IF(ISNUMBER(FIND("↑",T9))=TRUE,"↑",IF(ISNUMBER(FIND("↑",T10))=TRUE,T9,IF(ISNUMBER(FIND("포함",T9))=TRUE,T9,IFERROR(ROUNDDOWN(T9*$L9*$Q9,-1),0)))) -> 0 | W9: =IF(ISNUMBER(FIND("↑",V9))=TRUE,"↑",IF(ISNUMBER(FIND("↑",V10))=TRUE,V9,IF(ISNUMBER(FIND("포함",V9))=TRUE,V9,IFERROR(ROUNDDOWN(V9*$L9*$Q9,-1),0)))) -> 0 | X9: =MAX(R9,T9,V9) -> 0 | Y9: =MIN(R9,T9,V9) -> 0 | Z9: =X9/Y9 -> #DIV/0! | AD9: =IF(ISNUMBER(FIND("↑",R9))=TRUE,"↑",IF(ISNUMBER(FIND("포함",R9))=TRUE,R9,IF(ISNUMBER(FIND("↑",R10))=TRUE,"일괄",IFERROR(AVERAGE(R9,T9,V9),0)))) -> 0 | AE9: =IF(ISNUMBER(FIND("↑",R9))=TRUE,"↑",IF(ISNUMBER(FIND("포함",R9))=TRUE,R9,IF(ISNUMBER(FIND("↑",R10))=TRUE,IFERROR(ROUNDDOWN(IF(V9="",AVERAGEA(U9,S9),AVERAGEA(S9,U9,W9)),-1),0),IFERROR(ROUNDDOWN(AD9*L9*Q9,-1),0)))) -> 0 | AV9: =IF(총괄!$A$3="(","1",RIGHT(총괄!$A$3,LEN(총괄!$A$3)-FIND(":",총괄!$A$3)-1)) -> 승학터널 민간투자사업(1차:우선) | AW9: 영업보상
O10: =IF(N10="1","1",LEFT(N10,FIND("/",N10)-1)) -> #VALUE! | P10: =IF(N10="1","1",RIGHT(N10,LEN(N10)-FIND("/",N10))) -> #VALUE! | Q10: =O10/P10 -> #VALUE! | S10: =IF(ISNUMBER(FIND("↑",R10))=TRUE,"↑",IF(ISNUMBER(FIND("↑",R11))=TRUE,R10,IF(ISNUMBER(FIND("포함",R10))=TRUE,R10,IFERROR(ROUNDDOWN(R10*$L10*$Q10,-1),0)))) -> 0 | U10: =IF(ISNUMBER(FIND("↑",T10))=TRUE,"↑",IF(ISNUMBER(FIND("↑",T11))=TRUE,T10,IF(ISNUMBER(FIND("포함",T10))=TRUE,T10,IFERROR(ROUNDDOWN(T10*$L10*$Q10,-1),0)))) -> 0 | W10: =IF(ISNUMBER(FIND("↑",V10))=TRUE,"↑",IF(ISNUMBER(FIND("↑",V11))=TRUE,V10,IF(ISNUMBER(FIND("포함",V10))=TRUE,V10,IFERROR(ROUNDDOWN(V10*$L10*$Q10,-1),0)))) -> 0 | X10: =MAX(R10,T10,V10) -> 0 | Y10: =MIN(R10,T10,V10) -> 0 | Z10: =X10/Y10 -> #DIV/0! | AD10: =IF(ISNUMBER(FIND("↑",R10))=TRUE,"↑",IF(ISNUMBER(FIND("포함",R10))=TRUE,R10,IF(ISNUMBER(FIND("↑",R11))=TRUE,"일괄",IFERROR(AVERAGE(R10,T10,V10),0)))) -> 0 | AE10: =IF(ISNUMBER(FIND("↑",R10))=TRUE,"↑",IF(ISNUMBER(FIND("포함",R10))=TRUE,R10,IF(ISNUMBER(FIND("↑",R11))=TRUE,IFERROR(ROUNDDOWN(IF(V10="",AVERAGEA(U10,S10),AVERAGEA(S10,U10,W10)),-1),0),IFERROR(ROUNDDOWN(AD10*L10*Q10,-1),0)))) -> 0 | AV10: =IF(총괄!$A$3="(","1",RIGHT(총괄!$A$3,LEN(총괄!$A$3)-FIND(":",총괄!$A$3)-1)) -> 승학터널 민간투자사업(1차:우선) | AW10: 영업보상
O11: =IF(N11="1","1",LEFT(N11,FIND("/",N11)-1)) -> #VALUE! | P11: =IF(N11="1","1",RIGHT(N11,LEN(N11)-FIND("/",N11))) -> #VALUE! | Q11: =O11/P11 -> #VALUE! | S11: =IF(ISNUMBER(FIND("↑",R11))=TRUE,"↑",IF(ISNUMBER(FIND("↑",R12))=TRUE,R11,IF(ISNUMBER(FIND("포함",R11))=TRUE,R11,IFERROR(ROUNDDOWN(R11*$L11*$Q11,-1),0)))) -> 0 | U11: =IF(ISNUMBER(FIND("↑",T11))=TRUE,"↑",IF(ISNUMBER(FIND("↑",T12))=TRUE,T11,IF(ISNUMBER(FIND("포함",T11))=TRUE,T11,IFERROR(ROUNDDOWN(T11*$L11*$Q11,-1),0)))) -> 0 | W11: =IF(ISNUMBER(FIND("↑",V11))=TRUE,"↑",IF(ISNUMBER(FIND("↑",V12))=TRUE,V11,IF(ISNUMBER(FIND("포함",V11))=TRUE,V11,IFERROR(ROUNDDOWN(V11*$L11*$Q11,-1),0)))) -> 0 | X11: =MAX(R11,T11,V11) -> 0 | Y11: =MIN(R11,T11,V11) -> 0 | Z11: =X11/Y11 -> #DIV/0! | AD11: =IF(ISNUMBER(FIND("↑",R11))=TRUE,"↑",IF(ISNUMBER(FIND("포함",R11))=TRUE,R11,IF(ISNUMBER(FIND("↑",R12))=TRUE,"일괄",IFERROR(AVERAGE(R11,T11,V11),0)))) -> 0 | AE11: =IF(ISNUMBER(FIND("↑",R11))=TRUE,"↑",IF(ISNUMBER(FIND("포함",R11))=TRUE,R11,IF(ISNUMBER(FIND("↑",R12))=TRUE,IFERROR(ROUNDDOWN(IF(V11="",AVERAGEA(U11,S11),AVERAGEA(S11,U11,W11)),-1),0),IFERROR(ROUNDDOWN(AD11*L11*Q11,-1),0)))) -> 0 | AV11: =IF(총괄!$A$3="(","1",RIGHT(총괄!$A$3,LEN(총괄!$A$3)-FIND(":",총괄!$A$3)-1)) -> 승학터널 민간투자사업(1차:우선) | AW11: 영업보상
O12: =IF(N12="1","1",LEFT(N12,FIND("/",N12)-1)) -> #VALUE! | P12: =IF(N12="1","1",RIGHT(N12,LEN(N12)-FIND("/",N12))) -> #VALUE! | Q12: =O12/P12 -> #VALUE! | S12: =IF(ISNUMBER(FIND("↑",R12))=TRUE,"↑",IF(ISNUMBER(FIND("↑",R13))=TRUE,R12,IF(ISNUMBER(FIND("포함",R12))=TRUE,R12,IFERROR(ROUNDDOWN(R12*$L12*$Q12,-1),0)))) -> 0 | U12: =IF(ISNUMBER(FIND("↑",T12))=TRUE,"↑",IF(ISNUMBER(FIND("↑",T13))=TRUE,T12,IF(ISNUMBER(FIND("포함",T12))=TRUE,T12,IFERROR(ROUNDDOWN(T12*$L12*$Q12,-1),0)))) -> 0 | W12: =IF(ISNUMBER(FIND("↑",V12))=TRUE,"↑",IF(ISNUMBER(FIND("↑",V13))=TRUE,V12,IF(ISNUMBER(FIND("포함",V12))=TRUE,V12,IFERROR(ROUNDDOWN(V12*$L12*$Q12,-1),0)))) -> 0 | X12: =MAX(R12,T12,V12) -> 0 | Y12: =MIN(R12,T12,V12) -> 0 | Z12: =X12/Y12 -> #DIV/0! | AD12: =IF(ISNUMBER(FIND("↑",R12))=TRUE,"↑",IF(ISNUMBER(FIND("포함",R12))=TRUE,R12,IF(ISNUMBER(FIND("↑",R13))=TRUE,"일괄",IFERROR(AVERAGE(R12,T12,V12),0)))) -> 0 | AE12: =IF(ISNUMBER(FIND("↑",R12))=TRUE,"↑",IF(ISNUMBER(FIND("포함",R12))=TRUE,R12,IF(ISNUMBER(FIND("↑",R13))=TRUE,IFERROR(ROUNDDOWN(IF(V12="",AVERAGEA(U12,S12),AVERAGEA(S12,U12,W12)),-1),0),IFERROR(ROUNDDOWN(AD12*L12*Q12,-1),0)))) -> 0 | AV12: =IF(총괄!$A$3="(","1",RIGHT(총괄!$A$3,LEN(총괄!$A$3)-FIND(":",총괄!$A$3)-1)) -> 승학터널 민간투자사업(1차:우선) | AW12: 영업보상
O13: =IF(N13="1","1",LEFT(N13,FIND("/",N13)-1)) -> #VALUE! | P13: =IF(N13="1","1",RIGHT(N13,LEN(N13)-FIND("/",N13))) -> #VALUE! | Q13: =O13/P13 -> #VALUE! | S13: =IF(ISNUMBER(FIND("↑",R13))=TRUE,"↑",IF(ISNUMBER(FIND("↑",R14))=TRUE,R13,IF(ISNUMBER(FIND("포함",R13))=TRUE,R13,IFERROR(ROUNDDOWN(R13*$L13*$Q13,-1),0)))) -> 0 | U13: =IF(ISNUMBER(FIND("↑",T13))=TRUE,"↑",IF(ISNUMBER(FIND("↑",T14))=TRUE,T13,IF(ISNUMBER(FIND("포함",T13))=TRUE,T13,IFERROR(ROUNDDOWN(T13*$L13*$Q13,-1),0)))) -> 0 | W13: =IF(ISNUMBER(FIND("↑",V13))=TRUE,"↑",IF(ISNUMBER(FIND("↑",V14))=TRUE,V13,IF(ISNUMBER(FIND("포함",V13))=TRUE,V13,IFERROR(ROUNDDOWN(V13*$L13*$Q13,-1),0)))) -> 0 | X13: =MAX(R13,T13,V13) -> 0 | Y13: =MIN(R13,T13,V13) -> 0 | Z13: =X13/Y13 -> #DIV/0! | AD13: =IF(ISNUMBER(FIND("↑",R13))=TRUE,"↑",IF(ISNUMBER(FIND("포함",R13))=TRUE,R13,IF(ISNUMBER(FIND("↑",R14))=TRUE,"일괄",IFERROR(AVERAGE(R13,T13,V13),0)))) -> 0 | AE13: =IF(ISNUMBER(FIND("↑",R13))=TRUE,"↑",IF(ISNUMBER(FIND("포함",R13))=TRUE,R13,IF(ISNUMBER(FIND("↑",R14))=TRUE,IFERROR(ROUNDDOWN(IF(V13="",AVERAGEA(U13,S13),AVERAGEA(S13,U13,W13)),-1),0),IFERROR(ROUNDDOWN(AD13*L13*Q13,-1),0)))) -> 0 | AV13: =IF(총괄!$A$3="(","1",RIGHT(총괄!$A$3,LEN(총괄!$A$3)-FIND(":",총괄!$A$3)-1)) -> 승학터널 민간투자사업(1차:우선) | AW13: 영업보상
O14: =IF(N14="1","1",LEFT(N14,FIND("/",N14)-1)) -> #VALUE! | P14: =IF(N14="1","1",RIGHT(N14,LEN(N14)-FIND("/",N14))) -> #VALUE! | Q14: =O14/P14 -> #VALUE! | S14: =IF(ISNUMBER(FIND("↑",R14))=TRUE,"↑",IF(ISNUMBER(FIND("↑",R15))=TRUE,R14,IF(ISNUMBER(FIND("포함",R14))=TRUE,R14,IFERROR(ROUNDDOWN(R14*$L14*$Q14,-1),0)))) -> 0 | U14: =IF(ISNUMBER(FIND("↑",T14))=TRUE,"↑",IF(ISNUMBER(FIND("↑",T15))=TRUE,T14,IF(ISNUMBER(FIND("포함",T14))=TRUE,T14,IFERROR(ROUNDDOWN(T14*$L14*$Q14,-1),0)))) -> 0 | W14: =IF(ISNUMBER(FIND("↑",V14))=TRUE,"↑",IF(ISNUMBER(FIND("↑",V15))=TRUE,V14,IF(ISNUMBER(FIND("포함",V14))=TRUE,V14,IFERROR(ROUNDDOWN(V14*$L14*$Q14,-1),0)))) -> 0 | X14: =MAX(R14,T14,V14) -> 0 | Y14: =MIN(R14,T14,V14) -> 0 | Z14: =X14/Y14 -> #DIV/0! | AD14: =IF(ISNUMBER(FIND("↑",R14))=TRUE,"↑",IF(ISNUMBER(FIND("포함",R14))=TRUE,R14,IF(ISNUMBER(FIND("↑",R15))=TRUE,"일괄",IFERROR(AVERAGE(R14,T14,V14),0)))) -> 0 | AE14: =IF(ISNUMBER(FIND("↑",R14))=TRUE,"↑",IF(ISNUMBER(FIND("포함",R14))=TRUE,R14,IF(ISNUMBER(FIND("↑",R15))=TRUE,IFERROR(ROUNDDOWN(IF(V14="",AVERAGEA(U14,S14),AVERAGEA(S14,U14,W14)),-1),0),IFERROR(ROUNDDOWN(AD14*L14*Q14,-1),0)))) -> 0 | AV14: =IF(총괄!$A$3="(","1",RIGHT(총괄!$A$3,LEN(총괄!$A$3)-FIND(":",총괄!$A$3)-1)) -> 승학터널 민간투자사업(1차:우선) | AW14: 영업보상
O15: =IF(N15="1","1",LEFT(N15,FIND("/",N15)-1)) -> #VALUE! | P15: =IF(N15="1","1",RIGHT(N15,LEN(N15)-FIND("/",N15))) -> #VALUE! | Q15: =O15/P15 -> #VALUE! | S15: =IF(ISNUMBER(FIND("↑",R15))=TRUE,"↑",IF(ISNUMBER(FIND("↑",R16))=TRUE,R15,IF(ISNUMBER(FIND("포함",R15))=TRUE,R15,IFERROR(ROUNDDOWN(R15*$L15*$Q15,-1),0)))) -> 0 | U15: =IF(ISNUMBER(FIND("↑",T15))=TRUE,"↑",IF(ISNUMBER(FIND("↑",T16))=TRUE,T15,IF(ISNUMBER(FIND("포함",T15))=TRUE,T15,IFERROR(ROUNDDOWN(T15*$L15*$Q15,-1),0)))) -> 0 | W15: =IF(ISNUMBER(FIND("↑",V15))=TRUE,"↑",IF(ISNUMBER(FIND("↑",V16))=TRUE,V15,IF(ISNUMBER(FIND("포함",V15))=TRUE,V15,IFERROR(ROUNDDOWN(V15*$L15*$Q15,-1),0)))) -> 0 | X15: =MAX(R15,T15,V15) -> 0 | Y15: =MIN(R15,T15,V15) -> 0 | Z15: =X15/Y15 -> #DIV/0! | AD15: =IF(ISNUMBER(FIND("↑",R15))=TRUE,"↑",IF(ISNUMBER(FIND("포함",R15))=TRUE,R15,IF(ISNUMBER(FIND("↑",R16))=TRUE,"일괄",IFERROR(AVERAGE(R15,T15,V15),0)))) -> 0 | AE15: =IF(ISNUMBER(FIND("↑",R15))=TRUE,"↑",IF(ISNUMBER(FIND("포함",R15))=TRUE,R15,IF(ISNUMBER(FIND("↑",R16))=TRUE,IFERROR(ROUNDDOWN(IF(V15="",AVERAGEA(U15,S15),AVERAGEA(S15,U15,W15)),-1),0),IFERROR(ROUNDDOWN(AD15*L15*Q15,-1),0)))) -> 0 | AV15: =IF(총괄!$A$3="(","1",RIGHT(총괄!$A$3,LEN(총괄!$A$3)-FIND(":",총괄!$A$3)-1)) -> 승학터널 민간투자사업(1차:우선) | AW15: 영업보상
O16: =IF(N16="1","1",LEFT(N16,FIND("/",N16)-1)) -> #VALUE! | P16: =IF(N16="1","1",RIGHT(N16,LEN(N16)-FIND("/",N16))) -> #VALUE! | Q16: =O16/P16 -> #VALUE! | S16: =IF(ISNUMBER(FIND("↑",R16))=TRUE,"↑",IF(ISNUMBER(FIND("↑",R17))=TRUE,R16,IF(ISNUMBER(FIND("포함",R16))=TRUE,R16,IFERROR(ROUNDDOWN(R16*$L16*$Q16,-1),0)))) -> 0 | U16: =IF(ISNUMBER(FIND("↑",T16))=TRUE,"↑",IF(ISNUMBER(FIND("↑",T17))=TRUE,T16,IF(ISNUMBER(FIND("포함",T16))=TRUE,T16,IFERROR(ROUNDDOWN(T16*$L16*$Q16,-1),0)))) -> 0 | W16: =IF(ISNUMBER(FIND("↑",V16))=TRUE,"↑",IF(ISNUMBER(FIND("↑",V17))=TRUE,V16,IF(ISNUMBER(FIND("포함",V16))=TRUE,V16,IFERROR(ROUNDDOWN(V16*$L16*$Q16,-1),0)))) -> 0 | X16: =MAX(R16,T16,V16) -> 0 | Y16: =MIN(R16,T16,V16) -> 0 | Z16: =X16/Y16 -> #DIV/0! | AD16: =IF(ISNUMBER(FIND("↑",R16))=TRUE,"↑",IF(ISNUMBER(FIND("포함",R16))=TRUE,R16,IF(ISNUMBER(FIND("↑",R17))=TRUE,"일괄",IFERROR(AVERAGE(R16,T16,V16),0)))) -> 0 | AE16: =IF(ISNUMBER(FIND("↑",R16))=TRUE,"↑",IF(ISNUMBER(FIND("포함",R16))=TRUE,R16,IF(ISNUMBER(FIND("↑",R17))=TRUE,IFERROR(ROUNDDOWN(IF(V16="",AVERAGEA(U16,S16),AVERAGEA(S16,U16,W16)),-1),0),IFERROR(ROUNDDOWN(AD16*L16*Q16,-1),0)))) -> 0 | AV16: =IF(총괄!$A$3="(","1",RIGHT(총괄!$A$3,LEN(총괄!$A$3)-FIND(":",총괄!$A$3)-1)) -> 승학터널 민간투자사업(1차:우선) | AW16: 영업보상
... O51: =IF(N51="1","1",LEFT(N51,FIND("/",N51)-1)) -> #VALUE! | P51: =IF(N51="1","1",RIGHT(N51,LEN(N51)-FIND("/",N51))) -> #VALUE! | Q51: =O51/P51 -> #VALUE! | S51: =IF(ISNUMBER(FIND("↑",R51))=TRUE,"↑",IF(ISNUMBER(FIND("↑",R52))=TRUE,R51,IF(ISNUMBER(FIND("포함",R51))=TRUE,R51,IFERROR(ROUNDDOWN(R51*$L51*$Q51,-1),0)))) -> 0 | U51: =IF(ISNUMBER(FIND("↑",T51))=TRUE,"↑",IF(ISNUMBER(FIND("↑",T52))=TRUE,T51,IF(ISNUMBER(FIND("포함",T51))=TRUE,T51,IFERROR(ROUNDDOWN(T51*$L51*$Q51,-1),0)))) -> 0 | W51: =IF(ISNUMBER(FIND("↑",V51))=TRUE,"↑",IF(ISNUMBER(FIND("↑",V52))=TRUE,V51,IF(ISNUMBER(FIND("포함",V51))=TRUE,V51,IFERROR(ROUNDDOWN(V51*$L51*$Q51,-1),0)))) -> 0 | X51: =MAX(R51,T51,V51) -> 0 | Y51: =MIN(R51,T51,V51) -> 0 | Z51: =X51/Y51 -> #DIV/0! | AD51: =IF(ISNUMBER(FIND("↑",R51))=TRUE,"↑",IF(ISNUMBER(FIND("포함",R51))=TRUE,R51,IF(ISNUMBER(FIND("↑",R52))=TRUE,"일괄",IFERROR(AVERAGE(R51,T51,V51),0)))) -> 0 | AE51: =IF(ISNUMBER(FIND("↑",R51))=TRUE,"↑",IF(ISNUMBER(FIND("포함",R51))=TRUE,R51,IF(ISNUMBER(FIND("↑",R52))=TRUE,IFERROR(ROUNDDOWN(IF(V51="",AVERAGEA(U51,S51),AVERAGEA(S51,U51,W51)),-1),0),IFERROR(ROUNDDOWN(AD51*L51*Q51,-1),0)))) -> 0 | AV51: =IF(총괄!$A$3="(","1",RIGHT(총괄!$A$3,LEN(총괄!$A$3)-FIND(":",총괄!$A$3)-1)) -> 승학터널 민간투자사업(1차:우선) | AW51: 영업보상

Sheet 주거이전비
A1: 손실보상금 산정 및 지급조서(주거이전비)
A2: =총괄!$A$3 -> ○ 사업명 : 승학터널 민간투자사업(1차:우선)
A3: 세목 고시 | B3: 소재지 | D3: 지번 | F3: 거주 | G3: 가족수 | L3: 거주면적 | M3: 지급분야(원) | AE3: 지급합계 | AF3: 세대주 | AJ3: 건물주 | AM3: 공탁 | AP3: 등기 | AR3: 취득방법
A4: 일련번호 | B4: 구 | C4: 동 | D4: 당초지번 | E4: 편입지번 | F4: 구분 | G4: (명) | L4: (㎡) | M4: 주거이전비 | N4: 이사비 | AB4: 건축물 등 평가액(원) | AC4: 건축물 등 평가액30%(원) | AD4: 이주정착금 | AE4: (원) | AF4: 성명 | AG4: 주소 | AH4: 주민등록번호 | AI4: 연락처 | AJ4: 건물주 | AK4: 주소 | AL4: 권리 내용 | AM4: 공탁일 | AN4: 공탁번호 | AO4: 공탁기관 | AP4: 등기일 | AQ4: 등기번호 | AR4: 취득일 | AS4: 방법 | AT4: 비고
F5: =IF(AF5="","",IF(AF5=AJ5,"가옥주","세입자")) | M5: =IF(F5="",0,IF(F5="가옥주",LOOKUP(1,1/(G5='(주거이전비)'!K:K),'(주거이전비)'!M:M),LOOKUP(1,1/(G5='(주거이전비)'!K:K),'(주거이전비)'!N:N))) -> 0 | N5: =IF(L5="",0,IF(L5<33,'(주거이전비)'!$E$18,IF(L5<49.5,'(주거이전비)'!$E$19,IF(L5<66,'(주거이전비)'!$E$20,IF(L5<99,'(주거이전비)'!$E$21,'(주거이전비)'!$E$22))))) -> 0 | AC5: =IF(AB5="",0,AB5*0.3) -> 0 | AD5: =IF(F5="가옥주",IF(AB5="","",IF(AC5<=6000000,6000000,IF(AC5>=12000000,12000000,AC5))),0) -> 0 | AE5: =ROUNDDOWN(SUM(AD5,N5,M5),-1) -> 0 | AV5: =IF(총괄!$A$3="(","1",RIGHT(총괄!$A$3,LEN(총괄!$A$3)-FIND(":",총괄!$A$3)-1)) -> 승학터널 민간투자사업(1차:우선) | AW5: 주거이전비
F6: =IF(AF6="","",IF(AF6=AJ6,"가옥주","세입자")) | M6: =IF(F6="",0,IF(F6="가옥주",LOOKUP(1,1/(G6='(주거이전비)'!K:K),'(주거이전비)'!M:M),LOOKUP(1,1/(G6='(주거이전비)'!K:K),'(주거이전비)'!N:N))) -> 0 | N6: =IF(L6="",0,IF(L6<33,'(주거이전비)'!$E$18,IF(L6<49.5,'(주거이전비)'!$E$19,IF(L6<66,'(주거이전비)'!$E$20,IF(L6<99,'(주거이전비)'!$E$21,'(주거이전비)'!$E$22))))) -> 0 | AC6: =IF(AB6="",0,AB6*0.3) -> 0 | AD6: =IF(F6="가옥주",IF(AB6="","",IF(AC6<=6000000,6000000,IF(AC6>=12000000,12000000,AC6))),0) -> 0 | AE6: =ROUNDDOWN(SUM(AD6,N6,M6),-1) -> 0 | AV6: =IF(총괄!$A$3="(","1",RIGHT(총괄!$A$3,LEN(총괄!$A$3)-FIND(":",총괄!$A$3)-1)) -> 승학터널 민간투자사업(1차:우선) | AW6: 주거이전비
F7: =IF(AF7="","",IF(AF7=AJ7,"가옥주","세입자")) | M7: =IF(F7="",0,IF(F7="가옥주",LOOKUP(1,1/(G7='(주거이전비)'!K:K),'(주거이전비)'!M:M),LOOKUP(1,1/(G7='(주거이전비)'!K:K),'(주거이전비)'!N:N))) -> 0 | N7: =IF(L7="",0,IF(L7<33,'(주거이전비)'!$E$18,IF(L7<49.5,'(주거이전비)'!$E$19,IF(L7<66,'(주거이전비)'!$E$20,IF(L7<99,'(주거이전비)'!$E$21,'(주거이전비)'!$E$22))))) -> 0 | AC7: =IF(AB7="",0,AB7*0.3) -> 0 | AD7: =IF(F7="가옥주",IF(AB7="","",IF(AC7<=6000000,6000000,IF(AC7>=12000000,12000000,AC7))),0) -> 0 | AE7: =ROUNDDOWN(SUM(AD7,N7,M7),-1) -> 0 | AV7: =IF(총괄!$A$3="(","1",RIGHT(총괄!$A$3,LEN(총괄!$A$3)-FIND(":",총괄!$A$3)-1)) -> 승학터널 민간투자사업(1차:우선) | AW7: 주거이전비
F8: =IF(AF8="","",IF(AF8=AJ8,"가옥주","세입자")) | M8: =IF(F8="",0,IF(F8="가옥주",LOOKUP(1,1/(G8='(주거이전비)'!K:K),'(주거이전비)'!M:M),LOOKUP(1,1/(G8='(주거이전비)'!K:K),'(주거이전비)'!N:N))) -> 0 | N8: =IF(L8="",0,IF(L8<33,'(주거이전비)'!$E$18,IF(L8<49.5,'(주거이전비)'!$E$19,IF(L8<66,'(주거이전비)'!$E$20,IF(L8<99,'(주거이전비)'!$E$21,'(주거이전비)'!$E$22))))) -> 0 | AC8: =IF(AB8="",0,AB8*0.3) -> 0 | AD8: =IF(F8="가옥주",IF(AB8="","",IF(AC8<=6000000,6000000,IF(AC8>=12000000,12000000,AC8))),0) -> 0 | AE8: =ROUNDDOWN(SUM(AD8,N8,M8),-1) -> 0 | AV8: =IF(총괄!$A$3="(","1",RIGHT(총괄!$A$3,LEN(총괄!$A$3)-FIND(":",총괄!$A$3)-1)) -> 승학터널 민간투자사업(1차:우선) | AW8: 주거이전비
F9: =IF(AF9="","",IF(AF9=AJ9,"가옥주","세입자")) | M9: =IF(F9="",0,IF(F9="가옥주",LOOKUP(1,1/(G9='(주거이전비)'!K:K),'(주거이전비)'!M:M),LOOKUP(1,1/(G9='(주거이전비)'!K:K),'(주거이전비)'!N:N))) -> 0 | N9: =IF(L9="",0,IF(L9<33,'(주거이전비)'!$E$18,IF(L9<49.5,'(주거이전비)'!$E$19,IF(L9<66,'(주거이전비)'!$E$20,IF(L9<99,'(주거이전비)'!$E$21,'(주거이전비)'!$E$22))))) -> 0 | AC9: =IF(AB9="",0,AB9*0.3) -> 0 | AD9: =IF(F9="가옥주",IF(AB9="","",IF(AC9<=6000000,6000000,IF(AC9>=12000000,12000000,AC9))),0) -> 0 | AE9: =ROUNDDOWN(SUM(AD9,N9,M9),-1) -> 0 | AV9: =IF(총괄!$A$3="(","1",RIGHT(총괄!$A$3,LEN(총괄!$A$3)-FIND(":",총괄!$A$3)-1)) -> 승학터널 민간투자사업(1차:우선) | AW9: 주거이전비
F10: =IF(AF10="","",IF(AF10=AJ10,"가옥주","세입자")) | M10: =IF(F10="",0,IF(F10="가옥주",LOOKUP(1,1/(G10='(주거이전비)'!K:K),'(주거이전비)'!M:M),LOOKUP(1,1/(G10='(주거이전비)'!K:K),'(주거이전비)'!N:N))) -> 0 | N10: =IF(L10="",0,IF(L10<33,'(주거이전비)'!$E$18,IF(L10<49.5,'(주거이전비)'!$E$19,IF(L10<66,'(주거이전비)'!$E$20,IF(L10<99,'(주거이전비)'!$E$21,'(주거이전비)'!$E$22))))) -> 0 | AC10: =IF(AB10="",0,AB10*0.3) -> 0 | AD10: =IF(F10="가옥주",IF(AB10="","",IF(AC10<=6000000,6000000,IF(AC10>=12000000,12000000,AC10))),0) -> 0 | AE10: =ROUNDDOWN(SUM(AD10,N10,M10),-1) -> 0 | AV10: =IF(총괄!$A$3="(","1",RIGHT(총괄!$A$3,LEN(총괄!$A$3)-FIND(":",총괄!$A$3)-1)) -> 승학터널 민간투자사업(1차:우선) | AW10: 주거이전비
F11: =IF(AF11="","",IF(AF11=AJ11,"가옥주","세입자")) | M11: =IF(F11="",0,IF(F11="가옥주",LOOKUP(1,1/(G11='(주거이전비)'!K:K),'(주거이전비)'!M:M),LOOKUP(1,1/(G11='(주거이전비)'!K:K),'(주거이전비)'!N:N))) -> 0 | N11: =IF(L11="",0,IF(L11<33,'(주거이전비)'!$E$18,IF(L11<49.5,'(주거이전비)'!$E$19,IF(L11<66,'(주거이전비)'!$E$20,IF(L11<99,'(주거이전비)'!$E$21,'(주거이전비)'!$E$22))))) -> 0 | AC11: =IF(AB11="",0,AB11*0.3) -> 0 | AD11: =IF(F11="가옥주",IF(AB11="","",IF(AC11<=6000000,6000000,IF(AC11>=12000000,12000000,AC11))),0) -> 0 | AE11: =ROUNDDOWN(SUM(AD11,N11,M11),-1) -> 0 | AV11: =IF(총괄!$A$3="(","1",RIGHT(총괄!$A$3,LEN(총괄!$A$3)-FIND(":",총괄!$A$3)-1)) -> 승학터널 민간투자사업(1차:우선) | AW11: 주거이전비
F12: =IF(AF12="","",IF(AF12=AJ12,"가옥주","세입자")) | M12: =IF(F12="",0,IF(F12="가옥주",LOOKUP(1,1/(G12='(주거이전비)'!K:K),'(주거이전비)'!M:M),LOOKUP(1,1/(G12='(주거이전비)'!K:K),'(주거이전비)'!N:N))) -> 0 | N12: =IF(L12="",0,IF(L12<33,'(주거이전비)'!$E$18,IF(L12<49.5,'(주거이전비)'!$E$19,IF(L12<66,'(주거이전비)'!$E$20,IF(L12<99,'(주거이전비)'!$E$21,'(주거이전비)'!$E$22))))) -> 0 | AC12: =IF(AB12="",0,AB12*0.3) -> 0 | AD12: =IF(F12="가옥주",IF(AB12="","",IF(AC12<=6000000,6000000,IF(AC12>=12000000,12000000,AC12))),0) -> 0 | AE12: =ROUNDDOWN(SUM(AD12,N12,M12),-1) -> 0 | AV12: =IF(총괄!$A$3="(","1",RIGHT(총괄!$A$3,LEN(총괄!$A$3)-FIND(":",총괄!$A$3)-1)) -> 승학터널 민간투자사업(1차:우선) | AW12: 주거이전비
F13: =IF(AF13="","",IF(AF13=AJ13,"가옥주","세입자")) | M13: =IF(F13="",0,IF(F13="가옥주",LOOKUP(1,1/(G13='(주거이전비)'!K:K),'(주거이전비)'!M:M),LOOKUP(1,1/(G13='(주거이전비)'!K:K),'(주거이전비)'!N:N))) -> 0 | N13: =IF(L13="",0,IF(L13<33,'(주거이전비)'!$E$18,IF(L13<49.5,'(주거이전비)'!$E$19,IF(L13<66,'(주거이전비)'!$E$20,IF(L13<99,'(주거이전비)'!$E$21,'(주거이전비)'!$E$22))))) -> 0 | AC13: =IF(AB13="",0,AB13*0.3) -> 0 | AD13: =IF(F13="가옥주",IF(AB13="","",IF(AC13<=6000000,6000000,IF(AC13>=12000000,12000000,AC13))),0) -> 0 | AE13: =ROUNDDOWN(SUM(AD13,N13,M13),-1) -> 0 | AV13: =IF(총괄!$A$3="(","1",RIGHT(총괄!$A$3,LEN(총괄!$A$3)-FIND(":",총괄!$A$3)-1)) -> 승학터널 민간투자사업(1차:우선) | AW13: 주거이전비
F14: =IF(AF14="","",IF(AF14=AJ14,"가옥주","세입자")) | M14: =IF(F14="",0,IF(F14="가옥주",LOOKUP(1,1/(G14='(주거이전비)'!K:K),'(주거이전비)'!M:M),LOOKUP(1,1/(G14='(주거이전비)'!K:K),'(주거이전비)'!N:N))) -> 0 | N14: =IF(L14="",0,IF(L14<33,'(주거이전비)'!$E$18,IF(L14<49.5,'(주거이전비)'!$E$19,IF(L14<66,'(주거이전비)'!$E$20,IF(L14<99,'(주거이전비)'!$E$21,'(주거이전비)'!$E$22))))) -> 0 | AC14: =IF(AB14="",0,AB14*0.3) -> 0 | AD14: =IF(F14="가옥주",IF(AB14="","",IF(AC14<=6000000,6000000,IF(AC14>=12000000,12000000,AC14))),0) -> 0 | AE14: =ROUNDDOWN(SUM(AD14,N14,M14),-1) -> 0 | AV14: =IF(총괄!$A$3="(","1",RIGHT(총괄!$A$3,LEN(총괄!$A$3)-FIND(":",총괄!$A$3)-1)) -> 승학터널 민간투자사업(1차:우선) | AW14: 주거이전비
F15: =IF(AF15="","",IF(AF15=AJ15,"가옥주","세입자")) | M15: =IF(F15="",0,IF(F15="가옥주",LOOKUP(1,1/(G15='(주거이전비)'!K:K),'(주거이전비)'!M:M),LOOKUP(1,1/(G15='(주거이전비)'!K:K),'(주거이전비)'!N:N))) -> 0 | N15: =IF(L15="",0,IF(L15<33,'(주거이전비)'!$E$18,IF(L15<49.5,'(주거이전비)'!$E$19,IF(L15<66,'(주거이전비)'!$E$20,IF(L15<99,'(주거이전비)'!$E$21,'(주거이전비)'!$E$22))))) -> 0 | AC15: =IF(AB15="",0,AB15*0.3) -> 0 | AD15: =IF(F15="가옥주",IF(AB15="","",IF(AC15<=6000000,6000000,IF(AC15>=12000000,12000000,AC15))),0) -> 0 | AE15: =ROUNDDOWN(SUM(AD15,N15,M15),-1) -> 0 | AV15: =IF(총괄!$A$3="(","1",RIGHT(총괄!$A$3,LEN(총괄!$A$3)-FIND(":",총괄!$A$3)-1)) -> 승학터널 민간투자사업(1차:우선) | AW15: 주거이전비
F16: =IF(AF16="","",IF(AF16=AJ16,"가옥주","세입자")) | M16: =IF(F16="",0,IF(F16="가옥주",LOOKUP(1,1/(G16='(주거이전비)'!K:K),'(주거이전비)'!M:M),LOOKUP(1,1/(G16='(주거이전비)'!K:K),'(주거이전비)'!N:N))) -> 0 | N16: =IF(L16="",0,IF(L16<33,'(주거이전비)'!$E$18,IF(L16<49.5,'(주거이전비)'!$E$19,IF(L16<66,'(주거이전비)'!$E$20,IF(L16<99,'(주거이전비)'!$E$21,'(주거이전비)'!$E$22))))) -> 0 | AC16: =IF(AB16="",0,AB16*0.3) -> 0 | AD16: =IF(F16="가옥주",IF(AB16="","",IF(AC16<=6000000,6000000,IF(AC16>=12000000,12000000,AC16))),0) -> 0 | AE16: =ROUNDDOWN(SUM(AD16,N16,M16),-1) -> 0 | AV16: =IF(총괄!$A$3="(","1",RIGHT(총괄!$A$3,LEN(총괄!$A$3)-FIND(":",총괄!$A$3)-1)) -> 승학터널 민간투자사업(1차:우선) | AW16: 주거이전비
... F51: =IF(AF51="","",IF(AF51=AJ51,"가옥주","세입자")) | M51: =IF(F51="",0,IF(F51="가옥주",LOOKUP(1,1/(G51='(주거이전비)'!K:K),'(주거이전비)'!M:M),LOOKUP(1,1/(G51='(주거이전비)'!K:K),'(주거이전비)'!N:N))) -> 0 | N51: =IF(L51="",0,IF(L51<33,'(주거이전비)'!$E$18,IF(L51<49.5,'(주거이전비)'!$E$19,IF(L51<66,'(주거이전비)'!$E$20,IF(L51<99,'(주거이전비)'!$E$21,'(주거이전비)'!$E$22))))) -> 0 | AC51: =IF(AB51="",0,AB51*0.3) -> 0 | AD51: =IF(F51="가옥주",IF(AB51="","",IF(AC51<=6000000,6000000,IF(AC51>=12000000,12000000,AC51))),0) -> 0 | AE51: =ROUNDDOWN(SUM(AD51,N51,M51),-1) -> 0 | AV51: =IF(총괄!$A$3="(","1",RIGHT(총괄!$A$3,LEN(총괄!$A$3)-FIND(":",총괄!$A$3)-1)) -> 승학터널 민간투자사업(1차:우선) | AW51: 주거이전비

Sheet (주거이전비)
A2: 주거이전비·이사비 산출자료 작성 | E2: (기준일: 2023년 6월 30일) | I2: 입력하세요
A4: 【 주거이전비 】 ▶ 매년 1회 | H4: 주거이전비기준일 | I4: 2023.6.30.
A5: 구분 | D5: 1인 | E5: 2인 | F5: 3인 | G5: 4인 | H5: 5인 | I5: 비고 | L5: 개월별기준 | M5: 가옥주 | N5: 세입자
A6: 개월별기준 | B6: 1 | C6: 개월분 | D6: 2565941 | E6: 3843391 | F6: 3536086 | G6: 7154262 | H6: 6998059 | I6: 토지보상법 시행규칙 제54조 | K6: 1 | L6: =D6 -> 2565941 | M6: =ROUNDDOWN(L6*2,-1) -> 5131880 | N6: =ROUNDDOWN(L6*4,-1) -> 10263760
A7: 가옥주 | B7: 2 | C7: 개월분 | D7: =ROUNDDOWN(D6*2,-1) -> 5131880 | E7: =ROUNDDOWN(E6*2,-1) -> 7686780 | F7: =ROUNDDOWN(F6*2,-1) -> 7072170 | G7: =ROUNDDOWN(G6*2,-1) -> 14308520 | H7: =ROUNDDOWN(H6*2,-1) -> 13996110 | K7: 2 | L7: =E6 -> 3843391 | M7: =ROUNDDOWN(L7*2,-1) -> 7686780 | N7: =ROUNDDOWN(L7*4,-1) -> 15373560
A8: 세입자 | B8: 4 | C8: 개월분 | D8: =ROUNDDOWN(D6*4,-1) -> 10263760 | E8: =ROUNDDOWN(E6*4,-1) -> 15373560 | F8: =ROUNDDOWN(F6*4,-1) -> 14144340 | G8: =ROUNDDOWN(G6*4,-1) -> 28617040 | H8: =ROUNDDOWN(H6*4,-1) -> 27992230 | K8: 3 | L8: =F6 -> 3536086 | M8: =ROUNDDOWN(L8*2,-1) -> 7072170 | N8: =ROUNDDOWN(L8*4,-1) -> 14144340
A9: < 산출기초 > | K9: 4 | L9: =G6 -> 7154262 | M9: =ROUNDDOWN(L9*2,-1) -> 14308520 | N9: =ROUNDDOWN(L9*4,-1) -> 28617040
A10: ○ 도시근로자가구의 가구원수별 월평균 명목 가계지출비 적용 | K10: 5 | L10: =H6 -> 6998059 | M10: =ROUNDDOWN(L10*2,-1) -> 13996110 | N10: =ROUNDDOWN(L10*4,-1) -> 27992230
A11: ▷ 1인 ~ 5인 : 통계청 자료 적용, 5인인 경우 5인 이상 기준 적용 | K11: 6 | L11: =$H$6+($I$13*(K11-5)) -> 8049609 | M11: =ROUNDDOWN(L11*2,-1) -> 16099210 | N11: =ROUNDDOWN(L11*4,-1) -> 32198430
A12: ▷ 6인이상 가구 : 5인이상 기준의 월평균 가계지출비에 5인을 초과하는 가구원수에 1인당 평균비용을 더한 금액으로 산정 | K12: 7 | L12: =$H$6+($I$13*(K12-5)) -> 9101159 | M12: =ROUNDDOWN(L12*2,-1) -> 18202310 | N12: =ROUNDDOWN(L12*4,-1) -> 36404630
A13: ※ 1인당 평균비용 = (5인이상 기준의 도시근로자 월평균 가계지출비 - 2인 기준의 도시근로자 월평균 가계지출비) ÷ 3 : | I13: =ROUNDDOWN((H6-E6)/3,-1) -> 1051550 | K13: 8 | L13: =$H$6+($I$13*(K13-5)) -> 10152709 | M13: =ROUNDDOWN(L13*2,-1) -> 20305410 | N13: =ROUNDDOWN(L13*4,-1) -> 40610830
K14: 9 | L14: =$H$6+($I$13*(K14-5)) -> 11204259 | M14: =ROUNDDOWN(L14*2,-1) -> 22408510 | N14: =ROUNDDOWN(L14*4,-1) -> 44817030
A15: 【 이사비 】 | B15: ▶ 토지보상법 시행규칙 별표4 | K15: 10 | L15: =$H$6+($I$13*(K15-5)) -> 12255809 | M15: =ROUNDDOWN(L15*2,-1) -> 24511610 | N15: =ROUNDDOWN(L15*4,-1) -> 49023230
A16: 주택연면적 기준 | B16: 인부(人) | C16: 차량(臺) | D16: 포장비 | E16: 금액 | I16: 비고 | K16: 11 | L16: =$H$6+($I$13*(K16-5)) -> 13307359 | M16: =ROUNDDOWN(L16*2,-1) -> 26614710 | N16: =ROUNDDOWN(L16*4,-1) -> 53229430
E17: 계 | F17: 노임 | G17: 차량운임 | H17: 포장비 | K17: 12 | L17: =$H$6+($I$13*(K17-5)) -> 14358909 | M17: =ROUNDDOWN(L17*2,-1) -> 28717810 | N17: =ROUNDDOWN(L17*4,-1) -> 57435630
A18: 33㎡미만 | B18: 3 | C18: 1 | D18: (노임+차량운임) ×0.15 | E18: =ROUNDDOWN(SUM(F18:H18),-1) -> 797180 | F18: =$E$26*B18 -> 471204 | G18: =$E$29*C18 -> 222000 | H18: =(F18+G18)*0.15 -> 103980.6 | I18: 토지보상법 시행규칙 제55조제2항 | K18: 13 | L18: =$H$6+($I$13*(K18-5)) -> 15410459 | M18: =ROUNDDOWN(L18*2,-1) -> 30820910 | N18: =ROUNDDOWN(L18*4,-1) -> 61641830
A19: 33㎡이상 | B19: 4 | C19: 2 | E19: =ROUNDDOWN(SUM(F19:H19),-1) -> 1233110 | F19: =$E$26*B19 -> 628272 | G19: =$E$29*C19 -> 444000 | H19: =(F19+G19)*0.15 -> 160840.8 | K19: 14 | L19: =$H$6+($I$13*(K19-5)) -> 16462009 | M19: =ROUNDDOWN(L19*2,-1) -> 32924010 | N19: =ROUNDDOWN(L19*4,-1) -> 65848030
A20: 49.5㎡이상 | B20: 5 | C20: 2.5 | E20: =ROUNDDOWN(SUM(F20:H20),-1) -> 1541390 | F20: =$E$26*B20 -> 785340 | G20: =$E$29*C20 -> 555000 | H20: =(F20+G20)*0.15 -> 201051
A21: 66㎡이상 | B21: 6 | C21: 3 | E21: =ROUNDDOWN(SUM(F21:H21),-1) -> 1849660 | F21: =$E$26*B21 -> 942408 | G21: =$E$29*C21 -> 666000 | H21: =(F21+G21)*0.15 -> 241261.2
A22: 99㎡이상 | B22: 8 | C22: 4 | E22: =ROUNDDOWN(SUM(F22:H22),-1) -> 2466220 | F22: =$E$26*B22 -> 1256544 | G22: =$E$29*C22 -> 888000 | H22: =(F22+G22)*0.15 -> 321681.6
A23: < 산출기초 >
A24: ○ 인부노임 : 대한전문건설협회 건설업임금실태조사보고서 개별직종노임단가(보통인부) 적용 ▶ 매년 1.1. / 9.2.
A25: 기준일 | B25: 2021.1.1 | C25: 2021.9.1 | D25: 2022.1.1 | E25: 2023.1.1
A26: 적용단가 | B26: 141096 | C26: 144481 | D26: 148510 | E26: 157068
A27: ○ 차량운임 : 5톤 화물차 1일 8시간 운임 기준(한국교통연구원 발표) ▶ 매년 1회 | H27: 입력하세요
A28: 기준일 | B28: 2020.4.2. | C28: 2021.5.31 | D28: 2022.3.8 | E28: 2023.2.7.
A29: 적용단가 | B29: 192000 | C29: 219000 | D29: 209000 | E29: 222000

Sheet 잔여지
A1: 손실보상금 산정 및 지급조서(잔여지)
A2: =총괄!$A$3 -> ○ 사업명 : 승학터널 민간투자사업(1차:우선)
A3: 일련 | B3: 소재지 | D3: 지번 | F3: 지목 | H3: 용도 | L3: 지적 | N3: 소유 | O3: 지분 | P3: 지분 | Q3: 지분 | R3: 프라임 | T3: 미래새한 | V3: - | X3: 최고 | Y3: 최저 | Z3: 단가비율 | AA3: 공시지가로 환산한 보상금 단가 | AD3: 감정평가 법인 평균 | AF3: 소유자 | AJ3: 소유권이외의 권리 | AM3: 공탁 | AP3: 등기 | AR3: 취득방법
A4: 번호 | B4: 구 | C4: 동 | D4: 당초지번 | E4: 편입지번 | F4: 공부상 지목 | G4: 현황 지목 | H4: 용도지역1 | I4: 용도지역2 | J4: 용도지구 (공원) | K4: 공부상 총면적 | L4: 편입 면적 | M4: 단위 | N4: 지분 | O4: (분자) | P4: (분모) | Q4: 계산 | R4: 단가 | S4: 금액 | T4: 단가 | U4: 금액 | V4: 단가 | W4: 금액 | X4: 단가 | Y4: 단가 | Z4: (최고/최저) | AA4: 개별 공시지가 | AB4: 개별요인 | AC4: 공시지가*개별요인 | AD4: 평균단가 | AE4: 평균금액(원) | AF4: 성명 | AG4: 주소 | AH4: 주민등록번호 | AI4: 연락처 | AJ4: 권리자 | AK4: 주소 | AL4: 권리 내용 | AM4: 공탁일 | AN4: 공탁번호 | AO4: 공탁기관 | AP4: 등기일 | AQ4: 등기번호 | AR4: 취득일 | AS4: 방법 | AT4: 비고
AV5: =IF(총괄!$A$3="(","1",RIGHT(총괄!$A$3,LEN(총괄!$A$3)-FIND(":",총괄!$A$3)-1)) -> 승학터널 민간투자사업(1차:우선) | AW5: 잔여지
O6: =IF(N6="1","1",LEFT(N6,FIND("/",N6)-1)) -> #VALUE! | P6: =IF(N6="1","1",RIGHT(N6,LEN(N6)-FIND("/",N6))) -> #VALUE! | Q6: =O6/P6 -> #VALUE! | S6: =IFERROR(ROUNDDOWN(R6*L6*Q6,-1),0) -> 0 | U6: =IFERROR(ROUNDDOWN(T6*L6*Q6,-1),0) -> 0 | W6: =IFERROR(ROUNDDOWN(V6*L6*Q6,-1),0) -> 0 | X6: =MAX(R6,T6,V6) -> 0 | Y6: =MIN(R6,T6,V6) -> 0 | Z6: =X6/Y6 -> #DIV/0! | AC6: =AA6*AB6 -> 0 | AD6: =IFERROR(AVERAGE(R6,T6,V6),0) -> 0 | AE6: =IFERROR(ROUNDDOWN(AD6*L6*Q6,-1),0) -> 0 | AV6: =IF(총괄!$A$3="(","1",RIGHT(총괄!$A$3,LEN(총괄!$A$3)-FIND(":",총괄!$A$3)-1)) -> 승학터널 민간투자사업(1차:우선) | AW6: 잔여지
O7: =IF(N7="1","1",LEFT(N7,FIND("/",N7)-1)) -> #VALUE! | P7: =IF(N7="1","1",RIGHT(N7,LEN(N7)-FIND("/",N7))) -> #VALUE! | Q7: =O7/P7 -> #VALUE! | S7: =IFERROR(ROUNDDOWN(R7*L7*Q7,-1),0) -> 0 | U7: =IFERROR(ROUNDDOWN(T7*L7*Q7,-1),0) -> 0 | W7: =IFERROR(ROUNDDOWN(V7*L7*Q7,-1),0) -> 0 | X7: =MAX(R7,T7,V7) -> 0 | Y7: =MIN(R7,T7,V7) -> 0 | Z7: =X7/Y7 -> #DIV/0! | AC7: =AA7*AB7 -> 0 | AD7: =IFERROR(AVERAGE(R7,T7,V7),0) -> 0 | AE7: =IFERROR(ROUNDDOWN(AD7*L7*Q7,-1),0) -> 0 | AV7: =IF(총괄!$A$3="(","1",RIGHT(총괄!$A$3,LEN(총괄!$A$3)-FIND(":",총괄!$A$3)-1)) -> 승학터널 민간투자사업(1차:우선) | AW7: 잔여지
O8: =IF(N8="1","1",LEFT(N8,FIND("/",N8)-1)) -> #VALUE! | P8: =IF(N8="1","1",RIGHT(N8,LEN(N8)-FIND("/",N8))) -> #VALUE! | Q8: =O8/P8 -> #VALUE! | S8: =IFERROR(ROUNDDOWN(R8*L8*Q8,-1),0) -> 0 | U8: =IFERROR(ROUNDDOWN(T8*L8*Q8,-1),0) -> 0 | W8: =IFERROR(ROUNDDOWN(V8*L8*Q8,-1),0) -> 0 | X8: =MAX(R8,T8,V8) -> 0 | Y8: =MIN(R8,T8,V8) -> 0 | Z8: =X8/Y8 -> #DIV/0! | AC8: =AA8*AB8 -> 0 | AD8: =IFERROR(AVERAGE(R8,T8,V8),0) -> 0 | AE8: =IFERROR(ROUNDDOWN(AD8*L8*Q8,-1),0) -> 0 | AV8: =IF(총괄!$A$3="(","1",RIGHT(총괄!$A$3,LEN(총괄!$A$3)-FIND(":",총괄!$A$3)-1)) -> 승학터널 민간투자사업(1차:우선) | AW8: 잔여지
O9: =IF(N9="1","1",LEFT(N9,FIND("/",N9)-1)) -> #VALUE! | P9: =IF(N9="1","1",RIGHT(N9,LEN(N9)-FIND("/",N9))) -> #VALUE! | Q9: =O9/P9 -> #VALUE! | S9: =IFERROR(ROUNDDOWN(R9*L9*Q9,-1),0) -> 0 | U9: =IFERROR(ROUNDDOWN(T9*L9*Q9,-1),0) -> 0 | W9: =IFERROR(ROUNDDOWN(V9*L9*Q9,-1),0) -> 0 | X9: =MAX(R9,T9,V9) -> 0 | Y9: =MIN(R9,T9,V9) -> 0 | Z9: =X9/Y9 -> #DIV/0! | AC9: =AA9*AB9 -> 0 | AD9: =IFERROR(AVERAGE(R9,T9,V9),0) -> 0 | AE9: =IFERROR(ROUNDDOWN(AD9*L9*Q9,-1),0) -> 0 | AV9: =IF(총괄!$A$3="(","1",RIGHT(총괄!$A$3,LEN(총괄!$A$3)-FIND(":",총괄!$A$3)-1)) -> 승학터널 민간투자사업(1차:우선) | AW9: 잔여지
O10: =IF(N10="1","1",LEFT(N10,FIND("/",N10)-1)) -> #VALUE! | P10: =IF(N10="1","1",RIGHT(N10,LEN(N10)-FIND("/",N10))) -> #VALUE! | Q10: =O10/P10 -> #VALUE! | S10: =IFERROR(ROUNDDOWN(R10*L10*Q10,-1),0) -> 0 | U10: =IFERROR(ROUNDDOWN(T10*L10*Q10,-1),0) -> 0 | W10: =IFERROR(ROUNDDOWN(V10*L10*Q10,-1),0) -> 0 | X10: =MAX(R10,T10,V10) -> 0 | Y10: =MIN(R10,T10,V10) -> 0 | Z10: =X10/Y10 -> #DIV/0! | AC10: =AA10*AB10 -> 0 | AD10: =IFERROR(AVERAGE(R10,T10,V10),0) -> 0 | AE10: =IFERROR(ROUNDDOWN(AD10*L10*Q10,-1),0) -> 0 | AV10: =IF(총괄!$A$3="(","1",RIGHT(총괄!$A$3,LEN(총괄!$A$3)-FIND(":",총괄!$A$3)-1)) -> 승학터널 민간투자사업(1차:우선) | AW10: 잔여지
O11: =IF(N11="1","1",LEFT(N11,FIND("/",N11)-1)) -> #VALUE! | P11: =IF(N11="1","1",RIGHT(N11,LEN(N11)-FIND("/",N11))) -> #VALUE! | Q11: =O11/P11 -> #VALUE! | S11: =IFERROR(ROUNDDOWN(R11*L11*Q11,-1),0) -> 0 | U11: =IFERROR(ROUNDDOWN(T11*L11*Q11,-1),0) -> 0 | W11: =IFERROR(ROUNDDOWN(V11*L11*Q11,-1),0) -> 0 | X11: =MAX(R11,T11,V11) -> 0 | Y11: =MIN(R11,T11,V11) -> 0 | Z11: =X11/Y11 -> #DIV/0! | AC11: =AA11*AB11 -> 0 | AD11: =IFERROR(AVERAGE(R11,T11,V11),0) -> 0 | AE11: =IFERROR(ROUNDDOWN(AD11*L11*Q11,-1),0) -> 0 | AV11: =IF(총괄!$A$3="(","1",RIGHT(총괄!$A$3,LEN(총괄!$A$3)-FIND(":",총괄!$A$3)-1)) -> 승학터널 민간투자사업(1차:우선) | AW11: 잔여지
O12: =IF(N12="1","1",LEFT(N12,FIND("/",N12)-1)) -> #VALUE! | P12: =IF(N12="1","1",RIGHT(N12,LEN(N12)-FIND("/",N12))) -> #VALUE! | Q12: =O12/P12 -> #VALUE! | S12: =IFERROR(ROUNDDOWN(R12*L12*Q12,-1),0) -> 0 | U12: =IFERROR(ROUNDDOWN(T12*L12*Q12,-1),0) -> 0 | W12: =IFERROR(ROUNDDOWN(V12*L12*Q12,-1),0) -> 0 | X12: =MAX(R12,T12,V12) -> 0 | Y12: =MIN(R12,T12,V12) -> 0 | Z12: =X12/Y12 -> #DIV/0! | AC12: =AA12*AB12 -> 0 | AD12: =IFERROR(AVERAGE(R12,T12,V12),0) -> 0 | AE12: =IFERROR(ROUNDDOWN(AD12*L12*Q12,-1),0) -> 0 | AV12: =IF(총괄!$A$3="(","1",RIGHT(총괄!$A$3,LEN(총괄!$A$3)-FIND(":",총괄!$A$3)-1)) -> 승학터널 민간투자사업(1차:우선) | AW12: 잔여지
O13: =IF(N13="1","1",LEFT(N13,FIND("/",N13)-1)) -> #VALUE! | P13: =IF(N13="1","1",RIGHT(N13,LEN(N13)-FIND("/",N13))) -> #VALUE! | Q13: =O13/P13 -> #VALUE! | S13: =IFERROR(ROUNDDOWN(R13*L13*Q13,-1),0) -> 0 | U13: =IFERROR(ROUNDDOWN(T13*L13*Q13,-1),0) -> 0 | W13: =IFERROR(ROUNDDOWN(V13*L13*Q13,-1),0) -> 0 | X13: =MAX(R13,T13,V13) -> 0 | Y13: =MIN(R13,T13,V13) -> 0 | Z13: =X13/Y13 -> #DIV/0! | AC13: =AA13*AB13 -> 0 | AD13: =IFERROR(AVERAGE(R13,T13,V13),0) -> 0 | AE13: =IFERROR(ROUNDDOWN(AD13*L13*Q13,-1),0) -> 0 | AV13: =IF(총괄!$A$3="(","1",RIGHT(총괄!$A$3,LEN(총괄!$A$3)-FIND(":",총괄!$A$3)-1)) -> 승학터널 민간투자사업(1차:우선) | AW13: 잔여지
O14: =IF(N14="1","1",LEFT(N14,FIND("/",N14)-1)) -> #VALUE! | P14: =IF(N14="1","1",RIGHT(N14,LEN(N14)-FIND("/",N14))) -> #VALUE! | Q14: =O14/P14 -> #VALUE! | S14: =IFERROR(ROUNDDOWN(R14*L14*Q14,-1),0) -> 0 | U14: =IFERROR(ROUNDDOWN(T14*L14*Q14,-1),0) -> 0 | W14: =IFERROR(ROUNDDOWN(V14*L14*Q14,-1),0) -> 0 | X14: =MAX(R14,T14,V14) -> 0 | Y14: =MIN(R14,T14,V14) -> 0 | Z14: =X14/Y14 -> #DIV/0! | AC14: =AA14*AB14 -> 0 | AD14: =IFERROR(AVERAGE(R14,T14,V14),0) -> 0 | AE14: =IFERROR(ROUNDDOWN(AD14*L14*Q14,-1),0) -> 0 | AV14: =IF(총괄!$A$3="(","1",RIGHT(총괄!$A$3,LEN(총괄!$A$3)-FIND(":",총괄!$A$3)-1)) -> 승학터널 민간투자사업(1차:우선) | AW14: 잔여지
O15: =IF(N15="1","1",LEFT(N15,FIND("/",N15)-1)) -> #VALUE! | P15: =IF(N15="1","1",RIGHT(N15,LEN(N15)-FIND("/",N15))) -> #VALUE! | Q15: =O15/P15 -> #VALUE! | S15: =IFERROR(ROUNDDOWN(R15*L15*Q15,-1),0) -> 0 | U15: =IFERROR(ROUNDDOWN(T15*L15*Q15,-1),0) -> 0 | W15: =IFERROR(ROUNDDOWN(V15*L15*Q15,-1),0) -> 0 | X15: =MAX(R15,T15,V15) -> 0 | Y15: =MIN(R15,T15,V15) -> 0 | Z15: =X15/Y15 -> #DIV/0! | AC15: =AA15*AB15 -> 0 | AD15: =IFERROR(AVERAGE(R15,T15,V15),0) -> 0 | AE15: =IFERROR(ROUNDDOWN(AD15*L15*Q15,-1),0) -> 0 | AV15: =IF(총괄!$A$3="(","1",RIGHT(총괄!$A$3,LEN(총괄!$A$3)-FIND(":",총괄!$A$3)-1)) -> 승학터널 민간투자사업(1차:우선) | AW15: 잔여지
O16: =IF(N16="1","1",LEFT(N16,FIND("/",N16)-1)) -> #VALUE! | P16: =IF(N16="1","1",RIGHT(N16,LEN(N16)-FIND("/",N16))) -> #VALUE! | Q16: =O16/P16 -> #VALUE! | S16: =IFERROR(ROUNDDOWN(R16*L16*Q16,-1),0) -> 0 | U16: =IFERROR(ROUNDDOWN(T16*L16*Q16,-1),0) -> 0 | W16: =IFERROR(ROUNDDOWN(V16*L16*Q16,-1),0) -> 0 | X16: =MAX(R16,T16,V16) -> 0 | Y16: =MIN(R16,T16,V16) -> 0 | Z16: =X16/Y16 -> #DIV/0! | AC16: =AA16*AB16 -> 0 | AD16: =IFERROR(AVERAGE(R16,T16,V16),0) -> 0 | AE16: =IFERROR(ROUNDDOWN(AD16*L16*Q16,-1),0) -> 0 | AV16: =IF(총괄!$A$3="(","1",RIGHT(총괄!$A$3,LEN(총괄!$A$3)-FIND(":",총괄!$A$3)-1)) -> 승학터널 민간투자사업(1차:우선) | AW16: 잔여지
O17: =IF(N17="1","1",LEFT(N17,FIND("/",N17)-1)) -> #VALUE! | P17: =IF(N17="1","1",RIGHT(N17,LEN(N17)-FIND("/",N17))) -> #VALUE! | Q17: =O17/P17 -> #VALUE! | S17: =IFERROR(ROUNDDOWN(R17*L17*Q17,-1),0) -> 0 | U17: =IFERROR(ROUNDDOWN(T17*L17*Q17,-1),0) -> 0 | W17: =IFERROR(ROUNDDOWN(V17*L17*Q17,-1),0) -> 0 | X17: =MAX(R17,T17,V17) -> 0 | Y17: =MIN(R17,T17,V17) -> 0 | Z17: =X17/Y17 -> #DIV/0! | AC17: =AA17*AB17 -> 0 | AD17: =IFERROR(AVERAGE(R17,T17,V17),0) -> 0 | AE17: =IFERROR(ROUNDDOWN(AD17*L17*Q17,-1),0) -> 0 | AV17: =IF(총괄!$A$3="(","1",RIGHT(총괄!$A$3,LEN(총괄!$A$3)-FIND(":",총괄!$A$3)-1)) -> 승학터널 민간투자사업(1차:우선) | AW17: 잔여지
... O51: =IF(N51="1","1",LEFT(N51,FIND("/",N51)-1)) -> #VALUE! | P51: =IF(N51="1","1",RIGHT(N51,LEN(N51)-FIND("/",N51))) -> #VALUE! | Q51: =O51/P51 -> #VALUE! | S51: =IFERROR(ROUNDDOWN(R51*L51*Q51,-1),0) -> 0 | U51: =IFERROR(ROUNDDOWN(T51*L51*Q51,-1),0) -> 0 | W51: =IFERROR(ROUNDDOWN(V51*L51*Q51,-1),0) -> 0 | X51: =MAX(R51,T51,V51) -> 0 | Y51: =MIN(R51,T51,V51) -> 0 | Z51: =X51/Y51 -> #DIV/0! | AC51: =AA51*AB51 -> 0 | AD51: =IFERROR(AVERAGE(R51,T51,V51),0) -> 0 | AE51: =IFERROR(ROUNDDOWN(AD51*L51*Q51,-1),0) -> 0 | AV51: =IF(총괄!$A$3="(","1",RIGHT(총괄!$A$3,LEN(총괄!$A$3)-FIND(":",총괄!$A$3)-1)) -> 승학터널 민간투자사업(1차:우선) | AW51: 잔여지

Sheet 잔여지지장물
A1: 손실보상금 산정 및 지급조서(잔여지 지장물)
A2: =총괄!$A$3 -> ○ 사업명 : 승학터널 민간투자사업(1차:우선)
A3: 세목 고시 | B3: 소재지 | D3: 지번 | F3: 물건 | G3: 구조 및 | L3: 수량 | M3: 단위 | N3: 소유 | O3: 지분 | P3: 지분 | Q3: 지분 | R3: 프라임 | T3: 미래새한 | V3: - | X3: 최고 | Y3: 최저 | Z3: 단가비율 | AD3: 감정평가 법인 평균 | AF3: 소유자 | AJ3: 소유권이외의 권리 | AM3: 공탁 | AP3: 등기 | AR3: 취득방법
A4: 일련번호 | B4: 구 | C4: 동 | D4: 당초지번 | E4: 편입지번 | F4: 종류 | G4: 규격 | L4: (면적) | N4: 지분 | O4: (분자) | P4: (분모) | Q4: 계산 | R4: 단가 | S4: 금액 | T4: 단가 | U4: 금액 | V4: 단가 | W4: 금액 | X4: 단가 | Y4: 단가 | Z4: (최고/최저) | AD4: 평균단가 | AE4: 평균금액(원) | AF4: 성명 | AG4: 주소 | AH4: 주민등록번호 | AI4: 연락처 | AJ4: 권리자 | AK4: 주소 | AL4: 권리 내용 | AM4: 공탁일 | AN4: 공탁번호 | AO4: 공탁기관 | AP4: 등기일 | AQ4: 등기번호 | AR4: 취득일 | AS4: 방법 | AT4: 비고
AV5: =IF(총괄!$A$3="(","1",RIGHT(총괄!$A$3,LEN(총괄!$A$3)-FIND(":",총괄!$A$3)-1)) -> 승학터널 민간투자사업(1차:우선) | AW5: 잔여지 지장물
O6: =IF(N6="1","1",LEFT(N6,FIND("/",N6)-1)) -> #VALUE! | P6: =IF(N6="1","1",RIGHT(N6,LEN(N6)-FIND("/",N6))) -> #VALUE! | Q6: =O6/P6 -> #VALUE! | S6: =IF(ISNUMBER(FIND("↑",R6))=TRUE,"↑",IF(ISNUMBER(FIND("↑",R7))=TRUE,R6,IF(ISNUMBER(FIND("포함",R6))=TRUE,R6,IFERROR(ROUNDDOWN(R6*$L6*$Q6,-1),0)))) -> 0 | U6: =IF(ISNUMBER(FIND("↑",T6))=TRUE,"↑",IF(ISNUMBER(FIND("↑",T7))=TRUE,T6,IF(ISNUMBER(FIND("포함",T6))=TRUE,T6,IFERROR(ROUNDDOWN(T6*$L6*$Q6,-1),0)))) -> 0 | W6: =IFERROR(ROUNDDOWN(V6*L6*Q6,-1),0) -> 0 | X6: =MAX(R6,T6,V6) -> 0 | Y6: =MIN(R6,T6,V6) -> 0 | Z6: =X6/Y6 -> #DIV/0! | AD6: =IF(ISNUMBER(FIND("↑",R6))=TRUE,"↑",IF(ISNUMBER(FIND("포함",R6))=TRUE,R6,IF(ISNUMBER(FIND("↑",R7))=TRUE,"일괄",IFERROR(AVERAGE(R6,T6,V6),0)))) -> 0 | AE6: =IF(ISNUMBER(FIND("↑",R6))=TRUE,"↑",IF(ISNUMBER(FIND("포함",R6))=TRUE,R6,IF(ISNUMBER(FIND("↑",R7))=TRUE,IFERROR(ROUNDDOWN(IF(V6="",AVERAGEA(U6,S6),AVERAGEA(S6,U6,W6)),-1),0),IFERROR(ROUNDDOWN(AD6*L6*Q6,-1),0)))) -> 0 | AV6: =IF(총괄!$A$3="(","1",RIGHT(총괄!$A$3,LEN(총괄!$A$3)-FIND(":",총괄!$A$3)-1)) -> 승학터널 민간투자사업(1차:우선) | AW6: 잔여지 지장물
O7: =IF(N7="1","1",LEFT(N7,FIND("/",N7)-1)) -> #VALUE! | P7: =IF(N7="1","1",RIGHT(N7,LEN(N7)-FIND("/",N7))) -> #VALUE! | Q7: =O7/P7 -> #VALUE! | S7: =IF(ISNUMBER(FIND("↑",R7))=TRUE,"↑",IF(ISNUMBER(FIND("↑",R8))=TRUE,R7,IF(ISNUMBER(FIND("포함",R7))=TRUE,R7,IFERROR(ROUNDDOWN(R7*$L7*$Q7,-1),0)))) -> 0 | U7: =IF(ISNUMBER(FIND("↑",T7))=TRUE,"↑",IF(ISNUMBER(FIND("↑",T8))=TRUE,T7,IF(ISNUMBER(FIND("포함",T7))=TRUE,T7,IFERROR(ROUNDDOWN(T7*$L7*$Q7,-1),0)))) -> 0 | W7: =IFERROR(ROUNDDOWN(V7*L7*Q7,-1),0) -> 0 | X7: =MAX(R7,T7,V7) -> 0 | Y7: =MIN(R7,T7,V7) -> 0 | Z7: =X7/Y7 -> #DIV/0! | AD7: =IF(ISNUMBER(FIND("↑",R7))=TRUE,"↑",IF(ISNUMBER(FIND("포함",R7))=TRUE,R7,IF(ISNUMBER(FIND("↑",R8))=TRUE,"일괄",IFERROR(AVERAGE(R7,T7,V7),0)))) -> 0 | AE7: =IF(ISNUMBER(FIND("↑",R7))=TRUE,"↑",IF(ISNUMBER(FIND("포함",R7))=TRUE,R7,IF(ISNUMBER(FIND("↑",R8))=TRUE,IFERROR(ROUNDDOWN(IF(V7="",AVERAGEA(U7,S7),AVERAGEA(S7,U7,W7)),-1),0),IFERROR(ROUNDDOWN(AD7*L7*Q7,-1),0)))) -> 0 | AV7: =IF(총괄!$A$3="(","1",RIGHT(총괄!$A$3,LEN(총괄!$A$3)-FIND(":",총괄!$A$3)-1)) -> 승학터널 민간투자사업(1차:우선) | AW7: 잔여지 지장물
O8: =IF(N8="1","1",LEFT(N8,FIND("/",N8)-1)) -> #VALUE! | P8: =IF(N8="1","1",RIGHT(N8,LEN(N8)-FIND("/",N8))) -> #VALUE! | Q8: =O8/P8 -> #VALUE! | S8: =IF(ISNUMBER(FIND("↑",R8))=TRUE,"↑",IF(ISNUMBER(FIND("↑",R9))=TRUE,R8,IF(ISNUMBER(FIND("포함",R8))=TRUE,R8,IFERROR(ROUNDDOWN(R8*$L8*$Q8,-1),0)))) -> 0 | U8: =IF(ISNUMBER(FIND("↑",T8))=TRUE,"↑",IF(ISNUMBER(FIND("↑",T9))=TRUE,T8,IF(ISNUMBER(FIND("포함",T8))=TRUE,T8,IFERROR(ROUNDDOWN(T8*$L8*$Q8,-1),0)))) -> 0 | W8: =IFERROR(ROUNDDOWN(V8*L8*Q8,-1),0) -> 0 | X8: =MAX(R8,T8,V8) -> 0 | Y8: =MIN(R8,T8,V8) -> 0 | Z8: =X8/Y8 -> #DIV/0! | AD8: =IF(ISNUMBER(FIND("↑",R8))=TRUE,"↑",IF(ISNUMBER(FIND("포함",R8))=TRUE,R8,IF(ISNUMBER(FIND("↑",R9))=TRUE,"일괄",IFERROR(AVERAGE(R8,T8,V8),0)))) -> 0 | AE8: =IF(ISNUMBER(FIND("↑",R8))=TRUE,"↑",IF(ISNUMBER(FIND("포함",R8))=TRUE,R8,IF(ISNUMBER(FIND("↑",R9))=TRUE,IFERROR(ROUNDDOWN(IF(V8="",AVERAGEA(U8,S8),AVERAGEA(S8,U8,W8)),-1),0),IFERROR(ROUNDDOWN(AD8*L8*Q8,-1),0)))) -> 0 | AV8: =IF(총괄!$A$3="(","1",RIGHT(총괄!$A$3,LEN(총괄!$A$3)-FIND(":",총괄!$A$3)-1)) -> 승학터널 민간투자사업(1차:우선) | AW8: 잔여지 지장물
O9: =IF(N9="1","1",LEFT(N9,FIND("/",N9)-1)) -> #VALUE! | P9: =IF(N9="1","1",RIGHT(N9,LEN(N9)-FIND("/",N9))) -> #VALUE! | Q9: =O9/P9 -> #VALUE! | S9: =IF(ISNUMBER(FIND("↑",R9))=TRUE,"↑",IF(ISNUMBER(FIND("↑",R10))=TRUE,R9,IF(ISNUMBER(FIND("포함",R9))=TRUE,R9,IFERROR(ROUNDDOWN(R9*$L9*$Q9,-1),0)))) -> 0 | U9: =IF(ISNUMBER(FIND("↑",T9))=TRUE,"↑",IF(ISNUMBER(FIND("↑",T10))=TRUE,T9,IF(ISNUMBER(FIND("포함",T9))=TRUE,T9,IFERROR(ROUNDDOWN(T9*$L9*$Q9,-1),0)))) -> 0 | W9: =IFERROR(ROUNDDOWN(V9*L9*Q9,-1),0) -> 0 | X9: =MAX(R9,T9,V9) -> 0 | Y9: =MIN(R9,T9,V9) -> 0 | Z9: =X9/Y9 -> #DIV/0! | AD9: =IF(ISNUMBER(FIND("↑",R9))=TRUE,"↑",IF(ISNUMBER(FIND("포함",R9))=TRUE,R9,IF(ISNUMBER(FIND("↑",R10))=TRUE,"일괄",IFERROR(AVERAGE(R9,T9,V9),0)))) -> 0 | AE9: =IF(ISNUMBER(FIND("↑",R9))=TRUE,"↑",IF(ISNUMBER(FIND("포함",R9))=TRUE,R9,IF(ISNUMBER(FIND("↑",R10))=TRUE,IFERROR(ROUNDDOWN(IF(V9="",AVERAGEA(U9,S9),AVERAGEA(S9,U9,W9)),-1),0),IFERROR(ROUNDDOWN(AD9*L9*Q9,-1),0)))) -> 0 | AV9: =IF(총괄!$A$3="(","1",RIGHT(총괄!$A$3,LEN(총괄!$A$3)-FIND(":",총괄!$A$3)-1)) -> 승학터널 민간투자사업(1차:우선) | AW9: 잔여지 지장물
O10: =IF(N10="1","1",LEFT(N10,FIND("/",N10)-1)) -> #VALUE! | P10: =IF(N10="1","1",RIGHT(N10,LEN(N10)-FIND("/",N10))) -> #VALUE! | Q10: =O10/P10 -> #VALUE! | S10: =IF(ISNUMBER(FIND("↑",R10))=TRUE,"↑",IF(ISNUMBER(FIND("↑",R11))=TRUE,R10,IF(ISNUMBER(FIND("포함",R10))=TRUE,R10,IFERROR(ROUNDDOWN(R10*$L10*$Q10,-1),0)))) -> 0 | U10: =IF(ISNUMBER(FIND("↑",T10))=TRUE,"↑",IF(ISNUMBER(FIND("↑",T11))=TRUE,T10,IF(ISNUMBER(FIND("포함",T10))=TRUE,T10,IFERROR(ROUNDDOWN(T10*$L10*$Q10,-1),0)))) -> 0 | W10: =IFERROR(ROUNDDOWN(V10*L10*Q10,-1),0) -> 0 | X10: =MAX(R10,T10,V10) -> 0 | Y10: =MIN(R10,T10,V10) -> 0 | Z10: =X10/Y10 -> #DIV/0! | AD10: =IF(ISNUMBER(FIND("↑",R10))=TRUE,"↑",IF(ISNUMBER(FIND("포함",R10))=TRUE,R10,IF(ISNUMBER(FIND("↑",R11))=TRUE,"일괄",IFERROR(AVERAGE(R10,T10,V10),0)))) -> 0 | AE10: =IF(ISNUMBER(FIND("↑",R10))=TRUE,"↑",IF(ISNUMBER(FIND("포함",R10))=TRUE,R10,IF(ISNUMBER(FIND("↑",R11))=TRUE,IFERROR(ROUNDDOWN(IF(V10="",AVERAGEA(U10,S10),AVERAGEA(S10,U10,W10)),-1),0),IFERROR(ROUNDDOWN(AD10*L10*Q10,-1),0)))) -> 0 | AV10: =IF(총괄!$A$3="(","1",RIGHT(총괄!$A$3,LEN(총괄!$A$3)-FIND(":",총괄!$A$3)-1)) -> 승학터널 민간투자사업(1차:우선) | AW10: 잔여지 지장물
O11: =IF(N11="1","1",LEFT(N11,FIND("/",N11)-1)) -> #VALUE! | P11: =IF(N11="1","1",RIGHT(N11,LEN(N11)-FIND("/",N11))) -> #VALUE! | Q11: =O11/P11 -> #VALUE! | S11: =IF(ISNUMBER(FIND("↑",R11))=TRUE,"↑",IF(ISNUMBER(FIND("↑",R12))=TRUE,R11,IF(ISNUMBER(FIND("포함",R11))=TRUE,R11,IFERROR(ROUNDDOWN(R11*$L11*$Q11,-1),0)))) -> 0 | U11: =IF(ISNUMBER(FIND("↑",T11))=TRUE,"↑",IF(ISNUMBER(FIND("↑",T12))=TRUE,T11,IF(ISNUMBER(FIND("포함",T11))=TRUE,T11,IFERROR(ROUNDDOWN(T11*$L11*$Q11,-1),0)))) -> 0 | W11: =IFERROR(ROUNDDOWN(V11*L11*Q11,-1),0) -> 0 | X11: =MAX(R11,T11,V11) -> 0 | Y11: =MIN(R11,T11,V11) -> 0 | Z11: =X11/Y11 -> #DIV/0! | AD11: =IF(ISNUMBER(FIND("↑",R11))=TRUE,"↑",IF(ISNUMBER(FIND("포함",R11))=TRUE,R11,IF(ISNUMBER(FIND("↑",R12))=TRUE,"일괄",IFERROR(AVERAGE(R11,T11,V11),0)))) -> 0 | AE11: =IF(ISNUMBER(FIND("↑",R11))=TRUE,"↑",IF(ISNUMBER(FIND("포함",R11))=TRUE,R11,IF(ISNUMBER(FIND("↑",R12))=TRUE,IFERROR(ROUNDDOWN(IF(V11="",AVERAGEA(U11,S11),AVERAGEA(S11,U11,W11)),-1),0),IFERROR(ROUNDDOWN(AD11*L11*Q11,-1),0)))) -> 0 | AV11: =IF(총괄!$A$3="(","1",RIGHT(총괄!$A$3,LEN(총괄!$A$3)-FIND(":",총괄!$A$3)-1)) -> 승학터널 민간투자사업(1차:우선) | AW11: 잔여지 지장물
O12: =IF(N12="1","1",LEFT(N12,FIND("/",N12)-1)) -> #VALUE! | P12: =IF(N12="1","1",RIGHT(N12,LEN(N12)-FIND("/",N12))) -> #VALUE! | Q12: =O12/P12 -> #VALUE! | S12: =IF(ISNUMBER(FIND("↑",R12))=TRUE,"↑",IF(ISNUMBER(FIND("↑",R13))=TRUE,R12,IF(ISNUMBER(FIND("포함",R12))=TRUE,R12,IFERROR(ROUNDDOWN(R12*$L12*$Q12,-1),0)))) -> 0 | U12: =IF(ISNUMBER(FIND("↑",T12))=TRUE,"↑",IF(ISNUMBER(FIND("↑",T13))=TRUE,T12,IF(ISNUMBER(FIND("포함",T12))=TRUE,T12,IFERROR(ROUNDDOWN(T12*$L12*$Q12,-1),0)))) -> 0 | W12: =IFERROR(ROUNDDOWN(V12*L12*Q12,-1),0) -> 0 | X12: =MAX(R12,T12,V12) -> 0 | Y12: =MIN(R12,T12,V12) -> 0 | Z12: =X12/Y12 -> #DIV/0! | AD12: =IF(ISNUMBER(FIND("↑",R12))=TRUE,"↑",IF(ISNUMBER(FIND("포함",R12))=TRUE,R12,IF(ISNUMBER(FIND("↑",R13))=TRUE,"일괄",IFERROR(AVERAGE(R12,T12,V12),0)))) -> 0 | AE12: =IF(ISNUMBER(FIND("↑",R12))=TRUE,"↑",IF(ISNUMBER(FIND("포함",R12))=TRUE,R12,IF(ISNUMBER(FIND("↑",R13))=TRUE,IFERROR(ROUNDDOWN(IF(V12="",AVERAGEA(U12,S12),AVERAGEA(S12,U12,W12)),-1),0),IFERROR(ROUNDDOWN(AD12*L12*Q12,-1),0)))) -> 0 | AV12: =IF(총괄!$A$3="(","1",RIGHT(총괄!$A$3,LEN(총괄!$A$3)-FIND(":",총괄!$A$3)-1)) -> 승학터널 민간투자사업(1차:우선) | AW12: 잔여지 지장물
O13: =IF(N13="1","1",LEFT(N13,FIND("/",N13)-1)) -> #VALUE! | P13: =IF(N13="1","1",RIGHT(N13,LEN(N13)-FIND("/",N13))) -> #VALUE! | Q13: =O13/P13 -> #VALUE! | S13: =IF(ISNUMBER(FIND("↑",R13))=TRUE,"↑",IF(ISNUMBER(FIND("↑",R14))=TRUE,R13,IF(ISNUMBER(FIND("포함",R13))=TRUE,R13,IFERROR(ROUNDDOWN(R13*$L13*$Q13,-1),0)))) -> 0 | U13: =IF(ISNUMBER(FIND("↑",T13))=TRUE,"↑",IF(ISNUMBER(FIND("↑",T14))=TRUE,T13,IF(ISNUMBER(FIND("포함",T13))=TRUE,T13,IFERROR(ROUNDDOWN(T13*$L13*$Q13,-1),0)))) -> 0 | W13: =IFERROR(ROUNDDOWN(V13*L13*Q13,-1),0) -> 0 | X13: =MAX(R13,T13,V13) -> 0 | Y13: =MIN(R13,T13,V13) -> 0 | Z13: =X13/Y13 -> #DIV/0! | AD13: =IF(ISNUMBER(FIND("↑",R13))=TRUE,"↑",IF(ISNUMBER(FIND("포함",R13))=TRUE,R13,IF(ISNUMBER(FIND("↑",R14))=TRUE,"일괄",IFERROR(AVERAGE(R13,T13,V13),0)))) -> 0 | AE13: =IF(ISNUMBER(FIND("↑",R13))=TRUE,"↑",IF(ISNUMBER(FIND("포함",R13))=TRUE,R13,IF(ISNUMBER(FIND("↑",R14))=TRUE,IFERROR(ROUNDDOWN(IF(V13="",AVERAGEA(U13,S13),AVERAGEA(S13,U13,W13)),-1),0),IFERROR(ROUNDDOWN(AD13*L13*Q13,-1),0)))) -> 0 | AV13: =IF(총괄!$A$3="(","1",RIGHT(총괄!$A$3,LEN(총괄!$A$3)-FIND(":",총괄!$A$3)-1)) -> 승학터널 민간투자사업(1차:우선) | AW13: 잔여지 지장물
O14: =IF(N14="1","1",LEFT(N14,FIND("/",N14)-1)) -> #VALUE! | P14: =IF(N14="1","1",RIGHT(N14,LEN(N14)-FIND("/",N14))) -> #VALUE! | Q14: =O14/P14 -> #VALUE! | S14: =IF(ISNUMBER(FIND("↑",R14))=TRUE,"↑",IF(ISNUMBER(FIND("↑",R15))=TRUE,R14,IF(ISNUMBER(FIND("포함",R14))=TRUE,R14,IFERROR(ROUNDDOWN(R14*$L14*$Q14,-1),0)))) -> 0 | U14: =IF(ISNUMBER(FIND("↑",T14))=TRUE,"↑",IF(ISNUMBER(FIND("↑",T15))=TRUE,T14,IF(ISNUMBER(FIND("포함",T14))=TRUE,T14,IFERROR(ROUNDDOWN(T14*$L14*$Q14,-1),0)))) -> 0 | W14: =IFERROR(ROUNDDOWN(V14*L14*Q14,-1),0) -> 0 | X14: =MAX(R14,T14,V14) -> 0 | Y14: =MIN(R14,T14,V14) -> 0 | Z14: =X14/Y14 -> #DIV/0! | AD14: =IF(ISNUMBER(FIND("↑",R14))=TRUE,"↑",IF(ISNUMBER(FIND("포함",R14))=TRUE,R14,IF(ISNUMBER(FIND("↑",R15))=TRUE,"일괄",IFERROR(AVERAGE(R14,T14,V14),0)))) -> 0 | AE14: =IF(ISNUMBER(FIND("↑",R14))=TRUE,"↑",IF(ISNUMBER(FIND("포함",R14))=TRUE,R14,IF(ISNUMBER(FIND("↑",R15))=TRUE,IFERROR(ROUNDDOWN(IF(V14="",AVERAGEA(U14,S14),AVERAGEA(S14,U14,W14)),-1),0),IFERROR(ROUNDDOWN(AD14*L14*Q14,-1),0)))) -> 0 | AV14: =IF(총괄!$A$3="(","1",RIGHT(총괄!$A$3,LEN(총괄!$A$3)-FIND(":",총괄!$A$3)-1)) -> 승학터널 민간투자사업(1차:우선) | AW14: 잔여지 지장물
O15: =IF(N15="1","1",LEFT(N15,FIND("/",N15)-1)) -> #VALUE! | P15: =IF(N15="1","1",RIGHT(N15,LEN(N15)-FIND("/",N15))) -> #VALUE! | Q15: =O15/P15 -> #VALUE! | S15: =IF(ISNUMBER(FIND("↑",R15))=TRUE,"↑",IF(ISNUMBER(FIND("↑",R16))=TRUE,R15,IF(ISNUMBER(FIND("포함",R15))=TRUE,R15,IFERROR(ROUNDDOWN(R15*$L15*$Q15,-1),0)))) -> 0 | U15: =IF(ISNUMBER(FIND("↑",T15))=TRUE,"↑",IF(ISNUMBER(FIND("↑",T16))=TRUE,T15,IF(ISNUMBER(FIND("포함",T15))=TRUE,T15,IFERROR(ROUNDDOWN(T15*$L15*$Q15,-1),0)))) -> 0 | W15: =IFERROR(ROUNDDOWN(V15*L15*Q15,-1),0) -> 0 | X15: =MAX(R15,T15,V15) -> 0 | Y15: =MIN(R15,T15,V15) -> 0 | Z15: =X15/Y15 -> #DIV/0! | AD15: =IF(ISNUMBER(FIND("↑",R15))=TRUE,"↑",IF(ISNUMBER(FIND("포함",R15))=TRUE,R15,IF(ISNUMBER(FIND("↑",R16))=TRUE,"일괄",IFERROR(AVERAGE(R15,T15,V15),0)))) -> 0 | AE15: =IF(ISNUMBER(FIND("↑",R15))=TRUE,"↑",IF(ISNUMBER(FIND("포함",R15))=TRUE,R15,IF(ISNUMBER(FIND("↑",R16))=TRUE,IFERROR(ROUNDDOWN(IF(V15="",AVERAGEA(U15,S15),AVERAGEA(S15,U15,W15)),-1),0),IFERROR(ROUNDDOWN(AD15*L15*Q15,-1),0)))) -> 0 | AV15: =IF(총괄!$A$3="(","1",RIGHT(총괄!$A$3,LEN(총괄!$A$3)-FIND(":",총괄!$A$3)-1)) -> 승학터널 민간투자사업(1차:우선) | AW15: 잔여지 지장물
O16: =IF(N16="1","1",LEFT(N16,FIND("/",N16)-1)) -> #VALUE! | P16: =IF(N16="1","1",RIGHT(N16,LEN(N16)-FIND("/",N16))) -> #VALUE! | Q16: =O16/P16 -> #VALUE! | S16: =IF(ISNUMBER(FIND("↑",R16))=TRUE,"↑",IF(ISNUMBER(FIND("↑",R17))=TRUE,R16,IF(ISNUMBER(FIND("포함",R16))=TRUE,R16,IFERROR(ROUNDDOWN(R16*$L16*$Q16,-1),0)))) -> 0 | U16: =IF(ISNUMBER(FIND("↑",T16))=TRUE,"↑",IF(ISNUMBER(FIND("↑",T17))=TRUE,T16,IF(ISNUMBER(FIND("포함",T16))=TRUE,T16,IFERROR(ROUNDDOWN(T16*$L16*$Q16,-1),0)))) -> 0 | W16: =IFERROR(ROUNDDOWN(V16*L16*Q16,-1),0) -> 0 | X16: =MAX(R16,T16,V16) -> 0 | Y16: =MIN(R16,T16,V16) -> 0 | Z16: =X16/Y16 -> #DIV/0! | AD16: =IF(ISNUMBER(FIND("↑",R16))=TRUE,"↑",IF(ISNUMBER(FIND("포함",R16))=TRUE,R16,IF(ISNUMBER(FIND("↑",R17))=TRUE,"일괄",IFERROR(AVERAGE(R16,T16,V16),0)))) -> 0 | AE16: =IF(ISNUMBER(FIND("↑",R16))=TRUE,"↑",IF(ISNUMBER(FIND("포함",R16))=TRUE,R16,IF(ISNUMBER(FIND("↑",R17))=TRUE,IFERROR(ROUNDDOWN(IF(V16="",AVERAGEA(U16,S16),AVERAGEA(S16,U16,W16)),-1),0),IFERROR(ROUNDDOWN(AD16*L16*Q16,-1),0)))) -> 0 | AV16: =IF(총괄!$A$3="(","1",RIGHT(총괄!$A$3,LEN(총괄!$A$3)-FIND(":",총괄!$A$3)-1)) -> 승학터널 민간투자사업(1차:우선) | AW16: 잔여지 지장물
O17: =IF(N17="1","1",LEFT(N17,FIND("/",N17)-1)) -> #VALUE! | P17: =IF(N17="1","1",RIGHT(N17,LEN(N17)-FIND("/",N17))) -> #VALUE! | Q17: =O17/P17 -> #VALUE! | S17: =IF(ISNUMBER(FIND("↑",R17))=TRUE,"↑",IF(ISNUMBER(FIND("↑",R18))=TRUE,R17,IF(ISNUMBER(FIND("포함",R17))=TRUE,R17,IFERROR(ROUNDDOWN(R17*$L17*$Q17,-1),0)))) -> 0 | U17: =IF(ISNUMBER(FIND("↑",T17))=TRUE,"↑",IF(ISNUMBER(FIND("↑",T18))=TRUE,T17,IF(ISNUMBER(FIND("포함",T17))=TRUE,T17,IFERROR(ROUNDDOWN(T17*$L17*$Q17,-1),0)))) -> 0 | W17: =IFERROR(ROUNDDOWN(V17*L17*Q17,-1),0) -> 0 | X17: =MAX(R17,T17,V17) -> 0 | Y17: =MIN(R17,T17,V17) -> 0 | Z17: =X17/Y17 -> #DIV/0! | AD17: =IF(ISNUMBER(FIND("↑",R17))=TRUE,"↑",IF(ISNUMBER(FIND("포함",R17))=TRUE,R17,IF(ISNUMBER(FIND("↑",R18))=TRUE,"일괄",IFERROR(AVERAGE(R17,T17,V17),0)))) -> 0 | AE17: =IF(ISNUMBER(FIND("↑",R17))=TRUE,"↑",IF(ISNUMBER(FIND("포함",R17))=TRUE,R17,IF(ISNUMBER(FIND("↑",R18))=TRUE,IFERROR(ROUNDDOWN(IF(V17="",AVERAGEA(U17,S17),AVERAGEA(S17,U17,W17)),-1),0),IFERROR(ROUNDDOWN(AD17*L17*Q17,-1),0)))) -> 0 | AV17: =IF(총괄!$A$3="(","1",RIGHT(총괄!$A$3,LEN(총괄!$A$3)-FIND(":",총괄!$A$3)-1)) -> 승학터널 민간투자사업(1차:우선) | AW17: 잔여지 지장물
... O51: =IF(N51="1","1",LEFT(N51,FIND("/",N51)-1)) -> #VALUE! | P51: =IF(N51="1","1",RIGHT(N51,LEN(N51)-FIND("/",N51))) -> #VALUE! | Q51: =O51/P51 -> #VALUE! | S51: =IF(ISNUMBER(FIND("↑",R51))=TRUE,"↑",IF(ISNUMBER(FIND("↑",R52))=TRUE,R51,IF(ISNUMBER(FIND("포함",R51))=TRUE,R51,IFERROR(ROUNDDOWN(R51*$L51*$Q51,-1),0)))) -> 0 | U51: =IF(ISNUMBER(FIND("↑",T51))=TRUE,"↑",IF(ISNUMBER(FIND("↑",T52))=TRUE,T51,IF(ISNUMBER(FIND("포함",T51))=TRUE,T51,IFERROR(ROUNDDOWN(T51*$L51*$Q51,-1),0)))) -> 0 | W51: =IFERROR(ROUNDDOWN(V51*L51*Q51,-1),0) -> 0 | X51: =MAX(R51,T51,V51) -> 0 | Y51: =MIN(R51,T51,V51) -> 0 | Z51: =X51/Y51 -> #DIV/0! | AD51: =IF(ISNUMBER(FIND("↑",R51))=TRUE,"↑",IF(ISNUMBER(FIND("포함",R51))=TRUE,R51,IF(ISNUMBER(FIND("↑",R52))=TRUE,"일괄",IFERROR(AVERAGE(R51,T51,V51),0)))) -> 0 | AE51: =IF(ISNUMBER(FIND("↑",R51))=TRUE,"↑",IF(ISNUMBER(FIND("포함",R51))=TRUE,R51,IF(ISNUMBER(FIND("↑",R52))=TRUE,IFERROR(ROUNDDOWN(IF(V51="",AVERAGEA(U51,S51),AVERAGEA(S51,U51,W51)),-1),0),IFERROR(ROUNDDOWN(AD51*L51*Q51,-1),0)))) -> 0 | AV51: =IF(총괄!$A$3="(","1",RIGHT(총괄!$A$3,LEN(총괄!$A$3)-FIND(":",총괄!$A$3)-1)) -> 승학터널 민간투자사업(1차:우선) | AW51: 잔여지 지장물

Sheet (농업손실액)
A2: 농업손실액 산출자료 작성 | B2: (기준일: 2019년 11월)
D3: 입력하세요
A4: 【 농작물 평균수입, 경지면적 】
B5: 전년도(2018) | C5: 전전년도(2017) | D5: 전전전년도(2016) | F5: <도별 농업총수입 중 농작물 수입>
A6: 도별 농업총수입 중 농작물 수입 | B6: 23563000 | C6: 21459000 | D6: 22105000 | F6: 1. kosis.kr
A7: 도별 표본농가현황 중 경지면적 | B7: 8646 | C7: 9707 | D7: 10138 | F7: 2. 국내통계→주제별통계→물가,가계→가계→농가경제조사→농가경제(2003~)
F8: 3. 농업총수입
F9: 4. 일괄설정에서 '농작물수입', '경상남도' 체크, 시점(직전 3년) 선택 → 적용
A10: 【 단위면적당 농업손실 보상단가 】
A11: 단위경작면적당 직전 3년간 평균 | B11: =(B6/B7+C6/C7+D6/D7)/3 -> 2372.1298 | F11: <도별 표본농가현황 중 경지면적>
A12: 단위경작면적당 직전 3년간 평균×2 | B12: =B11*2 -> 4744.2597 | F12: 1. kosis.kr
A13: < 산출기초 > | F13: 2. 국내통계→주제별통계→물가,가계→가계→농가경제조사→농가경제(2003~)
A14: ■ 단위면적당 농업손실 보상단가 : (도별 농업총수입 중 농작물 수입 ÷ 도별 표본농가형황 중 경지면적) 3년 평균 × 2년 | F14: 3. 주요지표(농가경제)
A15: ■ 농업손실액 : (도별 농업총수입 중 농작물 수입 ÷ 도별 표본농가형황 중 경지면적) 3년 평균 × 2년 × 경작면적 | F15: 4. 일괄설정에서 '경지면적', '경상남도' 체크, 시점(직전 3년) 선택 → 적용

Sheet (분묘보상액)
A1: 2020년 분묘보상액 지급 단가

Sheet 참고(지역,구역,지구)
A1: <국토의 계획 및 이용에 관한 법률에 따른 지역.지구 등> | I1: <다른 법령 등에 따른 지역.지구 등>
A2: <용도지역> | F2: <용도지구>
A3: 용도지역 | C3: 세분류(21개) | F3: 용도지구 | G3: 세분류 | I3: 구분 | J3: 관련법령
B4: 주거지역 | C4: 전용주거지역 | D4: 제1종전용주거지역 | F4: 경관지구 | G4: 자연경관지구 | I4: 가로구역별 최고높이 제한지역 | J4: 건축법
D5: 제2종전용주거지역 | G5: 시가지경관지구 | I5: 가지정문화재구역 | J5: 문화재보호법
C6: 일반주거지역 | D6: 제1종일반주거지역 | G6: 특화경관지구 | I6: 가축사육제한구역 | J6: 가축분뇨의 관리 및 이용에 관한 법률
D7: 제2종일반주거지역 | F7: 방재지구 | G7: 시가지방재지구 | I7: 개발가능무인도서 | J7: 무인도서의 보전 및 관리에 관한 법률
D8: 제3종일반주거지역 | G8: 자연방재지구 | I8: 개발제한구역 | J8: 개발제한구역의 지정 및 관리에 관한 특별조치법
C9: 준주거지역 | D9: 준주거지역 | F9: 보호지구 | G9: 역사문화환경보호지구 | I9: 건축자산진흥구역 | J9: 한옥 등 건축자산의 진흥에 관한 법률
B10: 상업지역 | C10: 중심상업지역 | D10: 중심상업지역 | G10: 중요시설물보호지구 | I10: 건축허가.착공제한지역 | J10: 건축법
C11: 일반상업지역 | D11: 일반상업지역 | G11: 생태계보호지구 | I11: 경쟁력강화사업지구 | J11: 노후거점산업단지의 활력증진 및 경쟁력강화를 위한 특별법
C12: 근린상업지역 | D12: 근린상업지역 | F12: 취락지구 | G12: 자연취락지구 | I12: 경제자유구역 | J12: 경제자유규역의 지정 및 운영에 관한 특별법
C13: 유통상업지역 | D13: 유통상업지역 | G13: 집단취락지구 | I13: 골재채취단지 | J13: 골재채취법
B14: 공업지역 | C14: 전용공업지역 | D14: 전용공업지역 | F14: 개발진흥지구 | G14: 주거개발진흥지구 | I14: 공공시설구역 | J14: 산업집적활성화 및 공장설립에 관한 법률
C15: 일반공업지역 | D15: 일반공업지역 | G15: 산업.유통개발진흥기구 | I15: 공공주택지구 | J15: 공공주택 특별법
C16: 준공업지역 | D16: 준공업지역 | G16: 관광.휴양개발진흥지구 | I16: 공공지원민간임대주택 공급촉진지구 | J16: 민간임대주택에관한특별법
B17: 녹지지역 | C17: 보전녹지지역 | D17: 보전녹지지역 | G17: 복합개발진흥지구 | I17: 공공폐수처리구역 | J17: 물환경보전법
C18: 생산녹지지역 | D18: 생산녹지지역 | G18: 특정개발진흥지구 | I18: 공원마을지구 | J18: 자연공원법
C19: 자연녹지지역 | D19: 자연녹지지역 | F19: <용도구역> | I19: 공원문화유산지구 | J19: 자연공원법
A20: 관리지역 | B20: 보전관리지역 | D20: 보전관리지역 | F20: 용도구역 | G20: 개발제한구역 | I20: 공원자연보존지구 | J20: 자연공원법
B21: 생산관리지역 | D21: 생산관리지역 | G21: 도시자연공원구역 | I21: 공원자연환경지구 | J21: 자연공원법
B22: 계획관리지역 | D22: 계획관리지역 | G22: 시가화조정구역 | I22: 공익용산지 | J22: 산지관리법
A23: 농림지역 | D23: 농림지역 | G23: 수산자원보호구역 | I23: 공익임지 | J23: 산림법
A24: 자연환경보전지역 | D24: 자연환경보전지역 | G24: 입지규제최소구역 | I24: 공장설립 승인지역 | J24: 수도법
I25: 공장설립 제한지역 | J25: 수도법
G26: 지구단위계획구역 | I26: 공장입지 유도지구 | J26: 산업입지 및 개발에 관한 법률
G27: 개발행위허가제한지역 | I27: 공항.비행장개발예정지역 | J27: 공항시설법
G28: 기반시설부담구역 | I28: 공항구역 | J28: 공항시설법
I29: 관계지역 | J29: 초고등 및 지하연계 복합건축물 재난관리에 관한 특별법
I30: 관광단지 | J30: 관광진흥법
I31: 관광지 | J31: 관광진흥법
I32: 교육.연구 및 사업화시설구역 | J32: 연구개발특구의육성에 관한 특별법
I33: 교육환경보호구역 | J33: 교육환경 보호에 관한 법률
I34: 교통물류거점 | J34: 국가통합교통체계효율화법
I35: 교통물류권역 | J35: 지속가능 교통물류 발전법
I36: 국가산업단지 | J36: 산업입지 및 개발에 관한 법률
I37: 국가지정문화재구역 | J37: 문화재보호법
I38: 국가혁신융복합단지 | J38: 국가균형발전 특별법
I39: 국립수목원완충지역 | J39: 수목원.정원의 조성 및 진흥에 관한 법률
I40: 국제과학비즈니스벨트 | J40: 국제과학비즈니스벨트 조성 및 지원에 관한 특별법
... I183: 환경정비구역 | J183: 상수원관리규칙

Sheet 참고(토지이용계획원)
A1: 토지이용계획원 상 ① 용도지역은 선택 ② 용도지구, 용도구역이 있으면 O, 없으면 X ③ 다른 법령 등에 따른 지역·지구 등에 해당되면 O, 없으면 X ※ 금정구 금성동 848번지의 경우, [용도지역: 자연녹지지역 / 용도지구,용도구역: O / 다른법령 등에 따른 지역.지구 등: X]

Sheet 참고(단위)
A1: ↑ | B1: ＜ | C1: ㎡
A2: ※ | B2: ＞ | C2: 식
A3: ↓ | B3: ± | C3: 주
A4: ＊ | B4: × | C4: ㎖
A5: ┐ | B5: ÷ | C5: ㎕
A6: │ | B6: ≤ | C6: ㎗
A7: ┤ | B7: ≥ | C7: ℓ
A8: │ | C8: ㎘
A9: ┘ | C9: ㏄
A10: ─ | C10: ㎣
A11: ┌ | C11: ㎤
A12: │ | C12: ㎥
A13: ├ | C13: ㎦
A14: │ | C14: ㎙
A15: └ | C15: ㎚
C16: ㎜
C17: ㎝
C18: ㎞
C19: ㎟
C20: ㎠
C21: ㎡
C22: ㎦
C23: ㏊
C24: ㎈
