Workbook
Name __gh1: [0]!__gh1
Name _gh1: [0]!_gh1
Name _K1: #REF!
Name _K3: #REF!
Name _K6: #REF!
Name _p2: #REF!
Name _P22: #REF!
Name _P31: #REF!
Name _P33: #REF!
Name \a: #N/A
Name \b: #N/A
Name \c: #N/A
Name \d: #N/A
Name \e: #N/A
Name \f: #N/A
Name \g: #N/A
Name \h: #N/A
Name \i: #N/A
Name \j: #N/A
Name \k: #N/A
Name \l: #N/A
Name \m: #N/A
Name \p: #N/A
Name a: #REF!
Name AFTER: #REF!
Name agdump: #REF!
Name age: #REF!
Name agedum: #REF!
Name agedump: #REF!
Name agen: #REF!
Name agencydump: #REF!
Name AGENCYLY: #REF!
Name AGENCYPLAN: #REF!
Name BEFORE: #REF!
Name C_: #N/A
Name ca: #REF!
Name CalcAgencyPrice: #REF!
Name co: #REF!
Name Commission: #REF!
Name da: #REF!
Name daewk: #REF!
Name dar: #REF!
Name darw: #REF!
Name DaRWk1: #REF!
Name DaRWk10: #REF!
Name DaRWk11: #REF!
Name DaRWk12: #REF!
Name DaRWk2: #REF!
Name DaRWk3: #REF!
Name DaRWk4: #REF!
Name DaRWk5: #REF!
Name DaRWk6: #REF!
Name DaRWk8: #REF!
Name DaRwk9: #REF!
Name database2: #REF!
Name DaWk7: #REF!
Name dbrwk1: #REF!
Name dbrwk10: #REF!
Name dbrwk11: #REF!
Name dbrwk12: #REF!

Sheet 원가
A1: 공 사 원 가 계 산 서
A3: 공사명 : | B3: =공종별집계표!A2 -> [ 전력반도체센터 제1팹 공조시설 개보수 공사 ] | G3: [ 전기공사 ]
D4: 금 액 | E4: 요율 (%) | F4: 구 성 비 | G4: 비 고
B5: 재 료 비 | C5: 직 접 재 료 비 | D5: =공종별집계표!F5 -> 0
C6: 작 업 설 . 부 산 물 등
A7: 순 | C7: [소 계] | D7: =SUM(D5:D6) -> 0
B8: 노 무 비 | C8: 직 접 노 무 비 | D8: =공종별집계표!H5 -> 0
C9: 간 접 노 무 비 | D9: =INT(SUM(D8*E9)) -> 0 | F9: 직접노무비
A10: 공 | C10: [소 계] | D10: =SUM(D8:D9) -> 0
B11: 경 비 | C11: 기 계 경 비 | D11: =공종별집계표!J5 -> 0
C12: 산 재 보 험 료 | D12: =D10*E12 -> 0 | F12: 노무비
C13: 고 용 보 험 료 | D13: =D10*E13 -> 0 | F13: 노무비
A14: 사 | C14: 석 면 분 담 금 | D14: =D10*E14 -> 0 | F14: 노무비
C15: 임 금 채 권 분 담 금 | D15: =D10*E15 -> 0 | F15: 노무비
C16: 건 강 보 험 료 | D16: =D8*E16 -> 0 | F16: 직접노무비
C17: 노인 장기 요양 보험료 | D17: =TRUNC(D16*E17,0) -> 0 | F17: 건강보험료
A18: 원 | C18: 연 금 보 험 료 | D18: =TRUNC(D8*E18,0) -> 0 | F18: 직접노무비
C19: 퇴 직 공 제 부 금 비 | D19: =D8*E19 -> 0 | F19: 직접노무비
C20: 산 업 안 전 보 건 관 리 비 | F20: 재료비+직접노무비
A21: 가 | C21: 기 타 경 비 | D21: =SUM(D7+D10)*E21 -> 0 | F21: 재료비+노무비
C25: [소 계] | D25: =SUM(D11:D24) -> 0
A26: 계 | D26: =SUM(D25,D10,D7) -> 0
A27: 일 반 관 리 비 | D27: =INT(SUM(D26)*E27) -> 0 | F27: 순공사원가계
A28: 이 윤 | D28: =INT((SUM(D10+D25+D27))*E28) -> 0 | F28: 노무비+경비+일반관리비
A29: 공 급 가 액 | D29: =TRUNC(SUM(D26:D28),-1) -> 0
A30: 부 가 가 치 세 | D30: =D29*0.1 -> 0 | F30: 공급가액
A31: 도 급 공 사 비 | D31: =INT(SUM(D29:D30)/100000)*100000 -> 0
A32: 도 급 자 관 급 | F32: 부가가치세 포함
A33: 분 담 금 공 사
A34: 결 정 금 액 | D34: =INT(SUM(D31:D33)/100000)*100000 -> 0

Sheet 공종별집계표
A1: 공 종 별 집 계 표
A2: [ 전력반도체센터 제1팹 공조시설 개보수 공사 ]
A3: 품 명 | B3: 규 격 | C3: 단위 | D3: 수량 | E3: 재 료 비 | G3: 노 무 비 | I3: 경 비 | K3: 합 계 | M3: 비 고 | N3: 공종코드 | O3: 변수 | P3: 상위공종 | Q3: 공종구분 | R3: 공종레벨 | S3: 공종소계 | T3: 원가계산서 연결금액
E4: 단 가 | F4: 금 액 | G4: 단 가 | H4: 금 액 | I4: 단 가 | J4: 금 액 | K4: 단 가 | L4: 금 액
A5: 01 전기공사 | D5: 1 | E5: =F6+F7 -> 0 | F5: =E5*D5 -> 0 | G5: =H6+H7 -> 0 | H5: =G5*D5 -> 0 | I5: =J6+J7 -> 0 | J5: =I5*D5 -> 0 | K5: =E5+G5+I5 -> 0 | L5: =F5+H5+J5 -> 0 | N5: 010105 | P5: 0101 | R5: 3
A6: 0101 전력간선설비공사 | D6: 1 | E6: =공종별내역서!F50 -> 0 | F6: =E6*D6 -> 0 | G6: =공종별내역서!H50 -> 0 | H6: =G6*D6 -> 0 | I6: =공종별내역서!J50 -> 0 | J6: =I6*D6 -> 0 | K6: =E6+G6+I6 -> 0 | L6: =F6+H6+J6 -> 0 | N6: 01010501 | P6: 010105 | R6: 4
A7: 0102 동력설비공사 | D7: 1 | E7: =공종별내역서!F97 -> 0 | F7: =E7*D7 -> 0 | G7: =공종별내역서!H97 -> 0 | H7: =G7*D7 -> 0 | I7: =공종별내역서!J97 -> 0 | J7: =I7*D7 -> 0 | K7: =E7+G7+I7 -> 0 | L7: =F7+H7+J7 -> 0 | N7: 01010502 | P7: 010105 | R7: 4
A26: [ 합 계 ]

Sheet 공종별내역서
A1: [ 전력반도체센터 제1팹 공조시설 개보수 공사 ]
A2: 품 명 | B2: 규 격 | C2: 단위 | D2: 수량 | E2: 재 료 비 | G2: 노 무 비 | I2: 경 비 | K2: 합 계 | M2: 비 고 | N2: 품목코드 | O2: 변수 | P2: 설정 | Q2: 공종코드 | R2: 일위 | S2: 단산 | T2: 자재 | U2: 손료적용 | V2: 손료저장 | W2: 적용율 | X2: JUK1 | Y2: JUK2 | Z2: JUK3 | AA2: JUK4 | AB2: JUK5 | AC2: JUK6 | AD2: JUK7 | AE2: JUK8 | AF2: JUK9 | AG2: JUK10 | AH2: JUK11 | AI2: JUK12 | AJ2: JUK13 | AK2: JUK14 | AL2: JUK15 | AM2: JUK16 | AN2: JUK17 | AO2: JUK18 | AP2: JUK19 | AQ2: JUK20 | AR2: 자재구분 | AS2: 공종구분 | AT2: 공종레벨 | AV2: 고유번호
E3: 단 가 | F3: 금 액 | G3: 단 가 | H3: 금 액 | I3: 단 가 | J3: 금 액 | K3: 단 가 | L3: 금 액
A4: 0101 전력간선설비공사 | Q4: 01010502
A5: 폴리에틸렌 난연케이블 | B5: 0.6/1kv F-CV 1C×300㎟ | C5: M | D5: 158 | F5: =TRUNC(E5*D5, 0) -> 0 | H5: =TRUNC(G5*D5, 0) -> 0 | J5: =TRUNC(I5*D5, 0) -> 0 | K5: =TRUNC(E5+G5+I5, 0) -> 0 | L5: =TRUNC(F5+H5+J5, 0) -> 0 | M5: 도급자관급 | N5: 501CF139C43BC49515858DBCF21B | R5: T | S5: F | T5: F | AV5: 187
A6: 폴리에틸렌 난연케이블 | B6: 0.6/1kv F-CV 1C×240㎟ | C6: M | D6: 158 | F6: =TRUNC(E6*D6, 0) -> 0 | H6: =TRUNC(G6*D6, 0) -> 0 | J6: =TRUNC(I6*D6, 0) -> 0 | K6: =TRUNC(E6+G6+I6, 0) -> 0 | L6: =TRUNC(F6+H6+J6, 0) -> 0 | M6: 도급자관급 | N6: 501CF139C43BC49515858DBCF21D | R6: T | S6: F | T6: F | AV6: 188
A7: 폴리에틸렌 난연케이블 | B7: 0.6/1kv F-CV 1C×185㎟ | C7: M | D7: 580 | F7: =TRUNC(E7*D7, 0) -> 0 | H7: =TRUNC(G7*D7, 0) -> 0 | J7: =TRUNC(I7*D7, 0) -> 0 | K7: =TRUNC(E7+G7+I7, 0) -> 0 | L7: =TRUNC(F7+H7+J7, 0) -> 0 | M7: 도급자관급 | N7: 501CF139C43BC49515858DBCF21F | R7: T | S7: F | T7: F | AV7: 189
A8: 폴리에틸렌 난연케이블 | B8: 0.6/1kv F-CV 1C×150㎟ | C8: M | D8: 1900 | F8: =TRUNC(E8*D8, 0) -> 0 | H8: =TRUNC(G8*D8, 0) -> 0 | J8: =TRUNC(I8*D8, 0) -> 0 | K8: =TRUNC(E8+G8+I8, 0) -> 0 | L8: =TRUNC(F8+H8+J8, 0) -> 0 | M8: 도급자관급 | N8: 501CF139C43BC49515858DBCF211 | R8: T | S8: F | T8: F | AV8: 190
A9: 폴리에틸렌 난연케이블 | B9: 0.6/1kv F-CV 1C×95㎟ | C9: M | D9: 1311 | F9: =TRUNC(E9*D9, 0) -> 0 | H9: =TRUNC(G9*D9, 0) -> 0 | J9: =TRUNC(I9*D9, 0) -> 0 | K9: =TRUNC(E9+G9+I9, 0) -> 0 | L9: =TRUNC(F9+H9+J9, 0) -> 0 | M9: 도급자관급
A10: 폴리에틸렌 난연케이블 | B10: 0.6/1kv F-CV 4C×35㎟ | C10: M | D10: 31 | F10: =TRUNC(E10*D10, 0) -> 0 | H10: =TRUNC(G10*D10, 0) -> 0 | J10: =TRUNC(I10*D10, 0) -> 0 | K10: =TRUNC(E10+G10+I10, 0) -> 0 | L10: =TRUNC(F10+H10+J10, 0) -> 0 | M10: 도급자관급 | N10: 501CF139C43BC49515858DBCF211 | R10: T | S10: F | T10: F | AV10: 190
A11: 폴리에틸렌 난연케이블 | B11: 0.6/1kv F-CV 4C×25㎟ | C11: M | D11: 342 | F11: =TRUNC(E11*D11, 0) -> 0 | H11: =TRUNC(G11*D11, 0) -> 0 | J11: =TRUNC(I11*D11, 0) -> 0 | K11: =TRUNC(E11+G11+I11, 0) -> 0 | L11: =TRUNC(F11+H11+J11, 0) -> 0 | M11: 도급자관급
A12: 접지용비닐절연전선(F-GV) | B12: 150㎟ | C12: M | D12: 39 | F12: =TRUNC(E12*D12, 0) -> 0 | H12: =TRUNC(G12*D12, 0) -> 0 | J12: =TRUNC(I12*D12, 0) -> 0 | K12: =TRUNC(E12+G12+I12, 0) -> 0 | L12: =TRUNC(F12+H12+J12, 0) -> 0
A13: 접지용비닐절연전선(F-GV) | B13: 120㎟ | C13: M | D13: 39 | F13: =TRUNC(E13*D13, 0) -> 0 | H13: =TRUNC(G13*D13, 0) -> 0 | J13: =TRUNC(I13*D13, 0) -> 0 | K13: =TRUNC(E13+G13+I13, 0) -> 0 | L13: =TRUNC(F13+H13+J13, 0) -> 0
A14: 접지용비닐절연전선(F-GV) | B14: 95㎟ | C14: M | D14: 453 | F14: =TRUNC(E14*D14, 0) -> 0 | H14: =TRUNC(G14*D14, 0) -> 0 | J14: =TRUNC(I14*D14, 0) -> 0 | K14: =TRUNC(E14+G14+I14, 0) -> 0 | L14: =TRUNC(F14+H14+J14, 0) -> 0
A15: 접지용비닐절연전선(F-GV) | B15: 50㎟ | C15: M | D15: 327 | F15: =TRUNC(E15*D15, 0) -> 0 | H15: =TRUNC(G15*D15, 0) -> 0 | J15: =TRUNC(I15*D15, 0) -> 0 | K15: =TRUNC(E15+G15+I15, 0) -> 0 | L15: =TRUNC(F15+H15+J15, 0) -> 0
A16: 접지용비닐절연전선(F-GV) | B16: 16㎟ | C16: M | D16: 374 | F16: =TRUNC(E16*D16, 0) -> 0 | H16: =TRUNC(G16*D16, 0) -> 0 | J16: =TRUNC(I16*D16, 0) -> 0 | K16: =TRUNC(E16+G16+I16, 0) -> 0 | L16: =TRUNC(F16+H16+J16, 0) -> 0
A17: 러그단자 | B17: 동관단자 2 HOLE 300 ㎟ | C17: EA | D17: 8 | F17: =TRUNC(E17*D17, 0) -> 0 | H17: =TRUNC(G17*D17, 0) -> 0 | J17: =TRUNC(I17*D17, 0) -> 0 | K17: =TRUNC(E17+G17+I17, 0) -> 0 | L17: =TRUNC(F17+H17+J17, 0) -> 0
A18: 러그단자 | B18: 동관단자 2 HOLE 240 ㎟ | C18: EA | D18: 8 | F18: =TRUNC(E18*D18, 0) -> 0 | H18: =TRUNC(G18*D18, 0) -> 0 | J18: =TRUNC(I18*D18, 0) -> 0 | K18: =TRUNC(E18+G18+I18, 0) -> 0 | L18: =TRUNC(F18+H18+J18, 0) -> 0
A19: 러그단자 | B19: 동관단자 2 HOLE 185 ㎟ | C19: EA | D19: 8 | F19: =TRUNC(E19*D19, 0) -> 0 | H19: =TRUNC(G19*D19, 0) -> 0 | J19: =TRUNC(I19*D19, 0) -> 0 | K19: =TRUNC(E19+G19+I19, 0) -> 0 | L19: =TRUNC(F19+H19+J19, 0) -> 0
A20: 러그단자 | B20: 동관단자 2 HOLE 150 ㎟ | C20: EA | D20: 24 | F20: =TRUNC(E20*D20, 0) -> 0 | H20: =TRUNC(G20*D20, 0) -> 0 | J20: =TRUNC(I20*D20, 0) -> 0 | K20: =TRUNC(E20+G20+I20, 0) -> 0 | L20: =TRUNC(F20+H20+J20, 0) -> 0
A21: 러그단자 | B21: 동관단자 1 HOLE 95 ㎟ | C21: EA | D21: 16 | F21: =TRUNC(E21*D21, 0) -> 0 | H21: =TRUNC(G21*D21, 0) -> 0 | J21: =TRUNC(I21*D21, 0) -> 0 | K21: =TRUNC(E21+G21+I21, 0) -> 0 | L21: =TRUNC(F21+H21+J21, 0) -> 0
A22: 러그단자 | B22: 동관단자 1 HOLE 35 ㎟ | C22: EA | D22: 8 | F22: =TRUNC(E22*D22, 0) -> 0 | H22: =TRUNC(G22*D22, 0) -> 0 | J22: =TRUNC(I22*D22, 0) -> 0 | K22: =TRUNC(E22+G22+I22, 0) -> 0 | L22: =TRUNC(F22+H22+J22, 0) -> 0
A23: 러그단자 | B23: 동관단자 1 HOLE 25 ㎟ | C23: EA | D23: 16 | F23: =TRUNC(E23*D23, 0) -> 0 | H23: =TRUNC(G23*D23, 0) -> 0 | J23: =TRUNC(I23*D23, 0) -> 0 | K23: =TRUNC(E23+G23+I23, 0) -> 0 | L23: =TRUNC(F23+H23+J23, 0) -> 0
... A29: 전기실 차단기 단말처리 | B29: 활선위험작업 | C29: 개소 | D29: 5 | F29: =TRUNC(E29*D29, 0) -> 0 | H29: =TRUNC(G29*D29, 0) -> 0 | J29: =TRUNC(I29*D29, 0) -> 0 | K29: =TRUNC(E29+G29+I29, 0) -> 0 | L29: =TRUNC(F29+H29+J29, 0) -> 0
A30: 전기실 케이블 이설_CBP-3 PNL | B30: 메인차단기 교체 포함 (200A→150A) | C30: 식 | D30: 1 | F30: =TRUNC(E30*D30, 0) -> 0 | H30: =TRUNC(G30*D30, 0) -> 0 | J30: =TRUNC(I30*D30, 0) -> 0 | K30: =TRUNC(E30+G30+I30, 0) -> 0 | L30: =TRUNC(F30+H30+J30, 0) -> 0 | N30: 501CF139C43BC49515858DBCF21F | R30: T | S30: F | T30: F | AV30: 189
A31: MCC-B 판넬 개조 | B31: 250/200A 2개 철거, 400/300A 신설 | C31: 식 | D31: 1 | F31: =TRUNC(E31*D31, 0) -> 0 | H31: =TRUNC(G31*D31, 0) -> 0 | J31: =TRUNC(I31*D31, 0) -> 0 | K31: =TRUNC(E31+G31+I31, 0) -> 0 | L31: =TRUNC(F31+H31+J31, 0) -> 0 | N31: 501CF139C43BC49515858DBCF211 | R31: T | S31: F | T31: F | AV31: 190
A32: 승압TR1, 150kVA | B32: Pri 4P 208/120V, Sec 4P 380/220V | C32: EA | D32: 1 | F32: =TRUNC(E32*D32, 0) -> 0 | H32: =TRUNC(G32*D32, 0) -> 0 | J32: =TRUNC(I32*D32, 0) -> 0 | K32: =TRUNC(E32+G32+I32, 0) -> 0 | L32: =TRUNC(F32+H32+J32, 0) -> 0
A33: 승압TR2, 200kVA | B33: Pri 4P 208/120V, Sec 4P 380/220V | C33: EA | D33: 1 | F33: =TRUNC(E33*D33, 0) -> 0 | H33: =TRUNC(G33*D33, 0) -> 0 | J33: =TRUNC(I33*D33, 0) -> 0 | K33: =TRUNC(E33+G33+I33, 0) -> 0 | L33: =TRUNC(F33+H33+J33, 0) -> 0
A34: 휀스 설치공사 | C34: M | D34: 10 | F34: =TRUNC(E34*D34, 0) -> 0 | H34: =TRUNC(G34*D34, 0) -> 0 | J34: =TRUNC(I34*D34, 0) -> 0 | K34: =TRUNC(E34+G34+I34, 0) -> 0 | L34: =TRUNC(F34+H34+J34, 0) -> 0
A35: 차단기함_OAC-01A | B35: 200A 차단기 내장 | C35: 면 | D35: 1 | F35: =TRUNC(E35*D35, 0) -> 0 | H35: =TRUNC(G35*D35, 0) -> 0 | J35: =TRUNC(I35*D35, 0) -> 0 | K35: =TRUNC(E35+G35+I35, 0) -> 0 | L35: =TRUNC(F35+H35+J35, 0) -> 0
A36: 차단기함_OAC-01B | B36: 250A 차단기 내장 | C36: 면 | D36: 1 | F36: =TRUNC(E36*D36, 0) -> 0 | H36: =TRUNC(G36*D36, 0) -> 0 | J36: =TRUNC(I36*D36, 0) -> 0 | K36: =TRUNC(E36+G36+I36, 0) -> 0 | L36: =TRUNC(F36+H36+J36, 0) -> 0
A37: 분 전 반 | B37: CDU-01 | C37: 면 | D37: 1 | F37: =TRUNC(E37*D37, 0) -> 0 | H37: =TRUNC(G37*D37, 0) -> 0 | J37: =TRUNC(I37*D37, 0) -> 0 | K37: =TRUNC(E37+G37+I37, 0) -> 0 | L37: =TRUNC(F37+H37+J37, 0) -> 0
A38: 분 전 반 | B38: CDU-02 | C38: 면 | D38: 1 | F38: =TRUNC(E38*D38, 0) -> 0 | H38: =TRUNC(G38*D38, 0) -> 0 | J38: =TRUNC(I38*D38, 0) -> 0 | K38: =TRUNC(E38+G38+I38, 0) -> 0 | L38: =TRUNC(F38+H38+J38, 0) -> 0
A39: 분 전 반 | B39: AHU-01/07_가습기 | C39: 면 | D39: 1 | F39: =TRUNC(E39*D39, 0) -> 0 | H39: =TRUNC(G39*D39, 0) -> 0 | J39: =TRUNC(I39*D39, 0) -> 0 | K39: =TRUNC(E39+G39+I39, 0) -> 0 | L39: =TRUNC(F39+H39+J39, 0) -> 0
A40: 분 전 반 | B40: AHU-01_가습기 | C40: 면 | D40: 1 | F40: =TRUNC(E40*D40, 0) -> 0 | H40: =TRUNC(G40*D40, 0) -> 0 | J40: =TRUNC(I40*D40, 0) -> 0 | K40: =TRUNC(E40+G40+I40, 0) -> 0 | L40: =TRUNC(F40+H40+J40, 0) -> 0
A41: 분 전 반 | B41: AHU-07_가습기 | C41: 면 | D41: 1 | F41: =TRUNC(E41*D41, 0) -> 0 | H41: =TRUNC(G41*D41, 0) -> 0 | J41: =TRUNC(I41*D41, 0) -> 0 | K41: =TRUNC(E41+G41+I41, 0) -> 0 | L41: =TRUNC(F41+H41+J41, 0) -> 0
A42: 분 전 반 | B42: 운반비 | C42: 면 | D42: 1 | F42: =TRUNC(E42*D42, 0) -> 0 | H42: =TRUNC(G42*D42, 0) -> 0 | J42: =TRUNC(I42*D42, 0) -> 0 | K42: =TRUNC(E42+G42+I42, 0) -> 0 | L42: =TRUNC(F42+H42+J42, 0) -> 0
A43: 케이블트레이 | B43: STRAIGHT,St W600x100Hx2.3t | C43: M | D43: 80 | F43: =TRUNC(E43*D43, 0) -> 0 | H43: =TRUNC(G43*D43, 0) -> 0 | J43: =TRUNC(I43*D43, 0) -> 0 | K43: =TRUNC(E43+G43+I43, 0) -> 0 | L43: =TRUNC(F43+H43+J43, 0) -> 0
A44: 케이블트레이부속품 | B44: COVER, ST, W600x2.3t | C44: M | D44: 80 | F44: =TRUNC(E44*D44, 0) -> 0 | H44: =TRUNC(G44*D44, 0) -> 0 | J44: =TRUNC(I44*D44, 0) -> 0 | K44: =TRUNC(E44+G44+I44, 0) -> 0 | L44: =TRUNC(F44+H44+J44, 0) -> 0
A45: 케이블트레이부속품 | B45: H. ELBOW, St, W600x100Hx2.3t | C45: EA | D45: 5 | F45: =TRUNC(E45*D45, 0) -> 0 | H45: =TRUNC(G45*D45, 0) -> 0 | J45: =TRUNC(I45*D45, 0) -> 0 | K45: =TRUNC(E45+G45+I45, 0) -> 0 | L45: =TRUNC(F45+H45+J45, 0) -> 0
...

Sheet 공사설정
A1: 이 Sheet는 수정하지 마십시요
A2: 공사구분 | B2: C
A3: 확정내역 | B3: 원내역
A4: 자재단가적용 | B4: 5
A5: 경비단가적용 | B5: 5
A6: 품목코드형식 | B6: XXXX-XXX-XXXX
A7: 내역금액소수점처리 | B7: C | C7: 1
A8: 일위대가내역소수점처리 | B8: C | C8: 2
A9: 단가명 | B9: 가격정보 | C9: 물가자료 | D9: 물가정보 | E9: 거래가격 | F9: 조사가격2 | G9: TTTTT
A10: 환율 | B10: 0 | C10: 0 | D10: 0
A11: 시간당작업량 | B11: R | C11: 3
A12: 1회 사이클시간 | B12: R | C12: 3
A13: 시간당 작업사이클 | B13: R | C13: 2
A14: 일반변수 | B14: C | C14: 5
A15: 시간당 노임산출 계수 | B15: A | C15: 1/8*16/12*25/20 | D15: 1/8*16/12*25/20 | E15: 1/8*16/12*25/20 | F15: 1/8*16/12*25/20
A16: 재료비 할증 계수 | B16: 0 | C16: 0
A17: 노무비 할증 계수 | B17: 0 | C17: 0 | D17: 0 | E17: 0 | F17: 0 | G17: 0 | H17: 0 | I17: 0 | J17: 0 | K17: 0 | L17: 0 | M17: 0
A18: 경비 할증 계수 | B18: 0 | C18: 0
A21: 코드 | B21: 공종구분명 | C21: 원가비목코드
A22: 1 | B22: 작업부산물 | C22: A3
A23: 2 | B23: 운반비 | C23: C1
A24: 3 | B24: 관급자재비 | C24: DJ
A25: 4 | B25: 사급자재비 | C25: D3
A26: 5
A27: 6
A28: 7
A29: 8
A30: 9

Sheet Sheet1
