Workbook
Name DANGA: #REF!,#REF!
Name ID: #REF!,#REF!
Name MONEY: #REF!,#REF!
Name 거제시청: "Chart 63"
Name 입찰처: "Text 64"
Name 제조원가율: "database+전체!$A$4:$W$825"

Sheet 총 예산서
A1: 설 계 년월일 | C1: 2026. 05 | F1: 설계자 | K1: 심사자 | P1: 팀 장 | U1: 과 장
A3: 빌딩풍 풍향·풍속 기상관측시스템 설치 사업
A5: [총 설계 예산서]
F8: ■ 사업개요
F9: 1. 빌딩풍 풍향·풍속 기상관측시스템 설치사업 | Q9: --------------------- | U9: 1식
E14: 총 사 업 비 | L14: 일금 | U14: 원
E15: 도 급 공 사 비 | L15: 일금 | U15: 원
E16: 기상측기검정 수수료 | L16: 일금 | U16: 원
E17: 한 전 시 설 부 담 금 | L17: 일금 | U17: 원
E18: 재 해 예 방 기 술 지 도 | L18: 일금 | U18: 원
AD21: =SUM(N16:T16) -> 0

Sheet 원가계산서
A1: [ 공 사 원 가 계 산 서 ]
A2: 빌딩풍 풍향·풍속 기상관측시스템 설치 사업
A3: 구 분 | D3: 발 주 금 액 | E3: 구 성 비 | F3: 비 고
A4: 순 공 사 원 가 | B4: 재 | C4: 직접재료비
B5: 료 | C5: 간접재료비
B6: 비 | C6: 소 계
B7: 노 | C7: 직접노무비
B8: 무 | C8: 간접노무비 | E8: 5
B9: 비 | C9: 소 계
C10: 기계 경비
B11: 경 | C11: 산재보험료 | E11: 3.56
C12: 고용보험료 | E12: 1.01
C13: 건강보험료 | E13: 3.595
C14: 연금보험료 | E14: 4.75
C15: 노인장기요양보험료 | E15: 13.14
C16: 퇴직공제부금비 | E16: 2.3 | F16: 1억이상 건설공사
C17: 산업안전보건관리비 | E17: (재료비+직노)*2.07%*1.2 | F17: OR (재료+직노+관급)*2.07%
C18: 폐기물 처리비
B19: 비 | C19: 기타 경비 | E19: 2
C20: 석면부담금 | E20: 0.006
C21: 임금채권부담금 | E21: 0.09
C22: 소 계
A23: 합 계
A24: 일 반 관 리 비 | E24: 5
A25: 이 윤 | E25: 10
A26: 공 급 가 액
A27: 부 가 가 치 세 | E27: 총원가의 10%
A28: 공 사 금 액 | E28: 천단위미만 절사
A29: 총 계

Sheet 내역서
B1: 빌딩풍 풍향·풍속 기상관측시스템 설치 사업
B2: 품 명 | C2: 규 격 | D2: 수량 | E2: 단위 | F2: 재 료 비 | H2: 노 무 비 | J2: 경 비 | L2: 합 계 | M2: 비 고
F3: 단 가 | G3: 금 액 | H3: 단 가 | I3: 금 액 | J3: 단 가 | K3: 금 액
B4: [ 공 사 집 계 표 ]
B5: =B24 -> 1. 네트워크설비 설치공사 | D5: 1 | E5: 식
B6: =B44 -> 2. 케이블 구축공사 | D6: 1 | E6: 식
B7: =B45 -> 1) 광케이블 포설공사 | D7: 1 | E7: 식
B8: =B55 -> 2) 광케이블 접속 및 시험 | D8: 1 | E8: 식
B9: =B64 -> 3) 케이블 설치 부대공사 | D9: 1 | E9: 식
B10: =B84 -> 3. 풍향풍속계 설치공사 | D10: 1 | E10: 식
B11: [ 합 계 ]
B24: 1. 네트워크설비 설치공사
A25: =B25&C25 -> L2 스위치 G8E2G | B25: =집계표!B4 -> L2 스위치 | C25: =집계표!C4 -> G8E2G | D25: 1 | E25: =집계표!D4 -> 대
A26: =B26&C26 -> 광 송·수신기 100/1000Mbps | B26: =집계표!B5 -> 광 송·수신기 | C26: =집계표!C5 -> 100/1000Mbps | D26: 2 | E26: =집계표!D5 -> 대
A27: =B27&C27 -> 광점퍼코드SC-SC-SP, 1M, 싱글모드 | B27: =집계표!B6 -> 광점퍼코드 | C27: =집계표!C6 -> SC-SC-SP, 1M, 싱글모드 | D27: 1 | E27: =집계표!D6 -> 개
A28: =B28&C28 -> 광점퍼코드SC-SC-SP, 3M, 싱글모드 | B28: =집계표!B7 -> 광점퍼코드 | C28: =집계표!C7 -> SC-SC-SP, 3M, 싱글모드 | D28: 1 | E28: =집계표!D7 -> 개
A29: =B29&C29
A30: =B30&C30
A31: =B31&C31
A32: =B32&C32
A36: =B36&C36
B43: [ 소 계 ]
B44: 2. 케이블 구축공사
B45: =집계표!B10 -> 1) 광케이블 포설공사
A46: =B46&C46 -> 광케이블S/M 8C 가공포설 | B46: =집계표!B11 -> 광케이블 | C46: =집계표!C11 -> S/M 8C 가공포설 | D46: 0 | E46: =[18]집계표!D16 -> 100m
A47: =B47&C47 -> 광케이블S/M 8C 지중인력포설 | B47: =집계표!B12 -> 광케이블 | C47: =집계표!C12 -> S/M 8C 지중인력포설 | D47: 1.25 | E47: =[18]집계표!D17 -> 100m
A48: =B48&C48
A51: =B51&C51
B53: [ 소 계 ]
B55: =집계표!B13 -> 2) 광케이블 접속 및 시험
A56: =B56&C56 -> 국내성단12코아 이하 | B56: =집계표!B14 -> 국내성단 | C56: =집계표!C14 -> 12코아 이하 | D56: 2 | E56: =집계표!D14 -> 코아
A57: =B57&C57 -> 광케이블 시험 및 측정최종시험 | B57: =집계표!B15 -> 광케이블 시험 및 측정 | C57: =집계표!C15 -> 최종시험 | D57: 1 | E57: =집계표!D15 -> 코아
A58: =B58&C58
A60: =B60&C60
B63: [ 소 계 ]
B64: =집계표!B16 -> 3) 케이블 설치 부대공사
A65: =B65&C65 -> 파상형경질전선관ELP 30㎜ | B65: =집계표!B17 -> 파상형경질전선관 | C65: =집계표!C17 -> ELP 30㎜ | D65: 263 | E65: =집계표!D17 -> M
A66: =B66&C66 -> 금속가요전선관300*400*판용접*고휘도반사지 | B66: =집계표!B18 -> 금속가요전선관 | C66: =집계표!C47 -> 300*400*판용접*고휘도반사지 | D66: 5 | E66: =집계표!D47 -> 매
A67: =B67&C67 -> 금속가요전선관28C(방수) | B67: =집계표!B48 -> 금속가요전선관 | C67: =집계표!C48 -> 28C(방수) | D67: 40 | E67: =집계표!D48 -> m
A68: =B68&C68 -> 금속가요전선관 부속품콘넥타 22C(방수) | B68: =집계표!B49 -> 금속가요전선관 부속품 | C68: =집계표!C49 -> 콘넥타 22C(방수) | D68: 10 | E68: =집계표!D49 -> 개
A69: =B69&C69 -> 금속가요전선관 부속품콘넥타 28C(방수) | B69: =집계표!B50 -> 금속가요전선관 부속품 | C69: =집계표!C50 -> 콘넥타 28C(방수) | D69: 10 | E69: =집계표!D50 -> 개
A70: =B70&C70 -> 전원 케이블F-CV 6sq/2C | B70: =집계표!B22 -> 전원 케이블 | C70: =집계표!C22 -> F-CV 6sq/2C | D70: 125 | E70: =집계표!D22 -> m
A71: =B71&C71 -> 전원 케이블F-CV 6sq/2C 지중인력포설 | B71: =집계표!B23 -> 전원 케이블 | C71: =집계표!C23 -> F-CV 6sq/2C 지중인력포설 | D71: 170 | E71: =집계표!D23 -> m
A72: =B72&C72 -> 조가선아연도 강연선 30㎟ | B72: =집계표!B24 -> 조가선 | C72: =집계표!C24 -> 아연도 강연선 30㎟ | D72: 1.4 | E72: =집계표!D24 -> 100m
A73: =B73&C73 -> 케이블 명찰아크릴 | B73: =집계표!B25 -> 케이블 명찰 | C73: =집계표!C25 -> 아크릴 | D73: 4 | E73: =집계표!D25 -> 개
A74: =B74&C74 -> IP주(7m)150Kg(함체 설치용) | B74: =집계표!B26 -> IP주(7m) | C74: =집계표!C26 -> 150Kg(함체 설치용) | D74: 1 | E74: =집계표!D26 -> 개소
A75: =B75&C75 -> 접지 케이블F-GV 6mm² | B75: =집계표!B27 -> 접지 케이블 | C75: =집계표!C27 -> F-GV 6mm² | D75: 5 | E75: =집계표!D27 -> m
A76: =B76&C76 -> 접지봉(IP주)14㎟ x 1000L | B76: =집계표!B30 -> 접지봉(IP주) | C76: =집계표!C30 -> 14㎟ x 1000L | D76: 1 | E76: =집계표!D30 -> 개
B77: =집계표!B31 -> 터파기 | C77: =집계표!C31 -> 백호[0.4㎥]80%+인력20% | D77: =집계표!K31 -> 39 | E77: =집계표!D31 -> ㎥
A78: =B78&C78 -> 되메우기백호[0.4㎥]80%+인력20% | B78: =집계표!B32 -> 되메우기 | C78: =집계표!C32 -> 백호[0.4㎥]80%+인력20% | D78: =집계표!K32 -> 39 | E78: =집계표!D32 -> ㎥
A79: =B79&C79 -> 보도블럭철거블록/모래(장비사용) | B79: =집계표!B33 -> 보도블럭철거 | C79: =집계표!C33 -> 블록/모래(장비사용) | D79: =집계표!K33 -> 65 | E79: =집계표!D33 -> ㎡
A80: =B80&C80 -> 보도블럭 재설치블록/모래 | B80: =집계표!B34 -> 보도블럭 재설치 | C80: =집계표!C34 -> 블록/모래 | D80: =집계표!K34 -> 65 | E80: =집계표!D34 -> ㎡
A82: =B82&C82
B83: [ 소 계 ]
A84: =B84&C84 -> 3. 풍향풍속계 설치공사0 | B84: 3. 풍향풍속계 설치공사 | C84: =[18]집계표!C45 -> 0
A85: =B85&C85 -> 풍향풍속계풍향 : 0-360˚ 풍속 : 0-75m/s | B85: =집계표!B36 -> 풍향풍속계 | C85: =집계표!C36 -> 풍향 : 0-360˚ 풍속 : 0-75m/s | D85: =집계표!K36 -> 5 | E85: =집계표!D36 -> 개
A86: =B86&C86 -> 데이터로거풍향풍속 전용 Firmwatre | B86: =집계표!B37 -> 데이터로거 | C86: =집계표!C37 -> 풍향풍속 전용 Firmwatre | D86: =집계표!K37 -> 5 | E86: =집계표!D37 -> 개
A87: =B87&C87 -> 풍향풍속계 브래킷SUS304. 제작 사양 | B87: =집계표!B38 -> 풍향풍속계 브래킷 | C87: =집계표!C38 -> SUS304. 제작 사양 | D87: =집계표!K38 -> 5 | E87: =집계표!D38 -> 개
A88: =B88&C88 -> 풍향풍속계 설치풍향풍속계 센서 설치 | B88: =집계표!B39 -> 풍향풍속계 설치 | C88: =집계표!C39 -> 풍향풍속계 센서 설치 | D88: =집계표!K39 -> 5 | E88: =집계표!D39 -> 센스
A89: =B89&C89 -> 풍향풍속계 결선풍향풍속계 센서 결선 | B89: =집계표!B40 -> 풍향풍속계 결선 | C89: =집계표!C40 -> 풍향풍속계 센서 결선 | D89: =집계표!K40 -> 5 | E89: =집계표!D40 -> 개소
A90: =B90&C90 -> 종합시험풍향풍속계 시험, 조정 | B90: =집계표!B41 -> 종합시험 | C90: =집계표!C41 -> 풍향풍속계 시험, 조정 | D90: =집계표!K41 -> 5 | E90: =집계표!D41 -> 식
A91: =B91&C91 -> 종합시험Application 및 연동Software시험 | B91: =집계표!B42 -> 종합시험 | C91: =집계표!C42 -> Application 및 연동Software시험 | D91: =집계표!K42 -> 5 | E91: =집계표!D42 -> 식
A92: =B92&C92 -> 제어기 함체 (Pole)함체,내부설비(함체분리형) | B92: =집계표!B43 -> 제어기 함체 (Pole) | C92: =집계표!C43 -> 함체,내부설비(함체분리형) | D92: =집계표!K43 -> 5 | E92: =집계표!D43 -> 개소
A93: 누전차단기 220V 20AF, SPD 내장형 | B93: 누전차단기 | C93: 220V 20AF, SPD 내장형 | D93: =집계표!K44 -> 5 | E93: =집계표!D44 -> 개
A94: 온도센서25℃ - 50℃ | B94: 온도센서 | C94: 25℃ - 50℃ | D94: =집계표!K45 -> 5 | E94: =집계표!D45 -> 개
A95: 멀티탭(멀티콘센트)4구 | B95: 멀티탭(멀티콘센트) | C95: 4구 | D95: =집계표!K46 -> 5 | E95: =집계표!D46 -> 개
A96: =B96&C96 -> 안내판300*400*판용접*고휘도반사지 | B96: =집계표!B47 -> 안내판 | C96: =집계표!C47 -> 300*400*판용접*고휘도반사지 | D96: =집계표!K47 -> 5 | E96: =집계표!D47 -> 매
A97: =B97&C97
A98: =B98&C98
A99: =B99&C99
A100: =B100&C100
A101: =B101&C101
A102: =B102&C102
A103: =B103&C103
B104: [ 소 계 ]

Sheet 집계표
B1: 빌딩풍 풍향·풍속 기상관측시스템 설치 사업
B2: 품 명 | C2: 규 격 | D2: 단위 | E2: 집계 | K2: 소 계
B3: 1. 네트워크설비 설치공사
A4: =B4&C4 -> L2 스위치 G8E2G | B4: L2 스위치 | C4: G8E2G | D4: 대 | E4: 1 | K4: =SUM(E4:J4) -> 1
A5: =B5&C5 -> 광 송·수신기 100/1000Mbps | B5: 광 송·수신기 | C5: 100/1000Mbps | D5: 대 | E5: 2 | K5: =SUM(E5:J5) -> 2
A6: =B6&C6 -> 광점퍼코드SC-SC-SP, 1M, 싱글모드 | B6: 광점퍼코드 | C6: SC-SC-SP, 1M, 싱글모드 | D6: 개 | E6: 1 | K6: =SUM(E6:J6) -> 1
A7: =B7&C7 -> 광점퍼코드SC-SC-SP, 3M, 싱글모드 | B7: 광점퍼코드 | C7: SC-SC-SP, 3M, 싱글모드 | D7: 개 | E7: 1 | K7: =SUM(E7:J7) -> 1
A8: =B8&C8
B9: 2. 케이블 구축공사
B10: 1) 광케이블 포설공사
A11: =B11&C11 -> 광케이블S/M 8C 가공포설 | B11: 광케이블 | C11: S/M 8C 가공포설 | D11: 100m | E11: 0 | F11: /100 | K11: =SUM(E11/100) -> 0
A12: =B12&C12 -> 광케이블S/M 8C 지중인력포설 | B12: 광케이블 | C12: S/M 8C 지중인력포설 | D12: 100m | E12: 125 | F12: /100 | K12: =SUM(E12/100) -> 1.25
B13: 2) 광케이블 접속 및 시험
A14: =B14&C14 -> 국내성단12코아 이하 | B14: 국내성단 | C14: 12코아 이하 | D14: 코아 | E14: 2 | K14: =SUM(E14:J14) -> 2
A15: =B15&C15 -> 광케이블 시험 및 측정최종시험 | B15: 광케이블 시험 및 측정 | C15: 최종시험 | D15: 코아 | E15: 1 | K15: =SUM(E15:J15) -> 1
B16: 3) 케이블 설치 부대공사
B17: 파상형경질전선관 | C17: ELP 30㎜ | D17: M | E17: 263 | K17: =SUM(E17:J17) -> 263
A18: =B18&C18 -> 금속가요전선관22C(방수) | B18: 금속가요전선관 | C18: 22C(방수) | D18: m | E18: 40 | K18: =SUM(E18:J18) -> 40
A19: =B19&C19 -> 금속가요전선관28C(방수) | B19: 금속가요전선관 | C19: 28C(방수) | D19: m | E19: 40 | K19: =SUM(E19:J19) -> 40
A20: =B20&C20 -> 금속가요전선관 부속품콘넥타 22C(방수) | B20: 금속가요전선관 부속품 | C20: 콘넥타 22C(방수) | D20: 개 | E20: 10 | K20: =SUM(E20:J20) -> 10
A21: =B21&C21 -> 금속가요전선관 부속품콘넥타 28C(방수) | B21: 금속가요전선관 부속품 | C21: 콘넥타 28C(방수) | D21: 개 | E21: 10 | K21: =SUM(E21:J21) -> 10
A22: =B22&C22 -> 전원 케이블F-CV 6sq/2C | B22: 전원 케이블 | C22: F-CV 6sq/2C | D22: m | E22: 125 | K22: =SUM(E22:J22) -> 125
A23: =B23&C23 -> 전원 케이블F-CV 6sq/2C 지중인력포설 | B23: 전원 케이블 | C23: F-CV 6sq/2C 지중인력포설 | D23: m | E23: 170 | K23: =SUM(E23:J23) -> 170
A24: =B24&C24 -> 조가선아연도 강연선 30㎟ | B24: 조가선 | C24: 아연도 강연선 30㎟ | D24: 100m | E24: 140 | F24: /100 | K24: =SUM(E24/100) -> 1.4
A25: 케이블 명찰아크릴 | B25: 케이블 명찰 | C25: 아크릴 | D25: 개 | E25: 4 | K25: =SUM(E25:J25) -> 4
A26: =B26&C26 -> IP주(7m)150Kg(함체 설치용) | B26: IP주(7m) | C26: 150Kg(함체 설치용) | D26: 개소 | E26: 1 | K26: =SUM(E26:J26) -> 1
A27: =B27&C27 -> 접지 케이블F-GV 6mm² | B27: 접지 케이블 | C27: F-GV 6mm² | D27: m | E27: 5 | K27: =SUM(E27:J27) -> 5
A28: =B28&C28 -> 접지 케이블F-GV 16mm² | B28: 접지 케이블 | C28: F-GV 16mm² | D28: m | E28: =#REF! -> #REF! | K28: =SUM(E28:J28) -> #REF!
A29: =B29&C29 -> 접지선 압착단자16mm² | B29: 접지선 압착단자 | C29: 16mm² | D29: 개 | E29: =#REF! -> #REF! | K29: =SUM(E29:J29) -> #REF!
A30: =B30&C30 -> 접지봉(IP주)14㎟ x 1000L | B30: 접지봉(IP주) | C30: 14㎟ x 1000L | D30: 개 | E30: 1 | K30: =SUM(E30:J30) -> 1
A31: 되메우기백호[0.4㎥]80%+인력19% | B31: 터파기 | C31: 백호[0.4㎥]80%+인력20% | D31: ㎥ | E31: 39 | K31: =SUM(E31:J31) -> 39 | L31: 130 | M31: 0.5 | N31: 0.6 | O31: =L31*M31*N31 -> 39
A32: 되메우기백호[0.4㎥]80%+인력20% | B32: 되메우기 | C32: 백호[0.4㎥]80%+인력20% | D32: ㎥ | E32: 39 | K32: =SUM(E32:J32) -> 39
A33: 보도블럭철거블록/모래(장비사용) | B33: 보도블럭철거 | C33: 블록/모래(장비사용) | D33: ㎡ | E33: 65 | K33: =SUM(E33:J33) -> 65 | L33: 130 | M33: 0.5 | N33: =M33*L33 -> 65
A34: 보도블럭 재설치블록/모래 | B34: 보도블럭 재설치 | C34: 블록/모래 | D34: ㎡ | E34: 65 | K34: =SUM(E34:J34) -> 65
B35: 3. 풍향풍속계 설치공사
A36: 풍향풍속계 | B36: 풍향풍속계 | C36: 풍향 : 0-360˚ 풍속 : 0-75m/s | D36: 개 | E36: 5 | K36: =SUM(E36:J36) -> 5
A37: 데이터로거 | B37: 데이터로거 | C37: 풍향풍속 전용 Firmwatre | D37: 개 | E37: 5 | K37: =SUM(E37:J37) -> 5
A38: =B38&C38 -> 풍향풍속계 브래킷SUS304. 제작 사양 | B38: 풍향풍속계 브래킷 | C38: SUS304. 제작 사양 | D38: 개 | E38: 5 | K38: =SUM(E38:J38) -> 5
A39: 풍향풍속계 설치 | B39: 풍향풍속계 설치 | C39: 풍향풍속계 센서 설치 | D39: 센스 | E39: 5 | K39: =SUM(E39:J39) -> 5
A40: 풍향풍속계 결선 | B40: 풍향풍속계 결선 | C40: 풍향풍속계 센서 결선 | D40: 개소 | E40: 5 | K40: =K39 -> 5
A41: 종합시험 | B41: 종합시험 | C41: 풍향풍속계 시험, 조정 | D41: 식 | E41: 5 | K41: =K40 -> 5
A42: 종합시험 | B42: 종합시험 | C42: Application 및 연동Software시험 | D42: 식 | E42: 5 | K42: =K41 -> 5
A43: =B43&C43 -> 제어기 함체 (Pole)함체,내부설비(함체분리형) | B43: 제어기 함체 (Pole) | C43: 함체,내부설비(함체분리형) | D43: 개소 | E43: 5 | K43: =SUM(E43:J43) -> 5
A44: 누전차단기 220V 20AF, SPD 내장형 | B44: 누전차단기 | C44: 220V 20AF, SPD 내장형 | D44: 개 | E44: 5 | K44: =SUM(E44:J44) -> 5
A45: 온도센서25℃ - 50℃ | B45: 온도센서 | C45: 25℃ - 50℃ | D45: 개 | E45: 5 | K45: =SUM(E45:J45) -> 5
A46: 멀티탭(멀티콘센트)4구 | B46: 멀티탭(멀티콘센트) | C46: 4구 | D46: 개 | E46: 5 | K46: =SUM(E46:J46) -> 5
A47: =B47&C47 -> 안내판300*400*판용접*고휘도반사지 | B47: 안내판 | C47: 300*400*판용접*고휘도반사지 | D47: 매 | E47: 5 | K47: =SUM(E47:J47) -> 5
A48: =B48&C48 -> 금속가요전선관28C(방수) | B48: 금속가요전선관 | C48: 28C(방수) | D48: m | E48: 40 | K48: =SUM(E48:J48) -> 40
A49: =B49&C49 -> 금속가요전선관 부속품콘넥타 22C(방수) | B49: 금속가요전선관 부속품 | C49: 콘넥타 22C(방수) | D49: 개 | E49: 10 | K49: =SUM(E49:J49) -> 10
A50: =B50&C50 -> 금속가요전선관 부속품콘넥타 28C(방수) | B50: 금속가요전선관 부속품 | C50: 콘넥타 28C(방수) | D50: 개 | E50: 10 | K50: =SUM(E50:J50) -> 10
A51: =B51&C51 -> 데이타 케이블UTP, CAT-5E, 4P | B51: 데이타 케이블 | C51: UTP, CAT-5E, 4P | D51: m | E51: =#REF! -> #REF! | K51: =SUM(E51:J51) -> #REF!
A52: =B52&C52 -> 데이타 케이블(옥외용)UTP, CAT-5E, 4P | B52: 데이타 케이블(옥외용) | C52: UTP, CAT-5E, 4P | D52: m | E52: =#REF! -> #REF! | K52: =SUM(E52:J52) -> #REF!
A53: =B53&C53 -> 동축케이블 포설5C-HFBT | B53: 동축케이블 포설 | C53: 5C-HFBT | D53: m | E53: =[18]수량산출서_광케이블포설!BC92 -> 0 | K53: =SUM(E53:J53) -> 0
A54: =B54&C54 -> 전원 케이블VCT-2.5㎟*2C | B54: 전원 케이블 | C54: VCT-2.5㎟*2C | D54: m | E54: =#REF! -> #REF! | K54: =SUM(E54:J54) -> #REF!
A55: =B55&C55 -> 접지봉(POLE)14㎟ x 1000L x 3EA | B55: 접지봉(POLE) | C55: 14㎟ x 1000L x 3EA | D55: 조 | E55: =#REF! -> #REF! | K55: =SUM(E55:J55) -> #REF!
A56: =B56&C56 -> 접지봉(한전주)14㎟ x 1000L | B56: 접지봉(한전주) | C56: 14㎟ x 1000L | D56: 개 | E56: =#REF! -> #REF! | K56: =SUM(E56:J56) -> #REF!
A57: =B57&C57 -> 포장 부수기 및 복구아스팔트부분 | B57: 포장 부수기 및 복구 | C57: 아스팔트부분 | D57: 개소 | E57: =#REF! -> #REF! | K57: =SUM(E57:J57) -> #REF!
A58: =B58&C58 -> 포장 부수기 및 복구보도블럭부분 | B58: 포장 부수기 및 복구 | C58: 보도블럭부분 | D58: 개소 | E58: =#REF! -> #REF! | K58: =SUM(E58:J58) -> #REF!
A59: =B59&C59 -> 포장 부수기 및 복구사리도 | B59: 포장 부수기 및 복구 | C59: 사리도 | D59: 개소 | E59: =#REF! -> #REF! | K59: =SUM(E59:J59) -> #REF!
A60: =B60&C60 -> 폴 기초 설치 (기초앙카 미포함)기성품(600x720x840x900) | B60: 폴 기초 설치 (기초앙카 미포함) | C60: 기성품(600x720x840x900) | D60: 식 | E60: =#REF! -> #REF! | K60: =SUM(E60:J60) -> #REF!
A61: =B61&C61 -> 폴 기초 설치 (기초앙카 포함)기성품(600x720x840x900) | B61: 폴 기초 설치 (기초앙카 포함) | C61: 기성품(600x720x840x900) | D61: 식 | E61: =#REF! -> #REF! | K61: =SUM(E61:J61) -> #REF!
A62: =B62&C62 -> 한전주(자가주) 설치SUS(304) 암 1m | B62: 한전주(자가주) 설치 | C62: SUS(304) 암 1m | D62: 본 | E62: =#REF! -> #REF! | K62: =SUM(E62:J62) -> #REF!
A63: =B63&C63 -> SUS Pole(Φ152*3T)6M | B63: SUS Pole(Φ152*3T) | C63: 6M | D63: 본 | E63: 0 | K63: =SUM(E63:J63) -> 0
A64: =B64&C64
A66: =B66&C66

Sheet 예산서(관급)
A1: 설 계 년월일 | C1: 2026. 05 | F1: 설계자 | L1: 심사자 | R1: 팀 장 | X1: 과 장
A5: =#REF! -> #REF!
A7: [설계 예산서]
H9: 【 사업개요 】
H10: ● | I10: 금속상자 구매설치 | U10: 1식
H11: ● | I11: 네트워크장비 구매설치 | U11: 1식
H12: ● | I12: 광고물부착방지물 구매설치 | U12: 1식
H13: ● | I13: 안내판 구매설치 | U13: 1식
E15: 사업비 : | J15: ='원가계산서 (관급)'!D26 -> #REF! | P15: ="(일금 "& NUMBERSTRING(J15,1)&"원정)" -> #REF!
D16: ＊부가가치세 및 조달수수료 포함
H18: 부산광역시

Sheet 원가계산서 (관급)
A2: 원 가 계 산 서
A4: =#REF! -> #REF!
A5: 구 분 | D5: 금 액 | E5: 구 성 비 | H5: 비 고
A6: 순 공 사 원 가 | B6: 재 료 비 | C6: 직접재료비 | D6: ='총괄표(조달)'!H22 -> #REF!
C7: 간접재료비
C8: 소 계 | D8: =D6 -> #REF!
B9: 노 무 비 | C9: 직접노무비 | E9: 직접노무비의 | G9: %
C10: 간접노무비
C11: 소 계
B12: 경 비 | C12: 산 재 보 험 료 | E12: 노무비의 | G12: %
C13: 고 용 보 험 료 | E13: 노무비의 | G13: %
C14: 건 강 보 험 료 | E14: 직접노무비의 | G14: %
C15: 연 금 보 험 료 | E15: 직접노무비의 | G15: %
C16: 노인장기요양보험료 | E16: 건강보험료의 | G16: %
C17: 퇴직공제부금비 | E17: 직접노무비의 | G17: %
C18: 산업안전보건관리비 | E18: 재료비+직접노무비의 | G18: %
C19: 기타경비 | E19: 재료비+노무비의 | G19: %
C20: 소 계
B21: 계 | D21: =D20+D11+D8 -> #REF!
A22: 일 반 관 리 비 | E22: 순공비의 | G22: %
A23: 이 윤 | E23: 노무비+경비+일반관리비의 | G23: %
A24: [ 총 원 가 ] | D24: =SUM(D21:D23) -> #REF!
A25: 조달수수료 | D25: =INT(D24*F25%) -> #REF! | E25: 총원가의 | F25: 0.54 | G25: %
A26: [ 총 계 ] | D26: =ROUNDUP(SUM(D24+D25),-3) -> #REF! | E26: 천원이하 절상

Sheet 총괄표(조달)
A2: 총 괄 표
A3: =#REF! -> #REF!
A4: 구 분 | B4: 수량 | C4: 단위 | D4: 재 료 비 | F4: 노 무 비 | H4: 계 | I4: 비 고
D5: 단 가 | E5: 금 액 | F5: 단 가 | G5: 금 액
A6: 1. 금속상자 구매설치 | B6: 1 | C6: 식 | D6: ='내역서(조달)'!F7 -> #REF! | E6: =D6*B6 -> #REF! | H6: =G6+E6 -> #REF!
A7: 2. 네트워크장비 구매설치 | B7: 1 | C7: 식 | D7: ='내역서(조달)'!F12 -> #REF! | E7: =D7*B7 -> #REF! | H7: =G7+E7 -> #REF!
A8: 3. 광고물부착방지물 구매설치 | B8: 1 | C8: 식 | D8: ='내역서(조달)'!F16 -> 243000 | E8: =D8*B8 -> 243000 | H8: =G8+E8 -> 243000
A9: 4. 안내판 | B9: 1 | C9: 식 | D9: ='내역서(조달)'!F19 -> 635000 | E9: =D9*B9 -> 635000 | H9: =G9+E9 -> 635000
J20: =#REF! -> #REF! | K20: 0.7 | L20: 0.0207 | M20: =ROUNDDOWN((J20*K20)*L20,-1) -> #REF!
A22: [합 계] | E22: =SUM(E6:E21) -> #REF! | G22: =SUM(G6:G21) -> 0 | H22: =SUM(H6:H21) -> #REF!

Sheet 내역서(조달)
A1: 내 역 서
A2: ='예산서(관급)'!A5 -> #REF!
A3: 품 명 | B3: 규 격 | C3: 단위 | D3: 수량 | E3: 재료비 | G3: 노무비 | I3: 합계 | J3: 납품방식
E4: 단 가 | F4: 금 액 | G4: 단 가 | H4: 금 액
A5: 1. 금속상자 구매설치
A6: =단가대비표!A5 -> 금속상자 | B6: =단가대비표!B5 -> 금속상자, 440×700×350mm | C6: =단가대비표!D5 -> 대 | D6: =#REF!+#REF! -> #REF! | E6: =단가대비표!H5 -> 980000 | F6: =E6*D6 -> #REF! | J6: =단가대비표!I5 -> 다수공급자, 납품장소 하차도
A7: [소 계] | F7: =SUM(F6) -> #REF!
A9: 2. 네트워크장비 구매설치
A10: =단가대비표!A7 -> 네트워크스위치 | B10: =단가대비표!B7 -> 광 1G SFP 2P / 1G UTP 8P / POE Switch EthernetLink | C10: =단가대비표!D7 -> 대 | D10: =#REF! -> #REF! | E10: =단가대비표!H7 -> 869000 | F10: =E10*D10 -> #REF! | J10: =단가대비표!I7 -> 다수공급자, 현장설치도
A12: [소 계] | F12: =SUM(F10:F11) -> #REF!
A14: 3. 광고물부착방지물 구매설치
A15: =단가대비표!A9 -> 광고물부착방지물 | B15: =단가대비표!B9 -> 광고물부착방지물, 광고물부착방지물 | C15: =단가대비표!D9 -> ㎡ | D15: =(N16*N21)+(O16*O21) -> 1.5 | E15: =단가대비표!H9 -> 162000 | F15: =E15*D15 -> 243000 | J15: =단가대비표!I9 -> 다수공급자, 현장설치도 | N15: Pole수량 | O15: 통신주(IP주 수량)
A16: [소 계] | F16: =SUM(F15) -> 243000 | N16: 0 | O16: 2
A18: 4. 안내판
A19: =단가대비표!A11 -> 안내판 | B19: =단가대비표!B11 -> 300*400*판용접* 고휘도반사지 | C19: =단가대비표!D11 -> 장 | D19: 5 | E19: =단가대비표!H11 -> 127000 | F19: =E19*D19 -> 635000 | J19: =단가대비표!I11 -> 다수공급자, 현장설치도 | N19: Pole수량 | O19: 통신주(IP주 수량)
A20: [소 계] | F20: =SUM(F19) -> 635000 | N20: 0 | O20: 2
A21: [합 계] | F21: =F7+F12+F16+F20 -> #REF! | N21: 0.9 | O21: 0.75

Sheet 단가대비표
A1: 단가대비표
A2: ='예산서(관급)'!A5 -> #REF!
A3: 품명 | B3: 규격 | C3: 수량 | D3: 단위 | E3: 나라장터 조달식별번호 | H3: 적용금액 | I3: 비고
E4: A사 | F4: B사 | G4: C사
A5: 금속상자 | B5: 금속상자, 440×700×350mm | C5: 1 | D5: 대 | E5: 25847140 | F5: 폴마켓 | H5: =MIN(E6,F6,G6) -> 980000 | I5: 다수공급자, 납품장소 하차도 | J5: 태정
E6: 980000 | F6: 1250000
A7: 네트워크스위치 | B7: 광 1G SFP 2P / 1G UTP 8P / POE Switch EthernetLink | C7: 1 | D7: 대 | E7: 25797181 | H7: =MIN(E8,F8,G8) -> 869000 | I7: 다수공급자, 현장설치도
E8: 869000
A9: 광고물부착방지물 | B9: 광고물부착방지물, 광고물부착방지물 | C9: 1 | D9: ㎡ | E9: 24837137 | H9: =MIN(E10,F10,G10) -> 162000 | I9: 다수공급자, 현장설치도
E10: 162000
A11: 안내판 | B11: 300*400*판용접* 고휘도반사지 | C11: 1 | D11: 장 | E11: 24465873 | H11: =MIN(E12,F12,G12) -> 127000 | I11: 다수공급자, 현장설치도
E12: 127000

Sheet 상자(태정)

Sheet 네트워크(씨에스)

Sheet 안내판(태정)

Sheet 안내판(세오)

Sheet 광고물방지물(청우) 
