Workbook

Sheet 원가계산서
B1: 공 사 원 가 계 산 서
B2: 공사명 : 2026년청소년수련관기능보강공사(금정청소년수련관) | F2: 금액 : 원(￦0)
B3: 비 목 | E3: 금 액 | F3: 구 성 비 | G3: 비 고
A4: A1 | B4: 순 공 사 원 가 | C4: 재 료 비 | D4: 직 접 재 료 비 | E4: =TRUNC([1]공종별집계표!F5, 0) -> 0
A5: A2 | D5: 간 접 재 료 비 | E5: 0
A6: A3 | D6: 작업설, 부산물(△) | E6: 0
A7: AS | D7: [ 소 계 ] | E7: =TRUNC(E4+E5-E6, 0) -> 0
A8: B1 | C8: 노 무 비 | D8: 직 접 노 무 비 | E8: =TRUNC([1]공종별집계표!H5, 0) -> 0
A9: B2 | D9: 간 접 노 무 비 | E9: =TRUNC(E8*0.175, 0) -> 0 | F9: 직접노무비 * 17.5%
A10: BS | D10: [ 소 계 ] | E10: =TRUNC(E8+E9, 0) -> 0
A11: C2 | C11: 경 비 | D11: 경 비 | E11: =TRUNC([1]공종별집계표!J5, 0) -> 0
A12: C4 | D12: 산 재 보 험 료 | E12: =TRUNC(E10*0.0356, 0) -> 0 | F12: 노무비 * 3.56%
A13: C5 | D13: 고 용 보 험 료 | E13: =TRUNC(E10*0.0101, 0) -> 0 | F13: 노무비 * 1.01%
A14: C6 | D14: 국민 건강 보험료 | E14: =TRUNC(E8*0.03595, 0) -> 0 | F14: 직접노무비 * 3.595%
A15: C7 | D15: 국민 연금 보험료 | E15: =TRUNC(E8*0.0475, 0) -> 0 | F15: 직접노무비 * 4.75%
A16: C8 | D16: 퇴직 공제 부금비 | E16: =TRUNC(E8*0.023, 0) -> 0 | F16: 직접노무비 * 2.3%
A17: CA | D17: 산업안전보건관리비 | E17: =TRUNC((E7+E8)*0.0311, 0) -> 0 | F17: (재료비+직접노무비) * 3.11%
A18: CB | D18: 노인장기요양보험료 | E18: =TRUNC(E14*0.1314, 0) -> 0 | F18: 건강보험료 * 13.14%
A19: CD | D19: 석 면 분 담 금 | E19: =TRUNC(E10*0.00006, 0) -> 0 | F19: 노무비 * 0.006%
A20: CC | D20: 임 금 채 권 부담금 | E20: =TRUNC(E10*0.0009, 0) -> 0 | F20: 노무비 * 0.09%
A21: CG | D21: 기 타 경 비 | E21: =TRUNC((E7+E10)*0.05, 0) -> 0 | F21: (재료비+노무비) * 5%
A22: CH | D22: 환 경 보 전 비 | E22: =TRUNC((E7+E8+E11)*0.005, 0) -> 0 | F22: (재료비+직노+경비) * 0.5%
A23: CK | D23: 하도급지급보증수수료 | E23: =TRUNC((E7+E8+E11)*0.00081, 0) -> 0 | F23: (재료비+직노+경비) * 0.081%
A24: CL | D24: 건설기계대여금지급보증서발급수수료 | E24: =TRUNC((E7+E8+E11)*0.0007, 0) -> 0 | F24: (재료비+직노+경비) * 0.07%
A25: CS | D25: [ 소 계 ] | E25: =TRUNC(E11+E12+E13+E14+E15+E16+E17+E18+E20+E19+E21+E22+E23+E24, 0) -> 0
A26: S1 | B26: 계 | E26: =TRUNC(E7+E10+E25, 0) -> 0
A27: D1 | B27: 일 반 관 리 비 | E27: =TRUNC(E26*0.08, 0) -> 0 | F27: 계 * 8%
A28: D2 | B28: 이 윤 | E28: =TRUNC((E10+E25+E27)*0.15-0, 0) -> 0 | F28: (노무비+경비+일반관리비) * 15%
A29: D4 | B29: 건설폐기물처리비 | E29: =TRUNC([1]공종별집계표!T29, 0) -> 0
A30: D5 | B30: 계량기이전공사 | E30: =TRUNC([1]공종별집계표!T32, 0) -> 0 | G30: 수도사업소신청
A31: D9 | B31: 공 급 가 액 | E31: =TRUNC(INT((E26+E27+E28+E29+E30)/10000)*10000, 0) -> 0
A32: DB | B32: 부 가 가 치 세 | E32: =TRUNC(E31*0.1, 0) -> 0 | F32: 공급가액 * 10%
A33: DH | B33: 도 급 액 | E33: =TRUNC(E31+E32, 0) -> 0
A34: DL | B34: 관급자관급자재비 | E34: =TRUNC([1]공종별집계표!T28, 0) -> 0
A35: S2 | B35: 총 공 사 비 | E35: =TRUNC(E33+0+E34, 0) -> 0

Sheet 공종별집계표
A1: 공 종 별 집 계 표
A2: [ 2026년청소년수련관기능보강공사(금정청소년수련관) ]
A3: 품 명 | B3: 규 격 | C3: 단위 | D3: 수량 | E3: 재 료 비 | G3: 노 무 비 | I3: 경 비 | K3: 합 계 | M3: 비 고 | N3: 공종코드 | O3: 변수 | P3: 상위공종 | Q3: 공종구분 | R3: 공종레벨 | S3: 공종소계 | T3: 원가계산서 연결금액
E4: 단 가 | F4: 금 액 | G4: 단 가 | H4: 금 액 | I4: 단 가 | J4: 금 액 | K4: 단 가 | L4: 금 액
A5: 01 2026년청소년수련관기능보강공사(금정청소년수련관) | D5: 1 | E5: =F6+F27 -> 0 | F5: =E5*D5 -> 0 | G5: =H6+H27 -> 0 | H5: =G5*D5 -> 0 | I5: =J6+J27 -> 0 | J5: =I5*D5 -> 0 | K5: =E5+G5+I5 -> 0 | L5: =F5+H5+J5 -> 0 | N5: 01 | R5: 1 | S5: <
A6: 0101 건축공사 | D6: 1 | E6: =F7+F14+F19 -> 0 | F6: =E6*D6 -> 0 | G6: =H7+H14+H19 -> 0 | H6: =G6*D6 -> 0 | I6: =J7+J14+J19 -> 0 | J6: =I6*D6 -> 0 | K6: =E6+G6+I6 -> 0 | L6: =F6+H6+J6 -> 0 | N6: 0101 | P6: 01 | R6: 2
A7: 010101 풋살장설치 | D7: 1 | E7: =F8+F9+F10+F11+F12+F13 -> 0 | F7: =E7*D7 -> 0 | G7: =H8+H9+H10+H11+H12+H13 -> 0 | H7: =G7*D7 -> 0 | I7: =J8+J9+J10+J11+J12+J13 -> 0 | J7: =I7*D7 -> 0 | K7: =E7+G7+I7 -> 0 | L7: =F7+H7+J7 -> 0 | N7: 010101 | P7: 0101 | R7: 3
A8: 01010101 가설공사 | D8: 1 | E8: =[1]공종별내역서!F27 -> 0 | F8: =E8*D8 -> 0 | G8: =[1]공종별내역서!H27 -> 0 | H8: =G8*D8 -> 0 | I8: =[1]공종별내역서!J27 -> 0 | J8: =I8*D8 -> 0 | K8: =E8+G8+I8 -> 0 | L8: =F8+H8+J8 -> 0 | N8: 01010101 | P8: 010101 | R8: 4
A9: 01010102 철근콘크리트공사 | D9: 1 | E9: =[1]공종별내역서!F51 -> 0 | F9: =E9*D9 -> 0 | G9: =[1]공종별내역서!H51 -> 0 | H9: =G9*D9 -> 0 | I9: =[1]공종별내역서!J51 -> 0 | J9: =I9*D9 -> 0 | K9: =E9+G9+I9 -> 0 | L9: =F9+H9+J9 -> 0 | N9: 01010102 | P9: 010101 | R9: 4
A10: 01010103 미장공사 | D10: 1 | E10: =[1]공종별내역서!F75 -> 0 | F10: =E10*D10 -> 0 | G10: =[1]공종별내역서!H75 -> 0 | H10: =G10*D10 -> 0 | I10: =[1]공종별내역서!J75 -> 0 | J10: =I10*D10 -> 0 | K10: =E10+G10+I10 -> 0 | L10: =F10+H10+J10 -> 0 | N10: 01010103 | P10: 010101 | R10: 4
A11: 01010104 풋살장공사 | D11: 1 | E11: =[1]공종별내역서!F99 -> 0 | F11: =E11*D11 -> 0 | G11: =[1]공종별내역서!H99 -> 0 | H11: =G11*D11 -> 0 | I11: =[1]공종별내역서!J99 -> 0 | J11: =I11*D11 -> 0 | K11: =E11+G11+I11 -> 0 | L11: =F11+H11+J11 -> 0 | N11: 01010104 | P11: 010101 | R11: 4
A12: 01010105 철거공사 | D12: 1 | E12: =[1]공종별내역서!F123 -> 0 | F12: =E12*D12 -> 0 | G12: =[1]공종별내역서!H123 -> 0 | H12: =G12*D12 -> 0 | I12: =[1]공종별내역서!J123 -> 0 | J12: =I12*D12 -> 0 | K12: =E12+G12+I12 -> 0 | L12: =F12+H12+J12 -> 0 | N12: 01010105 | P12: 010101 | R12: 4
A13: 01010106 운반비 | D13: 1 | E13: =[1]공종별내역서!F147 -> 0 | F13: =E13*D13 -> 0 | G13: =[1]공종별내역서!H147 -> 0 | H13: =G13*D13 -> 0 | I13: =[1]공종별내역서!J147 -> 0 | J13: =I13*D13 -> 0 | K13: =E13+G13+I13 -> 0 | L13: =F13+H13+J13 -> 0 | N13: 01010106 | P13: 010101 | R13: 4
A14: 010102 실습동보수 | D14: 1 | E14: =F15+F16+F17+F18 -> 0 | F14: =E14*D14 -> 0 | G14: =H15+H16+H17+H18 -> 0 | H14: =G14*D14 -> 0 | I14: =J15+J16+J17+J18 -> 0 | J14: =I14*D14 -> 0 | K14: =E14+G14+I14 -> 0 | L14: =F14+H14+J14 -> 0 | N14: 010102 | P14: 0101 | R14: 3 | S14: <
A15: 01010201 가설공사 | D15: 1 | E15: =[1]공종별내역서!F171 -> 0 | F15: =E15*D15 -> 0 | G15: =[1]공종별내역서!H171 -> 0 | H15: =G15*D15 -> 0 | I15: =[1]공종별내역서!J171 -> 0 | J15: =I15*D15 -> 0 | K15: =E15+G15+I15 -> 0 | L15: =F15+H15+J15 -> 0 | N15: 01010201 | P15: 010102 | R15: 4
A16: 01010202 콘크리트공사 | D16: 1 | E16: =[1]공종별내역서!F195 -> 0 | F16: =E16*D16 -> 0 | G16: =[1]공종별내역서!H195 -> 0 | H16: =G16*D16 -> 0 | I16: =[1]공종별내역서!J195 -> 0 | J16: =I16*D16 -> 0 | K16: =E16+G16+I16 -> 0 | L16: =F16+H16+J16 -> 0 | N16: 01010202 | P16: 010102 | R16: 4
A17: 01010203 금속공사 | D17: 1 | E17: =[1]공종별내역서!F219 -> 0 | F17: =E17*D17 -> 0 | G17: =[1]공종별내역서!H219 -> 0 | H17: =G17*D17 -> 0 | I17: =[1]공종별내역서!J219 -> 0 | J17: =I17*D17 -> 0 | K17: =E17+G17+I17 -> 0 | L17: =F17+H17+J17 -> 0 | N17: 01010203 | P17: 010102 | R17: 4
A18: 01010204 골재비및운반비 | D18: 1 | E18: =[1]공종별내역서!F243 -> 0 | F18: =E18*D18 -> 0 | G18: =[1]공종별내역서!H243 -> 0 | H18: =G18*D18 -> 0 | I18: =[1]공종별내역서!J243 -> 0 | J18: =I18*D18 -> 0 | K18: =E18+G18+I18 -> 0 | L18: =F18+H18+J18 -> 0 | N18: 01010204 | P18: 010102 | R18: 4
A19: 010103 본관동보수 | D19: 1 | E19: =F20+F21+F22+F23+F24+F25+F26 -> 0 | F19: =E19*D19 -> 0 | G19: =H20+H21+H22+H23+H24+H25+H26 -> 0 | H19: =G19*D19 -> 0 | I19: =J20+J21+J22+J23+J24+J25+J26 -> 0 | J19: =I19*D19 -> 0 | K19: =E19+G19+I19 -> 0 | L19: =F19+H19+J19 -> 0 | N19: 010103 | P19: 0101 | R19: 3
A20: 01010301 가설공사 | D20: 1 | E20: =[1]공종별내역서!F267 -> 0 | F20: =E20*D20 -> 0 | G20: =[1]공종별내역서!H267 -> 0 | H20: =G20*D20 -> 0 | I20: =[1]공종별내역서!J267 -> 0 | J20: =I20*D20 -> 0 | K20: =E20+G20+I20 -> 0 | L20: =F20+H20+J20 -> 0 | N20: 01010301 | P20: 010103 | R20: 4
A21: 01010302 돌공사 | D21: 1 | E21: =[1]공종별내역서!F291 -> 0 | F21: =E21*D21 -> 0 | G21: =[1]공종별내역서!H291 -> 0 | H21: =G21*D21 -> 0 | I21: =[1]공종별내역서!J291 -> 0 | J21: =I21*D21 -> 0 | K21: =E21+G21+I21 -> 0 | L21: =F21+H21+J21 -> 0 | N21: 01010302 | P21: 010103 | R21: 4
A22: 01010303 판넬공사 | D22: 1 | E22: =[1]공종별내역서!F315 -> 0 | F22: =E22*D22 -> 0 | G22: =[1]공종별내역서!H315 -> 0 | H22: =G22*D22 -> 0 | I22: =[1]공종별내역서!J315 -> 0 | J22: =I22*D22 -> 0 | K22: =E22+G22+I22 -> 0 | L22: =F22+H22+J22 -> 0 | N22: 01010303 | P22: 010103 | R22: 4
A23: 01010304 창호공사 | D23: 1 | E23: =[1]공종별내역서!F339 -> 0 | F23: =E23*D23 -> 0 | G23: =[1]공종별내역서!H339 -> 0 | H23: =G23*D23 -> 0 | I23: =[1]공종별내역서!J339 -> 0 | J23: =I23*D23 -> 0 | K23: =E23+G23+I23 -> 0 | L23: =F23+H23+J23 -> 0 | N23: 01010304 | P23: 010103 | R23: 4
A24: 01010305 칠공사 | D24: 1 | E24: =[1]공종별내역서!F363 -> 0 | F24: =E24*D24 -> 0 | G24: =[1]공종별내역서!H363 -> 0 | H24: =G24*D24 -> 0 | I24: =[1]공종별내역서!J363 -> 0 | J24: =I24*D24 -> 0 | K24: =E24+G24+I24 -> 0 | L24: =F24+H24+J24 -> 0 | N24: 01010305 | P24: 010103 | R24: 4
A25: 01010306 철거공사 | D25: 1 | E25: =[1]공종별내역서!F387 -> 0 | F25: =E25*D25 -> 0 | G25: =[1]공종별내역서!H387 -> 0 | H25: =G25*D25 -> 0 | I25: =[1]공종별내역서!J387 -> 0 | J25: =I25*D25 -> 0 | K25: =E25+G25+I25 -> 0 | L25: =F25+H25+J25 -> 0 | N25: 01010306 | P25: 010103 | R25: 4
A26: 01010307 골재비및운반비 | D26: 1 | E26: =[1]공종별내역서!F411 -> 0 | F26: =E26*D26 -> 0 | G26: =[1]공종별내역서!H411 -> 0 | H26: =G26*D26 -> 0 | I26: =[1]공종별내역서!J411 -> 0 | J26: =I26*D26 -> 0 | K26: =E26+G26+I26 -> 0 | L26: =F26+H26+J26 -> 0 | N26: 01010307 | P26: 010103 | R26: 4
A27: 0102 토목공사 | D27: 1 | E27: =[1]공종별내역서!F435 -> 0 | F27: =E27*D27 -> 0 | G27: =[1]공종별내역서!H435 -> 0 | H27: =G27*D27 -> 0 | I27: =[1]공종별내역서!J435 -> 0 | J27: =I27*D27 -> 0 | K27: =E27+G27+I27 -> 0 | L27: =F27+H27+J27 -> 0 | N27: 0102 | P27: 01 | R27: 2 | S27: <
A28: 0103 관급자관급자재비 | D28: 1 | E28: =[1]공종별내역서!F459 -> 0 | F28: =E28*D28 -> 0 | G28: =[1]공종별내역서!H459 -> 0 | H28: =G28*D28 -> 0 | I28: =[1]공종별내역서!J459 -> 0 | J28: =I28*D28 -> 0 | K28: =E28+G28+I28 -> 0 | L28: =F28+H28+J28 -> 0 | N28: 0103 | Q28: 7 | R28: 2 | T28: =L28*1 -> 0
A29: 0104 건설폐기물처리비 | D29: 1 | E29: =F30+F31 -> 0 | F29: =E29*D29 -> 0 | G29: =H30+H31 -> 0 | H29: =G29*D29 -> 0 | I29: =J30+J31 -> 0 | J29: =I29*D29 -> 0 | K29: =E29+G29+I29 -> 0 | L29: =F29+H29+J29 -> 0 | N29: 0104 | Q29: 8 | R29: 2 | T29: =L29*1 -> 0
A30: 010401 건축공사폐기물 | D30: 1 | E30: =[1]공종별내역서!F483 -> 0 | F30: =E30*D30 -> 0 | G30: =[1]공종별내역서!H483 -> 0 | H30: =G30*D30 -> 0 | I30: =[1]공종별내역서!J483 -> 0 | J30: =I30*D30 -> 0 | K30: =E30+G30+I30 -> 0 | L30: =F30+H30+J30 -> 0 | N30: 010401 | P30: 0104 | R30: 3
A31: 010402 토목공사폐기물 | D31: 1 | E31: =[1]공종별내역서!F507 -> 0 | F31: =E31*D31 -> 0 | G31: =[1]공종별내역서!H507 -> 0 | H31: =G31*D31 -> 0 | I31: =[1]공종별내역서!J507 -> 0 | J31: =I31*D31 -> 0 | K31: =E31+G31+I31 -> 0 | L31: =F31+H31+J31 -> 0 | N31: 010402 | P31: 0104 | R31: 3
A32: 0105 계량기이전공사 | D32: 1 | E32: =[1]공종별내역서!F531 -> 0 | F32: =E32*D32 -> 0 | G32: =[1]공종별내역서!H531 -> 0 | H32: =G32*D32 -> 0 | I32: =[1]공종별내역서!J531 -> 0 | J32: =I32*D32 -> 0 | K32: =E32+G32+I32 -> 0 | L32: =F32+H32+J32 -> 0 | N32: 0105 | Q32: A | R32: 2 | T32: =L32*1 -> 0
A48: [ 합 계 ] | F48: =F5 -> 0 | H48: =H5 -> 0 | J48: =J5 -> 0 | L48: =L5 -> 0

Sheet 공종별내역서
A1: [ 2026년청소년수련관기능보강공사(금정청소년수련관) ]
A2: 품 명 | B2: 규 격 | C2: 단위 | D2: 수량 | E2: 재 료 비 | G2: 노 무 비 | I2: 경 비 | K2: 합 계 | M2: 비 고 | N2: 품목코드 | O2: 변수 | P2: 설정 | Q2: 공종코드 | R2: 일위 | S2: 단산 | T2: 자재 | U2: 손료적용 | V2: 손료저장 | W2: 적용율 | X2: JUK1 | Y2: JUK2 | Z2: JUK3 | AA2: JUK4 | AB2: JUK5 | AC2: JUK6 | AD2: JUK7 | AE2: JUK8 | AF2: JUK9 | AG2: JUK10 | AH2: JUK11 | AI2: JUK12 | AJ2: JUK13 | AK2: JUK14 | AL2: JUK15 | AM2: JUK16 | AN2: JUK17 | AO2: JUK18 | AP2: JUK19 | AQ2: JUK20 | AR2: 자재구분 | AS2: 공종구분 | AT2: 공종레벨 | AU2: 공종+자재 | AV2: 고유번호
E3: 단 가 | F3: 금 액 | G3: 단 가 | H3: 금 액 | I3: 단 가 | J3: 금 액 | K3: 단 가 | L3: 금 액
A4: 01010101 가설공사 | B4: 건축공사 풋살장설치 | Q4: 01010101
A5: 건축물현장정리 | B5: 청소 및 뒤정리 | C5: M2 | D5: 435.1 | E5: =TRUNC([1]일위대가목록!E4,0) -> 0 | F5: =TRUNC(E5*D5, 0) -> 0 | G5: =TRUNC([1]일위대가목록!F4,0) -> 0 | H5: =TRUNC(G5*D5, 0) -> 0 | I5: =TRUNC([1]일위대가목록!G4,0) -> 0 | J5: =TRUNC(I5*D5, 0) -> 0 | K5: =TRUNC(E5+G5+I5, 0) -> 0 | L5: =TRUNC(F5+H5+J5, 0) -> 0 | M5: 호표 1 | N5: 5D56730A868F32CD06512697187B2D | Q5: 01010101 | R5: T | S5: F | T5: F | AU5: 010101015D56730A868F32CD06512697187B2D | AV5: 48
Q6: 01010101
Q7: 01010101
Q8: 01010101
Q9: 01010101
Q10: 01010101
Q11: 01010101
Q12: 01010101
Q13: 01010101
Q14: 01010101
Q15: 01010101
Q16: 01010101
Q17: 01010101
... Q26: 01010101
A27: [ 합 계 ] | F27: =SUMIF(Q5:Q26,"01010101",F5:F26) -> 0 | H27: =SUMIF(Q5:Q26,"01010101",H5:H26) -> 0 | J27: =SUMIF(Q5:Q26,"01010101",J5:J26) -> 0 | L27: =SUMIF(Q5:Q26,"01010101",L5:L26) -> 0 | N27: TOTAL
A28: 01010102 철근콘크리트공사 | B28: 건축공사 풋살장설치 | Q28: 01010102
A29: 레미콘 | B29: 레미콘, 부산, 25-24-150 | C29: M3 | D29: 12.7 | E29: =TRUNC([1]단가대비표!O26,0) -> 0 | F29: =TRUNC(E29*D29, 0) -> 0 | G29: =TRUNC([1]단가대비표!P26,0) -> 0 | H29: =TRUNC(G29*D29, 0) -> 0 | I29: =TRUNC([1]단가대비표!V26,0) -> 0 | J29: =TRUNC(I29*D29, 0) -> 0 | K29: =TRUNC(E29+G29+I29, 0) -> 0 | L29: =TRUNC(F29+H29+J29, 0) -> 0 | N29: 5A79F3E58B6CE1A5069CA417389F00A2B0F4B1 | Q29: 01010102 | R29: F | S29: F | T29: T | AU29: 010101025A79F3E58B6CE1A5069CA417389F00A2B0F4B1 | AV29: 53
A30: 레미콘 | B30: 레미콘, 부산, 25-18-120 | C30: M3 | D30: 62.6 | E30: =TRUNC([1]단가대비표!O25,0) -> 0 | F30: =TRUNC(E30*D30, 0) -> 0 | G30: =TRUNC([1]단가대비표!P25,0) -> 0 | H30: =TRUNC(G30*D30, 0) -> 0 | I30: =TRUNC([1]단가대비표!V25,0) -> 0 | J30: =TRUNC(I30*D30, 0) -> 0 | K30: =TRUNC(E30+G30+I30, 0) -> 0 | L30: =TRUNC(F30+H30+J30, 0) -> 0 | N30: 5A79F3E58B6CE1A5069CA417389F00A2B0FBED | Q30: 01010102 | R30: F | S30: F | T30: T | AU30: 010101025A79F3E58B6CE1A5069CA417389F00A2B0FBED | AV30: 52
A31: 콘크리트 펌프차 타설(무근, 진동기無) | B31: slump 8~12cm, 매트기초 등, f2 : Type-Ⅱ, 36m | C31: M3 | D31: 61.3 | E31: =TRUNC([1]일위대가목록!E5,0) -> 0 | F31: =TRUNC(E31*D31, 0) -> 0 | G31: =TRUNC([1]일위대가목록!F5,0) -> 0 | H31: =TRUNC(G31*D31, 0) -> 0 | I31: =TRUNC([1]일위대가목록!G5,0) -> 0 | J31: =TRUNC(I31*D31, 0) -> 0 | K31: =TRUNC(E31+G31+I31, 0) -> 0 | L31: =TRUNC(F31+H31+J31, 0) -> 0 | M31: 호표 2 | N31: 5D56238A8DD55ECD06E766B7EFAF7E | Q31: 01010102 | R31: T | S31: F | T31: F | AU31: 010101025D56238A8DD55ECD06E766B7EFAF7E | AV31: 143
A32: 콘크리트 펌프차 타설 | B32: slump 8~12cm, 매트기초 등, f2 : Type-Ⅱ, 36m | C32: M3 | D32: 12.6 | E32: =TRUNC([1]일위대가목록!E6,0) -> 0 | F32: =TRUNC(E32*D32, 0) -> 0 | G32: =TRUNC([1]일위대가목록!F6,0) -> 0 | H32: =TRUNC(G32*D32, 0) -> 0 | I32: =TRUNC([1]일위대가목록!G6,0) -> 0 | J32: =TRUNC(I32*D32, 0) -> 0 | K32: =TRUNC(E32+G32+I32, 0) -> 0 | L32: =TRUNC(F32+H32+J32, 0) -> 0 | M32: 호표 3 | N32: 5D56238A8DE7922006A20307198AF5 | Q32: 01010102 | R32: T | S32: F | T32: F | AU32: 010101025D56238A8DE7922006A20307198AF5 | AV32: 144
A33: 와이어메시 바닥깔기 | B33: #8-150*150 | C33: M2 | D33: 409 | E33: =TRUNC([1]일위대가목록!E7,0) -> 0 | F33: =TRUNC(E33*D33, 0) -> 0 | G33: =TRUNC([1]일위대가목록!F7,0) -> 0 | H33: =TRUNC(G33*D33, 0) -> 0 | I33: =TRUNC([1]일위대가목록!G7,0) -> 0 | J33: =TRUNC(I33*D33, 0) -> 0 | K33: =TRUNC(E33+G33+I33, 0) -> 0 | L33: =TRUNC(F33+H33+J33, 0) -> 0 | M33: 호표 4 | N33: 5D56C38B85C3C381065E2327F2846B | Q33: 01010102 | R33: T | S33: F | T33: F | AU33: 010101025D56C38B85C3C381065E2327F2846B | AV33: 56
A34: 철근콘크리트용봉강(철근계) | B34: 철근콘크리트용봉강, 이형봉강(SD400), 철근계 | C34: 톤 | D34: 1.112 | E34: =TRUNC([1]단가대비표!O116,0) -> 0 | F34: =TRUNC(E34*D34, 0) -> 0 | G34: =TRUNC([1]단가대비표!P116,0) -> 0 | H34: =TRUNC(G34*D34, 0) -> 0 | I34: =TRUNC([1]단가대비표!V116,0) -> 0 | J34: =TRUNC(I34*D34, 0) -> 0 | K34: =TRUNC(E34+G34+I34, 0) -> 0 | L34: =TRUNC(F34+H34+J34, 0) -> 0 | M34: 철근계 | N34: 5CE9737089466D8106369A67D00A259CF574D6 | Q34: 01010102 | R34: F | S34: F | T34: T | AU34: 010101025CE9737089466D8106369A67D00A259CF574D6 | AV34: 147
A35: 철근콘크리트용봉강 | B35: 철근콘크리트용봉강, 이형봉강(SD400), HD-13 | C35: 톤 | D35: 0.612 | E35: =TRUNC([1]단가대비표!O22,0) -> 0 | F35: =TRUNC(E35*D35, 0) -> 0 | G35: =TRUNC([1]단가대비표!P22,0) -> 0 | H35: =TRUNC(G35*D35, 0) -> 0 | I35: =TRUNC([1]단가대비표!V22,0) -> 0 | J35: =TRUNC(I35*D35, 0) -> 0 | K35: =TRUNC(E35+G35+I35, 0) -> 0 | L35: =TRUNC(F35+H35+J35, 0) -> 0 | N35: 5A79F3E58B7D46CD06431E979D446C77B52CDB | Q35: 01010102 | R35: F | S35: F | T35: T | AU35: 010101025A79F3E58B7D46CD06431E979D446C77B52CDB | AV35: 50
A36: 철근콘크리트용봉강 | B36: 철근콘크리트용봉강, 이형봉강(SD400), HD-16 | C36: 톤 | D36: 0.5 | E36: =TRUNC([1]단가대비표!O23,0) -> 0 | F36: =TRUNC(E36*D36, 0) -> 0 | G36: =TRUNC([1]단가대비표!P23,0) -> 0 | H36: =TRUNC(G36*D36, 0) -> 0 | I36: =TRUNC([1]단가대비표!V23,0) -> 0 | J36: =TRUNC(I36*D36, 0) -> 0 | K36: =TRUNC(E36+G36+I36, 0) -> 0 | L36: =TRUNC(F36+H36+J36, 0) -> 0 | N36: 5A79F3E58B7D46CD06431E979D446C77B52CDA | Q36: 01010102 | R36: F | S36: F | T36: T | AU36: 010101025A79F3E58B7D46CD06431E979D446C77B52CDA | AV36: 51
A37: 철근 현장가공 및 현장조립 | B37: Type-Ⅱ | C37: 톤 | D37: 1.081 | E37: =TRUNC([1]일위대가목록!E8,0) -> 0 | F37: =TRUNC(E37*D37, 0) -> 0 | G37: =TRUNC([1]일위대가목록!F8,0) -> 0 | H37: =TRUNC(G37*D37, 0) -> 0 | I37: =TRUNC([1]일위대가목록!G8,0) -> 0 | J37: =TRUNC(I37*D37, 0) -> 0 | K37: =TRUNC(E37+G37+I37, 0) -> 0 | L37: =TRUNC(F37+H37+J37, 0) -> 0 | M37: 호표 5 | N37: 5D56238E8B71F53406383E37EBD0C6 | Q37: 01010102 | R37: T | S37: F | T37: F | AU37: 010101025D56238E8B71F53406383E37EBD0C6 | AV37: 145
A38: 철강설 | B38: 철강설, 고철, 작업설부산물 | C38: 톤 | D38: -0.031 | E38: =TRUNC([1]단가대비표!O16,0) -> 0 | F38: =TRUNC(E38*D38, 0) -> 0 | G38: =TRUNC([1]단가대비표!P16,0) -> 0 | H38: =TRUNC(G38*D38, 0) -> 0 | I38: =TRUNC([1]단가대비표!V16,0) -> 0 | J38: =TRUNC(I38*D38, 0) -> 0 | K38: =TRUNC(E38+G38+I38, 0) -> 0 | L38: =TRUNC(F38+H38+J38, 0) -> 0 | M38: 수집상차도 | N38: 5A5D331F8B048E6F06DD5DA7BEA6C9BD37265F | Q38: 01010102 | R38: F | S38: F | T38: T | AU38: 010101025A5D331F8B048E6F06DD5DA7BEA6C9BD37265F | AV38: 146
A39: 케미칼앙카철근매입(HILTI-HY200) | B39: D13 L130mm HOLL18mm-놋드제외 | C39: EA | D39: 65 | E39: =TRUNC([1]일위대가목록!E9,0) -> 0 | F39: =TRUNC(E39*D39, 0) -> 0 | G39: =TRUNC([1]일위대가목록!F9,0) -> 0 | H39: =TRUNC(G39*D39, 0) -> 0 | I39: =TRUNC([1]일위대가목록!G9,0) -> 0 | J39: =TRUNC(I39*D39, 0) -> 0 | K39: =TRUNC(E39+G39+I39, 0) -> 0 | L39: =TRUNC(F39+H39+J39, 0) -> 0 | M39: 호표 6 | N39: 5D56238E8B3A40A90619B1F785CAEE | Q39: 01010102 | R39: T | S39: F | T39: F | AU39: 010101025D56238E8B3A40A90619B1F785CAEE | AV39: 54
A40: 케미칼앙카철근매입(HILTI-HY200) | B40: D16 L160mm HOLL22mm-놋드제외 | C40: EA | D40: 65 | E40: =TRUNC([1]일위대가목록!E10,0) -> 0 | F40: =TRUNC(E40*D40, 0) -> 0 | G40: =TRUNC([1]일위대가목록!F10,0) -> 0 | H40: =TRUNC(G40*D40, 0) -> 0 | I40: =TRUNC([1]일위대가목록!G10,0) -> 0 | J40: =TRUNC(I40*D40, 0) -> 0 | K40: =TRUNC(E40+G40+I40, 0) -> 0 | L40: =TRUNC(F40+H40+J40, 0) -> 0 | M40: 호표 7 | N40: 5D56238E8B3A40A90619B1F785C9C8 | Q40: 01010102 | R40: T | S40: F | T40: F | AU40: 010101025D56238E8B3A40A90619B1F785C9C8 | AV40: 55
Q41: 01010102
Q42: 01010102
Q43: 01010102
Q44: 01010102
Q45: 01010102
Q46: 01010102
Q47: 01010102
Q48: 01010102
...
