Workbook

Sheet 갑지
A1: 설계서용지(갑)
A3: 2026년 5월 설계 | B3: 설계자 | D3: 심사자 | F3: 팀장 | I3: 소장

Sheet 집계표
A1: 집 계 표
A2: 공사명 : 매리취수장 6차 펌프실 노후 밸브 교체정비 관급자재
A3: 품 명 | B3: 규 격 | C3: 단위 | D3: 수 량 | E3: 재 료 비 | G3: 노 무 비 | I3: 경 비 | K3: 합 계 | M3: 비고
E4: 단 가 | F4: 금 액 | G4: 단 가 | H4: 금 액 | I4: 단 가 | J4: 금 액 | K4: 단 가 | L4: 금 액 | N4: 손료요율 | O4: 손료구분 | P4: 적용구분 | Q4: 합계구분 | R4: 기계경비 | S4: 운반비 | T4: 작업부산물 | U4: 관급 | V4: 외주비 | W4: 장비비 | X4: 폐기물처리비 | Y4: 가설비 | Z4: 잡비제외분 | AA4: 사급자재대 | AB4: 관급자재대 | AC4: 관급자 관급 자재대 | AD4: 사용자항목2 | AE4: 안전관리비 | AF4: 품질관리비 | AG4: 작업부산물(철거해체) | AH4: 사용자항목6 | AI4: 사용자항목7 | AJ4: 고재처리비 | AK4: 사용자항목9 | AL4: 사용자항목10 | AM4: 사용자항목11 | AN4: 사용자항목12 | AO4: 사용자항목13 | AP4: 사용자항목14 | AQ4: 사용자항목15 | AR4: 사용자항목16 | AS4: 사용자항목17 | AT4: 사용자항목18 | AU4: 사용자항목19 | AV4: 간접재료비 | AW4: 품목구분 | AX4: 조달코드 | AY4: 구분
A5: 01. 관급자재대 | C5: 식 | D5: 1 | E5: =F58 -> 100400000 | F5: =D5*E5 -> 100400000 | G5: =H58 -> 0 | H5: =D5*G5 -> 0 | I5: =J58 -> 0 | J5: =D5*I5 -> 0 | K5: =E5+G5+I5 -> 100400000 | L5: =F5+H5+J5 -> 100400000 | O5: 1 | Q5: 1 | R5: =D5*R58 -> 0 | S5: =D5*S58 -> 0 | T5: =D5*T58 -> 0 | U5: =D5*U58 -> 0 | V5: =D5*V58 -> 0 | W5: =D5*W58 -> 0 | X5: =D5*X58 -> 0 | Y5: =D5*Y58 -> 0 | Z5: =D5*Z58 -> 0 | AA5: =D5*AA58 -> 0 | AB5: =D5*AB58 -> 100400000 | AC5: =D5*AC58 -> 0 | AD5: =D5*AD58 -> 0 | AE5: =D5*AE58 -> 0 | AF5: =D5*AF58 -> 0 | AG5: =D5*AG58 -> 0 | AH5: =D5*AH58 -> 0 | AI5: =D5*AI58 -> 0 | AJ5: =D5*AJ58 -> 0 | AK5: =D5*AK58 -> 0 | AL5: =D5*AL58 -> 0 | AM5: =D5*AM58 -> 0 | AN5: =D5*AN58 -> 0 | AO5: =D5*AO58 -> 0 | AP5: =D5*AP58 -> 0 | AQ5: =D5*AQ58 -> 0 | AR5: =D5*AR58 -> 0 | AS5: =D5*AS58 -> 0 | AT5: =D5*AT58 -> 0 | AU5: =D5*AU58 -> 0 | AV5: =D5*AV58 -> 0
A33: 합 계 | F33: =SUMIF(Q5:Q5, "1", F5:F5) -> 100400000 | H33: =SUMIF(Q5:Q5, "1", H5:H5) -> 0 | J33: =SUMIF(Q5:Q5, "1", J5:J5) -> 0 | L33: =F33+H33+J33 -> 100400000 | R33: =SUM(R5:R5) -> 0 | S33: =SUM(S5:S5) -> 0 | T33: =SUM(T5:T5) -> 0 | U33: =SUM(U5:U5) -> 0 | V33: =SUM(V5:V5) -> 0 | W33: =SUM(W5:W5) -> 0 | X33: =SUM(X5:X5) -> 0 | Y33: =SUM(Y5:Y5) -> 0 | ... AY33: =SUM(AY5:AY5) -> 0
A34: 01. 관급자재대
A35: 0102. 수동식 제수밸브16K | C35: 식 | D35: 1 | E35: =내역서!F32 -> 100400000 | F35: =D35*E35 -> 100400000 | G35: =내역서!H32 -> 0 | H35: =D35*G35 -> 0 | I35: =내역서!J32 -> 0 | J35: =D35*I35 -> 0 | K35: =E35+G35+I35 -> 100400000 | L35: =F35+H35+J35 -> 100400000 | O35: 1 | Q35: 1 | R35: =D35*내역서!R32 -> 0 | S35: =D35*내역서!S32 -> 0 | T35: =D35*내역서!T32 -> 0 | U35: =D35*내역서!U32 -> 0 | V35: =D35*내역서!V32 -> 0 | W35: =D35*내역서!W32 -> 0 | X35: =D35*내역서!X32 -> 0 | Y35: =D35*내역서!Y32 -> 0 | Z35: =D35*내역서!Z32 -> 0 | AA35: =D35*내역서!AA32 -> 0 | AB35: =D35*내역서!AB32 -> 100400000 | AC35: =D35*내역서!AC32 -> 0 | AD35: =D35*내역서!AD32 -> 0 | AE35: =D35*내역서!AE32 -> 0 | AF35: =D35*내역서!AF32 -> 0 | AG35: =D35*내역서!AG32 -> 0 | AH35: =D35*내역서!AH32 -> 0 | AI35: =D35*내역서!AI32 -> 0 | AJ35: =D35*내역서!AJ32 -> 0 | AK35: =D35*내역서!AK32 -> 0 | AL35: =D35*내역서!AL32 -> 0 | AM35: =D35*내역서!AM32 -> 0 | AN35: =D35*내역서!AN32 -> 0 | AO35: =D35*내역서!AO32 -> 0 | AP35: =D35*내역서!AP32 -> 0 | AQ35: =D35*내역서!AQ32 -> 0 | AR35: =D35*내역서!AR32 -> 0 | AS35: =D35*내역서!AS32 -> 0 | AT35: =D35*내역서!AT32 -> 0 | AU35: =D35*내역서!AU32 -> 0 | AV35: =D35*내역서!AV32 -> 0
A58: 합 계 | F58: =SUMIF(Q35:Q35, "1", F35:F35) -> 100400000 | H58: =SUMIF(Q35:Q35, "1", H35:H35) -> 0 | J58: =SUMIF(Q35:Q35, "1", J35:J35) -> 0 | L58: =F58+H58+J58 -> 100400000 | R58: =SUM(R35:R35) -> 0 | S58: =SUM(S35:S35) -> 0 | T58: =SUM(T35:T35) -> 0 | U58: =SUM(U35:U35) -> 0 | V58: =SUM(V35:V35) -> 0 | W58: =SUM(W35:W35) -> 0 | X58: =SUM(X35:X35) -> 0 | Y58: =SUM(Y35:Y35) -> 0 | ... AY58: =SUM(AY35:AY35) -> 0

Sheet 내역서
A1: 내 역 서
A2: 공사명 : 매리취수장 6차 펌프실 노후 밸브 교체정비 관급자재
A3: 품 명 | B3: 규 격 | C3: 단위 | D3: 수 량 | E3: 재 료 비 | G3: 노 무 비 | I3: 경 비 | K3: 합 계 | M3: 비고
E4: 단 가 | F4: 금 액 | G4: 단 가 | H4: 금 액 | I4: 단 가 | J4: 금 액 | K4: 단 가 | L4: 금 액 | N4: 손료요율 | O4: 손료구분 | P4: 적용구분 | Q4: 합계구분 | R4: 기계경비 | S4: 운반비 | T4: 작업부산물 | U4: 관급 | V4: 외주비 | W4: 장비비 | X4: 폐기물처리비 | Y4: 가설비 | Z4: 잡비제외분 | AA4: 사급자재대 | AB4: 관급자재대 | AC4: 관급자 관급 자재대 | AD4: 사용자항목2 | AE4: 안전관리비 | AF4: 품질관리비 | AG4: 작업부산물(철거해체) | AH4: 사용자항목6 | AI4: 사용자항목7 | AJ4: 고재처리비 | AK4: 사용자항목9 | AL4: 사용자항목10 | AM4: 사용자항목11 | AN4: 사용자항목12 | AO4: 사용자항목13 | AP4: 사용자항목14 | AQ4: 사용자항목15 | AR4: 사용자항목16 | AS4: 사용자항목17 | AT4: 사용자항목18 | AU4: 사용자항목19 | AV4: 간접재료비 | AW4: 품목구분 | AX4: 조달코드 | AY4: 구분
A5: 0102. 수동식 제수밸브16K
A6: 수동식 제수밸브(GCD450) | B6: 350A(16Kg/cm2) | C6: 개 | D6: 1 | E6: =단가대비표!O5 -> 3400000 | F6: =ROUNDDOWN(D6*E6, 0) -> 3400000 | G6: 0 | H6: =ROUNDDOWN(D6*G6, 0) -> 0 | I6: 0 | J6: =ROUNDDOWN(D6*I6, 0) -> 0 | K6: =E6+G6+I6 -> 3400000 | L6: =F6+H6+J6 -> 3400000 | O6: ="01" -> 01 | P6: 관급자재대 | Q6: 1 | R6: =IF(P6="기계경비", J6, 0) -> 0 | S6: =IF(P6="운반비", L6, 0) -> 0 | T6: =IF(P6="작업부산물", F6, 0) -> 0 | U6: =IF(P6="관급", F6, 0) -> 0 | V6: =IF(P6="외주비", J6, 0) -> 0 | W6: =IF(P6="장비비", J6, 0) -> 0 | X6: =IF(P6="폐기물처리비", L6, 0) -> 0 | Y6: =IF(P6="가설비", J6, 0) -> 0 | Z6: =IF(P6="잡비제외분", F6, 0) -> 0 | AA6: =IF(P6="사급자재대", L6, 0) -> 0 | AB6: =IF(P6="관급자재대", L6, 0) -> 3400000 | AC6: =IF(P6="관급자 관급 자재대", L6, 0) -> 0 | AD6: =IF(P6="사용자항목2", L6, 0) -> 0 | AE6: =IF(P6="안전관리비", L6, 0) -> 0 | AF6: =IF(P6="품질관리비", L6, 0) -> 0 | AG6: =IF(P6="작업부산물(철거해체)", L6, 0) -> 0 | AH6: =IF(P6="사용자항목6", L6, 0) -> 0 | AI6: =IF(P6="사용자항목7", L6, 0) -> 0 | AJ6: =IF(P6="고재처리비", L6, 0) -> 0 | AK6: =IF(P6="사용자항목9", L6, 0) -> 0 | AL6: =IF(P6="사용자항목10", L6, 0) -> 0 | AM6: =IF(P6="사용자항목11", L6, 0) -> 0 | AN6: =IF(P6="사용자항목12", L6, 0) -> 0 | AO6: =IF(P6="사용자항목13", L6, 0) -> 0 | AP6: =IF(P6="사용자항목14", L6, 0) -> 0 | AQ6: =IF(P6="사용자항목15", L6, 0) -> 0 | AR6: =IF(P6="사용자항목16", L6, 0) -> 0 | AS6: =IF(P6="사용자항목17", L6, 0) -> 0 | AT6: =IF(P6="사용자항목18", L6, 0) -> 0 | AU6: =IF(P6="사용자항목19", L6, 0) -> 0
A7: 수동식 제수밸브(GCD450) | B7: 500A(16Kg/cm2) | C7: 개 | D7: 2 | E7: =단가대비표!O6 -> 9600000 | F7: =ROUNDDOWN(D7*E7, 0) -> 19200000 | G7: 0 | H7: =ROUNDDOWN(D7*G7, 0) -> 0 | I7: 0 | J7: =ROUNDDOWN(D7*I7, 0) -> 0 | K7: =E7+G7+I7 -> 9600000 | L7: =F7+H7+J7 -> 19200000 | O7: ="01" -> 01 | P7: 관급자재대 | Q7: 1 | R7: =IF(P7="기계경비", J7, 0) -> 0 | S7: =IF(P7="운반비", L7, 0) -> 0 | T7: =IF(P7="작업부산물", F7, 0) -> 0 | U7: =IF(P7="관급", F7, 0) -> 0 | V7: =IF(P7="외주비", J7, 0) -> 0 | W7: =IF(P7="장비비", J7, 0) -> 0 | X7: =IF(P7="폐기물처리비", L7, 0) -> 0 | Y7: =IF(P7="가설비", J7, 0) -> 0 | Z7: =IF(P7="잡비제외분", F7, 0) -> 0 | AA7: =IF(P7="사급자재대", L7, 0) -> 0 | AB7: =IF(P7="관급자재대", L7, 0) -> 19200000 | AC7: =IF(P7="관급자 관급 자재대", L7, 0) -> 0 | AD7: =IF(P7="사용자항목2", L7, 0) -> 0 | AE7: =IF(P7="안전관리비", L7, 0) -> 0 | AF7: =IF(P7="품질관리비", L7, 0) -> 0 | AG7: =IF(P7="작업부산물(철거해체)", L7, 0) -> 0 | AH7: =IF(P7="사용자항목6", L7, 0) -> 0 | AI7: =IF(P7="사용자항목7", L7, 0) -> 0 | AJ7: =IF(P7="고재처리비", L7, 0) -> 0 | AK7: =IF(P7="사용자항목9", L7, 0) -> 0 | AL7: =IF(P7="사용자항목10", L7, 0) -> 0 | AM7: =IF(P7="사용자항목11", L7, 0) -> 0 | AN7: =IF(P7="사용자항목12", L7, 0) -> 0 | AO7: =IF(P7="사용자항목13", L7, 0) -> 0 | AP7: =IF(P7="사용자항목14", L7, 0) -> 0 | AQ7: =IF(P7="사용자항목15", L7, 0) -> 0 | AR7: =IF(P7="사용자항목16", L7, 0) -> 0 | AS7: =IF(P7="사용자항목17", L7, 0) -> 0 | AT7: =IF(P7="사용자항목18", L7, 0) -> 0 | AU7: =IF(P7="사용자항목19", L7, 0) -> 0
A8: 수동식 제수밸브(GCD450) | B8: 700A(16Kg/cm2) | C8: 개 | D8: 4 | E8: =단가대비표!O7 -> 19450000 | F8: =ROUNDDOWN(D8*E8, 0) -> 77800000 | G8: 0 | H8: =ROUNDDOWN(D8*G8, 0) -> 0 | I8: 0 | J8: =ROUNDDOWN(D8*I8, 0) -> 0 | K8: =E8+G8+I8 -> 19450000 | L8: =F8+H8+J8 -> 77800000 | O8: ="01" -> 01 | P8: 관급자재대 | Q8: 1 | R8: =IF(P8="기계경비", J8, 0) -> 0 | S8: =IF(P8="운반비", L8, 0) -> 0 | T8: =IF(P8="작업부산물", F8, 0) -> 0 | U8: =IF(P8="관급", F8, 0) -> 0 | V8: =IF(P8="외주비", J8, 0) -> 0 | W8: =IF(P8="장비비", J8, 0) -> 0 | X8: =IF(P8="폐기물처리비", L8, 0) -> 0 | Y8: =IF(P8="가설비", J8, 0) -> 0 | Z8: =IF(P8="잡비제외분", F8, 0) -> 0 | AA8: =IF(P8="사급자재대", L8, 0) -> 0 | AB8: =IF(P8="관급자재대", L8, 0) -> 77800000 | AC8: =IF(P8="관급자 관급 자재대", L8, 0) -> 0 | AD8: =IF(P8="사용자항목2", L8, 0) -> 0 | AE8: =IF(P8="안전관리비", L8, 0) -> 0 | AF8: =IF(P8="품질관리비", L8, 0) -> 0 | AG8: =IF(P8="작업부산물(철거해체)", L8, 0) -> 0 | AH8: =IF(P8="사용자항목6", L8, 0) -> 0 | AI8: =IF(P8="사용자항목7", L8, 0) -> 0 | AJ8: =IF(P8="고재처리비", L8, 0) -> 0 | AK8: =IF(P8="사용자항목9", L8, 0) -> 0 | AL8: =IF(P8="사용자항목10", L8, 0) -> 0 | AM8: =IF(P8="사용자항목11", L8, 0) -> 0 | AN8: =IF(P8="사용자항목12", L8, 0) -> 0 | AO8: =IF(P8="사용자항목13", L8, 0) -> 0 | AP8: =IF(P8="사용자항목14", L8, 0) -> 0 | AQ8: =IF(P8="사용자항목15", L8, 0) -> 0 | AR8: =IF(P8="사용자항목16", L8, 0) -> 0 | AS8: =IF(P8="사용자항목17", L8, 0) -> 0 | AT8: =IF(P8="사용자항목18", L8, 0) -> 0 | AU8: =IF(P8="사용자항목19", L8, 0) -> 0
O9: ="01" -> 01 | P9: 관급자재대 | Q9: 1 | R9: =IF(P9="기계경비", J9, 0) -> 0 | S9: =IF(P9="운반비", L9, 0) -> 0 | T9: =IF(P9="작업부산물", F9, 0) -> 0 | U9: =IF(P9="관급", F9, 0) -> 0 | V9: =IF(P9="외주비", J9, 0) -> 0 | W9: =IF(P9="장비비", J9, 0) -> 0 | X9: =IF(P9="폐기물처리비", L9, 0) -> 0 | Y9: =IF(P9="가설비", J9, 0) -> 0 | Z9: =IF(P9="잡비제외분", F9, 0) -> 0 | AA9: =IF(P9="사급자재대", L9, 0) -> 0 | AB9: =IF(P9="관급자재대", L9, 0) -> 0 | AC9: =IF(P9="관급자 관급 자재대", L9, 0) -> 0 | AD9: =IF(P9="사용자항목2", L9, 0) -> 0 | AE9: =IF(P9="안전관리비", L9, 0) -> 0 | AF9: =IF(P9="품질관리비", L9, 0) -> 0 | AG9: =IF(P9="작업부산물(철거해체)", L9, 0) -> 0 | AH9: =IF(P9="사용자항목6", L9, 0) -> 0 | AI9: =IF(P9="사용자항목7", L9, 0) -> 0 | AJ9: =IF(P9="고재처리비", L9, 0) -> 0 | AK9: =IF(P9="사용자항목9", L9, 0) -> 0 | AL9: =IF(P9="사용자항목10", L9, 0) -> 0 | AM9: =IF(P9="사용자항목11", L9, 0) -> 0 | AN9: =IF(P9="사용자항목12", L9, 0) -> 0 | AO9: =IF(P9="사용자항목13", L9, 0) -> 0 | AP9: =IF(P9="사용자항목14", L9, 0) -> 0 | AQ9: =IF(P9="사용자항목15", L9, 0) -> 0 | AR9: =IF(P9="사용자항목16", L9, 0) -> 0 | AS9: =IF(P9="사용자항목17", L9, 0) -> 0 | AT9: =IF(P9="사용자항목18", L9, 0) -> 0 | AU9: =IF(P9="사용자항목19", L9, 0) -> 0 | AY9: 수동식제수밸브
A32: 합 계 | F32: =ROUNDDOWN(SUMIF(Q6:Q31, "1", F6:F31), 0) -> 100400000 | H32: =ROUNDDOWN(SUMIF(Q6:Q31, "1", H6:H31), 0) -> 0 | J32: =ROUNDDOWN(SUMIF(Q6:Q31, "1", J6:J31), 0) -> 0 | L32: =F32+H32+J32 -> 100400000 | R32: =ROUNDDOWN(SUM(R6:R9), 0) -> 0 | S32: =ROUNDDOWN(SUM(S6:S9), 0) -> 0 | T32: =ROUNDDOWN(SUM(T6:T9), 0) -> 0 | U32: =ROUNDDOWN(SUM(U6:U9), 0) -> 0 | V32: =ROUNDDOWN(SUM(V6:V9), 0) -> 0 | W32: =ROUNDDOWN(SUM(W6:W9), 0) -> 0 | X32: =ROUNDDOWN(SUM(X6:X9), 0) -> 0 | Y32: =ROUNDDOWN(SUM(Y6:Y9), 0) -> 0 | ... AY32: =ROUNDDOWN(SUM(AY6:AY9), 0) -> 0

Sheet 단가대비표
A1: 단 가 대 비 표
A2: 공사명 : 매리취수장 6차 펌프실 노후 밸브 교체정비 관급자재
A3: 품 명 | B3: 규 격 | C3: 단위 | D3: 물가자료 | F3: 물가정보 | H3: 가격정보 | I3: 유통물가 | K3: 거래가격 | M3: 조사단가 | N3: 계약심사 | O3: 적용단가 | P3: 비 고
D4: 단 가 | E4: Page | F4: 단 가 | G4: Page | H4: 단 가 | I4: 단 가 | J4: Page | K4: 단 가 | L4: Page | M4: 단 가 | N4: 단가 | Q4: 구분
A5: 수동식 제수밸브(GCD450) | B5: 350A(16Kg/cm2) | C5: 개 | M5: 3470000 | N5: 3400000 | O5: =MIN(D5,F5,H5,I5,K5,M5,N5) -> 3400000
A6: 수동식 제수밸브(GCD450) | B6: 500A(16Kg/cm2) | C6: 개 | M6: 9620000 | N6: 9600000 | O6: =MIN(D6,F6,H6,I6,K6,M6,N6) -> 9600000
A7: 수동식 제수밸브(GCD450) | B7: 700A(16Kg/cm2) | C7: 개 | M7: 19500000 | N7: 19450000 | O7: =MIN(D7,F7,H7,I7,K7,M7,N7) -> 19450000
Q18: 수동식제수밸브
Q19: 신축관이음
Q20: 완폐식체크밸브
Q21: 전동식제수밸브
Q22: 전동제수10K

Sheet Sheet1
