Workbook
Name _E81161: [1]깨기!$E$51161
Name _H81192: [1]깨기!$H$51192
Name _H91164: [1]깨기!$H$11164
Name _IV65999: #REF!
Name _IV65999: #REF!
Name _IV65999: #REF!
Name _IV65999: #REF!
Name _IV66000: #REF!
Name _IV66000: #REF!
Name _IV66000: #REF!
Name _IV66000: #REF!
Name _IV69999: #REF!
Name _IV69999: #REF!
Name _IV69999: #REF!
Name _IV69999: #REF!
Name _IV70000: #REF!
Name _IV70000: #REF!
Name _IV70000: #REF!
Name _IV70000: #REF!
Name _IV99999: #REF!
Name _IV99999: #REF!
Name _IV99999: #REF!
Name _IV99999: #REF!
Name _Zz10137: #REF!
Name _Zz10137: #REF!
Name _Zz10137: #REF!
Name _Zz10137: #REF!
Name \p: #REF!
Name \p: #REF!
Name \p: #REF!
Name \p: #REF!
Name A1000000000000000: #REF!
Name A1000000000000000: #REF!
Name A1000000000000000: #REF!
Name A1000000000000000: #REF!
Name A2032.: #REF!
Name A2032.: #REF!
Name A2032.: #REF!
Name A2032.: #REF!
Name aaa: #REF!
Name aaa: #REF!
Name aaa: #REF!
Name aaa: #REF!
Name a당_중간층단위수량: '[2]아스팔트포장재료 단위수량'!#REF!
Name a당_중간층단위수량: '[2]아스팔트포장재료 단위수량'!#REF!
Name a당_중간층단위수량: '[2]아스팔트포장재료 단위수량'!#REF!
Name a당_중간층단위수량: '[2]아스팔트포장재료 단위수량'!#REF!
Name a당_표층단위수량_교면포장: '[2]아스팔트포장재료 단위수량'!#REF!
Name a당_표층단위수량_교면포장: '[2]아스팔트포장재료 단위수량'!#REF!
Name a당_표층단위수량_교면포장: '[2]아스팔트포장재료 단위수량'!#REF!
Name a당_표층단위수량_교면포장: '[2]아스팔트포장재료 단위수량'!#REF!
Name DLDMA: #REF!
Name DLDMA: #REF!
Name DLDMA: #REF!
Name DLDMA: #REF!
Name DLFMA: #REF!
Name DLFMA: #REF!
Name DLFMA: #REF!
Name DLFMA: #REF!
Name lhjk: #REF!

Sheet 총괄
A1: 손실보상금 산정 및 지급조서(총괄)
A3: ○ 사업명 : 승학터널 민간투자사업
A5: 구분 | B5: 계 | C5: =개인별총괄!F4 -> 토지 | D5: =개인별총괄!G4 -> 지장물 | E5: =개인별총괄!H4 -> 영업보상 | F5: =개인별총괄!I4 -> 주거이전비 | G5: =개인별총괄!J4 -> 잔여지 | H5: =개인별총괄!K4 -> 잔여지 지장물 | I5: =개인별총괄!L4 -> 비고
A6: 건수(건) | B6: =SUM(C6:H6) -> #REF! | C6: {=SUM(IF(토지!$E5:$E50<>"",1/COUNTIF(토지!$E5:$E50,토지!$E5:$E50)))} -> 19 | D6: =COUNTA(지장물!$F5:$F195) -> 190 | E6: {=SUM(IF(#REF!<>"",1/COUNTIF(#REF!,#REF!)))} -> #REF! | F6: {=SUM(IF(#REF!<>"",1/COUNTIF(#REF!,#REF!)))} -> #REF! | G6: {=SUM(IF(#REF!<>"",1/COUNTIF(#REF!,#REF!)))} -> #REF! | H6: =COUNTA(#REF!) -> 1
A7: 금액(원) | B7: =개인별총괄!E5 -> #REF! | C7: =개인별총괄!F5 -> 0 | D7: =개인별총괄!G5 -> 0 | E7: =개인별총괄!H5 -> #REF! | F7: =개인별총괄!I5 -> #REF! | G7: =개인별총괄!J5 -> #REF! | H7: =개인별총괄!K5 -> #REF!

Sheet 개인별총괄
A1: 개인별 총괄
A3: =총괄!$A$3 -> ○ 사업명 : 승학터널 민간투자사업 | AE3: 사용재결 2개 법인 평균
A4: 연번 | B4: 소재지 | C4: 지번 | D4: 성명 | E4: 합계 | F4: 토지 | G4: 지장물 | H4: 영업보상 | I4: 주거이전비 | J4: 잔여지 | K4: 잔여지 지장물 | L4: 비고
A5: 합계 | D5: =COUNTA(D6:D49)&"명" -> 0명 | E5: =SUBTOTAL(9,E6:E49) -> #REF! | F5: =SUBTOTAL(9,F6:F49) -> 0 | G5: =SUBTOTAL(9,G6:G49) -> 0 | H5: =SUBTOTAL(9,H6:H49) -> #REF! | I5: =SUBTOTAL(9,I6:I49) -> #REF! | J5: =SUBTOTAL(9,J6:J49) -> #REF! | K5: =SUBTOTAL(9,K6:K49) -> #REF! | L5: =SUBTOTAL(9,L6:L49) -> 0
A6: =ROW()-5 -> 1 | E6: =SUM(F6:L6) -> #REF! | F6: =SUMIF(토지!AD:AD,D6,토지!AB:AB) -> 0 | G6: =SUMIF(지장물!AF:AF,D6,지장물!AE:AE) -> 0 | H6: =SUMIF(#REF!,D6,#REF!) -> #REF! | I6: =SUMIF(#REF!,D6,#REF!) -> #REF! | J6: =SUMIF(#REF!,D6,#REF!) -> #REF! | K6: =SUMIF(#REF!,D6,#REF!) -> #REF!
A7: =ROW()-5 -> 2 | E7: =SUM(F7:L7) -> #REF! | F7: =SUMIF(토지!AD:AD,D7,토지!AB:AB) -> 0 | G7: =SUMIF(지장물!AF:AF,D7,지장물!AE:AE) -> 0 | H7: =SUMIF(#REF!,D7,#REF!) -> #REF! | I7: =SUMIF(#REF!,D7,#REF!) -> #REF! | J7: =SUMIF(#REF!,D7,#REF!) -> #REF! | K7: =SUMIF(#REF!,D7,#REF!) -> #REF!
A8: =ROW()-5 -> 3 | E8: =SUM(F8:L8) -> #REF! | F8: =SUMIF(토지!AD:AD,D8,토지!AB:AB) -> 0 | G8: =SUMIF(지장물!AF:AF,D8,지장물!AE:AE) -> 0 | H8: =SUMIF(#REF!,D8,#REF!) -> #REF! | I8: =SUMIF(#REF!,D8,#REF!) -> #REF! | J8: =SUMIF(#REF!,D8,#REF!) -> #REF! | K8: =SUMIF(#REF!,D8,#REF!) -> #REF!
A9: =ROW()-5 -> 4 | E9: =SUM(F9:L9) -> #REF! | F9: =SUMIF(토지!AD:AD,D9,토지!AB:AB) -> 0 | G9: =SUMIF(지장물!AF:AF,D9,지장물!AE:AE) -> 0 | H9: =SUMIF(#REF!,D9,#REF!) -> #REF! | I9: =SUMIF(#REF!,D9,#REF!) -> #REF! | J9: =SUMIF(#REF!,D9,#REF!) -> #REF! | K9: =SUMIF(#REF!,D9,#REF!) -> #REF!
A10: =ROW()-5 -> 5 | E10: =SUM(F10:L10) -> #REF! | F10: =SUMIF(토지!AD:AD,D10,토지!AB:AB) -> 0 | G10: =SUMIF(지장물!AF:AF,D10,지장물!AE:AE) -> 0 | H10: =SUMIF(#REF!,D10,#REF!) -> #REF! | I10: =SUMIF(#REF!,D10,#REF!) -> #REF! | J10: =SUMIF(#REF!,D10,#REF!) -> #REF! | K10: =SUMIF(#REF!,D10,#REF!) -> #REF!
A11: =ROW()-5 -> 6 | E11: =SUM(F11:L11) -> #REF! | F11: =SUMIF(토지!AD:AD,D11,토지!AB:AB) -> 0 | G11: =SUMIF(지장물!AF:AF,D11,지장물!AE:AE) -> 0 | H11: =SUMIF(#REF!,D11,#REF!) -> #REF! | I11: =SUMIF(#REF!,D11,#REF!) -> #REF! | J11: =SUMIF(#REF!,D11,#REF!) -> #REF! | K11: =SUMIF(#REF!,D11,#REF!) -> #REF!
A12: =ROW()-5 -> 7 | E12: =SUM(F12:L12) -> #REF! | F12: =SUMIF(토지!AD:AD,D12,토지!AB:AB) -> 0 | G12: =SUMIF(지장물!AF:AF,D12,지장물!AE:AE) -> 0 | H12: =SUMIF(#REF!,D12,#REF!) -> #REF! | I12: =SUMIF(#REF!,D12,#REF!) -> #REF! | J12: =SUMIF(#REF!,D12,#REF!) -> #REF! | K12: =SUMIF(#REF!,D12,#REF!) -> #REF!
A13: =ROW()-5 -> 8 | E13: =SUM(F13:L13) -> #REF! | F13: =SUMIF(토지!AD:AD,D13,토지!AB:AB) -> 0 | G13: =SUMIF(지장물!AF:AF,D13,지장물!AE:AE) -> 0 | H13: =SUMIF(#REF!,D13,#REF!) -> #REF! | I13: =SUMIF(#REF!,D13,#REF!) -> #REF! | J13: =SUMIF(#REF!,D13,#REF!) -> #REF! | K13: =SUMIF(#REF!,D13,#REF!) -> #REF!
A14: =ROW()-5 -> 9 | E14: =SUM(F14:L14) -> #REF! | F14: =SUMIF(토지!AD:AD,D14,토지!AB:AB) -> 0 | G14: =SUMIF(지장물!AF:AF,D14,지장물!AE:AE) -> 0 | H14: =SUMIF(#REF!,D14,#REF!) -> #REF! | I14: =SUMIF(#REF!,D14,#REF!) -> #REF! | J14: =SUMIF(#REF!,D14,#REF!) -> #REF! | K14: =SUMIF(#REF!,D14,#REF!) -> #REF!
A15: =ROW()-5 -> 10 | E15: =SUM(F15:L15) -> #REF! | F15: =SUMIF(토지!AD:AD,D15,토지!AB:AB) -> 0 | G15: =SUMIF(지장물!AF:AF,D15,지장물!AE:AE) -> 0 | H15: =SUMIF(#REF!,D15,#REF!) -> #REF! | I15: =SUMIF(#REF!,D15,#REF!) -> #REF! | J15: =SUMIF(#REF!,D15,#REF!) -> #REF! | K15: =SUMIF(#REF!,D15,#REF!) -> #REF!
A16: =ROW()-5 -> 11 | E16: =SUM(F16:L16) -> #REF! | F16: =SUMIF(토지!AD:AD,D16,토지!AB:AB) -> 0 | G16: =SUMIF(지장물!AF:AF,D16,지장물!AE:AE) -> 0 | H16: =SUMIF(#REF!,D16,#REF!) -> #REF! | I16: =SUMIF(#REF!,D16,#REF!) -> #REF! | J16: =SUMIF(#REF!,D16,#REF!) -> #REF! | K16: =SUMIF(#REF!,D16,#REF!) -> #REF!
A17: =ROW()-5 -> 12 | E17: =SUM(F17:L17) -> #REF! | F17: =SUMIF(토지!AD:AD,D17,토지!AB:AB) -> 0 | G17: =SUMIF(지장물!AF:AF,D17,지장물!AE:AE) -> 0 | H17: =SUMIF(#REF!,D17,#REF!) -> #REF! | I17: =SUMIF(#REF!,D17,#REF!) -> #REF! | J17: =SUMIF(#REF!,D17,#REF!) -> #REF! | K17: =SUMIF(#REF!,D17,#REF!) -> #REF!
... A49: =ROW()-5 -> 44 | E49: =SUM(F49:L49) -> #REF! | F49: =SUMIF(토지!AD:AD,D49,토지!AB:AB) -> 0 | G49: =SUMIF(지장물!AF:AF,D49,지장물!AE:AE) -> 0 | H49: =SUMIF(#REF!,D49,#REF!) -> #REF! | I49: =SUMIF(#REF!,D49,#REF!) -> #REF! | J49: =SUMIF(#REF!,D49,#REF!) -> #REF! | K49: =SUMIF(#REF!,D49,#REF!) -> #REF!

Sheet (개인별 총괄)
A1: 소유자 | C1: ※ 각 물건별 150명 기준임
A2: ='(소유자물건별)'!A2 -> #REF!
A3: ='(소유자물건별)'!A3 -> #REF!
A4: ='(소유자물건별)'!A4 -> #REF!
A5: ='(소유자물건별)'!A5 -> #REF!
A6: ='(소유자물건별)'!A6 -> #REF!
A7: ='(소유자물건별)'!A7 -> #REF!
A8: ='(소유자물건별)'!A8 -> #REF!
A9: ='(소유자물건별)'!A9 -> #REF!
A10: ='(소유자물건별)'!A10 -> #REF!
A11: ='(소유자물건별)'!A11 -> #REF!
A12: ='(소유자물건별)'!A12 -> #REF!
A13: ='(소유자물건별)'!A13 -> #REF!
... A151: ='(소유자물건별)'!A151
A152: ='(소유자물건별)'!B2
A153: ='(소유자물건별)'!B3
A154: ='(소유자물건별)'!B4
A155: ='(소유자물건별)'!B5
A156: ='(소유자물건별)'!B6
A157: ='(소유자물건별)'!B7
A158: ='(소유자물건별)'!B8 -> #REF!
A159: ='(소유자물건별)'!B9
A160: ='(소유자물건별)'!B10
A161: ='(소유자물건별)'!B11
A162: ='(소유자물건별)'!B12
A163: ='(소유자물건별)'!B13
... A301: ='(소유자물건별)'!B151
A302: ='(소유자물건별)'!C2 -> #REF!
A303: ='(소유자물건별)'!C3 -> #REF!
A304: ='(소유자물건별)'!C4 -> #REF!
A305: ='(소유자물건별)'!C5 -> #REF!
A306: ='(소유자물건별)'!C6 -> #REF!
A307: ='(소유자물건별)'!C7 -> #REF!
A308: ='(소유자물건별)'!C8 -> #REF!
A309: ='(소유자물건별)'!C9 -> #REF!
A310: ='(소유자물건별)'!C10 -> #REF!
A311: ='(소유자물건별)'!C11 -> #REF!
A312: ='(소유자물건별)'!C12 -> #REF!
A313: ='(소유자물건별)'!C13 -> #REF!
... A451: ='(소유자물건별)'!C151 -> #REF!
...

Sheet (소유자물건별)
A1: 토지 | B1: 지장물 | C1: 영업보상 | D1: 농업보상 | E1: 지하사용권 | F1: 주거이전비 | G1: 분묘 | H1: 잔여지 | I1: 잔여지지장물
A2: =IF(토지!#REF!="","",토지!#REF!) -> #REF! | B2: =IF(지장물!AF5="","",지장물!AF5) | C2: =IF(#REF!="","",#REF!) -> #REF! | D2: =IF(#REF!="","",#REF!) -> #REF! | E2: =IF(#REF!="","",#REF!) -> #REF! | F2: =IF(#REF!="","",#REF!) -> #REF! | G2: =IF(#REF!="","",#REF!) -> #REF! | H2: =IF(#REF!="","",#REF!) -> #REF! | I2: =IF(#REF!="","",#REF!) -> #REF!
A3: =IF(토지!#REF!="","",토지!#REF!) -> #REF! | B3: =IF(지장물!AF6="","",지장물!AF6) | C3: =IF(#REF!="","",#REF!) -> #REF! | D3: =IF(#REF!="","",#REF!) -> #REF! | E3: =IF(#REF!="","",#REF!) -> #REF! | F3: =IF(#REF!="","",#REF!) -> #REF! | G3: =IF(#REF!="","",#REF!) -> #REF! | H3: =IF(#REF!="","",#REF!) -> #REF! | I3: =IF(#REF!="","",#REF!) -> #REF!
A4: =IF(토지!#REF!="","",토지!#REF!) -> #REF! | B4: =IF(지장물!AF7="","",지장물!AF7) | C4: =IF(#REF!="","",#REF!) -> #REF! | D4: =IF(#REF!="","",#REF!) -> #REF! | E4: =IF(#REF!="","",#REF!) -> #REF! | F4: =IF(#REF!="","",#REF!) -> #REF! | G4: =IF(#REF!="","",#REF!) -> #REF! | H4: =IF(#REF!="","",#REF!) -> #REF! | I4: =IF(#REF!="","",#REF!) -> #REF!
A5: =IF(토지!#REF!="","",토지!#REF!) -> #REF! | B5: =IF(지장물!AF8="","",지장물!AF8) | C5: =IF(#REF!="","",#REF!) -> #REF! | D5: =IF(#REF!="","",#REF!) -> #REF! | E5: =IF(#REF!="","",#REF!) -> #REF! | F5: =IF(#REF!="","",#REF!) -> #REF! | G5: =IF(#REF!="","",#REF!) -> #REF! | H5: =IF(#REF!="","",#REF!) -> #REF! | I5: =IF(#REF!="","",#REF!) -> #REF!
A6: =IF(토지!#REF!="","",토지!#REF!) -> #REF! | B6: =IF(지장물!AF9="","",지장물!AF9) | C6: =IF(#REF!="","",#REF!) -> #REF! | D6: =IF(#REF!="","",#REF!) -> #REF! | E6: =IF(#REF!="","",#REF!) -> #REF! | F6: =IF(#REF!="","",#REF!) -> #REF! | G6: =IF(#REF!="","",#REF!) -> #REF! | H6: =IF(#REF!="","",#REF!) -> #REF! | I6: =IF(#REF!="","",#REF!) -> #REF!
A7: =IF(토지!#REF!="","",토지!#REF!) -> #REF! | B7: =IF(지장물!AF10="","",지장물!AF10) | C7: =IF(#REF!="","",#REF!) -> #REF! | D7: =IF(#REF!="","",#REF!) -> #REF! | E7: =IF(#REF!="","",#REF!) -> #REF! | F7: =IF(#REF!="","",#REF!) -> #REF! | G7: =IF(#REF!="","",#REF!) -> #REF! | H7: =IF(#REF!="","",#REF!) -> #REF! | I7: =IF(#REF!="","",#REF!) -> #REF!
A8: =IF(토지!#REF!="","",토지!#REF!) -> #REF! | B8: =IF(지장물!#REF!="","",지장물!#REF!) -> #REF! | C8: =IF(#REF!="","",#REF!) -> #REF! | D8: =IF(#REF!="","",#REF!) -> #REF! | E8: =IF(#REF!="","",#REF!) -> #REF! | F8: =IF(#REF!="","",#REF!) -> #REF! | G8: =IF(#REF!="","",#REF!) -> #REF! | H8: =IF(#REF!="","",#REF!) -> #REF! | I8: =IF(#REF!="","",#REF!) -> #REF!
A9: =IF(토지!#REF!="","",토지!#REF!) -> #REF! | B9: =IF(지장물!AF11="","",지장물!AF11) | C9: =IF(#REF!="","",#REF!) -> #REF! | D9: =IF(#REF!="","",#REF!) -> #REF! | E9: =IF(#REF!="","",#REF!) -> #REF! | F9: =IF(#REF!="","",#REF!) -> #REF! | G9: =IF(#REF!="","",#REF!) -> #REF! | H9: =IF(#REF!="","",#REF!) -> #REF! | I9: =IF(#REF!="","",#REF!) -> #REF!
A10: =IF(토지!#REF!="","",토지!#REF!) -> #REF! | B10: =IF(지장물!AF12="","",지장물!AF12) | C10: =IF(#REF!="","",#REF!) -> #REF! | D10: =IF(#REF!="","",#REF!) -> #REF! | E10: =IF(#REF!="","",#REF!) -> #REF! | F10: =IF(#REF!="","",#REF!) -> #REF! | G10: =IF(#REF!="","",#REF!) -> #REF! | H10: =IF(#REF!="","",#REF!) -> #REF! | I10: =IF(#REF!="","",#REF!) -> #REF!
A11: =IF(토지!#REF!="","",토지!#REF!) -> #REF! | B11: =IF(지장물!AF13="","",지장물!AF13) | C11: =IF(#REF!="","",#REF!) -> #REF! | D11: =IF(#REF!="","",#REF!) -> #REF! | E11: =IF(#REF!="","",#REF!) -> #REF! | F11: =IF(#REF!="","",#REF!) -> #REF! | G11: =IF(#REF!="","",#REF!) -> #REF! | H11: =IF(#REF!="","",#REF!) -> #REF! | I11: =IF(#REF!="","",#REF!) -> #REF!
A12: =IF(토지!#REF!="","",토지!#REF!) -> #REF! | B12: =IF(지장물!AF14="","",지장물!AF14) | C12: =IF(#REF!="","",#REF!) -> #REF! | D12: =IF(#REF!="","",#REF!) -> #REF! | E12: =IF(#REF!="","",#REF!) -> #REF! | F12: =IF(#REF!="","",#REF!) -> #REF! | G12: =IF(#REF!="","",#REF!) -> #REF! | H12: =IF(#REF!="","",#REF!) -> #REF! | I12: =IF(#REF!="","",#REF!) -> #REF!
A13: =IF(토지!#REF!="","",토지!#REF!) -> #REF! | B13: =IF(지장물!AF15="","",지장물!AF15) | C13: =IF(#REF!="","",#REF!) -> #REF! | D13: =IF(#REF!="","",#REF!) -> #REF! | E13: =IF(#REF!="","",#REF!) -> #REF! | F13: =IF(#REF!="","",#REF!) -> #REF! | G13: =IF(#REF!="","",#REF!) -> #REF! | H13: =IF(#REF!="","",#REF!) -> #REF! | I13: =IF(#REF!="","",#REF!) -> #REF!
A14: =IF(토지!#REF!="","",토지!#REF!) -> #REF! | B14: =IF(지장물!AF16="","",지장물!AF16) | C14: =IF(#REF!="","",#REF!) -> #REF! | D14: =IF(#REF!="","",#REF!) -> #REF! | E14: =IF(#REF!="","",#REF!) -> #REF! | F14: =IF(#REF!="","",#REF!) -> #REF! | G14: =IF(#REF!="","",#REF!) -> #REF! | H14: =IF(#REF!="","",#REF!) -> #REF! | I14: =IF(#REF!="","",#REF!) -> #REF!
A15: =IF(토지!#REF!="","",토지!#REF!) -> #REF! | B15: =IF(지장물!AF17="","",지장물!AF17) | C15: =IF(#REF!="","",#REF!) -> #REF! | D15: =IF(#REF!="","",#REF!) -> #REF! | E15: =IF(#REF!="","",#REF!) -> #REF! | F15: =IF(#REF!="","",#REF!) -> #REF! | G15: =IF(#REF!="","",#REF!) -> #REF! | H15: =IF(#REF!="","",#REF!) -> #REF! | I15: =IF(#REF!="","",#REF!) -> #REF!
A16: =IF(토지!#REF!="","",토지!#REF!) -> #REF! | B16: =IF(지장물!AF18="","",지장물!AF18) | C16: =IF(#REF!="","",#REF!) -> #REF! | D16: =IF(#REF!="","",#REF!) -> #REF! | E16: =IF(#REF!="","",#REF!) -> #REF! | F16: =IF(#REF!="","",#REF!) -> #REF! | G16: =IF(#REF!="","",#REF!) -> #REF! | H16: =IF(#REF!="","",#REF!) -> #REF! | I16: =IF(#REF!="","",#REF!) -> #REF!
A17: =IF(토지!#REF!="","",토지!#REF!) -> #REF! | B17: =IF(지장물!AF19="","",지장물!AF19) | C17: =IF(#REF!="","",#REF!) -> #REF! | D17: =IF(#REF!="","",#REF!) -> #REF! | E17: =IF(#REF!="","",#REF!) -> #REF! | F17: =IF(#REF!="","",#REF!) -> #REF! | G17: =IF(#REF!="","",#REF!) -> #REF! | H17: =IF(#REF!="","",#REF!) -> #REF! | I17: =IF(#REF!="","",#REF!) -> #REF!
A18: =IF(토지!#REF!="","",토지!#REF!) -> #REF! | B18: =IF(지장물!AF20="","",지장물!AF20) | C18: =IF(#REF!="","",#REF!) -> #REF! | D18: =IF(#REF!="","",#REF!) -> #REF! | E18: =IF(#REF!="","",#REF!) -> #REF! | F18: =IF(#REF!="","",#REF!) -> #REF! | G18: =IF(#REF!="","",#REF!) -> #REF! | H18: =IF(#REF!="","",#REF!) -> #REF! | I18: =IF(#REF!="","",#REF!) -> #REF!
A19: =IF(토지!#REF!="","",토지!#REF!) -> #REF! | B19: =IF(지장물!AF21="","",지장물!AF21) | C19: =IF(#REF!="","",#REF!) -> #REF! | D19: =IF(#REF!="","",#REF!) -> #REF! | E19: =IF(#REF!="","",#REF!) -> #REF! | F19: =IF(#REF!="","",#REF!) -> #REF! | G19: =IF(#REF!="","",#REF!) -> #REF! | H19: =IF(#REF!="","",#REF!) -> #REF! | I19: =IF(#REF!="","",#REF!) -> #REF!
A20: =IF(토지!#REF!="","",토지!#REF!) -> #REF! | B20: =IF(지장물!AF27="","",지장물!AF27) | C20: =IF(#REF!="","",#REF!) -> #REF! | D20: =IF(#REF!="","",#REF!) -> #REF! | E20: =IF(#REF!="","",#REF!) -> #REF! | F20: =IF(#REF!="","",#REF!) -> #REF! | G20: =IF(#REF!="","",#REF!) -> #REF! | H20: =IF(#REF!="","",#REF!) -> #REF! | I20: =IF(#REF!="","",#REF!) -> #REF!
A21: =IF(토지!#REF!="","",토지!#REF!) -> #REF! | B21: =IF(지장물!#REF!="","",지장물!#REF!) -> #REF! | C21: =IF(#REF!="","",#REF!) -> #REF! | D21: =IF(#REF!="","",#REF!) -> #REF! | E21: =IF(#REF!="","",#REF!) -> #REF! | F21: =IF(#REF!="","",#REF!) -> #REF! | G21: =IF(#REF!="","",#REF!) -> #REF! | H21: =IF(#REF!="","",#REF!) -> #REF! | I21: =IF(#REF!="","",#REF!) -> #REF!
A22: =IF(토지!#REF!="","",토지!#REF!) -> #REF! | B22: =IF(지장물!AF22="","",지장물!AF22) | C22: =IF(#REF!="","",#REF!) -> #REF! | D22: =IF(#REF!="","",#REF!) -> #REF! | E22: =IF(#REF!="","",#REF!) -> #REF! | F22: =IF(#REF!="","",#REF!) -> #REF! | G22: =IF(#REF!="","",#REF!) -> #REF! | H22: =IF(#REF!="","",#REF!) -> #REF! | I22: =IF(#REF!="","",#REF!) -> #REF!
A23: =IF(토지!#REF!="","",토지!#REF!) -> #REF! | B23: =IF(지장물!#REF!="","",지장물!#REF!) -> #REF! | C23: =IF(#REF!="","",#REF!) -> #REF! | D23: =IF(#REF!="","",#REF!) -> #REF! | E23: =IF(#REF!="","",#REF!) -> #REF! | F23: =IF(#REF!="","",#REF!) -> #REF! | G23: =IF(#REF!="","",#REF!) -> #REF! | H23: =IF(#REF!="","",#REF!) -> #REF! | I23: =IF(#REF!="","",#REF!) -> #REF!
A24: =IF(토지!#REF!="","",토지!#REF!) -> #REF! | B24: =IF(지장물!#REF!="","",지장물!#REF!) -> #REF! | C24: =IF(#REF!="","",#REF!) -> #REF! | D24: =IF(#REF!="","",#REF!) -> #REF! | E24: =IF(#REF!="","",#REF!) -> #REF! | F24: =IF(#REF!="","",#REF!) -> #REF! | G24: =IF(#REF!="","",#REF!) -> #REF! | H24: =IF(#REF!="","",#REF!) -> #REF! | I24: =IF(#REF!="","",#REF!) -> #REF!
A25: =IF(토지!#REF!="","",토지!#REF!) -> #REF! | B25: =IF(지장물!AF34="","",지장물!AF34) | C25: =IF(#REF!="","",#REF!) -> #REF! | D25: =IF(#REF!="","",#REF!) -> #REF! | E25: =IF(#REF!="","",#REF!) -> #REF! | F25: =IF(#REF!="","",#REF!) -> #REF! | G25: =IF(#REF!="","",#REF!) -> #REF! | H25: =IF(#REF!="","",#REF!) -> #REF! | I25: =IF(#REF!="","",#REF!) -> #REF!
A26: =IF(토지!#REF!="","",토지!#REF!) -> #REF! | B26: =IF(지장물!AF35="","",지장물!AF35) | C26: =IF(#REF!="","",#REF!) -> #REF! | D26: =IF(#REF!="","",#REF!) -> #REF! | E26: =IF(#REF!="","",#REF!) -> #REF! | F26: =IF(#REF!="","",#REF!) -> #REF! | G26: =IF(#REF!="","",#REF!) -> #REF! | H26: =IF(#REF!="","",#REF!) -> #REF! | I26: =IF(#REF!="","",#REF!) -> #REF!
A27: =IF(토지!#REF!="","",토지!#REF!) -> #REF! | B27: =IF(지장물!AF36="","",지장물!AF36) | C27: =IF(#REF!="","",#REF!) -> #REF! | D27: =IF(#REF!="","",#REF!) -> #REF! | E27: =IF(#REF!="","",#REF!) -> #REF! | F27: =IF(#REF!="","",#REF!) -> #REF! | G27: =IF(#REF!="","",#REF!) -> #REF! | H27: =IF(#REF!="","",#REF!) -> #REF! | I27: =IF(#REF!="","",#REF!) -> #REF!
A28: =IF(토지!#REF!="","",토지!#REF!) -> #REF! | B28: =IF(지장물!AF37="","",지장물!AF37) | C28: =IF(#REF!="","",#REF!) -> #REF! | D28: =IF(#REF!="","",#REF!) -> #REF! | E28: =IF(#REF!="","",#REF!) -> #REF! | F28: =IF(#REF!="","",#REF!) -> #REF! | G28: =IF(#REF!="","",#REF!) -> #REF! | H28: =IF(#REF!="","",#REF!) -> #REF! | I28: =IF(#REF!="","",#REF!) -> #REF!
A29: =IF(토지!#REF!="","",토지!#REF!) -> #REF! | B29: =IF(지장물!AF38="","",지장물!AF38) | C29: =IF(#REF!="","",#REF!) -> #REF! | D29: =IF(#REF!="","",#REF!) -> #REF! | E29: =IF(#REF!="","",#REF!) -> #REF! | F29: =IF(#REF!="","",#REF!) -> #REF! | G29: =IF(#REF!="","",#REF!) -> #REF! | H29: =IF(#REF!="","",#REF!) -> #REF! | I29: =IF(#REF!="","",#REF!) -> #REF!
A30: =IF(토지!#REF!="","",토지!#REF!) -> #REF! | B30: =IF(지장물!#REF!="","",지장물!#REF!) -> #REF! | C30: =IF(#REF!="","",#REF!) -> #REF! | D30: =IF(#REF!="","",#REF!) -> #REF! | E30: =IF(#REF!="","",#REF!) -> #REF! | F30: =IF(#REF!="","",#REF!) -> #REF! | G30: =IF(#REF!="","",#REF!) -> #REF! | H30: =IF(#REF!="","",#REF!) -> #REF! | I30: =IF(#REF!="","",#REF!) -> #REF!
A31: =IF(토지!#REF!="","",토지!#REF!) -> #REF! | B31: =IF(지장물!AF39="","",지장물!AF39) | C31: =IF(#REF!="","",#REF!) -> #REF! | D31: =IF(#REF!="","",#REF!) -> #REF! | E31: =IF(#REF!="","",#REF!) -> #REF! | F31: =IF(#REF!="","",#REF!) -> #REF! | G31: =IF(#REF!="","",#REF!) -> #REF! | H31: =IF(#REF!="","",#REF!) -> #REF! | I31: =IF(#REF!="","",#REF!) -> #REF!
A32: =IF(토지!#REF!="","",토지!#REF!) -> #REF! | B32: =IF(지장물!AF40="","",지장물!AF40) | C32: =IF(#REF!="","",#REF!) -> #REF! | D32: =IF(#REF!="","",#REF!) -> #REF! | E32: =IF(#REF!="","",#REF!) -> #REF! | F32: =IF(#REF!="","",#REF!) -> #REF! | G32: =IF(#REF!="","",#REF!) -> #REF! | H32: =IF(#REF!="","",#REF!) -> #REF! | I32: =IF(#REF!="","",#REF!) -> #REF!
A33: =IF(토지!#REF!="","",토지!#REF!) -> #REF! | B33: =IF(지장물!AF41="","",지장물!AF41) | C33: =IF(#REF!="","",#REF!) -> #REF! | D33: =IF(#REF!="","",#REF!) -> #REF! | E33: =IF(#REF!="","",#REF!) -> #REF! | F33: =IF(#REF!="","",#REF!) -> #REF! | G33: =IF(#REF!="","",#REF!) -> #REF! | H33: =IF(#REF!="","",#REF!) -> #REF! | I33: =IF(#REF!="","",#REF!) -> #REF!
A34: =IF(토지!#REF!="","",토지!#REF!) -> #REF! | B34: =IF(지장물!AF42="","",지장물!AF42) | C34: =IF(#REF!="","",#REF!) -> #REF! | D34: =IF(#REF!="","",#REF!) -> #REF! | E34: =IF(#REF!="","",#REF!) -> #REF! | F34: =IF(#REF!="","",#REF!) -> #REF! | G34: =IF(#REF!="","",#REF!) -> #REF! | H34: =IF(#REF!="","",#REF!) -> #REF! | I34: =IF(#REF!="","",#REF!) -> #REF!
A35: =IF(토지!#REF!="","",토지!#REF!) -> #REF! | B35: =IF(지장물!AF43="","",지장물!AF43) | C35: =IF(#REF!="","",#REF!) -> #REF! | D35: =IF(#REF!="","",#REF!) -> #REF! | E35: =IF(#REF!="","",#REF!) -> #REF! | F35: =IF(#REF!="","",#REF!) -> #REF! | G35: =IF(#REF!="","",#REF!) -> #REF! | H35: =IF(#REF!="","",#REF!) -> #REF! | I35: =IF(#REF!="","",#REF!) -> #REF!
A36: =IF(토지!#REF!="","",토지!#REF!) -> #REF! | B36: =IF(지장물!AF44="","",지장물!AF44) | C36: =IF(#REF!="","",#REF!) -> #REF! | D36: =IF(#REF!="","",#REF!) -> #REF! | E36: =IF(#REF!="","",#REF!) -> #REF! | F36: =IF(#REF!="","",#REF!) -> #REF! | G36: =IF(#REF!="","",#REF!) -> #REF! | H36: =IF(#REF!="","",#REF!) -> #REF! | I36: =IF(#REF!="","",#REF!) -> #REF!
A37: =IF(토지!#REF!="","",토지!#REF!) -> #REF! | B37: =IF(지장물!AF45="","",지장물!AF45) | C37: =IF(#REF!="","",#REF!) -> #REF! | D37: =IF(#REF!="","",#REF!) -> #REF! | E37: =IF(#REF!="","",#REF!) -> #REF! | F37: =IF(#REF!="","",#REF!) -> #REF! | G37: =IF(#REF!="","",#REF!) -> #REF! | H37: =IF(#REF!="","",#REF!) -> #REF! | I37: =IF(#REF!="","",#REF!) -> #REF!
A38: =IF(토지!#REF!="","",토지!#REF!) -> #REF! | B38: =IF(지장물!AF46="","",지장물!AF46) | C38: =IF(#REF!="","",#REF!) -> #REF! | D38: =IF(#REF!="","",#REF!) -> #REF! | E38: =IF(#REF!="","",#REF!) -> #REF! | F38: =IF(#REF!="","",#REF!) -> #REF! | G38: =IF(#REF!="","",#REF!) -> #REF! | H38: =IF(#REF!="","",#REF!) -> #REF! | I38: =IF(#REF!="","",#REF!) -> #REF!
A39: =IF(토지!#REF!="","",토지!#REF!) -> #REF! | B39: =IF(지장물!AF47="","",지장물!AF47) | C39: =IF(#REF!="","",#REF!) -> #REF! | D39: =IF(#REF!="","",#REF!) -> #REF! | E39: =IF(#REF!="","",#REF!) -> #REF! | F39: =IF(#REF!="","",#REF!) -> #REF! | G39: =IF(#REF!="","",#REF!) -> #REF! | H39: =IF(#REF!="","",#REF!) -> #REF! | I39: =IF(#REF!="","",#REF!) -> #REF!
A40: =IF(토지!#REF!="","",토지!#REF!) -> #REF! | B40: =IF(지장물!AF48="","",지장물!AF48) | C40: =IF(#REF!="","",#REF!) -> #REF! | D40: =IF(#REF!="","",#REF!) -> #REF! | E40: =IF(#REF!="","",#REF!) -> #REF! | F40: =IF(#REF!="","",#REF!) -> #REF! | G40: =IF(#REF!="","",#REF!) -> #REF! | H40: =IF(#REF!="","",#REF!) -> #REF! | I40: =IF(#REF!="","",#REF!) -> #REF!
...

Sheet 토지
A1: 손실보상금 산정 및 지급조서(토지)
A2: =총괄!$A$3 -> ○ 사업명 : 승학터널 민간투자사업
A3: 세목 고시 | B3: 소재지 | D3: 지번 | F3: 지목 | H3: 토지이용계획원 상 용도지역,용도지구,용도구역 등 | L3: 지적 | N3: 소유 | O3: 지분 | P3: 지분 | Q3: 지분 | R3: OO법인 | T3: OO법인 | V3: - | X3: 최고 | Y3: 최저 | Z3: 단가비율 | AA3: 감정평가 법인 평균 | AC3: 개별공시지가 | AD3: 소유자 | AH3: 소유권이외의 권리 | AK3: 공탁 | AN3: 등기 | AP3: 취득방법
A4: 일련번호 | B4: 구 | C4: 동 | D4: 당초지번 | E4: 편입지번 | F4: 공부상 지목 | G4: 현황 지목 | H4: 용도지역 | I4: 국토개발법 저촉 (용도지구, 용도구역) | J4: 다른 법령 등 저촉 | K4: 공부상 총면적 | L4: 편입 면적 | M4: 단위 | N4: 지분 | O4: (분자) | P4: (분모) | Q4: 계산 | R4: 단가 | S4: 금액 | T4: 단가 | U4: 금액 | V4: 단가 | W4: 금액 | X4: 단가 | Y4: 단가 | Z4: (최고/최저) | AA4: 평균단가 | AB4: 평균금액(원) | AC4: (OOOO년OO월) | AD4: 성명 | AE4: 주소 | AF4: 주민등록번호 | AG4: 연락처 | AH4: 권리자 | AI4: 주소 | AJ4: 권리 내용 | AK4: 공탁일 | AL4: 공탁번호 | AM4: 공탁기관 | AN4: 등기일 | AO4: 등기번호 | AP4: 취득일 | AQ4: 방법 | AR4: 비고
A5: 1 | B5: 서구 | C5: 서대신동3가 | D5: 31-31 | E5: 31-462 | F5: 전 | G5: 전 | H5: 자연녹지지역 | K5: 292 | L5: 292 | M5: ㎡ | N5: 42/84 | O5: =IF(N5="1","1",LEFT(N5,FIND("/",N5)-1)) -> 42 | P5: =IF(N5="1","1",RIGHT(N5,LEN(N5)-FIND("/",N5))) -> 84 | Q5: =O5/P5 -> 0.5 | S5: =IFERROR(ROUNDDOWN(R5*L5*Q5,-1),0) -> 0 | U5: =IFERROR(ROUNDDOWN(T5*L5*Q5,-1),0) -> 0 | W5: =IFERROR(ROUNDDOWN(V5*L5*Q5,-1),0) -> 0 | X5: =MAX(R5,T5,V5) -> 0 | Y5: =MIN(R5,T5,V5) -> 0 | Z5: =X5/Y5 -> #DIV/0! | AA5: =IFERROR(AVERAGE(R5,T5,V5),0) -> 0 | AB5: =IFERROR(ROUNDDOWN(AA5*L5*Q5,-1),0) -> 0
N6: 14/84 | O6: =IF(N6="1","1",LEFT(N6,FIND("/",N6)-1)) -> 14 | P6: =IF(N6="1","1",RIGHT(N6,LEN(N6)-FIND("/",N6))) -> 84 | Q6: =O6/P6 -> 0.16666667 | S6: =IFERROR(ROUNDDOWN(R6*L6*Q6,-1),0) -> 0 | U6: =IFERROR(ROUNDDOWN(T6*L6*Q6,-1),0) -> 0 | W6: =IFERROR(ROUNDDOWN(V6*L6*Q6,-1),0) -> 0 | X6: =MAX(R6,T6,V6) -> 0 | Y6: =MIN(R6,T6,V6) -> 0 | Z6: =X6/Y6 -> #DIV/0! | AA6: =IFERROR(AVERAGE(R6,T6,V6),0) -> 0 | AB6: =IFERROR(ROUNDDOWN(AA6*L6*Q6,-1),0) -> 0
N7: 14/84 | O7: =IF(N7="1","1",LEFT(N7,FIND("/",N7)-1)) -> 14 | P7: =IF(N7="1","1",RIGHT(N7,LEN(N7)-FIND("/",N7))) -> 84 | Q7: =O7/P7 -> 0.16666667 | S7: =IFERROR(ROUNDDOWN(R7*L7*Q7,-1),0) -> 0 | U7: =IFERROR(ROUNDDOWN(T7*L7*Q7,-1),0) -> 0 | W7: =IFERROR(ROUNDDOWN(V7*L7*Q7,-1),0) -> 0 | X7: =MAX(R7,T7,V7) -> 0 | Y7: =MIN(R7,T7,V7) -> 0 | Z7: =X7/Y7 -> #DIV/0! | AA7: =IFERROR(AVERAGE(R7,T7,V7),0) -> 0 | AB7: =IFERROR(ROUNDDOWN(AA7*L7*Q7,-1),0) -> 0
N8: 4/84 | O8: =IF(N8="1","1",LEFT(N8,FIND("/",N8)-1)) -> 4 | P8: =IF(N8="1","1",RIGHT(N8,LEN(N8)-FIND("/",N8))) -> 84 | Q8: =O8/P8 -> 0.047619048 | S8: =IFERROR(ROUNDDOWN(R8*L8*Q8,-1),0) -> 0 | U8: =IFERROR(ROUNDDOWN(T8*L8*Q8,-1),0) -> 0 | W8: =IFERROR(ROUNDDOWN(V8*L8*Q8,-1),0) -> 0 | X8: =MAX(R8,T8,V8) -> 0 | Y8: =MIN(R8,T8,V8) -> 0 | Z8: =X8/Y8 -> #DIV/0! | AA8: =IFERROR(AVERAGE(R8,T8,V8),0) -> 0 | AB8: =IFERROR(ROUNDDOWN(AA8*L8*Q8,-1),0) -> 0
N9: 4/84 | O9: =IF(N9="1","1",LEFT(N9,FIND("/",N9)-1)) -> 4 | P9: =IF(N9="1","1",RIGHT(N9,LEN(N9)-FIND("/",N9))) -> 84 | Q9: =O9/P9 -> 0.047619048 | S9: =IFERROR(ROUNDDOWN(R9*L9*Q9,-1),0) -> 0 | U9: =IFERROR(ROUNDDOWN(T9*L9*Q9,-1),0) -> 0 | W9: =IFERROR(ROUNDDOWN(V9*L9*Q9,-1),0) -> 0 | X9: =MAX(R9,T9,V9) -> 0 | Y9: =MIN(R9,T9,V9) -> 0 | Z9: =X9/Y9 -> #DIV/0! | AA9: =IFERROR(AVERAGE(R9,T9,V9),0) -> 0 | AB9: =IFERROR(ROUNDDOWN(AA9*L9*Q9,-1),0) -> 0
N10: 6/84 | O10: =IF(N10="1","1",LEFT(N10,FIND("/",N10)-1)) -> 6 | P10: =IF(N10="1","1",RIGHT(N10,LEN(N10)-FIND("/",N10))) -> 84 | Q10: =O10/P10 -> 0.071428571 | S10: =IFERROR(ROUNDDOWN(R10*L10*Q10,-1),0) -> 0 | U10: =IFERROR(ROUNDDOWN(T10*L10*Q10,-1),0) -> 0 | W10: =IFERROR(ROUNDDOWN(V10*L10*Q10,-1),0) -> 0 | X10: =MAX(R10,T10,V10) -> 0 | Y10: =MIN(R10,T10,V10) -> 0 | Z10: =X10/Y10 -> #DIV/0! | AA10: =IFERROR(AVERAGE(R10,T10,V10),0) -> 0 | AB10: =IFERROR(ROUNDDOWN(AA10*L10*Q10,-1),0) -> 0
A11: 2 | B11: 서구 | C11: 서대신동3가 | D11: 31-108 | E11: 31-472 | F11: 전 | G11: 전 | H11: 자연녹지지역 | K11: 346 | L11: 346 | M11: ㎡ | N11: 1/1 | O11: =IF(N11="1","1",LEFT(N11,FIND("/",N11)-1)) -> 1 | P11: =IF(N11="1","1",RIGHT(N11,LEN(N11)-FIND("/",N11))) -> 1 | Q11: =O11/P11 -> 1 | S11: =IFERROR(ROUNDDOWN(R11*L11*Q11,-1),0) -> 0 | U11: =IFERROR(ROUNDDOWN(T11*L11*Q11,-1),0) -> 0 | W11: =IFERROR(ROUNDDOWN(V11*L11*Q11,-1),0) -> 0 | X11: =MAX(R11,T11,V11) -> 0 | Y11: =MIN(R11,T11,V11) -> 0 | Z11: =X11/Y11 -> #DIV/0! | AA11: =IFERROR(AVERAGE(R11,T11,V11),0) -> 0 | AB11: =IFERROR(ROUNDDOWN(AA11*L11*Q11,-1),0) -> 0
A12: 3 | B12: 서구 | C12: 서대신동3가 | D12: 31-84 | E12: 31-465 | F12: 전 | G12: 전 | H12: 자연녹지지역 | K12: 276 | L12: 276 | M12: ㎡ | N12: 1/1 | O12: =IF(N12="1","1",LEFT(N12,FIND("/",N12)-1)) -> 1 | P12: =IF(N12="1","1",RIGHT(N12,LEN(N12)-FIND("/",N12))) -> 1 | Q12: =O12/P12 -> 1 | S12: =IFERROR(ROUNDDOWN(R12*L12*Q12,-1),0) -> 0 | U12: =IFERROR(ROUNDDOWN(T12*L12*Q12,-1),0) -> 0 | W12: =IFERROR(ROUNDDOWN(V12*L12*Q12,-1),0) -> 0 | X12: =MAX(R12,T12,V12) -> 0 | Y12: =MIN(R12,T12,V12) -> 0 | Z12: =X12/Y12 -> #DIV/0! | AA12: =IFERROR(AVERAGE(R12,T12,V12),0) -> 0 | AB12: =IFERROR(ROUNDDOWN(AA12*L12*Q12,-1),0) -> 0
A13: 4 | B13: 서구 | C13: 서대신동3가 | D13: 31-85 | E13: 31-466 | F13: 전 | G13: 전 | H13: 자연녹지지역 | K13: 703 | L13: 703 | M13: ㎡ | N13: 7/12 | O13: =IF(N13="1","1",LEFT(N13,FIND("/",N13)-1)) -> 7 | P13: =IF(N13="1","1",RIGHT(N13,LEN(N13)-FIND("/",N13))) -> 12 | Q13: =O13/P13 -> 0.58333333 | S13: =IFERROR(ROUNDDOWN(R13*L13*Q13,-1),0) -> 0 | U13: =IFERROR(ROUNDDOWN(T13*L13*Q13,-1),0) -> 0 | W13: =IFERROR(ROUNDDOWN(V13*L13*Q13,-1),0) -> 0 | X13: =MAX(R13,T13,V13) -> 0 | Y13: =MIN(R13,T13,V13) -> 0 | Z13: =X13/Y13 -> #DIV/0! | AA13: =IFERROR(AVERAGE(R13,T13,V13),0) -> 0 | AB13: =IFERROR(ROUNDDOWN(AA13*L13*Q13,-1),0) -> 0
N14: 5/12 | O14: =IF(N14="1","1",LEFT(N14,FIND("/",N14)-1)) -> 5 | P14: =IF(N14="1","1",RIGHT(N14,LEN(N14)-FIND("/",N14))) -> 12 | Q14: =O14/P14 -> 0.41666667 | S14: =IFERROR(ROUNDDOWN(R14*L14*Q14,-1),0) -> 0 | U14: =IFERROR(ROUNDDOWN(T14*L14*Q14,-1),0) -> 0 | W14: =IFERROR(ROUNDDOWN(V14*L14*Q14,-1),0) -> 0 | X14: =MAX(R14,T14,V14) -> 0 | Y14: =MIN(R14,T14,V14) -> 0 | Z14: =X14/Y14 -> #DIV/0! | AA14: =IFERROR(AVERAGE(R14,T14,V14),0) -> 0 | AB14: =IFERROR(ROUNDDOWN(AA14*L14*Q14,-1),0) -> 0
A15: 5 | B15: 서구 | C15: 서대신동3가 | D15: 31-86 | E15: 31-467 | F15: 전 | G15: 전 | H15: 자연녹지지역 | K15: 660 | L15: 660 | M15: ㎡ | N15: 6/10 | O15: =IF(N15="1","1",LEFT(N15,FIND("/",N15)-1)) -> 6 | P15: =IF(N15="1","1",RIGHT(N15,LEN(N15)-FIND("/",N15))) -> 10 | Q15: =O15/P15 -> 0.6 | S15: =IFERROR(ROUNDDOWN(R15*L15*Q15,-1),0) -> 0 | U15: =IFERROR(ROUNDDOWN(T15*L15*Q15,-1),0) -> 0 | W15: =IFERROR(ROUNDDOWN(V15*L15*Q15,-1),0) -> 0 | X15: =MAX(R15,T15,V15) -> 0 | Y15: =MIN(R15,T15,V15) -> 0 | Z15: =X15/Y15 -> #DIV/0! | AA15: =IFERROR(AVERAGE(R15,T15,V15),0) -> 0 | AB15: =IFERROR(ROUNDDOWN(AA15*L15*Q15,-1),0) -> 0
N16: 4/10 | O16: =IF(N16="1","1",LEFT(N16,FIND("/",N16)-1)) -> 4 | P16: =IF(N16="1","1",RIGHT(N16,LEN(N16)-FIND("/",N16))) -> 10 | Q16: =O16/P16 -> 0.4 | S16: =IFERROR(ROUNDDOWN(R16*L16*Q16,-1),0) -> 0 | U16: =IFERROR(ROUNDDOWN(T16*L16*Q16,-1),0) -> 0 | W16: =IFERROR(ROUNDDOWN(V16*L16*Q16,-1),0) -> 0 | X16: =MAX(R16,T16,V16) -> 0 | Y16: =MIN(R16,T16,V16) -> 0 | Z16: =X16/Y16 -> #DIV/0! | AA16: =IFERROR(AVERAGE(R16,T16,V16),0) -> 0 | AB16: =IFERROR(ROUNDDOWN(AA16*L16*Q16,-1),0) -> 0
A17: 6 | B17: 서구 | C17: 서대신동3가 | D17: 31-111 | E17: 31-473 | F17: 전 | G17: 전 | H17: 자연녹지지역,제2종일반주거지역 | K17: 546 | L17: 546 | M17: ㎡ | N17: 6/10 | O17: =IF(N17="1","1",LEFT(N17,FIND("/",N17)-1)) -> 6 | P17: =IF(N17="1","1",RIGHT(N17,LEN(N17)-FIND("/",N17))) -> 10 | Q17: =O17/P17 -> 0.6 | S17: =IFERROR(ROUNDDOWN(R17*L17*Q17,-1),0) -> 0 | U17: =IFERROR(ROUNDDOWN(T17*L17*Q17,-1),0) -> 0 | W17: =IFERROR(ROUNDDOWN(V17*L17*Q17,-1),0) -> 0 | X17: =MAX(R17,T17,V17) -> 0 | Y17: =MIN(R17,T17,V17) -> 0 | Z17: =X17/Y17 -> #DIV/0! | AA17: =IFERROR(AVERAGE(R17,T17,V17),0) -> 0 | AB17: =IFERROR(ROUNDDOWN(AA17*L17*Q17,-1),0) -> 0
N18: 4/10 | O18: =IF(N18="1","1",LEFT(N18,FIND("/",N18)-1)) -> 4 | P18: =IF(N18="1","1",RIGHT(N18,LEN(N18)-FIND("/",N18))) -> 10 | Q18: =O18/P18 -> 0.4 | S18: =IFERROR(ROUNDDOWN(R18*L18*Q18,-1),0) -> 0 | U18: =IFERROR(ROUNDDOWN(T18*L18*Q18,-1),0) -> 0 | W18: =IFERROR(ROUNDDOWN(V18*L18*Q18,-1),0) -> 0 | X18: =MAX(R18,T18,V18) -> 0 | Y18: =MIN(R18,T18,V18) -> 0 | Z18: =X18/Y18 -> #DIV/0! | AA18: =IFERROR(AVERAGE(R18,T18,V18),0) -> 0 | AB18: =IFERROR(ROUNDDOWN(AA18*L18*Q18,-1),0) -> 0
A19: 7 | B19: 서구 | C19: 서대신동3가 | D19: 31-368 | E19: 31-474 | F19: 대 | G19: 대 | H19: 제2종일반주거지역 | K19: 63 | L19: 63 | M19: ㎡ | N19: 1/2 | O19: =IF(N19="1","1",LEFT(N19,FIND("/",N19)-1)) -> 1 | P19: =IF(N19="1","1",RIGHT(N19,LEN(N19)-FIND("/",N19))) -> 2 | Q19: =O19/P19 -> 0.5 | S19: =IFERROR(ROUNDDOWN(R19*L19*Q19,-1),0) -> 0 | U19: =IFERROR(ROUNDDOWN(T19*L19*Q19,-1),0) -> 0 | W19: =IFERROR(ROUNDDOWN(V19*L19*Q19,-1),0) -> 0 | X19: =MAX(R19,T19,V19) -> 0 | Y19: =MIN(R19,T19,V19) -> 0 | Z19: =X19/Y19 -> #DIV/0! | AA19: =IFERROR(AVERAGE(R19,T19,V19),0) -> 0 | AB19: =IFERROR(ROUNDDOWN(AA19*L19*Q19,-1),0) -> 0
N20: 1/2 | O20: =IF(N20="1","1",LEFT(N20,FIND("/",N20)-1)) -> 1 | P20: =IF(N20="1","1",RIGHT(N20,LEN(N20)-FIND("/",N20))) -> 2 | Q20: =O20/P20 -> 0.5 | S20: =IFERROR(ROUNDDOWN(R20*L20*Q20,-1),0) -> 0 | U20: =IFERROR(ROUNDDOWN(T20*L20*Q20,-1),0) -> 0 | W20: =IFERROR(ROUNDDOWN(V20*L20*Q20,-1),0) -> 0 | X20: =MAX(R20,T20,V20) -> 0 | Y20: =MIN(R20,T20,V20) -> 0 | Z20: =X20/Y20 -> #DIV/0! | AA20: =IFERROR(AVERAGE(R20,T20,V20),0) -> 0 | AB20: =IFERROR(ROUNDDOWN(AA20*L20*Q20,-1),0) -> 0
A21: 8 | B21: 서구 | C21: 서대신동3가 | D21: 167-7 | E21: 167-13 | F21: 도로 | G21: 도로 | H21: 제2종일반주거지역 | K21: 73 | L21: 73 | M21: ㎡ | N21: 1/1 | O21: =IF(N21="1","1",LEFT(N21,FIND("/",N21)-1)) -> 1 | P21: =IF(N21="1","1",RIGHT(N21,LEN(N21)-FIND("/",N21))) -> 1 | Q21: =O21/P21 -> 1 | S21: =IFERROR(ROUNDDOWN(R21*L21*Q21,-1),0) -> 0 | U21: =IFERROR(ROUNDDOWN(T21*L21*Q21,-1),0) -> 0 | W21: =IFERROR(ROUNDDOWN(V21*L21*Q21,-1),0) -> 0 | X21: =MAX(R21,T21,V21) -> 0 | Y21: =MIN(R21,T21,V21) -> 0 | Z21: =X21/Y21 -> #DIV/0! | AA21: =IFERROR(AVERAGE(R21,T21,V21),0) -> 0 | AB21: =IFERROR(ROUNDDOWN(AA21*L21*Q21,-1),0) -> 0
A22: 9 | B22: 서구 | C22: 서대신동3가 | D22: 31-40 | E22: 31-463 | F22: 전 | G22: 전 | H22: 자연녹지지역 | K22: 112 | L22: 112 | M22: ㎡ | N22: 1/1 | O22: =IF(N22="1","1",LEFT(N22,FIND("/",N22)-1)) -> 1 | P22: =IF(N22="1","1",RIGHT(N22,LEN(N22)-FIND("/",N22))) -> 1 | Q22: =O22/P22 -> 1 | S22: =IFERROR(ROUNDDOWN(R22*L22*Q22,-1),0) -> 0 | U22: =IFERROR(ROUNDDOWN(T22*L22*Q22,-1),0) -> 0 | W22: =IFERROR(ROUNDDOWN(V22*L22*Q22,-1),0) -> 0 | X22: =MAX(R22,T22,V22) -> 0 | Y22: =MIN(R22,T22,V22) -> 0 | Z22: =X22/Y22 -> #DIV/0! | AA22: =IFERROR(AVERAGE(R22,T22,V22),0) -> 0 | AB22: =IFERROR(ROUNDDOWN(AA22*L22*Q22,-1),0) -> 0
A23: 10 | B23: 서구 | C23: 서대신동3가 | D23: 31-41 | E23: 31-41 | F23: 전 | G23: 전 | H23: 자연녹지지역 | K23: 106 | L23: 106 | M23: ㎡ | N23: 1/1 | O23: =IF(N23="1","1",LEFT(N23,FIND("/",N23)-1)) -> 1 | P23: =IF(N23="1","1",RIGHT(N23,LEN(N23)-FIND("/",N23))) -> 1 | Q23: =O23/P23 -> 1 | S23: =IFERROR(ROUNDDOWN(R23*L23*Q23,-1),0) -> 0 | U23: =IFERROR(ROUNDDOWN(T23*L23*Q23,-1),0) -> 0 | W23: =IFERROR(ROUNDDOWN(V23*L23*Q23,-1),0) -> 0 | X23: =MAX(R23,T23,V23) -> 0 | Y23: =MIN(R23,T23,V23) -> 0 | Z23: =X23/Y23 -> #DIV/0! | AA23: =IFERROR(AVERAGE(R23,T23,V23),0) -> 0 | AB23: =IFERROR(ROUNDDOWN(AA23*L23*Q23,-1),0) -> 0
A24: 11 | B24: 서구 | C24: 서대신동3가 | D24: 31-42 | E24: 31-464 | F24: 전 | G24: 전 | H24: 자연녹지지역 | K24: 263 | L24: 263 | M24: ㎡ | N24: 3/10 | O24: =IF(N24="1","1",LEFT(N24,FIND("/",N24)-1)) -> 3 | P24: =IF(N24="1","1",RIGHT(N24,LEN(N24)-FIND("/",N24))) -> 10 | Q24: =O24/P24 -> 0.3 | S24: =IFERROR(ROUNDDOWN(R24*L24*Q24,-1),0) -> 0 | U24: =IFERROR(ROUNDDOWN(T24*L24*Q24,-1),0) -> 0 | W24: =IFERROR(ROUNDDOWN(V24*L24*Q24,-1),0) -> 0 | X24: =MAX(R24,T24,V24) -> 0 | Y24: =MIN(R24,T24,V24) -> 0 | Z24: =X24/Y24 -> #DIV/0! | AA24: =IFERROR(AVERAGE(R24,T24,V24),0) -> 0 | AB24: =IFERROR(ROUNDDOWN(AA24*L24*Q24,-1),0) -> 0
N25: 2.5/10 | O25: =IF(N25="1","1",LEFT(N25,FIND("/",N25)-1)) -> 2.5 | P25: =IF(N25="1","1",RIGHT(N25,LEN(N25)-FIND("/",N25))) -> 10 | Q25: =O25/P25 -> 0.25 | S25: =IFERROR(ROUNDDOWN(R25*L25*Q25,-1),0) -> 0 | U25: =IFERROR(ROUNDDOWN(T25*L25*Q25,-1),0) -> 0 | W25: =IFERROR(ROUNDDOWN(V25*L25*Q25,-1),0) -> 0 | X25: =MAX(R25,T25,V25) -> 0 | Y25: =MIN(R25,T25,V25) -> 0 | Z25: =X25/Y25 -> #DIV/0! | AA25: =IFERROR(AVERAGE(R25,T25,V25),0) -> 0 | AB25: =IFERROR(ROUNDDOWN(AA25*L25*Q25,-1),0) -> 0
N26: 2.5/10 | O26: =IF(N26="1","1",LEFT(N26,FIND("/",N26)-1)) -> 2.5 | P26: =IF(N26="1","1",RIGHT(N26,LEN(N26)-FIND("/",N26))) -> 10 | Q26: =O26/P26 -> 0.25 | S26: =IFERROR(ROUNDDOWN(R26*L26*Q26,-1),0) -> 0 | U26: =IFERROR(ROUNDDOWN(T26*L26*Q26,-1),0) -> 0 | W26: =IFERROR(ROUNDDOWN(V26*L26*Q26,-1),0) -> 0 | X26: =MAX(R26,T26,V26) -> 0 | Y26: =MIN(R26,T26,V26) -> 0 | Z26: =X26/Y26 -> #DIV/0! | AA26: =IFERROR(AVERAGE(R26,T26,V26),0) -> 0 | AB26: =IFERROR(ROUNDDOWN(AA26*L26*Q26,-1),0) -> 0
N27: 1/10 | O27: =IF(N27="1","1",LEFT(N27,FIND("/",N27)-1)) -> 1 | P27: =IF(N27="1","1",RIGHT(N27,LEN(N27)-FIND("/",N27))) -> 10 | Q27: =O27/P27 -> 0.1 | S27: =IFERROR(ROUNDDOWN(R27*L27*Q27,-1),0) -> 0 | U27: =IFERROR(ROUNDDOWN(T27*L27*Q27,-1),0) -> 0 | W27: =IFERROR(ROUNDDOWN(V27*L27*Q27,-1),0) -> 0 | X27: =MAX(R27,T27,V27) -> 0 | Y27: =MIN(R27,T27,V27) -> 0 | Z27: =X27/Y27 -> #DIV/0! | AA27: =IFERROR(AVERAGE(R27,T27,V27),0) -> 0 | AB27: =IFERROR(ROUNDDOWN(AA27*L27*Q27,-1),0) -> 0
N28: 1/10 | O28: =IF(N28="1","1",LEFT(N28,FIND("/",N28)-1)) -> 1 | P28: =IF(N28="1","1",RIGHT(N28,LEN(N28)-FIND("/",N28))) -> 10 | Q28: =O28/P28 -> 0.1 | S28: =IFERROR(ROUNDDOWN(R28*L28*Q28,-1),0) -> 0 | U28: =IFERROR(ROUNDDOWN(T28*L28*Q28,-1),0) -> 0 | W28: =IFERROR(ROUNDDOWN(V28*L28*Q28,-1),0) -> 0 | X28: =MAX(R28,T28,V28) -> 0 | Y28: =MIN(R28,T28,V28) -> 0 | Z28: =X28/Y28 -> #DIV/0! | AA28: =IFERROR(AVERAGE(R28,T28,V28),0) -> 0 | AB28: =IFERROR(ROUNDDOWN(AA28*L28*Q28,-1),0) -> 0
A29: 12 | B29: 서구 | C29: 서대신동3가 | D29: 31-89 | E29: 31-89 | F29: 전 | G29: 전 | H29: 자연녹지지역 | K29: 33 | L29: 33 | M29: ㎡ | N29: 1/1 | O29: =IF(N29="1","1",LEFT(N29,FIND("/",N29)-1)) -> 1 | P29: =IF(N29="1","1",RIGHT(N29,LEN(N29)-FIND("/",N29))) -> 1 | Q29: =O29/P29 -> 1 | S29: =IFERROR(ROUNDDOWN(R29*L29*Q29,-1),0) -> 0 | U29: =IFERROR(ROUNDDOWN(T29*L29*Q29,-1),0) -> 0 | W29: =IFERROR(ROUNDDOWN(V29*L29*Q29,-1),0) -> 0 | X29: =MAX(R29,T29,V29) -> 0 | Y29: =MIN(R29,T29,V29) -> 0 | Z29: =X29/Y29 -> #DIV/0! | AA29: =IFERROR(AVERAGE(R29,T29,V29),0) -> 0 | AB29: =IFERROR(ROUNDDOWN(AA29*L29*Q29,-1),0) -> 0
A30: 13 | B30: 서구 | C30: 서대신동3가 | D30: 31-90 | E30: 31-468 | F30: 전 | G30: 전 | H30: 자연녹지지역 | K30: 60 | L30: 60 | M30: ㎡ | N30: 3/10 | O30: =IF(N30="1","1",LEFT(N30,FIND("/",N30)-1)) -> 3 | P30: =IF(N30="1","1",RIGHT(N30,LEN(N30)-FIND("/",N30))) -> 10 | Q30: =O30/P30 -> 0.3 | S30: =IFERROR(ROUNDDOWN(R30*L30*Q30,-1),0) -> 0 | U30: =IFERROR(ROUNDDOWN(T30*L30*Q30,-1),0) -> 0 | W30: =IFERROR(ROUNDDOWN(V30*L30*Q30,-1),0) -> 0 | X30: =MAX(R30,T30,V30) -> 0 | Y30: =MIN(R30,T30,V30) -> 0 | Z30: =X30/Y30 -> #DIV/0! | AA30: =IFERROR(AVERAGE(R30,T30,V30),0) -> 0 | AB30: =IFERROR(ROUNDDOWN(AA30*L30*Q30,-1),0) -> 0
N31: 2.5/10 | O31: =IF(N31="1","1",LEFT(N31,FIND("/",N31)-1)) -> 2.5 | P31: =IF(N31="1","1",RIGHT(N31,LEN(N31)-FIND("/",N31))) -> 10 | Q31: =O31/P31 -> 0.25 | S31: =IFERROR(ROUNDDOWN(R31*L31*Q31,-1),0) -> 0 | U31: =IFERROR(ROUNDDOWN(T31*L31*Q31,-1),0) -> 0 | W31: =IFERROR(ROUNDDOWN(V31*L31*Q31,-1),0) -> 0 | X31: =MAX(R31,T31,V31) -> 0 | Y31: =MIN(R31,T31,V31) -> 0 | Z31: =X31/Y31 -> #DIV/0! | AA31: =IFERROR(AVERAGE(R31,T31,V31),0) -> 0 | AB31: =IFERROR(ROUNDDOWN(AA31*L31*Q31,-1),0) -> 0
N32: 2.5/10 | O32: =IF(N32="1","1",LEFT(N32,FIND("/",N32)-1)) -> 2.5 | P32: =IF(N32="1","1",RIGHT(N32,LEN(N32)-FIND("/",N32))) -> 10 | Q32: =O32/P32 -> 0.25 | S32: =IFERROR(ROUNDDOWN(R32*L32*Q32,-1),0) -> 0 | U32: =IFERROR(ROUNDDOWN(T32*L32*Q32,-1),0) -> 0 | W32: =IFERROR(ROUNDDOWN(V32*L32*Q32,-1),0) -> 0 | X32: =MAX(R32,T32,V32) -> 0 | Y32: =MIN(R32,T32,V32) -> 0 | Z32: =X32/Y32 -> #DIV/0! | AA32: =IFERROR(AVERAGE(R32,T32,V32),0) -> 0 | AB32: =IFERROR(ROUNDDOWN(AA32*L32*Q32,-1),0) -> 0 | AU32: 토지
N33: 1/10 | O33: =IF(N33="1","1",LEFT(N33,FIND("/",N33)-1)) -> 1 | P33: =IF(N33="1","1",RIGHT(N33,LEN(N33)-FIND("/",N33))) -> 10 | Q33: =O33/P33 -> 0.1 | S33: =IFERROR(ROUNDDOWN(R33*L33*Q33,-1),0) -> 0 | U33: =IFERROR(ROUNDDOWN(T33*L33*Q33,-1),0) -> 0 | W33: =IFERROR(ROUNDDOWN(V33*L33*Q33,-1),0) -> 0 | X33: =MAX(R33,T33,V33) -> 0 | Y33: =MIN(R33,T33,V33) -> 0 | Z33: =X33/Y33 -> #DIV/0! | AA33: =IFERROR(AVERAGE(R33,T33,V33),0) -> 0 | AB33: =IFERROR(ROUNDDOWN(AA33*L33*Q33,-1),0) -> 0
N34: 1/10 | O34: =IF(N34="1","1",LEFT(N34,FIND("/",N34)-1)) -> 1 | P34: =IF(N34="1","1",RIGHT(N34,LEN(N34)-FIND("/",N34))) -> 10 | Q34: =O34/P34 -> 0.1 | S34: =IFERROR(ROUNDDOWN(R34*L34*Q34,-1),0) -> 0 | U34: =IFERROR(ROUNDDOWN(T34*L34*Q34,-1),0) -> 0 | W34: =IFERROR(ROUNDDOWN(V34*L34*Q34,-1),0) -> 0 | X34: =MAX(R34,T34,V34) -> 0 | Y34: =MIN(R34,T34,V34) -> 0 | Z34: =X34/Y34 -> #DIV/0! | AA34: =IFERROR(AVERAGE(R34,T34,V34),0) -> 0 | AB34: =IFERROR(ROUNDDOWN(AA34*L34*Q34,-1),0) -> 0
A35: 14 | B35: 서구 | C35: 서대신동3가 | D35: 31-91 | E35: 31-469 | F35: 전 | G35: 전 | H35: 자연녹지지역 | K35: 618 | L35: 618 | M35: ㎡ | N35: 10/25 | O35: =IF(N35="1","1",LEFT(N35,FIND("/",N35)-1)) -> 10 | P35: =IF(N35="1","1",RIGHT(N35,LEN(N35)-FIND("/",N35))) -> 25 | Q35: =O35/P35 -> 0.4 | S35: =IFERROR(ROUNDDOWN(R35*L35*Q35,-1),0) -> 0 | U35: =IFERROR(ROUNDDOWN(T35*L35*Q35,-1),0) -> 0 | W35: =IFERROR(ROUNDDOWN(V35*L35*Q35,-1),0) -> 0 | X35: =MAX(R35,T35,V35) -> 0 | Y35: =MIN(R35,T35,V35) -> 0 | Z35: =X35/Y35 -> #DIV/0! | AA35: =IFERROR(AVERAGE(R35,T35,V35),0) -> 0 | AB35: =IFERROR(ROUNDDOWN(AA35*L35*Q35,-1),0) -> 0
N36: 6/25 | O36: =IF(N36="1","1",LEFT(N36,FIND("/",N36)-1)) -> 6 | P36: =IF(N36="1","1",RIGHT(N36,LEN(N36)-FIND("/",N36))) -> 25 | Q36: =O36/P36 -> 0.24 | S36: =IFERROR(ROUNDDOWN(R36*L36*Q36,-1),0) -> 0 | U36: =IFERROR(ROUNDDOWN(T36*L36*Q36,-1),0) -> 0 | W36: =IFERROR(ROUNDDOWN(V36*L36*Q36,-1),0) -> 0 | X36: =MAX(R36,T36,V36) -> 0 | Y36: =MIN(R36,T36,V36) -> 0 | Z36: =X36/Y36 -> #DIV/0! | AA36: =IFERROR(AVERAGE(R36,T36,V36),0) -> 0 | AB36: =IFERROR(ROUNDDOWN(AA36*L36*Q36,-1),0) -> 0
N37: 1/25 | O37: =IF(N37="1","1",LEFT(N37,FIND("/",N37)-1)) -> 1 | P37: =IF(N37="1","1",RIGHT(N37,LEN(N37)-FIND("/",N37))) -> 25 | Q37: =O37/P37 -> 0.04 | S37: =IFERROR(ROUNDDOWN(R37*L37*Q37,-1),0) -> 0 | U37: =IFERROR(ROUNDDOWN(T37*L37*Q37,-1),0) -> 0 | W37: =IFERROR(ROUNDDOWN(V37*L37*Q37,-1),0) -> 0 | X37: =MAX(R37,T37,V37) -> 0 | Y37: =MIN(R37,T37,V37) -> 0 | Z37: =X37/Y37 -> #DIV/0! | AA37: =IFERROR(AVERAGE(R37,T37,V37),0) -> 0 | AB37: =IFERROR(ROUNDDOWN(AA37*L37*Q37,-1),0) -> 0
N38: 4/25 | O38: =IF(N38="1","1",LEFT(N38,FIND("/",N38)-1)) -> 4 | P38: =IF(N38="1","1",RIGHT(N38,LEN(N38)-FIND("/",N38))) -> 25 | Q38: =O38/P38 -> 0.16 | S38: =IFERROR(ROUNDDOWN(R38*L38*Q38,-1),0) -> 0 | U38: =IFERROR(ROUNDDOWN(T38*L38*Q38,-1),0) -> 0 | W38: =IFERROR(ROUNDDOWN(V38*L38*Q38,-1),0) -> 0 | X38: =MAX(R38,T38,V38) -> 0 | Y38: =MIN(R38,T38,V38) -> 0 | Z38: =X38/Y38 -> #DIV/0! | AA38: =IFERROR(AVERAGE(R38,T38,V38),0) -> 0 | AB38: =IFERROR(ROUNDDOWN(AA38*L38*Q38,-1),0) -> 0
N39: 4/25 | O39: =IF(N39="1","1",LEFT(N39,FIND("/",N39)-1)) -> 4 | P39: =IF(N39="1","1",RIGHT(N39,LEN(N39)-FIND("/",N39))) -> 25 | Q39: =O39/P39 -> 0.16 | S39: =IFERROR(ROUNDDOWN(R39*L39*Q39,-1),0) -> 0 | U39: =IFERROR(ROUNDDOWN(T39*L39*Q39,-1),0) -> 0 | W39: =IFERROR(ROUNDDOWN(V39*L39*Q39,-1),0) -> 0 | X39: =MAX(R39,T39,V39) -> 0 | Y39: =MIN(R39,T39,V39) -> 0 | Z39: =X39/Y39 -> #DIV/0! | AA39: =IFERROR(AVERAGE(R39,T39,V39),0) -> 0 | AB39: =IFERROR(ROUNDDOWN(AA39*L39*Q39,-1),0) -> 0
A40: 15 | B40: 서구 | C40: 서대신동3가 | D40: 31-92 | E40: 31-470 | F40: 전 | G40: 전 | H40: 자연녹지지역,제2종일반주거지역 | K40: 557 | L40: 557 | M40: ㎡ | N40: 1/2 | O40: =IF(N40="1","1",LEFT(N40,FIND("/",N40)-1)) -> 1 | P40: =IF(N40="1","1",RIGHT(N40,LEN(N40)-FIND("/",N40))) -> 2 | Q40: =O40/P40 -> 0.5 | S40: =IFERROR(ROUNDDOWN(R40*L40*Q40,-1),0) -> 0 | U40: =IFERROR(ROUNDDOWN(T40*L40*Q40,-1),0) -> 0 | W40: =IFERROR(ROUNDDOWN(V40*L40*Q40,-1),0) -> 0 | X40: =MAX(R40,T40,V40) -> 0 | Y40: =MIN(R40,T40,V40) -> 0 | Z40: =X40/Y40 -> #DIV/0! | AA40: =IFERROR(AVERAGE(R40,T40,V40),0) -> 0 | AB40: =IFERROR(ROUNDDOWN(AA40*L40*Q40,-1),0) -> 0
...

Sheet 지하사용권
A1: 사용 또는 수용할 토지 및 소유권 이외의 권리자 조서(지하보상)
A2: =총괄!A3 -> ○ 사업명 : 승학터널 민간투자사업
A3: 세목고시일련번호 | B3: 소재지 | D3: 지번 | F3: 지목 | H3: 토피 (m) | I3: 범위 (평균해 수면기준) | J3: 지하권깊이 산출근거 | K3: 지적 | N3: 소유지분 | O3: 지분 | P3: 지분 | Q3: 지분 | R3: 프라임 | T3: 미래새한 | V3: - | X3: 최고 | Y3: 최저 | Z3: 단가비율 | AD3: 감정평가 법인 평균 | AF3: 소유자 | AK3: 소유권이외의 권리 | AN3: 비고 | AO3: 공탁 | AR3: 등기 | AT3: 취득방법
B4: 구 | C4: 동 | D4: 당초지번 | E4: 편입지번 | F4: 공부상 지목 | G4: 현황 지목 | K4: 공부상 총면적 | L4: 지하권 보상면적 | M4: 단위 | O4: (분자) | P4: (분모) | Q4: 계산 | R4: 단가 | S4: 금액 | T4: 단가 | U4: 금액 | V4: 단가 | W4: 금액 | X4: 단가 | Y4: 단가 | Z4: (최고/최저) | AD4: 평균단가 | AE4: 평균금액(원) | AF4: 성명 | AG4: 등기주소 | AH4: 송달주소 | AI4: 주민 등록번호 | AJ4: 연락처 | AK4: 권리자 | AL4: 주소 | AM4: 권리 내용 | AO4: 공탁일 | AP4: 공탁번호 | AQ4: 공탁기관 | AR4: 등기일 | AS4: 등기번호 | AT4: 취득일 | AU4: 방법
A5: 1 | B5: 서구 | C5: 서대신동3가 | D5: 산37 | E5: 산37 | F5: 임야 | H5: 359.26 | I5: -10.34 ~ 9.06 | J5: [362.32 - (9.06) = 353.26] | K5: 62777 | L5: 2512 | M5: ㎡ | N5: 1/1 | O5: 1 | P5: 1 | Q5: 1 | S5: 0 | U5: 0 | W5: 0 | X5: 0 | Y5: 0 | Z5: #DIV/0! | AA5: 0 | AB5: 0 | AD5: 국(산림청)
A6: 2 | B6: 서구 | C6: 서대신동3가 | D6: 산47-12 | E6: 산47-12 | F6: 임야 | H6: 321.01 | I6: 7.14 ~ 26.54 | J6: [341.55 - (26.54) = 315.01] | K6: 68926 | L6: 64 | M6: ㎡ | N6: 1/1 | O6: 1 | P6: 1 | Q6: 1 | S6: 0 | U6: 0 | W6: 0 | X6: 0 | Y6: 0 | Z6: #DIV/0! | AA6: 0 | AB6: 0 | AD6: 재단법인제7일안식일예수재림교한국연합회유지재단 | AE6: 서울 동대문구 회기동 66
A7: 3 | B7: 서구 | C7: 서대신동3가 | D7: 산39 | E7: 산39 | F7: 임야 | H7: 321.01 | I7: 7.14 ~ 26.54 | J7: [341.55 - (26.54) = 315.01] | K7: 26569 | L7: 610 | M7: ㎡ | N7: 1/1 | O7: 1 | P7: 1 | Q7: 1 | S7: 0 | U7: 0 | W7: 0 | X7: 0 | Y7: 0 | Z7: #DIV/0! | AA7: 0 | AB7: 0 | AD7: 재단법인제7일안식일예수재림교한국연합회유지재단 | AE7: 서울 동대문구 회기동 66
A8: 4 | B8: 서구 | C8: 서대신동3가 | D8: 산40-1 | E8: 산40-1 | F8: 임야 | H8: 296.84 | I8: 34.46 ~ 53.86 | J8: [344.7 - (53.86) = 290.84] | K8: 42843 | L8: 2360 | M8: ㎡ | N8: 1/1 | O8: 1 | P8: 1 | Q8: 1 | S8: 0 | U8: 0 | W8: 0 | X8: 0 | Y8: 0 | Z8: #DIV/0! | AA8: 0 | AB8: 0 | AD8: 재단법인제7일안식일예수재림교한국연합회유지재단 | AE8: 서울 동대문구 회기동 66
A9: 5 | B9: 서구 | C9: 서대신동3가 | D9: 산36 | E9: 산36 | F9: 임야 | H9: 225.74 | I9: 73.54 ~ 92.94 | J9: [312.68 - (92.94) = 219.74] | K9: 47901 | L9: 981 | M9: ㎡ | N9: 1/1 | O9: 1 | P9: 1 | Q9: 1 | S9: 0 | U9: 0 | W9: 0 | X9: 0 | Y9: 0 | Z9: #DIV/0! | AA9: 0 | AB9: 0 | AD9: 국(산림청)
A10: 6 | B10: 서구 | C10: 서대신동3가 | D10: 산35-9 | E10: 산35-9 | F10: 임야 | H10: 162.19 | I10: 82.34 ~ 101.74 | J10: [257.93 - (101.74) = 156.19] | K10: 9124 | L10: 209 | M10: ㎡ | N10: 1/1 | O10: 1 | P10: 1 | Q10: 1 | S10: 0 | U10: 0 | W10: 0 | X10: 0 | Y10: 0 | Z10: #DIV/0! | AA10: 0 | AB10: 0 | AD10: 국(기획재정부)
A11: 7 | B11: 서구 | C11: 서대신동3가 | D11: 산34-1 | E11: 산34-1 | F11: 임야 | H11: 162.19 | I11: 82.34 ~ 101.74 | J11: [257.93 - (101.74) = 156.19] | K11: 33709 | L11: 1049 | M11: ㎡ | N11: 1/1 | O11: 1 | P11: 1 | Q11: 1 | S11: 0 | U11: 0 | W11: 0 | X11: 0 | Y11: 0 | Z11: #DIV/0! | AA11: 0 | AB11: 0 | AD11: 국(산림청)
A12: 8 | B12: 서구 | C12: 서대신동3가 | D12: 산34-53 | E12: 산34-53 | F12: 임야 | H12: 79.03 | I12: 100.34 ~ 119.74 | J12: [192.77 - (119.74) = 73.03] | K12: 8430 | L12: 463 | M12: ㎡ | N12: 1/1 | O12: 1 | P12: 1 | Q12: 1 | S12: 0 | U12: 0 | W12: 0 | X12: 0 | Y12: 0 | Z12: #DIV/0! | AA12: 0 | AB12: 0 | AD12: 국(기획재정부)
A13: 9 | B13: 서구 | C13: 서대신동3가 | D13: 31-26 | E13: 31-26 | F13: 전 | H13: 52.89 | I13: 107.54 ~ 126.94 | J13: [173.83 - (126.94) = 46.89] | K13: 417 | L13: 6 | M13: ㎡ | N13: 1/1 | O13: 1 | P13: 1 | Q13: 1 | S13: 0 | U13: 0 | W13: 0 | X13: 0 | Y13: 0 | Z13: #DIV/0! | AA13: 0 | AB13: 0 | AD13: 김기석 | AE13: 부산 부산진구 부전동 98-10 진효파크빌오피스텔-101
A14: 10 | B14: 서구 | C14: 서대신동3가 | D14: 31-34 | E14: 31-34 | F14: 전 | H14: 52.89 | I14: 107.54 ~ 126.94 | J14: [173.83 - (126.94) = 46.89] | K14: 258 | L14: 89 | M14: ㎡ | N14: 6/24 | O14: 6 | P14: 24 | Q14: 0.25 | S14: 0 | U14: 0 | W14: 0 | X14: 0 | Y14: 0 | Z14: #DIV/0! | AA14: 0 | AB14: 0 | AD14: 임학선 | AE14: 부산 사하구 다대동 960 우신아파트 1동 110호
N15: 1/24 | O15: 1 | P15: 24 | Q15: 0.041666667 | S15: 0 | U15: 0 | W15: 0 | X15: 0 | Y15: 0 | Z15: #DIV/0! | AA15: 0 | AB15: 0 | AD15: 이성순 | AE15: 인천시 부평구 갈산동 362 하나아파트 101동 1301호
N16: 1/24 | O16: 1 | P16: 24 | Q16: 0.041666667 | S16: 0 | U16: 0 | W16: 0 | X16: 0 | Y16: 0 | Z16: #DIV/0! | AA16: 0 | AB16: 0 | AD16: 이계자 | AE16: 부산 중구 신창동 1가 32-2
N17: 6/24 | O17: 6 | P17: 24 | Q17: 0.25 | S17: 0 | U17: 0 | W17: 0 | X17: 0 | Y17: 0 | Z17: #DIV/0! | AA17: 0 | AB17: 0 | AD17: 이용대 | AE17: 부산광역시 사하구 윤공단로17번길 29, 1동 110호(다대동, 우신아파트)
N18: 4/24 | O18: 4 | P18: 24 | Q18: 0.16666667 | S18: 0 | U18: 0 | W18: 0 | X18: 0 | Y18: 0 | Z18: #DIV/0! | AA18: 0 | AB18: 0 | AD18: 이성대 | AE18: 대구 수성구 수성동 1가 234
N19: 1/24 | O19: 1 | P19: 24 | Q19: 0.041666667 | S19: 0 | U19: 0 | W19: 0 | X19: 0 | Y19: 0 | Z19: #DIV/0! | AA19: 0 | AB19: 0 | AD19: 이성자 | AE19: 부산 북구 만덕동 384-15
N20: 1/24 | O20: 1 | P20: 24 | Q20: 0.041666667 | S20: 0 | U20: 0 | W20: 0 | X20: 0 | Y20: 0 | Z20: #DIV/0! | AA20: 0 | AB20: 0 | AD20: 이성미 | AE20: 서울 동작구 사당동 1028-6
N21: 4/24 | O21: 4 | P21: 24 | Q21: 0.16666667 | S21: 0 | U21: 0 | W21: 0 | X21: 0 | Y21: 0 | Z21: #DIV/0! | AA21: 0 | AB21: 0 | AD21: 이성기 | AE21: 부산 사하구 다대동 96-1 도개공4지구아파트 113동 601호
A22: 11 | B22: 서구 | C22: 서대신동3가 | D22: 31-36 | E22: 31-36 | F22: 전 | H22: 40.14 | I22: 111.14 ~ 130.54 | J22: [164.68 - (130.54) = 34.14] | K22: 30 | L22: 30 | M22: ㎡ | N22: 1/1 | O22: 1 | P22: 1 | Q22: 1 | S22: 0 | U22: 0 | W22: 0 | X22: 0 | Y22: 0 | Z22: #DIV/0! | AA22: 0 | AB22: 0 | AD22: 국(기획재정부)
A23: 12 | B23: 서구 | C23: 서대신동3가 | D23: 31-29 | E23: 31-29 | F23: 전 | H23: 40.14 | I23: 111.14 ~ 130.54 | J23: [164.68 - (130.54) = 34.14] | K23: 704 | L23: 17 | M23: ㎡ | N23: 7/12 | O23: 7 | P23: 12 | Q23: 0.58333333 | S23: 0 | U23: 0 | W23: 0 | X23: 0 | Y23: 0 | Z23: #DIV/0! | AA23: 0 | AB23: 0 | AD23: 김준철 | AE23: 부산 부산진구 양정동 458-20 현대아파트 206-104
N24: 5/12 | O24: 5 | P24: 12 | Q24: 0.41666667 | S24: 0 | U24: 0 | W24: 0 | X24: 0 | Y24: 0 | Z24: #DIV/0! | AA24: 0 | AB24: 0 | AD24: 김준근 | AE24: 부산 사상구 주례동 595 럭키아파트 5-305
A25: 13 | B25: 서구 | C25: 서대신동3가 | D25: 31-30 | E25: 31-30 | F25: 전 | H25: 28.27 | I25: 114.71 ~ 134.11 | J25: [156.38 - (134.11) = 22.27] | K25: 843 | L25: 118 | M25: ㎡ | N25: 1/1 | O25: 1 | P25: 1 | Q25: 1 | S25: 0 | U25: 0 | W25: 0 | X25: 0 | Y25: 0 | Z25: #DIV/0! | AA25: 0 | AB25: 0 | AD25: 이계완 | AE25: 부산광역시 서구 서대신동3가 19-9 유진대림아파트 406호
A26: 14 | B26: 서구 | C26: 서대신동3가 | D26: 31-31 | E26: 31-462 | F26: 전 | H26: 19.67 | I26: 216.96 ~ 236.36 | J26: [250.03 - (236.36) = 13.67] | K26: 432 | L26: 73 | M26: ㎡ | N26: 42/84 | O26: 42 | P26: 84 | Q26: 0.5 | S26: 0 | U26: 0 | W26: 0 | X26: 0 | Y26: 0 | Z26: #DIV/0! | AA26: 0 | AB26: 0 | AD26: 박순옥 | AE26: 부산 서구 서대신동 3가 687-33
N27: 14/84 | O27: 14 | P27: 84 | Q27: 0.16666667 | S27: 0 | U27: 0 | W27: 0 | X27: 0 | Y27: 0 | Z27: #DIV/0! | AA27: 0 | AB27: 0 | AD27: 김원숙 | AE27: 부산 서구 서대신동3가 684-1
N28: 14/84 | O28: 14 | P28: 84 | Q28: 0.16666667 | S28: 0 | U28: 0 | W28: 0 | X28: 0 | Y28: 0 | Z28: #DIV/0! | AA28: 0 | AB28: 0 | AD28: 김종희 | AE28: 부산 서구 서대신동3가 684-1
N29: 4/84 | O29: 4 | P29: 84 | Q29: 0.047619048 | S29: 0 | U29: 0 | W29: 0 | X29: 0 | Y29: 0 | Z29: #DIV/0! | AA29: 0 | AB29: 0 | AD29: 김민석 | AE29: 부산광역시 사하구 오작로 104, 101동 1301호(괴정동,괴정벽산하이츠타운)
N30: 4/84 | O30: 4 | P30: 84 | Q30: 0.047619048 | S30: 0 | U30: 0 | W30: 0 | X30: 0 | Y30: 0 | Z30: #DIV/0! | AA30: 0 | AB30: 0 | AD30: 김성준 | AE30: 부산광역시 사하구 오작로 104, 101동 1301호(괴정동,괴정벽산하이츠타운)
N31: 6/84 | O31: 6 | P31: 84 | Q31: 0.071428571 | S31: 0 | U31: 0 | W31: 0 | X31: 0 | Y31: 0 | Z31: #DIV/0! | AA31: 0 | AB31: 0 | AD31: 박은숙 | AE31: 부산광역시 사하구 오작로 104, 101동 1301호(괴정동,괴정벽산하이츠타운)
A32: 15 | B32: 서구 | C32: 서대신동3가 | D32: 31-33 | E32: 31-33 | F32: 전 | H32: 52.89 | I32: 107.54 ~ 126.94 | J32: [173.83 - (126.94) = 46.89] | K32: 132 | L32: 77 | M32: ㎡ | N32: 1/1 | O32: 1 | P32: 1 | Q32: 1 | S32: 0 | U32: 0 | W32: 0 | X32: 0 | Y32: 0 | Z32: #DIV/0! | AA32: 0 | AB32: 0 | AD32: 국(기획재정부)
A33: 16 | B33: 서구 | C33: 서대신동3가 | D33: 31-35 | E33: 31-35 | F33: 전 | H33: 40.14 | I33: 111.14 ~ 130.54 | J33: [164.68 - (130.54) = 34.14] | K33: 536 | L33: 158 | M33: ㎡ | N33: 1/1 | O33: 1 | P33: 1 | Q33: 1 | S33: 0 | U33: 0 | W33: 0 | X33: 0 | Y33: 0 | Z33: #DIV/0! | AA33: 0 | AB33: 0 | AD33: 임학선 | AE33: 부산 사하구 다대동960 우신아파트1-110
A34: 17 | B34: 서구 | C34: 서대신동3가 | D34: 31-38 | E34: 31-38 | F34: 전 | H34: 40.14 | I34: 111.14 ~ 130.54 | J34: [164.68 - (130.54) = 34.14] | K34: 241 | L34: 73 | M34: ㎡ | N34: 1/1 | O34: 1 | P34: 1 | Q34: 1 | S34: 0 | U34: 0 | W34: 0 | X34: 0 | Y34: 0 | Z34: #DIV/0! | AA34: 0 | AB34: 0 | AD34: 노금희 | AE34: 부산광역시 사하구 다대낙조2길 100, 306동 102호 (다대동,다대동롯데캐슬몰운대아파트)
A35: 18 | B35: 서구 | C35: 서대신동3가 | D35: 31-39 | E35: 31-39 | F35: 전 | H35: 28.27 | I35: 114.71 ~ 134.11 | J35: [156.38 - (134.11) = 22.27] | K35: 893 | L35: 120 | M35: ㎡ | N35: 42/84 | O35: 42 | P35: 84 | Q35: 0.5 | S35: 0 | U35: 0 | W35: 0 | X35: 0 | Y35: 0 | Z35: #DIV/0! | AA35: 0 | AB35: 0 | AD35: 박순옥 | AE35: 부산 서구 서대신동 3가 687-33
N36: 14/84 | O36: 14 | P36: 84 | Q36: 0.16666667 | S36: 0 | U36: 0 | W36: 0 | X36: 0 | Y36: 0 | Z36: #DIV/0! | AA36: 0 | AB36: 0 | AD36: 김원숙 | AE36: 부산 서구 서대신동3가 684-1
N37: 14/84 | O37: 14 | P37: 84 | Q37: 0.16666667 | S37: 0 | U37: 0 | W37: 0 | X37: 0 | Y37: 0 | Z37: #DIV/0! | AA37: 0 | AB37: 0 | AD37: 김종희 | AE37: 부산 서구 서대신동3가 684-1
N38: 4/84 | O38: 4 | P38: 84 | Q38: 0.047619048 | S38: 0 | U38: 0 | W38: 0 | X38: 0 | Y38: 0 | Z38: #DIV/0! | AA38: 0 | AB38: 0 | AD38: 김민석 | AE38: 부산광역시 사하구 오작로 104, 101동 1301호(괴정동,괴정벽산하이츠타운)
N39: 4/84 | O39: 4 | P39: 84 | Q39: 0.047619048 | S39: 0 | U39: 0 | W39: 0 | X39: 0 | Y39: 0 | Z39: #DIV/0! | AA39: 0 | AB39: 0 | AD39: 김성준 | AE39: 부산광역시 사하구 오작로 104, 101동 1301호(괴정동,괴정벽산하이츠타운)
N40: 6/84 | O40: 6 | P40: 84 | Q40: 0.071428571 | S40: 0 | U40: 0 | W40: 0 | X40: 0 | Y40: 0 | Z40: #DIV/0! | AA40: 0 | AB40: 0 | AD40: 박은숙 | AE40: 부산광역시 사하구 오작로 104, 101동 1301호(괴정동,괴정벽산하이츠타운)
...

Sheet 지장물
A1: 손실보상금 산정 및 지급조서(지장물)
A2: =총괄!$A$3 -> ○ 사업명 : 승학터널 민간투자사업
A3: 일련 | B3: 소재지 | D3: 지번 | F3: 물건 | G3: 구조 및 | L3: 수량 | M3: 단위 | N3: 소유 | O3: 지분 | P3: 지분 | Q3: 지분 | R3: 프라임 | T3: 미래새한 | V3: - | X3: 최고 | Y3: 최저 | Z3: 단가비율 | AD3: 감정평가 법인 평균 | AF3: 소유자 | AJ3: 소유권이외의 권리 | AM3: 공탁 | AP3: 등기 | AR3: 취득방법
A4: 번호 | B4: 구 | C4: 동 | D4: 당초지번 | E4: 편입지번 | F4: 종류 | G4: 규격 | L4: (면적) | N4: 지분 | O4: (분자) | P4: (분모) | Q4: 계산 | R4: 단가 | S4: 금액 | T4: 단가 | U4: 금액 | V4: 단가 | W4: 금액 | X4: 단가 | Y4: 단가 | Z4: (최고/최저) | AD4: 평균단가 | AE4: 평균금액(원) | AF4: 성명 | AG4: 주소 | AH4: 주민등록번호 | AI4: 연락처 | AJ4: 권리자 | AK4: 주소 | AL4: 권리 내용 | AM4: 공탁일 | AN4: 공탁번호 | AO4: 공탁기관 | AP4: 등기일 | AQ4: 등기번호 | AR4: 취득일 | AS4: 방법 | AT4: 비고
A5: 1 | B5: 서구 | C5: 서대신동3가 | D5: 31-92 | E5: 31-470 | F5: 농막 | G5: 목조, 판넬지붕, 4×2.3, H2m | L5: 9.2 | M5: ㎡ | N5: 1/1 | O5: =IF(N5="1","1",LEFT(N5,FIND("/",N5)-1)) -> 1 | P5: =IF(N5="1","1",RIGHT(N5,LEN(N5)-FIND("/",N5))) -> 1 | Q5: =O5/P5 -> 1 | S5: =IF(ISNUMBER(FIND("↑",R5))=TRUE,"↑",IF(ISNUMBER(FIND("↑",R6))=TRUE,R5,IF(ISNUMBER(FIND("포함",R5))=TRUE,R5,IFERROR(ROUNDDOWN(R5*$L5*$Q5,-1),0)))) -> 0 | U5: =IF(ISNUMBER(FIND("↑",T5))=TRUE,"↑",IF(ISNUMBER(FIND("↑",T6))=TRUE,T5,IF(ISNUMBER(FIND("포함",T5))=TRUE,T5,IFERROR(ROUNDDOWN(T5*$L5*$Q5,-1),0)))) -> 0 | W5: =IF(ISNUMBER(FIND("↑",V5))=TRUE,"↑",IF(ISNUMBER(FIND("↑",V6))=TRUE,V5,IF(ISNUMBER(FIND("포함",V5))=TRUE,V5,IFERROR(ROUNDDOWN(V5*$L5*$Q5,-1),0)))) -> 0 | X5: =MAX(R5,T5,V5) -> 0 | Y5: =MIN(R5,T5,V5) -> 0 | Z5: =X5/Y5 -> #DIV/0! | AD5: =IF(ISNUMBER(FIND("↑",R5))=TRUE,"↑",IF(ISNUMBER(FIND("포함",R5))=TRUE,R5,IF(ISNUMBER(FIND("↑",R6))=TRUE,"일괄",IFERROR(AVERAGE(R5,T5,V5),0)))) -> 0 | AE5: =IF(ISNUMBER(FIND("↑",R5))=TRUE,"↑",IF(ISNUMBER(FIND("포함",R5))=TRUE,R5,IF(ISNUMBER(FIND("↑",R6))=TRUE,IFERROR(ROUNDDOWN(IF(V5="",AVERAGEA(U5,S5),AVERAGEA(S5,U5,W5)),-1),0),IFERROR(ROUNDDOWN(AD5*L5*Q5,-1),0)))) -> 0
A6: 2 | B6: 서구 | C6: 서대신동3가 | D6: 31-92 | E6: 31-470 | F6: 창고1 | G6: 목조, 함석지붕, 1.4 × 1.4m | L6: 2 | M6: ㎡ | N6: 1/1 | O6: =IF(N6="1","1",LEFT(N6,FIND("/",N6)-1)) -> 1 | P6: =IF(N6="1","1",RIGHT(N6,LEN(N6)-FIND("/",N6))) -> 1 | Q6: =O6/P6 -> 1 | S6: =IF(ISNUMBER(FIND("↑",R6))=TRUE,"↑",IF(ISNUMBER(FIND("↑",R7))=TRUE,R6,IF(ISNUMBER(FIND("포함",R6))=TRUE,R6,IFERROR(ROUNDDOWN(R6*$L6*$Q6,-1),0)))) -> 0 | U6: =IF(ISNUMBER(FIND("↑",T6))=TRUE,"↑",IF(ISNUMBER(FIND("↑",T7))=TRUE,T6,IF(ISNUMBER(FIND("포함",T6))=TRUE,T6,IFERROR(ROUNDDOWN(T6*$L6*$Q6,-1),0)))) -> 0 | W6: =IF(ISNUMBER(FIND("↑",V6))=TRUE,"↑",IF(ISNUMBER(FIND("↑",V7))=TRUE,V6,IF(ISNUMBER(FIND("포함",V6))=TRUE,V6,IFERROR(ROUNDDOWN(V6*$L6*$Q6,-1),0)))) -> 0 | X6: =MAX(R6,T6,V6) -> 0 | Y6: =MIN(R6,T6,V6) -> 0 | Z6: =X6/Y6 -> #DIV/0! | AD6: =IF(ISNUMBER(FIND("↑",R6))=TRUE,"↑",IF(ISNUMBER(FIND("포함",R6))=TRUE,R6,IF(ISNUMBER(FIND("↑",R7))=TRUE,"일괄",IFERROR(AVERAGE(R6,T6,V6),0)))) -> 0 | AE6: =IF(ISNUMBER(FIND("↑",R6))=TRUE,"↑",IF(ISNUMBER(FIND("포함",R6))=TRUE,R6,IF(ISNUMBER(FIND("↑",R7))=TRUE,IFERROR(ROUNDDOWN(IF(V6="",AVERAGEA(U6,S6),AVERAGEA(S6,U6,W6)),-1),0),IFERROR(ROUNDDOWN(AD6*L6*Q6,-1),0)))) -> 0
A7: 3 | B7: 서구 | C7: 서대신동3가 | D7: 31-92 | E7: 31-470 | F7: 창고2 | G7: 앵글조, 천막 합판마감 바닥 팔레트, 1×1, H1.8m | L7: 1 | M7: ㎡ | N7: 1/1 | O7: =IF(N7="1","1",LEFT(N7,FIND("/",N7)-1)) -> 1 | P7: =IF(N7="1","1",RIGHT(N7,LEN(N7)-FIND("/",N7))) -> 1 | Q7: =O7/P7 -> 1 | S7: =IF(ISNUMBER(FIND("↑",R7))=TRUE,"↑",IF(ISNUMBER(FIND("↑",R8))=TRUE,R7,IF(ISNUMBER(FIND("포함",R7))=TRUE,R7,IFERROR(ROUNDDOWN(R7*$L7*$Q7,-1),0)))) -> 0 | U7: =IF(ISNUMBER(FIND("↑",T7))=TRUE,"↑",IF(ISNUMBER(FIND("↑",T8))=TRUE,T7,IF(ISNUMBER(FIND("포함",T7))=TRUE,T7,IFERROR(ROUNDDOWN(T7*$L7*$Q7,-1),0)))) -> 0 | W7: =IF(ISNUMBER(FIND("↑",V7))=TRUE,"↑",IF(ISNUMBER(FIND("↑",V8))=TRUE,V7,IF(ISNUMBER(FIND("포함",V7))=TRUE,V7,IFERROR(ROUNDDOWN(V7*$L7*$Q7,-1),0)))) -> 0 | X7: =MAX(R7,T7,V7) -> 0 | Y7: =MIN(R7,T7,V7) -> 0 | Z7: =X7/Y7 -> #DIV/0! | AD7: =IF(ISNUMBER(FIND("↑",R7))=TRUE,"↑",IF(ISNUMBER(FIND("포함",R7))=TRUE,R7,IF(ISNUMBER(FIND("↑",R8))=TRUE,"일괄",IFERROR(AVERAGE(R7,T7,V7),0)))) -> 0 | AE7: =IF(ISNUMBER(FIND("↑",R7))=TRUE,"↑",IF(ISNUMBER(FIND("포함",R7))=TRUE,R7,IF(ISNUMBER(FIND("↑",R8))=TRUE,IFERROR(ROUNDDOWN(IF(V7="",AVERAGEA(U7,S7),AVERAGEA(S7,U7,W7)),-1),0),IFERROR(ROUNDDOWN(AD7*L7*Q7,-1),0)))) -> 0
A8: 4 | B8: 서구 | C8: 서대신동3가 | D8: 31-92 | E8: 31-470 | F8: 울타리1 | G8: 망사그물망, H1.5~1.8m | L8: 47 | M8: m | N8: 1/1 | O8: =IF(N8="1","1",LEFT(N8,FIND("/",N8)-1)) -> 1 | P8: =IF(N8="1","1",RIGHT(N8,LEN(N8)-FIND("/",N8))) -> 1 | Q8: =O8/P8 -> 1 | S8: =IF(ISNUMBER(FIND("↑",R8))=TRUE,"↑",IF(ISNUMBER(FIND("↑",R9))=TRUE,R8,IF(ISNUMBER(FIND("포함",R8))=TRUE,R8,IFERROR(ROUNDDOWN(R8*$L8*$Q8,-1),0)))) -> 0 | U8: =IF(ISNUMBER(FIND("↑",T8))=TRUE,"↑",IF(ISNUMBER(FIND("↑",T9))=TRUE,T8,IF(ISNUMBER(FIND("포함",T8))=TRUE,T8,IFERROR(ROUNDDOWN(T8*$L8*$Q8,-1),0)))) -> 0 | W8: =IF(ISNUMBER(FIND("↑",V8))=TRUE,"↑",IF(ISNUMBER(FIND("↑",V9))=TRUE,V8,IF(ISNUMBER(FIND("포함",V8))=TRUE,V8,IFERROR(ROUNDDOWN(V8*$L8*$Q8,-1),0)))) -> 0 | X8: =MAX(R8,T8,V8) -> 0 | Y8: =MIN(R8,T8,V8) -> 0 | Z8: =X8/Y8 -> #DIV/0! | AD8: =IF(ISNUMBER(FIND("↑",R8))=TRUE,"↑",IF(ISNUMBER(FIND("포함",R8))=TRUE,R8,IF(ISNUMBER(FIND("↑",R9))=TRUE,"일괄",IFERROR(AVERAGE(R8,T8,V8),0)))) -> 0 | AE8: =IF(ISNUMBER(FIND("↑",R8))=TRUE,"↑",IF(ISNUMBER(FIND("포함",R8))=TRUE,R8,IF(ISNUMBER(FIND("↑",R9))=TRUE,IFERROR(ROUNDDOWN(IF(V8="",AVERAGEA(U8,S8),AVERAGEA(S8,U8,W8)),-1),0),IFERROR(ROUNDDOWN(AD8*L8*Q8,-1),0)))) -> 0
A9: 5 | B9: 서구 | C9: 서대신동3가 | D9: 31-92 | E9: 31-470 | F9: 울타리2 | G9: 철망, H1.5m | L9: 9 | M9: m | N9: 1/1 | O9: =IF(N9="1","1",LEFT(N9,FIND("/",N9)-1)) -> 1 | P9: =IF(N9="1","1",RIGHT(N9,LEN(N9)-FIND("/",N9))) -> 1 | Q9: =O9/P9 -> 1 | S9: =IF(ISNUMBER(FIND("↑",R9))=TRUE,"↑",IF(ISNUMBER(FIND("↑",R10))=TRUE,R9,IF(ISNUMBER(FIND("포함",R9))=TRUE,R9,IFERROR(ROUNDDOWN(R9*$L9*$Q9,-1),0)))) -> 0 | U9: =IF(ISNUMBER(FIND("↑",T9))=TRUE,"↑",IF(ISNUMBER(FIND("↑",T10))=TRUE,T9,IF(ISNUMBER(FIND("포함",T9))=TRUE,T9,IFERROR(ROUNDDOWN(T9*$L9*$Q9,-1),0)))) -> 0 | W9: =IF(ISNUMBER(FIND("↑",V9))=TRUE,"↑",IF(ISNUMBER(FIND("↑",V10))=TRUE,V9,IF(ISNUMBER(FIND("포함",V9))=TRUE,V9,IFERROR(ROUNDDOWN(V9*$L9*$Q9,-1),0)))) -> 0 | X9: =MAX(R9,T9,V9) -> 0 | Y9: =MIN(R9,T9,V9) -> 0 | Z9: =X9/Y9 -> #DIV/0! | AD9: =IF(ISNUMBER(FIND("↑",R9))=TRUE,"↑",IF(ISNUMBER(FIND("포함",R9))=TRUE,R9,IF(ISNUMBER(FIND("↑",R10))=TRUE,"일괄",IFERROR(AVERAGE(R9,T9,V9),0)))) -> 0 | AE9: =IF(ISNUMBER(FIND("↑",R9))=TRUE,"↑",IF(ISNUMBER(FIND("포함",R9))=TRUE,R9,IF(ISNUMBER(FIND("↑",R10))=TRUE,IFERROR(ROUNDDOWN(IF(V9="",AVERAGEA(U9,S9),AVERAGEA(S9,U9,W9)),-1),0),IFERROR(ROUNDDOWN(AD9*L9*Q9,-1),0)))) -> 0
A10: 6 | B10: 서구 | C10: 서대신동3가 | D10: 31-92 | E10: 31-470 | F10: 물탱크 | G10: 2톤 2EA | L10: 1 | M10: 식 | N10: 1/1 | O10: =IF(N10="1","1",LEFT(N10,FIND("/",N10)-1)) -> 1 | P10: =IF(N10="1","1",RIGHT(N10,LEN(N10)-FIND("/",N10))) -> 1 | Q10: =O10/P10 -> 1 | S10: =IF(ISNUMBER(FIND("↑",R10))=TRUE,"↑",IF(ISNUMBER(FIND("↑",#REF!))=TRUE,R10,IF(ISNUMBER(FIND("포함",R10))=TRUE,R10,IFERROR(ROUNDDOWN(R10*$L10*$Q10,-1),0)))) -> 0 | U10: =IF(ISNUMBER(FIND("↑",T10))=TRUE,"↑",IF(ISNUMBER(FIND("↑",#REF!))=TRUE,T10,IF(ISNUMBER(FIND("포함",T10))=TRUE,T10,IFERROR(ROUNDDOWN(T10*$L10*$Q10,-1),0)))) -> 0 | W10: =IF(ISNUMBER(FIND("↑",V10))=TRUE,"↑",IF(ISNUMBER(FIND("↑",#REF!))=TRUE,V10,IF(ISNUMBER(FIND("포함",V10))=TRUE,V10,IFERROR(ROUNDDOWN(V10*$L10*$Q10,-1),0)))) -> 0 | X10: =MAX(R10,T10,V10) -> 0 | Y10: =MIN(R10,T10,V10) -> 0 | Z10: =X10/Y10 -> #DIV/0! | AD10: =IF(ISNUMBER(FIND("↑",R10))=TRUE,"↑",IF(ISNUMBER(FIND("포함",R10))=TRUE,R10,IF(ISNUMBER(FIND("↑",#REF!))=TRUE,"일괄",IFERROR(AVERAGE(R10,T10,V10),0)))) -> 0 | AE10: =IF(ISNUMBER(FIND("↑",R10))=TRUE,"↑",IF(ISNUMBER(FIND("포함",R10))=TRUE,R10,IF(ISNUMBER(FIND("↑",#REF!))=TRUE,IFERROR(ROUNDDOWN(IF(V10="",AVERAGEA(U10,S10),AVERAGEA(S10,U10,W10)),-1),0),IFERROR(ROUNDDOWN(AD10*L10*Q10,-1),0)))) -> 0
