Workbook
Name _E81161: [1]깨기!$E$51161
Name _H81192: [1]깨기!$H$51192
Name _H91164: [1]깨기!$H$11164
Name _IV65999: #REF!
Name _IV65999: #REF!
Name _IV65999: #REF!
Name _IV65999: #REF!
Name _IV66000: #REF!
Name _IV66000: #REF!
Name _IV66000: #REF!
Name _IV66000: #REF!
Name _IV69999: #REF!
Name _IV69999: #REF!
Name _IV69999: #REF!
Name _IV69999: #REF!
Name _IV70000: #REF!
Name _IV70000: #REF!
Name _IV70000: #REF!
Name _IV70000: #REF!
Name _IV99999: #REF!
Name _IV99999: #REF!
Name _IV99999: #REF!
Name _IV99999: #REF!
Name _Zz10137: #REF!
Name _Zz10137: #REF!
Name _Zz10137: #REF!
Name _Zz10137: #REF!
Name \p: #REF!
Name \p: #REF!
Name \p: #REF!
Name \p: #REF!
Name A1000000000000000: #REF!
Name A1000000000000000: #REF!
Name A1000000000000000: #REF!
Name A1000000000000000: #REF!
Name A2032.: #REF!
Name A2032.: #REF!
Name A2032.: #REF!
Name A2032.: #REF!
Name aaa: #REF!
Name aaa: #REF!
Name aaa: #REF!
Name aaa: #REF!
Name a당_중간층단위수량: '[2]아스팔트포장재료 단위수량'!#REF!
Name a당_중간층단위수량: '[2]아스팔트포장재료 단위수량'!#REF!
Name a당_중간층단위수량: '[2]아스팔트포장재료 단위수량'!#REF!
Name a당_중간층단위수량: '[2]아스팔트포장재료 단위수량'!#REF!
Name a당_표층단위수량_교면포장: '[2]아스팔트포장재료 단위수량'!#REF!
Name a당_표층단위수량_교면포장: '[2]아스팔트포장재료 단위수량'!#REF!
Name a당_표층단위수량_교면포장: '[2]아스팔트포장재료 단위수량'!#REF!
Name a당_표층단위수량_교면포장: '[2]아스팔트포장재료 단위수량'!#REF!
Name DLDMA: #REF!
Name DLDMA: #REF!
Name DLDMA: #REF!
Name DLDMA: #REF!
Name DLFMA: #REF!
Name DLFMA: #REF!
Name DLFMA: #REF!
Name DLFMA: #REF!
Name lhjk: #REF!

Sheet 총괄
A1: 손실보상금 산정 및 지급조서(총괄)
A3: ○ 사업명 : 승학터널 민간투자사업
A5: 구분 | B5: 계 | C5: =개인별총괄!F4 -> 토지 | D5: =개인별총괄!G4 -> 지장물 | E5: =개인별총괄!H4 -> 영업보상 | F5: =개인별총괄!I4 -> 주거이전비 | G5: =개인별총괄!J4 -> 잔여지 | H5: =개인별총괄!K4 -> 잔여지 지장물 | I5: =개인별총괄!L4 -> 비고
A6: 건수(건) | B6: =SUM(C6:H6) -> #REF! | C6: {=SUM(IF(토지!$E5:$E50<>"",1/COUNTIF(토지!$E5:$E50,토지!$E5:$E50)))} -> 19 | D6: =COUNTA(지장물!$F5:$F195) -> 190 | E6: {=SUM(IF(#REF!<>"",1/COUNTIF(#REF!,#REF!)))} -> #REF! | F6: {=SUM(IF(#REF!<>"",1/COUNTIF(#REF!,#REF!)))} -> #REF! | G6: {=SUM(IF(#REF!<>"",1/COUNTIF(#REF!,#REF!)))} -> #REF! | H6: =COUNTA(#REF!) -> 1
A7: 금액(원) | B7: =개인별총괄!E5 -> #REF! | C7: =개인별총괄!F5 -> 0 | D7: =개인별총괄!G5 -> 0 | E7: =개인별총괄!H5 -> #REF! | F7: =개인별총괄!I5 -> #REF! | G7: =개인별총괄!J5 -> #REF! | H7: =개인별총괄!K5 -> #REF!

Sheet 개인별총괄
A1: 개인별 총괄
A3: =총괄!$A$3 -> ○ 사업명 : 승학터널 민간투자사업 | AE3: 사용재결 2개 법인 평균
A4: 연번 | B4: 소재지 | C4: 지번 | D4: 성명 | E4: 합계 | F4: 토지 | G4: 지장물 | H4: 영업보상 | I4: 주거이전비 | J4: 잔여지 | K4: 잔여지 지장물 | L4: 비고
A5: 합계 | D5: =COUNTA(D6:D49)&"명" -> 0명 | E5: =SUBTOTAL(9,E6:E49) -> #REF! | F5: =SUBTOTAL(9,F6:F49) -> 0 | G5: =SUBTOTAL(9,G6:G49) -> 0 | H5: =SUBTOTAL(9,H6:H49) -> #REF! | I5: =SUBTOTAL(9,I6:I49) -> #REF! | J5: =SUBTOTAL(9,J6:J49) -> #REF! | K5: =SUBTOTAL(9,K6:K49) -> #REF! | L5: =SUBTOTAL(9,L6:L49) -> 0
A6: =ROW()-5 -> 1 | E6: =SUM(F6:L6) -> #REF! | F6: =SUMIF(토지!AD:AD,D6,토지!AB:AB) -> 0 | G6: =SUMIF(지장물!AF:AF,D6,지장물!AE:AE) -> 0 | H6: =SUMIF(#REF!,D6,#REF!) -> #REF! | I6: =SUMIF(#REF!,D6,#REF!) -> #REF! | J6: =SUMIF(#REF!,D6,#REF!) -> #REF! | K6: =SUMIF(#REF!,D6,#REF!) -> #REF!
A7: =ROW()-5 -> 2 | E7: =SUM(F7:L7) -> #REF! | F7: =SUMIF(토지!AD:AD,D7,토지!AB:AB) -> 0 | G7: =SUMIF(지장물!AF:AF,D7,지장물!AE:AE) -> 0 | H7: =SUMIF(#REF!,D7,#REF!) -> #REF! | I7: =SUMIF(#REF!,D7,#REF!) -> #REF! | J7: =SUMIF(#REF!,D7,#REF!) -> #REF! | K7: =SUMIF(#REF!,D7,#REF!) -> #REF!
A8: =ROW()-5 -> 3 | E8: =SUM(F8:L8) -> #REF! | F8: =SUMIF(토지!AD:AD,D8,토지!AB:AB) -> 0 | G8: =SUMIF(지장물!AF:AF,D8,지장물!AE:AE) -> 0 | H8: =SUMIF(#REF!,D8,#REF!) -> #REF! | I8: =SUMIF(#REF!,D8,#REF!) -> #REF! | J8: =SUMIF(#REF!,D8,#REF!) -> #REF! | K8: =SUMIF(#REF!,D8,#REF!) -> #REF!
A9: =ROW()-5 -> 4 | E9: =SUM(F9:L9) -> #REF! | F9: =SUMIF(토지!AD:AD,D9,토지!AB:AB) -> 0 | G9: =SUMIF(지장물!AF:AF,D9,지장물!AE:AE) -> 0 | H9: =SUMIF(#REF!,D9,#REF!) -> #REF! | I9: =SUMIF(#REF!,D9,#REF!) -> #REF! | J9: =SUMIF(#REF!,D9,#REF!) -> #REF! | K9: =SUMIF(#REF!,D9,#REF!) -> #REF!
A10: =ROW()-5 -> 5 | E10: =SUM(F10:L10) -> #REF! | F10: =SUMIF(토지!AD:AD,D10,토지!AB:AB) -> 0 | G10: =SUMIF(지장물!AF:AF,D10,지장물!AE:AE) -> 0 | H10: =SUMIF(#REF!,D10,#REF!) -> #REF! | I10: =SUMIF(#REF!,D10,#REF!) -> #REF! | J10: =SUMIF(#REF!,D10,#REF!) -> #REF! | K10: =SUMIF(#REF!,D10,#REF!) -> #REF!
A11: =ROW()-5 -> 6 | E11: =SUM(F11:L11) -> #REF! | F11: =SUMIF(토지!AD:AD,D11,토지!AB:AB) -> 0 | G11: =SUMIF(지장물!AF:AF,D11,지장물!AE:AE) -> 0 | H11: =SUMIF(#REF!,D11,#REF!) -> #REF! | I11: =SUMIF(#REF!,D11,#REF!) -> #REF! | J11: =SUMIF(#REF!,D11,#REF!) -> #REF! | K11: =SUMIF(#REF!,D11,#REF!) -> #REF!
A12: =ROW()-5 -> 7 | E12: =SUM(F12:L12) -> #REF! | F12: =SUMIF(토지!AD:AD,D12,토지!AB:AB) -> 0 | G12: =SUMIF(지장물!AF:AF,D12,지장물!AE:AE) -> 0 | H12: =SUMIF(#REF!,D12,#REF!) -> #REF! | I12: =SUMIF(#REF!,D12,#REF!) -> #REF! | J12: =SUMIF(#REF!,D12,#REF!) -> #REF! | K12: =SUMIF(#REF!,D12,#REF!) -> #REF!
A13: =ROW()-5 -> 8 | E13: =SUM(F13:L13) -> #REF! | F13: =SUMIF(토지!AD:AD,D13,토지!AB:AB) -> 0 | G13: =SUMIF(지장물!AF:AF,D13,지장물!AE:AE) -> 0 | H13: =SUMIF(#REF!,D13,#REF!) -> #REF! | I13: =SUMIF(#REF!,D13,#REF!) -> #REF! | J13: =SUMIF(#REF!,D13,#REF!) -> #REF! | K13: =SUMIF(#REF!,D13,#REF!) -> #REF!
A14: =ROW()-5 -> 9 | E14: =SUM(F14:L14) -> #REF! | F14: =SUMIF(토지!AD:AD,D14,토지!AB:AB) -> 0 | G14: =SUMIF(지장물!AF:AF,D14,지장물!AE:AE) -> 0 | H14: =SUMIF(#REF!,D14,#REF!) -> #REF! | I14: =SUMIF(#REF!,D14,#REF!) -> #REF! | J14: =SUMIF(#REF!,D14,#REF!) -> #REF! | K14: =SUMIF(#REF!,D14,#REF!) -> #REF!
A15: =ROW()-5 -> 10 | E15: =SUM(F15:L15) -> #REF! | F15: =SUMIF(토지!AD:AD,D15,토지!AB:AB) -> 0 | G15: =SUMIF(지장물!AF:AF,D15,지장물!AE:AE) -> 0 | H15: =SUMIF(#REF!,D15,#REF!) -> #REF! | I15: =SUMIF(#REF!,D15,#REF!) -> #REF! | J15: =SUMIF(#REF!,D15,#REF!) -> #REF! | K15: =SUMIF(#REF!,D15,#REF!) -> #REF!
A16: =ROW()-5 -> 11 | E16: =SUM(F16:L16) -> #REF! | F16: =SUMIF(토지!AD:AD,D16,토지!AB:AB) -> 0 | G16: =SUMIF(지장물!AF:AF,D16,지장물!AE:AE) -> 0 | H16: =SUMIF(#REF!,D16,#REF!) -> #REF! | I16: =SUMIF(#REF!,D16,#REF!) -> #REF! | J16: =SUMIF(#REF!,D16,#REF!) -> #REF! | K16: =SUMIF(#REF!,D16,#REF!) -> #REF!
A17: =ROW()-5 -> 12 | E17: =SUM(F17:L17) -> #REF! | F17: =SUMIF(토지!AD:AD,D17,토지!AB:AB) -> 0 | G17: =SUMIF(지장물!AF:AF,D17,지장물!AE:AE) -> 0 | H17: =SUMIF(#REF!,D17,#REF!) -> #REF! | I17: =SUMIF(#REF!,D17,#REF!) -> #REF! | J17: =SUMIF(#REF!,D17,#REF!) -> #REF! | K17: =SUMIF(#REF!,D17,#REF!) -> #REF!
... A49: =ROW()-5 -> 44 | E49: =SUM(F49:L49) -> #REF! | F49: =SUMIF(토지!AD:AD,D49,토지!AB:AB) -> 0 | G49: =SUMIF(지장물!AF:AF,D49,지장물!AE:AE) -> 0 | H49: =SUMIF(#REF!,D49,#REF!) -> #REF! | I49: =SUMIF(#REF!,D49,#REF!) -> #REF! | J49: =SUMIF(#REF!,D49,#REF!) -> #REF! | K49: =SUMIF(#REF!,D49,#REF!) -> #REF!

Sheet (개인별 총괄)
A1: 소유자 | C1: ※ 각 물건별 150명 기준임
A2: ='(소유자물건별)'!A2 -> #REF!
A3: ='(소유자물건별)'!A3 -> #REF!
A4: ='(소유자물건별)'!A4 -> #REF!
A5: ='(소유자물건별)'!A5 -> #REF!
A6: ='(소유자물건별)'!A6 -> #REF!
A7: ='(소유자물건별)'!A7 -> #REF!
A8: ='(소유자물건별)'!A8 -> #REF!
A9: ='(소유자물건별)'!A9 -> #REF!
A10: ='(소유자물건별)'!A10 -> #REF!
A11: ='(소유자물건별)'!A11 -> #REF!
A12: ='(소유자물건별)'!A12 -> #REF!
A13: ='(소유자물건별)'!A13 -> #REF!
... A151: ='(소유자물건별)'!A151
A152: ='(소유자물건별)'!B2
A153: ='(소유자물건별)'!B3
A154: ='(소유자물건별)'!B4
A155: ='(소유자물건별)'!B5
A156: ='(소유자물건별)'!B6
A157: ='(소유자물건별)'!B7
A158: ='(소유자물건별)'!B8 -> #REF!
A159: ='(소유자물건별)'!B9
A160: ='(소유자물건별)'!B10
A161: ='(소유자물건별)'!B11
A162: ='(소유자물건별)'!B12
A163: ='(소유자물건별)'!B13
... A301: ='(소유자물건별)'!B151
A302: ='(소유자물건별)'!C2 -> #REF!
A303: ='(소유자물건별)'!C3 -> #REF!
A304: ='(소유자물건별)'!C4 -> #REF!
A305: ='(소유자물건별)'!C5 -> #REF!
A306: ='(소유자물건별)'!C6 -> #REF!
A307: ='(소유자물건별)'!C7 -> #REF!
A308: ='(소유자물건별)'!C8 -> #REF!
A309: ='(소유자물건별)'!C9 -> #REF!
A310: ='(소유자물건별)'!C10 -> #REF!
A311: ='(소유자물건별)'!C11 -> #REF!
A312: ='(소유자물건별)'!C12 -> #REF!
A313: ='(소유자물건별)'!C13 -> #REF!
... A451: ='(소유자물건별)'!C151 -> #REF!
A452: ='(소유자물건별)'!D2 -> #REF!
A453: ='(소유자물건별)'!D3 -> #REF!
A454: ='(소유자물건별)'!D4 -> #REF!
A455: ='(소유자물건별)'!D5 -> #REF!
A456: ='(소유자물건별)'!D6 -> #REF!
A457: ='(소유자물건별)'!D7 -> #REF!
A458: ='(소유자물건별)'!D8 -> #REF!
A459: ='(소유자물건별)'!D9 -> #REF!
A460: ='(소유자물건별)'!D10 -> #REF!
A461: ='(소유자물건별)'!D11 -> #REF!
A462: ='(소유자물건별)'!D12 -> #REF!
A463: ='(소유자물건별)'!D13 -> #REF!
... A601: ='(소유자물건별)'!D151 -> #REF!
A602: ='(소유자물건별)'!E2 -> #REF!
A603: ='(소유자물건별)'!E3 -> #REF!
A604: ='(소유자물건별)'!E4 -> #REF!
A605: ='(소유자물건별)'!E5 -> #REF!
A606: ='(소유자물건별)'!E6 -> #REF!
A607: ='(소유자물건별)'!E7 -> #REF!
A608: ='(소유자물건별)'!E8 -> #REF!
A609: ='(소유자물건별)'!E9 -> #REF!
A610: ='(소유자물건별)'!E10 -> #REF!
A611: ='(소유자물건별)'!E11 -> #REF!
A612: ='(소유자물건별)'!E12 -> #REF!
A613: ='(소유자물건별)'!E13 -> #REF!
... A751: ='(소유자물건별)'!E151 -> #REF!
A752: ='(소유자물건별)'!F2 -> #REF!
A753: ='(소유자물건별)'!F3 -> #REF!
A754: ='(소유자물건별)'!F4 -> #REF!
A755: ='(소유자물건별)'!F5 -> #REF!
A756: ='(소유자물건별)'!F6 -> #REF!
A757: ='(소유자물건별)'!F7 -> #REF!
A758: ='(소유자물건별)'!F8 -> #REF!
A759: ='(소유자물건별)'!F9 -> #REF!
A760: ='(소유자물건별)'!F10 -> #REF!
A761: ='(소유자물건별)'!F11 -> #REF!
A762: ='(소유자물건별)'!F12 -> #REF!
A763: ='(소유자물건별)'!F13 -> #REF!
... A901: ='(소유자물건별)'!F151 -> #REF!
A902: ='(소유자물건별)'!G2 -> #REF!
A903: ='(소유자물건별)'!G3 -> #REF!
A904: ='(소유자물건별)'!G4 -> #REF!
A905: ='(소유자물건별)'!G5 -> #REF!
A906: ='(소유자물건별)'!G6 -> #REF!
A907: ='(소유자물건별)'!G7 -> #REF!
A908: ='(소유자물건별)'!G8 -> #REF!
A909: ='(소유자물건별)'!G9 -> #REF!
A910: ='(소유자물건별)'!G10 -> #REF!
A911: ='(소유자물건별)'!G11 -> #REF!
A912: ='(소유자물건별)'!G12 -> #REF!
A913: ='(소유자물건별)'!G13 -> #REF!
... A1051: ='(소유자물건별)'!G151 -> #REF!
A1052: ='(소유자물건별)'!H2 -> #REF!
A1053: ='(소유자물건별)'!H3 -> #REF!
A1054: ='(소유자물건별)'!H4 -> #REF!
A1055: ='(소유자물건별)'!H5 -> #REF!
A1056: ='(소유자물건별)'!H6 -> #REF!
A1057: ='(소유자물건별)'!H7 -> #REF!
A1058: ='(소유자물건별)'!H8 -> #REF!
A1059: ='(소유자물건별)'!H9 -> #REF!
...

Sheet (소유자물건별)
A1: 토지 | B1: 지장물 | C1: 영업보상 | D1: 농업보상 | E1: 지하사용권 | F1: 주거이전비 | G1: 분묘 | H1: 잔여지 | I1: 잔여지지장물
A2: =IF(토지!#REF!="","",토지!#REF!) -> #REF! | B2: =IF(지장물!AF5="","",지장물!AF5) | C2: =IF(#REF!="","",#REF!) -> #REF! | D2: =IF(#REF!="","",#REF!) -> #REF! | E2: =IF(#REF!="","",#REF!) -> #REF! | F2: =IF(#REF!="","",#REF!) -> #REF! | G2: =IF(#REF!="","",#REF!) -> #REF! | H2: =IF(#REF!="","",#REF!) -> #REF! | I2: =IF(#REF!="","",#REF!) -> #REF!
A3: =IF(토지!#REF!="","",토지!#REF!) -> #REF! | B3: =IF(지장물!AF6="","",지장물!AF6) | C3: =IF(#REF!="","",#REF!) -> #REF! | D3: =IF(#REF!="","",#REF!) -> #REF! | E3: =IF(#REF!="","",#REF!) -> #REF! | F3: =IF(#REF!="","",#REF!) -> #REF! | G3: =IF(#REF!="","",#REF!) -> #REF! | H3: =IF(#REF!="","",#REF!) -> #REF! | I3: =IF(#REF!="","",#REF!) -> #REF!
A4: =IF(토지!#REF!="","",토지!#REF!) -> #REF! | B4: =IF(지장물!AF7="","",지장물!AF7) | C4: =IF(#REF!="","",#REF!) -> #REF! | D4: =IF(#REF!="","",#REF!) -> #REF! | E4: =IF(#REF!="","",#REF!) -> #REF! | F4: =IF(#REF!="","",#REF!) -> #REF! | G4: =IF(#REF!="","",#REF!) -> #REF! | H4: =IF(#REF!="","",#REF!) -> #REF! | I4: =IF(#REF!="","",#REF!) -> #REF!
A5: =IF(토지!#REF!="","",토지!#REF!) -> #REF! | B5: =IF(지장물!AF8="","",지장물!AF8) | C5: =IF(#REF!="","",#REF!) -> #REF! | D5: =IF(#REF!="","",#REF!) -> #REF! | E5: =IF(#REF!="","",#REF!) -> #REF! | F5: =IF(#REF!="","",#REF!) -> #REF! | G5: =IF(#REF!="","",#REF!) -> #REF! | H5: =IF(#REF!="","",#REF!) -> #REF! | I5: =IF(#REF!="","",#REF!) -> #REF!
A6: =IF(토지!#REF!="","",토지!#REF!) -> #REF! | B6: =IF(지장물!AF9="","",지장물!AF9) | C6: =IF(#REF!="","",#REF!) -> #REF! | D6: =IF(#REF!="","",#REF!) -> #REF! | E6: =IF(#REF!="","",#REF!) -> #REF! | F6: =IF(#REF!="","",#REF!) -> #REF! | G6: =IF(#REF!="","",#REF!) -> #REF! | H6: =IF(#REF!="","",#REF!) -> #REF! | I6: =IF(#REF!="","",#REF!) -> #REF!
A7: =IF(토지!#REF!="","",토지!#REF!) -> #REF! | B7: =IF(지장물!AF10="","",지장물!AF10) | C7: =IF(#REF!="","",#REF!) -> #REF! | D7: =IF(#REF!="","",#REF!) -> #REF! | E7: =IF(#REF!="","",#REF!) -> #REF! | F7: =IF(#REF!="","",#REF!) -> #REF! | G7: =IF(#REF!="","",#REF!) -> #REF! | H7: =IF(#REF!="","",#REF!) -> #REF! | I7: =IF(#REF!="","",#REF!) -> #REF!
A8: =IF(토지!#REF!="","",토지!#REF!) -> #REF! | B8: =IF(지장물!#REF!="","",지장물!#REF!) -> #REF! | C8: =IF(#REF!="","",#REF!) -> #REF! | D8: =IF(#REF!="","",#REF!) -> #REF! | E8: =IF(#REF!="","",#REF!) -> #REF! | F8: =IF(#REF!="","",#REF!) -> #REF! | G8: =IF(#REF!="","",#REF!) -> #REF! | H8: =IF(#REF!="","",#REF!) -> #REF! | I8: =IF(#REF!="","",#REF!) -> #REF!
A9: =IF(토지!#REF!="","",토지!#REF!) -> #REF! | B9: =IF(지장물!AF11="","",지장물!AF11) | C9: =IF(#REF!="","",#REF!) -> #REF! | D9: =IF(#REF!="","",#REF!) -> #REF! | E9: =IF(#REF!="","",#REF!) -> #REF! | F9: =IF(#REF!="","",#REF!) -> #REF! | G9: =IF(#REF!="","",#REF!) -> #REF! | H9: =IF(#REF!="","",#REF!) -> #REF! | I9: =IF(#REF!="","",#REF!) -> #REF!
A10: =IF(토지!#REF!="","",토지!#REF!) -> #REF! | B10: =IF(지장물!AF12="","",지장물!AF12) | C10: =IF(#REF!="","",#REF!) -> #REF! | D10: =IF(#REF!="","",#REF!) -> #REF! | E10: =IF(#REF!="","",#REF!) -> #REF! | F10: =IF(#REF!="","",#REF!) -> #REF! | G10: =IF(#REF!="","",#REF!) -> #REF! | H10: =IF(#REF!="","",#REF!) -> #REF! | I10: =IF(#REF!="","",#REF!) -> #REF!
A11: =IF(토지!#REF!="","",토지!#REF!) -> #REF! | B11: =IF(지장물!AF13="","",지장물!AF13) | C11: =IF(#REF!="","",#REF!) -> #REF! | D11: =IF(#REF!="","",#REF!) -> #REF! | E11: =IF(#REF!="","",#REF!) -> #REF! | F11: =IF(#REF!="","",#REF!) -> #REF! | G11: =IF(#REF!="","",#REF!) -> #REF! | H11: =IF(#REF!="","",#REF!) -> #REF! | I11: =IF(#REF!="","",#REF!) -> #REF!
A12: =IF(토지!#REF!="","",토지!#REF!) -> #REF! | B12: =IF(지장물!AF14="","",지장물!AF14) | C12: =IF(#REF!="","",#REF!) -> #REF! | D12: =IF(#REF!="","",#REF!) -> #REF! | E12: =IF(#REF!="","",#REF!) -> #REF! | F12: =IF(#REF!="","",#REF!) -> #REF! | G12: =IF(#REF!="","",#REF!) -> #REF! | H12: =IF(#REF!="","",#REF!) -> #REF! | I12: =IF(#REF!="","",#REF!) -> #REF!
A13: =IF(토지!#REF!="","",토지!#REF!) -> #REF! | B13: =IF(지장물!AF15="","",지장물!AF15) | C13: =IF(#REF!="","",#REF!) -> #REF! | D13: =IF(#REF!="","",#REF!) -> #REF! | E13: =IF(#REF!="","",#REF!) -> #REF! | F13: =IF(#REF!="","",#REF!) -> #REF! | G13: =IF(#REF!="","",#REF!) -> #REF! | H13: =IF(#REF!="","",#REF!) -> #REF! | I13: =IF(#REF!="","",#REF!) -> #REF!
A14: =IF(토지!#REF!="","",토지!#REF!) -> #REF! | B14: =IF(지장물!AF16="","",지장물!AF16) | C14: =IF(#REF!="","",#REF!) -> #REF! | D14: =IF(#REF!="","",#REF!) -> #REF! | E14: =IF(#REF!="","",#REF!) -> #REF! | F14: =IF(#REF!="","",#REF!) -> #REF! | G14: =IF(#REF!="","",#REF!) -> #REF! | H14: =IF(#REF!="","",#REF!) -> #REF! | I14: =IF(#REF!="","",#REF!) -> #REF!
A15: =IF(토지!#REF!="","",토지!#REF!) -> #REF! | B15: =IF(지장물!AF17="","",지장물!AF17) | C15: =IF(#REF!="","",#REF!) -> #REF! | D15: =IF(#REF!="","",#REF!) -> #REF! | E15: =IF(#REF!="","",#REF!) -> #REF! | F15: =IF(#REF!="","",#REF!) -> #REF! | G15: =IF(#REF!="","",#REF!) -> #REF! | H15: =IF(#REF!="","",#REF!) -> #REF! | I15: =IF(#REF!="","",#REF!) -> #REF!
A16: =IF(토지!#REF!="","",토지!#REF!) -> #REF! | B16: =IF(지장물!AF18="","",지장물!AF18) | C16: =IF(#REF!="","",#REF!) -> #REF! | D16: =IF(#REF!="","",#REF!) -> #REF! | E16: =IF(#REF!="","",#REF!) -> #REF! | F16: =IF(#REF!="","",#REF!) -> #REF! | G16: =IF(#REF!="","",#REF!) -> #REF! | H16: =IF(#REF!="","",#REF!) -> #REF! | I16: =IF(#REF!="","",#REF!) -> #REF!
A17: =IF(토지!#REF!="","",토지!#REF!) -> #REF! | B17: =IF(지장물!AF19="","",지장물!AF19) | C17: =IF(#REF!="","",#REF!) -> #REF! | D17: =IF(#REF!="","",#REF!) -> #REF! | E17: =IF(#REF!="","",#REF!) -> #REF! | F17: =IF(#REF!="","",#REF!) -> #REF! | G17: =IF(#REF!="","",#REF!) -> #REF! | H17: =IF(#REF!="","",#REF!) -> #REF! | I17: =IF(#REF!="","",#REF!) -> #REF!
A18: =IF(토지!#REF!="","",토지!#REF!) -> #REF! | B18: =IF(지장물!AF20="","",지장물!AF20) | C18: =IF(#REF!="","",#REF!) -> #REF! | D18: =IF(#REF!="","",#REF!) -> #REF! | E18: =IF(#REF!="","",#REF!) -> #REF! | F18: =IF(#REF!="","",#REF!) -> #REF! | G18: =IF(#REF!="","",#REF!) -> #REF! | H18: =IF(#REF!="","",#REF!) -> #REF! | I18: =IF(#REF!="","",#REF!) -> #REF!
A19: =IF(토지!#REF!="","",토지!#REF!) -> #REF! | B19: =IF(지장물!AF21="","",지장물!AF21) | C19: =IF(#REF!="","",#REF!) -> #REF! | D19: =IF(#REF!="","",#REF!) -> #REF! | E19: =IF(#REF!="","",#REF!) -> #REF! | F19: =IF(#REF!="","",#REF!) -> #REF! | G19: =IF(#REF!="","",#REF!) -> #REF! | H19: =IF(#REF!="","",#REF!) -> #REF! | I19: =IF(#REF!="","",#REF!) -> #REF!
A20: =IF(토지!#REF!="","",토지!#REF!) -> #REF! | B20: =IF(지장물!AF27="","",지장물!AF27) | C20: =IF(#REF!="","",#REF!) -> #REF! | D20: =IF(#REF!="","",#REF!) -> #REF! | E20: =IF(#REF!="","",#REF!) -> #REF! | F20: =IF(#REF!="","",#REF!) -> #REF! | G20: =IF(#REF!="","",#REF!) -> #REF! | H20: =IF(#REF!="","",#REF!) -> #REF! | I20: =IF(#REF!="","",#REF!) -> #REF!
A21: =IF(토지!#REF!="","",토지!#REF!) -> #REF! | B21: =IF(지장물!#REF!="","",지장물!#REF!) -> #REF! | C21: =IF(#REF!="","",#REF!) -> #REF! | D21: =IF(#REF!="","",#REF!) -> #REF! | E21: =IF(#REF!="","",#REF!) -> #REF! | F21: =IF(#REF!="","",#REF!) -> #REF! | G21: =IF(#REF!="","",#REF!) -> #REF! | H21: =IF(#REF!="","",#REF!) -> #REF! | I21: =IF(#REF!="","",#REF!) -> #REF!
A22: =IF(토지!#REF!="","",토지!#REF!) -> #REF! | B22: =IF(지장물!AF22="","",지장물!AF22) | C22: =IF(#REF!="","",#REF!) -> #REF! | D22: =IF(#REF!="","",#REF!) -> #REF! | E22: =IF(#REF!="","",#REF!) -> #REF! | F22: =IF(#REF!="","",#REF!) -> #REF! | G22: =IF(#REF!="","",#REF!) -> #REF! | H22: =IF(#REF!="","",#REF!) -> #REF! | I22: =IF(#REF!="","",#REF!) -> #REF!
A23: =IF(토지!#REF!="","",토지!#REF!) -> #REF! | B23: =IF(지장물!#REF!="","",지장물!#REF!) -> #REF! | C23: =IF(#REF!="","",#REF!) -> #REF! | D23: =IF(#REF!="","",#REF!) -> #REF! | E23: =IF(#REF!="","",#REF!) -> #REF! | F23: =IF(#REF!="","",#REF!) -> #REF! | G23: =IF(#REF!="","",#REF!) -> #REF! | H23: =IF(#REF!="","",#REF!) -> #REF! | I23: =IF(#REF!="","",#REF!) -> #REF!
A24: =IF(토지!#REF!="","",토지!#REF!) -> #REF! | B24: =IF(지장물!#REF!="","",지장물!#REF!) -> #REF! | C24: =IF(#REF!="","",#REF!) -> #REF! | D24: =IF(#REF!="","",#REF!) -> #REF! | E24: =IF(#REF!="","",#REF!) -> #REF! | F24: =IF(#REF!="","",#REF!) -> #REF! | G24: =IF(#REF!="","",#REF!) -> #REF! | H24: =IF(#REF!="","",#REF!) -> #REF! | I24: =IF(#REF!="","",#REF!) -> #REF!
A25: =IF(토지!#REF!="","",토지!#REF!) -> #REF! | B25: =IF(지장물!AF34="","",지장물!AF34) | C25: =IF(#REF!="","",#REF!) -> #REF! | D25: =IF(#REF!="","",#REF!) -> #REF! | E25: =IF(#REF!="","",#REF!) -> #REF! | F25: =IF(#REF!="","",#REF!) -> #REF! | G25: =IF(#REF!="","",#REF!) -> #REF! | H25: =IF(#REF!="","",#REF!) -> #REF! | I25: =IF(#REF!="","",#REF!) -> #REF!
A26: =IF(토지!#REF!="","",토지!#REF!) -> #REF! | B26: =IF(지장물!AF35="","",지장물!AF35) | C26: =IF(#REF!="","",#REF!) -> #REF! | D26: =IF(#REF!="","",#REF!) -> #REF! | E26: =IF(#REF!="","",#REF!) -> #REF! | F26: =IF(#REF!="","",#REF!) -> #REF! | G26: =IF(#REF!="","",#REF!) -> #REF! | H26: =IF(#REF!="","",#REF!) -> #REF! | I26: =IF(#REF!="","",#REF!) -> #REF!
A27: =IF(토지!#REF!="","",토지!#REF!) -> #REF! | B27: =IF(지장물!AF36="","",지장물!AF36) | C27: =IF(#REF!="","",#REF!) -> #REF! | D27: =IF(#REF!="","",#REF!) -> #REF! | E27: =IF(#REF!="","",#REF!) -> #REF! | F27: =IF(#REF!="","",#REF!) -> #REF! | G27: =IF(#REF!="","",#REF!) -> #REF! | H27: =IF(#REF!="","",#REF!) -> #REF! | I27: =IF(#REF!="","",#REF!) -> #REF!
A28: =IF(토지!#REF!="","",토지!#REF!) -> #REF! | B28: =IF(지장물!AF37="","",지장물!AF37) | C28: =IF(#REF!="","",#REF!) -> #REF! | D28: =IF(#REF!="","",#REF!) -> #REF! | E28: =IF(#REF!="","",#REF!) -> #REF! | F28: =IF(#REF!="","",#REF!) -> #REF! | G28: =IF(#REF!="","",#REF!) -> #REF! | H28: =IF(#REF!="","",#REF!) -> #REF! | I28: =IF(#REF!="","",#REF!) -> #REF!
A29: =IF(토지!#REF!="","",토지!#REF!) -> #REF! | B29: =IF(지장물!AF38="","",지장물!AF38) | C29: =IF(#REF!="","",#REF!) -> #REF! | D29: =IF(#REF!="","",#REF!) -> #REF! | E29: =IF(#REF!="","",#REF!) -> #REF! | F29: =IF(#REF!="","",#REF!) -> #REF! | G29: =IF(#REF!="","",#REF!) -> #REF! | H29: =IF(#REF!="","",#REF!) -> #REF! | I29: =IF(#REF!="","",#REF!) -> #REF!
A30: =IF(토지!#REF!="","",토지!#REF!) -> #REF! | B30: =IF(지장물!#REF!="","",지장물!#REF!) -> #REF! | C30: =IF(#REF!="","",#REF!) -> #REF! | D30: =IF(#REF!="","",#REF!) -> #REF! | E30: =IF(#REF!="","",#REF!) -> #REF! | F30: =IF(#REF!="","",#REF!) -> #REF! | G30: =IF(#REF!="","",#REF!) -> #REF! | H30: =IF(#REF!="","",#REF!) -> #REF! | I30: =IF(#REF!="","",#REF!) -> #REF!
A31: =IF(토지!#REF!="","",토지!#REF!) -> #REF! | B31: =IF(지장물!AF39="","",지장물!AF39) | C31: =IF(#REF!="","",#REF!) -> #REF! | D31: =IF(#REF!="","",#REF!) -> #REF! | E31: =IF(#REF!="","",#REF!) -> #REF! | F31: =IF(#REF!="","",#REF!) -> #REF! | G31: =IF(#REF!="","",#REF!) -> #REF! | H31: =IF(#REF!="","",#REF!) -> #REF! | I31: =IF(#REF!="","",#REF!) -> #REF!
A32: =IF(토지!#REF!="","",토지!#REF!) -> #REF! | B32: =IF(지장물!AF40="","",지장물!AF40) | C32: =IF(#REF!="","",#REF!) -> #REF! | D32: =IF(#REF!="","",#REF!) -> #REF! | E32: =IF(#REF!="","",#REF!) -> #REF! | F32: =IF(#REF!="","",#REF!) -> #REF! | G32: =IF(#REF!="","",#REF!) -> #REF! | H32: =IF(#REF!="","",#REF!) -> #REF! | I32: =IF(#REF!="","",#REF!) -> #REF!
A33: =IF(토지!#REF!="","",토지!#REF!) -> #REF! | B33: =IF(지장물!AF41="","",지장물!AF41) | C33: =IF(#REF!="","",#REF!) -> #REF! | D33: =IF(#REF!="","",#REF!) -> #REF! | E33: =IF(#REF!="","",#REF!) -> #REF! | F33: =IF(#REF!="","",#REF!) -> #REF! | G33: =IF(#REF!="","",#REF!) -> #REF! | H33: =IF(#REF!="","",#REF!) -> #REF! | I33: =IF(#REF!="","",#REF!) -> #REF!
A34: =IF(토지!#REF!="","",토지!#REF!) -> #REF! | B34: =IF(지장물!AF42="","",지장물!AF42) | C34: =IF(#REF!="","",#REF!) -> #REF! | D34: =IF(#REF!="","",#REF!) -> #REF! | E34: =IF(#REF!="","",#REF!) -> #REF! | F34: =IF(#REF!="","",#REF!) -> #REF! | G34: =IF(#REF!="","",#REF!) -> #REF! | H34: =IF(#REF!="","",#REF!) -> #REF! | I34: =IF(#REF!="","",#REF!) -> #REF!
A35: =IF(토지!#REF!="","",토지!#REF!) -> #REF! | B35: =IF(지장물!AF43="","",지장물!AF43) | C35: =IF(#REF!="","",#REF!) -> #REF! | D35: =IF(#REF!="","",#REF!) -> #REF! | E35: =IF(#REF!="","",#REF!) -> #REF! | F35: =IF(#REF!="","",#REF!) -> #REF! | G35: =IF(#REF!="","",#REF!) -> #REF! | H35: =IF(#REF!="","",#REF!) -> #REF! | I35: =IF(#REF!="","",#REF!) -> #REF!
A36: =IF(토지!#REF!="","",토지!#REF!) -> #REF! | B36: =IF(지장물!AF44="","",지장물!AF44) | C36: =IF(#REF!="","",#REF!) -> #REF! | D36: =IF(#REF!="","",#REF!) -> #REF! | E36: =IF(#REF!="","",#REF!) -> #REF! | F36: =IF(#REF!="","",#REF!) -> #REF! | G36: =IF(#REF!="","",#REF!) -> #REF! | H36: =IF(#REF!="","",#REF!) -> #REF! | I36: =IF(#REF!="","",#REF!) -> #REF!
A37: =IF(토지!#REF!="","",토지!#REF!) -> #REF! | B37: =IF(지장물!AF45="","",지장물!AF45) | C37: =IF(#REF!="","",#REF!) -> #REF! | D37: =IF(#REF!="","",#REF!) -> #REF! | E37: =IF(#REF!="","",#REF!) -> #REF! | F37: =IF(#REF!="","",#REF!) -> #REF! | G37: =IF(#REF!="","",#REF!) -> #REF! | H37: =IF(#REF!="","",#REF!) -> #REF! | I37: =IF(#REF!="","",#REF!) -> #REF!
A38: =IF(토지!#REF!="","",토지!#REF!) -> #REF! | B38: =IF(지장물!AF46="","",지장물!AF46) | C38: =IF(#REF!="","",#REF!) -> #REF! | D38: =IF(#REF!="","",#REF!) -> #REF! | E38: =IF(#REF!="","",#REF!) -> #REF! | F38: =IF(#REF!="","",#REF!) -> #REF! | G38: =IF(#REF!="","",#REF!) -> #REF! | H38: =IF(#REF!="","",#REF!) -> #REF! | I38: =IF(#REF!="","",#REF!) -> #REF!
A39: =IF(토지!#REF!="","",토지!#REF!) -> #REF! | B39: =IF(지장물!AF47="","",지장물!AF47) | C39: =IF(#REF!="","",#REF!) -> #REF! | D39: =IF(#REF!="","",#REF!) -> #REF! | E39: =IF(#REF!="","",#REF!) -> #REF! | F39: =IF(#REF!="","",#REF!) -> #REF! | G39: =IF(#REF!="","",#REF!) -> #REF! | H39: =IF(#REF!="","",#REF!) -> #REF! | I39: =IF(#REF!="","",#REF!) -> #REF!
A40: =IF(토지!#REF!="","",토지!#REF!) -> #REF! | B40: =IF(지장물!AF48="","",지장물!AF48) | C40: =IF(#REF!="","",#REF!) -> #REF! | D40: =IF(#REF!="","",#REF!) -> #REF! | E40: =IF(#REF!="","",#REF!) -> #REF! | F40: =IF(#REF!="","",#REF!) -> #REF! | G40: =IF(#REF!="","",#REF!) -> #REF! | H40: =IF(#REF!="","",#REF!) -> #REF! | I40: =IF(#REF!="","",#REF!) -> #REF!
A41: =IF(토지!#REF!="","",토지!#REF!) -> #REF! | B41: =IF(지장물!AF49="","",지장물!AF49) | C41: =IF(#REF!="","",#REF!) -> #REF! | D41: =IF(#REF!="","",#REF!) -> #REF! | E41: =IF(#REF!="","",#REF!) -> #REF! | F41: =IF(#REF!="","",#REF!) -> #REF! | G41: =IF(#REF!="","",#REF!) -> #REF! | H41: =IF(#REF!="","",#REF!) -> #REF! | I41: =IF(#REF!="","",#REF!) -> #REF!
A42: =IF(토지!#REF!="","",토지!#REF!) -> #REF! | B42: =IF(지장물!AF50="","",지장물!AF50) | C42: =IF(#REF!="","",#REF!) -> #REF! | D42: =IF(#REF!="","",#REF!) -> #REF! | E42: =IF(#REF!="","",#REF!) -> #REF! | F42: =IF(#REF!="","",#REF!) -> #REF! | G42: =IF(#REF!="","",#REF!) -> #REF! | H42: =IF(#REF!="","",#REF!) -> #REF! | I42: =IF(#REF!="","",#REF!) -> #REF!
A43: =IF(토지!#REF!="","",토지!#REF!) -> #REF! | B43: =IF(지장물!AF51="","",지장물!AF51) | C43: =IF(#REF!="","",#REF!) -> #REF! | D43: =IF(#REF!="","",#REF!) -> #REF! | E43: =IF(#REF!="","",#REF!) -> #REF! | F43: =IF(#REF!="","",#REF!) -> #REF! | G43: =IF(#REF!="","",#REF!) -> #REF! | H43: =IF(#REF!="","",#REF!) -> #REF! | I43: =IF(#REF!="","",#REF!) -> #REF!
A44: =IF(토지!#REF!="","",토지!#REF!) -> #REF! | B44: =IF(지장물!#REF!="","",지장물!#REF!) -> #REF! | C44: =IF(#REF!="","",#REF!) -> #REF! | D44: =IF(#REF!="","",#REF!) -> #REF! | E44: =IF(#REF!="","",#REF!) -> #REF! | F44: =IF(#REF!="","",#REF!) -> #REF! | G44: =IF(#REF!="","",#REF!) -> #REF! | H44: =IF(#REF!="","",#REF!) -> #REF! | I44: =IF(#REF!="","",#REF!) -> #REF!
A45: =IF(토지!#REF!="","",토지!#REF!) -> #REF! | B45: =IF(지장물!AF52="","",지장물!AF52) | C45: =IF(#REF!="","",#REF!) -> #REF! | D45: =IF(#REF!="","",#REF!) -> #REF! | E45: =IF(#REF!="","",#REF!) -> #REF! | F45: =IF(#REF!="","",#REF!) -> #REF! | G45: =IF(#REF!="","",#REF!) -> #REF! | H45: =IF(#REF!="","",#REF!) -> #REF! | I45: =IF(#REF!="","",#REF!) -> #REF!
A46: =IF(토지!#REF!="","",토지!#REF!) -> #REF! | B46: =IF(지장물!#REF!="","",지장물!#REF!) -> #REF! | C46: =IF(#REF!="","",#REF!) -> #REF! | D46: =IF(#REF!="","",#REF!) -> #REF! | E46: =IF(#REF!="","",#REF!) -> #REF! | F46: =IF(#REF!="","",#REF!) -> #REF! | G46: =IF(#REF!="","",#REF!) -> #REF! | H46: =IF(#REF!="","",#REF!) -> #REF! | I46: =IF(#REF!="","",#REF!) -> #REF!
A47: =IF(토지!#REF!="","",토지!#REF!) -> #REF! | B47: =IF(지장물!AF55="","",지장물!AF55) | C47: =IF(#REF!="","",#REF!) -> #REF! | D47: =IF(#REF!="","",#REF!) -> #REF! | E47: =IF(#REF!="","",#REF!) -> #REF! | F47: =IF(#REF!="","",#REF!) -> #REF! | G47: =IF(#REF!="","",#REF!) -> #REF! | H47: =IF(#REF!="","",#REF!) -> #REF! | I47: =IF(#REF!="","",#REF!) -> #REF!
A48: =IF(토지!#REF!="","",토지!#REF!) -> #REF! | B48: =IF(지장물!#REF!="","",지장물!#REF!) -> #REF! | C48: =IF(#REF!="","",#REF!) -> #REF! | D48: =IF(#REF!="","",#REF!) -> #REF! | E48: =IF(#REF!="","",#REF!) -> #REF! | F48: =IF(#REF!="","",#REF!) -> #REF! | G48: =IF(#REF!="","",#REF!) -> #REF! | H48: =IF(#REF!="","",#REF!) -> #REF! | I48: =IF(#REF!="","",#REF!) -> #REF!
A49: =IF(토지!AD51="","",토지!AD51) | B49: =IF(지장물!AF196="","",지장물!AF196) | C49: =IF(#REF!="","",#REF!) -> #REF! | D49: =IF(#REF!="","",#REF!) -> #REF! | E49: =IF(#REF!="","",#REF!) -> #REF! | F49: =IF(#REF!="","",#REF!) -> #REF! | G49: =IF(#REF!="","",#REF!) -> #REF! | H49: =IF(#REF!="","",#REF!) -> #REF! | I49: =IF(#REF!="","",#REF!) -> #REF!
A50: =IF(토지!AD52="","",토지!AD52) | B50: =IF(지장물!AF197="","",지장물!AF197) | C50: =IF(#REF!="","",#REF!) -> #REF! | D50: =IF(#REF!="","",#REF!) -> #REF! | E50: =IF(#REF!="","",#REF!) -> #REF! | F50: =IF(#REF!="","",#REF!) -> #REF! | G50: =IF(#REF!="","",#REF!) -> #REF! | H50: =IF(#REF!="","",#REF!) -> #REF! | I50: =IF(#REF!="","",#REF!) -> #REF!
A51: =IF(토지!AD53="","",토지!AD53) | B51: =IF(지장물!AF198="","",지장물!AF198) | C51: =IF(#REF!="","",#REF!) -> #REF! | D51: =IF(#REF!="","",#REF!) -> #REF! | E51: =IF(#REF!="","",#REF!) -> #REF! | F51: =IF(#REF!="","",#REF!) -> #REF! | G51: =IF(#REF!="","",#REF!) -> #REF! | H51: =IF(#REF!="","",#REF!) -> #REF! | I51: =IF(#REF!="","",#REF!) -> #REF!
A52: =IF(토지!AD54="","",토지!AD54) | B52: =IF(지장물!AF199="","",지장물!AF199) | C52: =IF(#REF!="","",#REF!) -> #REF! | D52: =IF(#REF!="","",#REF!) -> #REF! | E52: =IF(#REF!="","",#REF!) -> #REF! | F52: =IF(#REF!="","",#REF!) -> #REF! | G52: =IF(#REF!="","",#REF!) -> #REF! | H52: =IF(#REF!="","",#REF!) -> #REF! | I52: =IF(#REF!="","",#REF!) -> #REF!
A53: =IF(토지!AD55="","",토지!AD55) | B53: =IF(지장물!AF200="","",지장물!AF200) | C53: =IF(#REF!="","",#REF!) -> #REF! | D53: =IF(#REF!="","",#REF!) -> #REF! | E53: =IF(#REF!="","",#REF!) -> #REF! | F53: =IF(#REF!="","",#REF!) -> #REF! | G53: =IF(#REF!="","",#REF!) -> #REF! | H53: =IF(#REF!="","",#REF!) -> #REF! | I53: =IF(#REF!="","",#REF!) -> #REF!
A54: =IF(토지!AD56="","",토지!AD56) | B54: =IF(지장물!AF201="","",지장물!AF201) | C54: =IF(#REF!="","",#REF!) -> #REF! | D54: =IF(#REF!="","",#REF!) -> #REF! | E54: =IF(#REF!="","",#REF!) -> #REF! | F54: =IF(#REF!="","",#REF!) -> #REF! | G54: =IF(#REF!="","",#REF!) -> #REF! | H54: =IF(#REF!="","",#REF!) -> #REF! | I54: =IF(#REF!="","",#REF!) -> #REF!
A55: =IF(토지!AD57="","",토지!AD57) | B55: =IF(지장물!AF202="","",지장물!AF202) | C55: =IF(#REF!="","",#REF!) -> #REF! | D55: =IF(#REF!="","",#REF!) -> #REF! | E55: =IF(#REF!="","",#REF!) -> #REF! | F55: =IF(#REF!="","",#REF!) -> #REF! | G55: =IF(#REF!="","",#REF!) -> #REF! | H55: =IF(#REF!="","",#REF!) -> #REF! | I55: =IF(#REF!="","",#REF!) -> #REF!
A56: =IF(토지!AD58="","",토지!AD58) | B56: =IF(지장물!AF203="","",지장물!AF203) | C56: =IF(#REF!="","",#REF!) -> #REF! | D56: =IF(#REF!="","",#REF!) -> #REF! | E56: =IF(#REF!="","",#REF!) -> #REF! | F56: =IF(#REF!="","",#REF!) -> #REF! | G56: =IF(#REF!="","",#REF!) -> #REF! | H56: =IF(#REF!="","",#REF!) -> #REF! | I56: =IF(#REF!="","",#REF!) -> #REF!
A57: =IF(토지!AD59="","",토지!AD59) | B57: =IF(지장물!AF204="","",지장물!AF204) | C57: =IF(#REF!="","",#REF!) -> #REF! | D57: =IF(#REF!="","",#REF!) -> #REF! | E57: =IF(#REF!="","",#REF!) -> #REF! | F57: =IF(#REF!="","",#REF!) -> #REF! | G57: =IF(#REF!="","",#REF!) -> #REF! | H57: =IF(#REF!="","",#REF!) -> #REF! | I57: =IF(#REF!="","",#REF!) -> #REF!
A58: =IF(토지!AD60="","",토지!AD60) | B58: =IF(지장물!AF205="","",지장물!AF205) | C58: =IF(#REF!="","",#REF!) -> #REF! | D58: =IF(#REF!="","",#REF!) -> #REF! | E58: =IF(#REF!="","",#REF!) -> #REF! | F58: =IF(#REF!="","",#REF!) -> #REF! | G58: =IF(#REF!="","",#REF!) -> #REF! | H58: =IF(#REF!="","",#REF!) -> #REF! | I58: =IF(#REF!="","",#REF!) -> #REF!
A59: =IF(토지!AD61="","",토지!AD61) | B59: =IF(지장물!AF206="","",지장물!AF206) | C59: =IF(#REF!="","",#REF!) -> #REF! | D59: =IF(#REF!="","",#REF!) -> #REF! | E59: =IF(#REF!="","",#REF!) -> #REF! | F59: =IF(#REF!="","",#REF!) -> #REF! | G59: =IF(#REF!="","",#REF!) -> #REF! | H59: =IF(#REF!="","",#REF!) -> #REF! | I59: =IF(#REF!="","",#REF!) -> #REF!
A60: =IF(토지!AD62="","",토지!AD62) | B60: =IF(지장물!AF207="","",지장물!AF207) | C60: =IF(#REF!="","",#REF!) -> #REF! | D60: =IF(#REF!="","",#REF!) -> #REF! | E60: =IF(#REF!="","",#REF!) -> #REF! | F60: =IF(#REF!="","",#REF!) -> #REF! | G60: =IF(#REF!="","",#REF!) -> #REF! | H60: =IF(#REF!="","",#REF!) -> #REF! | I60: =IF(#REF!="","",#REF!) -> #REF!
... A151: =IF(토지!AD153="","",토지!AD153) | B151: =IF(지장물!AF298="","",지장물!AF298) | C151: =IF(#REF!="","",#REF!) -> #REF! | D151: =IF(#REF!="","",#REF!) -> #REF! | E151: =IF(#REF!="","",#REF!) -> #REF! | F151: =IF(#REF!="","",#REF!) -> #REF! | G151: =IF(#REF!="","",#REF!) -> #REF! | H151: =IF(#REF!="","",#REF!) -> #REF! | I151: =IF(#REF!="","",#REF!) -> #REF!

Sheet 토지
A1: 손실보상금 산정 및 지급조서(토지)
A2: =총괄!$A$3 -> ○ 사업명 : 승학터널 민간투자사업
A3: 세목 고시 | B3: 소재지 | D3: 지번 | F3: 지목 | H3: 토지이용계획원 상 용도지역,용도지구,용도구역 등 | L3: 지적 | N3: 소유 | O3: 지분 | P3: 지분 | Q3: 지분 | R3: OO법인 | T3: OO법인 | V3: - | X3: 최고 | Y3: 최저 | Z3: 단가비율 | AA3: 감정평가 법인 평균 | AC3: 개별공시지가 | AD3: 소유자 | AH3: 소유권이외의 권리 | AK3: 공탁 | AN3: 등기 | AP3: 취득방법
A4: 일련번호 | B4: 구 | C4: 동 | D4: 당초지번 | E4: 편입지번 | F4: 공부상 지목 | G4: 현황 지목 | H4: 용도지역 | I4: 국토개발법 저촉 (용도지구, 용도구역) | J4: 다른 법령 등 저촉 | K4: 공부상 총면적 | L4: 편입 면적 | M4: 단위 | N4: 지분 | O4: (분자) | P4: (분모) | Q4: 계산 | R4: 단가 | S4: 금액 | T4: 단가 | U4: 금액 | V4: 단가 | W4: 금액 | X4: 단가 | Y4: 단가 | Z4: (최고/최저) | AA4: 평균단가 | AB4: 평균금액(원) | AC4: (OOOO년OO월) | AD4: 성명 | AE4: 주소 | AF4: 주민등록번호 | AG4: 연락처 | AH4: 권리자 | AI4: 주소 | AJ4: 권리 내용 | AK4: 공탁일 | AL4: 공탁번호 | AM4: 공탁기관 | AN4: 등기일 | AO4: 등기번호 | AP4: 취득일 | AQ4: 방법 | AR4: 비고
A5: 1 | B5: 서구 | C5: 서대신동3가 | D5: 31-31 | E5: 31-462 | F5: 전 | G5: 전 | H5: 자연녹지지역 | K5: 292 | L5: 292 | M5: ㎡ | N5: 42/84 | O5: =IF(N5="1","1",LEFT(N5,FIND("/",N5)-1)) -> 42 | P5: =IF(N5="1","1",RIGHT(N5,LEN(N5)-FIND("/",N5))) -> 84 | Q5: =O5/P5 -> 0.5 | S5: =IFERROR(ROUNDDOWN(R5*L5*Q5,-1),0) -> 0 | U5: =IFERROR(ROUNDDOWN(T5*L5*Q5,-1),0) -> 0 | W5: =IFERROR(ROUNDDOWN(V5*L5*Q5,-1),0) -> 0 | X5: =MAX(R5,T5,V5) -> 0 | Y5: =MIN(R5,T5,V5) -> 0 | Z5: =X5/Y5 -> #DIV/0! | AA5: =IFERROR(AVERAGE(R5,T5,V5),0) -> 0 | AB5: =IFERROR(ROUNDDOWN(AA5*L5*Q5,-1),0) -> 0
N6: 14/84 | O6: =IF(N6="1","1",LEFT(N6,FIND("/",N6)-1)) -> 14 | P6: =IF(N6="1","1",RIGHT(N6,LEN(N6)-FIND("/",N6))) -> 84 | Q6: =O6/P6 -> 0.16666667 | S6: =IFERROR(ROUNDDOWN(R6*L6*Q6,-1),0) -> 0 | U6: =IFERROR(ROUNDDOWN(T6*L6*Q6,-1),0) -> 0 | W6: =IFERROR(ROUNDDOWN(V6*L6*Q6,-1),0) -> 0 | X6: =MAX(R6,T6,V6) -> 0 | Y6: =MIN(R6,T6,V6) -> 0 | Z6: =X6/Y6 -> #DIV/0! | AA6: =IFERROR(AVERAGE(R6,T6,V6),0) -> 0 | AB6: =IFERROR(ROUNDDOWN(AA6*L6*Q6,-1),0) -> 0
N7: 14/84 | O7: =IF(N7="1","1",LEFT(N7,FIND("/",N7)-1)) -> 14 | P7: =IF(N7="1","1",RIGHT(N7,LEN(N7)-FIND("/",N7))) -> 84 | Q7: =O7/P7 -> 0.16666667 | S7: =IFERROR(ROUNDDOWN(R7*L7*Q7,-1),0) -> 0 | U7: =IFERROR(ROUNDDOWN(T7*L7*Q7,-1),0) -> 0 | W7: =IFERROR(ROUNDDOWN(V7*L7*Q7,-1),0) -> 0 | X7: =MAX(R7,T7,V7) -> 0 | Y7: =MIN(R7,T7,V7) -> 0 | Z7: =X7/Y7 -> #DIV/0! | AA7: =IFERROR(AVERAGE(R7,T7,V7),0) -> 0 | AB7: =IFERROR(ROUNDDOWN(AA7*L7*Q7,-1),0) -> 0
N8: 4/84 | O8: =IF(N8="1","1",LEFT(N8,FIND("/",N8)-1)) -> 4 | P8: =IF(N8="1","1",RIGHT(N8,LEN(N8)-FIND("/",N8))) -> 84 | Q8: =O8/P8 -> 0.047619048 | S8: =IFERROR(ROUNDDOWN(R8*L8*Q8,-1),0) -> 0 | U8: =IFERROR(ROUNDDOWN(T8*L8*Q8,-1),0) -> 0 | W8: =IFERROR(ROUNDDOWN(V8*L8*Q8,-1),0) -> 0 | X8: =MAX(R8,T8,V8) -> 0 | Y8: =MIN(R8,T8,V8) -> 0 | Z8: =X8/Y8 -> #DIV/0! | AA8: =IFERROR(AVERAGE(R8,T8,V8),0) -> 0 | AB8: =IFERROR(ROUNDDOWN(AA8*L8*Q8,-1),0) -> 0
N9: 4/84 | O9: =IF(N9="1","1",LEFT(N9,FIND("/",N9)-1)) -> 4 | P9: =IF(N9="1","1",RIGHT(N9,LEN(N9)-FIND("/",N9))) -> 84 | Q9: =O9/P9 -> 0.047619048 | S9: =IFERROR(ROUNDDOWN(R9*L9*Q9,-1),0) -> 0 | U9: =IFERROR(ROUNDDOWN(T9*L9*Q9,-1),0) -> 0 | W9: =IFERROR(ROUNDDOWN(V9*L9*Q9,-1),0) -> 0 | X9: =MAX(R9,T9,V9) -> 0 | Y9: =MIN(R9,T9,V9) -> 0 | Z9: =X9/Y9 -> #DIV/0! | AA9: =IFERROR(AVERAGE(R9,T9,V9),0) -> 0 | AB9: =IFERROR(ROUNDDOWN(AA9*L9*Q9,-1),0) -> 0
N10: 6/84 | O10: =IF(N10="1","1",LEFT(N10,FIND("/",N10)-1)) -> 6 | P10: =IF(N10="1","1",RIGHT(N10,LEN(N10)-FIND("/",N10))) -> 84 | Q10: =O10/P10 -> 0.071428571 | S10: =IFERROR(ROUNDDOWN(R10*L10*Q10,-1),0) -> 0 | U10: =IFERROR(ROUNDDOWN(T10*L10*Q10,-1),0) -> 0 | W10: =IFERROR(ROUNDDOWN(V10*L10*Q10,-1),0) -> 0 | X10: =MAX(R10,T10,V10) -> 0 | Y10: =MIN(R10,T10,V10) -> 0 | Z10: =X10/Y10 -> #DIV/0! | AA10: =IFERROR(AVERAGE(R10,T10,V10),0) -> 0 | AB10: =IFERROR(ROUNDDOWN(AA10*L10*Q10,-1),0) -> 0
A11: 2 | B11: 서구 | C11: 서대신동3가 | D11: 31-108 | E11: 31-472 | F11: 전 | G11: 전 | H11: 자연녹지지역 | K11: 346 | L11: 346 | M11: ㎡ | N11: 1/1 | O11: =IF(N11="1","1",LEFT(N11,FIND("/",N11)-1)) -> 1 | P11: =IF(N11="1","1",RIGHT(N11,LEN(N11)-FIND("/",N11))) -> 1 | Q11: =O11/P11 -> 1 | S11: =IFERROR(ROUNDDOWN(R11*L11*Q11,-1),0) -> 0 | U11: =IFERROR(ROUNDDOWN(T11*L11*Q11,-1),0) -> 0 | W11: =IFERROR(ROUNDDOWN(V11*L11*Q11,-1),0) -> 0 | X11: =MAX(R11,T11,V11) -> 0 | Y11: =MIN(R11,T11,V11) -> 0 | Z11: =X11/Y11 -> #DIV/0! | AA11: =IFERROR(AVERAGE(R11,T11,V11),0) -> 0 | AB11: =IFERROR(ROUNDDOWN(AA11*L11*Q11,-1),0) -> 0
A12: 3 | B12: 서구 | C12: 서대신동3가 | D12: 31-84 | E12: 31-465 | F12: 전 | G12: 전 | H12: 자연녹지지역 | K12: 276 | L12: 276 | M12: ㎡ | N12: 1/1 | O12: =IF(N12="1","1",LEFT(N12,FIND("/",N12)-1)) -> 1 | P12: =IF(N12="1","1",RIGHT(N12,LEN(N12)-FIND("/",N12))) -> 1 | Q12: =O12/P12 -> 1 | S12: =IFERROR(ROUNDDOWN(R12*L12*Q12,-1),0) -> 0 | U12: =IFERROR(ROUNDDOWN(T12*L12*Q12,-1),0) -> 0 | W12: =IFERROR(ROUNDDOWN(V12*L12*Q12,-1),0) -> 0 | X12: =MAX(R12,T12,V12) -> 0 | Y12: =MIN(R12,T12,V12) -> 0 | Z12: =X12/Y12 -> #DIV/0! | AA12: =IFERROR(AVERAGE(R12,T12,V12),0) -> 0 | AB12: =IFERROR(ROUNDDOWN(AA12*L12*Q12,-1),0) -> 0
A13: 4 | B13: 서구 | C13: 서대신동3가 | D13: 31-85 | E13: 31-466 | F13: 전 | G13: 전 | H13: 자연녹지지역 | K13: 703 | L13: 703 | M13: ㎡ | N13: 7/12 | O13: =IF(N13="1","1",LEFT(N13,FIND("/",N13)-1)) -> 7 | P13: =IF(N13="1","1",RIGHT(N13,LEN(N13)-FIND("/",N13))) -> 12 | Q13: =O13/P13 -> 0.58333333 | S13: =IFERROR(ROUNDDOWN(R13*L13*Q13,-1),0) -> 0 | U13: =IFERROR(ROUNDDOWN(T13*L13*Q13,-1),0) -> 0 | W13: =IFERROR(ROUNDDOWN(V13*L13*Q13,-1),0) -> 0 | X13: =MAX(R13,T13,V13) -> 0 | Y13: =MIN(R13,T13,V13) -> 0 | Z13: =X13/Y13 -> #DIV/0! | AA13: =IFERROR(AVERAGE(R13,T13,V13),0) -> 0 | AB13: =IFERROR(ROUNDDOWN(AA13*L13*Q13,-1),0) -> 0
N14: 5/12 | O14: =IF(N14="1","1",LEFT(N14,FIND("/",N14)-1)) -> 5 | P14: =IF(N14="1","1",RIGHT(N14,LEN(N14)-FIND("/",N14))) -> 12 | Q14: =O14/P14 -> 0.41666667 | S14: =IFERROR(ROUNDDOWN(R14*L14*Q14,-1),0) -> 0 | U14: =IFERROR(ROUNDDOWN(T14*L14*Q14,-1),0) -> 0 | W14: =IFERROR(ROUNDDOWN(V14*L14*Q14,-1),0) -> 0 | X14: =MAX(R14,T14,V14) -> 0 | Y14: =MIN(R14,T14,V14) -> 0 | Z14: =X14/Y14 -> #DIV/0! | AA14: =IFERROR(AVERAGE(R14,T14,V14),0) -> 0 | AB14: =IFERROR(ROUNDDOWN(AA14*L14*Q14,-1),0) -> 0
A15: 5 | B15: 서구 | C15: 서대신동3가 | D15: 31-86 | E15: 31-467 | F15: 전 | G15: 전 | H15: 자연녹지지역 | K15: 660 | L15: 660 | M15: ㎡ | N15: 6/10 | O15: =IF(N15="1","1",LEFT(N15,FIND("/",N15)-1)) -> 6 | P15: =IF(N15="1","1",RIGHT(N15,LEN(N15)-FIND("/",N15))) -> 10 | Q15: =O15/P15 -> 0.6 | S15: =IFERROR(ROUNDDOWN(R15*L15*Q15,-1),0) -> 0 | U15: =IFERROR(ROUNDDOWN(T15*L15*Q15,-1),0) -> 0 | W15: =IFERROR(ROUNDDOWN(V15*L15*Q15,-1),0) -> 0 | X15: =MAX(R15,T15,V15) -> 0 | Y15: =MIN(R15,T15,V15) -> 0 | Z15: =X15/Y15 -> #DIV/0! | AA15: =IFERROR(AVERAGE(R15,T15,V15),0) -> 0 | AB15: =IFERROR(ROUNDDOWN(AA15*L15*Q15,-1),0) -> 0
N16: 4/10 | O16: =IF(N16="1","1",LEFT(N16,FIND("/",N16)-1)) -> 4 | P16: =IF(N16="1","1",RIGHT(N16,LEN(N16)-FIND("/",N16))) -> 10 | Q16: =O16/P16 -> 0.4 | S16: =IFERROR(ROUNDDOWN(R16*L16*Q16,-1),0) -> 0 | U16: =IFERROR(ROUNDDOWN(T16*L16*Q16,-1),0) -> 0 | W16: =IFERROR(ROUNDDOWN(V16*L16*Q16,-1),0) -> 0 | X16: =MAX(R16,T16,V16) -> 0 | Y16: =MIN(R16,T16,V16) -> 0 | Z16: =X16/Y16 -> #DIV/0! | AA16: =IFERROR(AVERAGE(R16,T16,V16),0) -> 0 | AB16: =IFERROR(ROUNDDOWN(AA16*L16*Q16,-1),0) -> 0
A17: 6 | B17: 서구 | C17: 서대신동3가 | D17: 31-111 | E17: 31-473 | F17: 전 | G17: 전 | H17: 자연녹지지역,제2종일반주거지역 | K17: 546 | L17: 546 | M17: ㎡ | N17: 6/10 | O17: =IF(N17="1","1",LEFT(N17,FIND("/",N17)-1)) -> 6 | P17: =IF(N17="1","1",RIGHT(N17,LEN(N17)-FIND("/",N17))) -> 10 | Q17: =O17/P17 -> 0.6 | S17: =IFERROR(ROUNDDOWN(R17*L17*Q17,-1),0) -> 0 | U17: =IFERROR(ROUNDDOWN(T17*L17*Q17,-1),0) -> 0 | W17: =IFERROR(ROUNDDOWN(V17*L17*Q17,-1),0) -> 0 | X17: =MAX(R17,T17,V17) -> 0 | Y17: =MIN(R17,T17,V17) -> 0 | Z17: =X17/Y17 -> #DIV/0! | AA17: =IFERROR(AVERAGE(R17,T17,V17),0) -> 0 | AB17: =IFERROR(ROUNDDOWN(AA17*L17*Q17,-1),0) -> 0
N18: 4/10 | O18: =IF(N18="1","1",LEFT(N18,FIND("/",N18)-1)) -> 4 | P18: =IF(N18="1","1",RIGHT(N18,LEN(N18)-FIND("/",N18))) -> 10 | Q18: =O18/P18 -> 0.4 | S18: =IFERROR(ROUNDDOWN(R18*L18*Q18,-1),0) -> 0 | U18: =IFERROR(ROUNDDOWN(T18*L18*Q18,-1),0) -> 0 | W18: =IFERROR(ROUNDDOWN(V18*L18*Q18,-1),0) -> 0 | X18: =MAX(R18,T18,V18) -> 0 | Y18: =MIN(R18,T18,V18) -> 0 | Z18: =X18/Y18 -> #DIV/0! | AA18: =IFERROR(AVERAGE(R18,T18,V18),0) -> 0 | AB18: =IFERROR(ROUNDDOWN(AA18*L18*Q18,-1),0) -> 0
A19: 7 | B19: 서구 | C19: 서대신동3가 | D19: 31-368 | E19: 31-474 | F19: 대 | G19: 대 | H19: 제2종일반주거지역 | K19: 63 | L19: 63 | M19: ㎡ | N19: 1/2 | O19: =IF(N19="1","1",LEFT(N19,FIND("/",N19)-1)) -> 1 | P19: =IF(N19="1","1",RIGHT(N19,LEN(N19)-FIND("/",N19))) -> 2 | Q19: =O19/P19 -> 0.5 | S19: =IFERROR(ROUNDDOWN(R19*L19*Q19,-1),0) -> 0 | U19: =IFERROR(ROUNDDOWN(T19*L19*Q19,-1),0) -> 0 | W19: =IFERROR(ROUNDDOWN(V19*L19*Q19,-1),0) -> 0 | X19: =MAX(R19,T19,V19) -> 0 | Y19: =MIN(R19,T19,V19) -> 0 | Z19: =X19/Y19 -> #DIV/0! | AA19: =IFERROR(AVERAGE(R19,T19,V19),0) -> 0 | AB19: =IFERROR(ROUNDDOWN(AA19*L19*Q19,-1),0) -> 0
N20: 1/2 | O20: =IF(N20="1","1",LEFT(N20,FIND("/",N20)-1)) -> 1 | P20: =IF(N20="1","1",RIGHT(N20,LEN(N20)-FIND("/",N20))) -> 2 | Q20: =O20/P20 -> 0.5 | S20: =IFERROR(ROUNDDOWN(R20*L20*Q20,-1),0) -> 0 | U20: =IFERROR(ROUNDDOWN(T20*L20*Q20,-1),0) -> 0 | W20: =IFERROR(ROUNDDOWN(V20*L20*Q20,-1),0) -> 0 | X20: =MAX(R20,T20,V20) -> 0 | Y20: =MIN(R20,T20,V20) -> 0 | Z20: =X20/Y20 -> #DIV/0! | AA20: =IFERROR(AVERAGE(R20,T20,V20),0) -> 0 | AB20: =IFERROR(ROUNDDOWN(AA20*L20*Q20,-1),0) -> 0
A21: 8 | B21: 서구 | C21: 서대신동3가 | D21: 167-7 | E21: 167-13 | F21: 도로 | G21: 도로 | H21: 제2종일반주거지역 | K21: 73 | L21: 73 | M21: ㎡ | N21: 1/1 | O21: =IF(N21="1","1",LEFT(N21,FIND("/",N21)-1)) -> 1 | P21: =IF(N21="1","1",RIGHT(N21,LEN(N21)-FIND("/",N21))) -> 1 | Q21: =O21/P21 -> 1 | S21: =IFERROR(ROUNDDOWN(R21*L21*Q21,-1),0) -> 0 | U21: =IFERROR(ROUNDDOWN(T21*L21*Q21,-1),0) -> 0 | W21: =IFERROR(ROUNDDOWN(V21*L21*Q21,-1),0) -> 0 | X21: =MAX(R21,T21,V21) -> 0 | Y21: =MIN(R21,T21,V21) -> 0 | Z21: =X21/Y21 -> #DIV/0! | AA21: =IFERROR(AVERAGE(R21,T21,V21),0) -> 0 | AB21: =IFERROR(ROUNDDOWN(AA21*L21*Q21,-1),0) -> 0
A22: 9 | B22: 서구 | C22: 서대신동3가 | D22: 31-40 | E22: 31-463 | F22: 전 | G22: 전 | H22: 자연녹지지역 | K22: 112 | L22: 112 | M22: ㎡ | N22: 1/1 | O22: =IF(N22="1","1",LEFT(N22,FIND("/",N22)-1)) -> 1 | P22: =IF(N22="1","1",RIGHT(N22,LEN(N22)-FIND("/",N22))) -> 1 | Q22: =O22/P22 -> 1 | S22: =IFERROR(ROUNDDOWN(R22*L22*Q22,-1),0) -> 0 | U22: =IFERROR(ROUNDDOWN(T22*L22*Q22,-1),0) -> 0 | W22: =IFERROR(ROUNDDOWN(V22*L22*Q22,-1),0) -> 0 | X22: =MAX(R22,T22,V22) -> 0 | Y22: =MIN(R22,T22,V22) -> 0 | Z22: =X22/Y22 -> #DIV/0! | AA22: =IFERROR(AVERAGE(R22,T22,V22),0) -> 0 | AB22: =IFERROR(ROUNDDOWN(AA22*L22*Q22,-1),0) -> 0
A23: 10 | B23: 서구 | C23: 서대신동3가 | D23: 31-41 | E23: 31-41 | F23: 전 | G23: 전 | H23: 자연녹지지역 | K23: 106 | L23: 106 | M23: ㎡ | N23: 1/1 | O23: =IF(N23="1","1",LEFT(N23,FIND("/",N23)-1)) -> 1 | P23: =IF(N23="1","1",RIGHT(N23,LEN(N23)-FIND("/",N23))) -> 1 | Q23: =O23/P23 -> 1 | S23: =IFERROR(ROUNDDOWN(R23*L23*Q23,-1),0) -> 0 | U23: =IFERROR(ROUNDDOWN(T23*L23*Q23,-1),0) -> 0 | W23: =IFERROR(ROUNDDOWN(V23*L23*Q23,-1),0) -> 0 | X23: =MAX(R23,T23,V23) -> 0 | Y23: =MIN(R23,T23,V23) -> 0 | Z23: =X23/Y23 -> #DIV/0! | AA23: =IFERROR(AVERAGE(R23,T23,V23),0) -> 0 | AB23: =IFERROR(ROUNDDOWN(AA23*L23*Q23,-1),0) -> 0
A24: 11 | B24: 서구 | C24: 서대신동3가 | D24: 31-42 | E24: 31-464 | F24: 전 | G24: 전 | H24: 자연녹지지역 | K24: 263 | L24: 263 | M24: ㎡ | N24: 3/10 | O24: =IF(N24="1","1",LEFT(N24,FIND("/",N24)-1)) -> 3 | P24: =IF(N24="1","1",RIGHT(N24,LEN(N24)-FIND("/",N24))) -> 10 | Q24: =O24/P24 -> 0.3 | S24: =IFERROR(ROUNDDOWN(R24*L24*Q24,-1),0) -> 0 | U24: =IFERROR(ROUNDDOWN(T24*L24*Q24,-1),0) -> 0 | W24: =IFERROR(ROUNDDOWN(V24*L24*Q24,-1),0) -> 0 | X24: =MAX(R24,T24,V24) -> 0 | Y24: =MIN(R24,T24,V24) -> 0 | Z24: =X24/Y24 -> #DIV/0! | AA24: =IFERROR(AVERAGE(R24,T24,V24),0) -> 0 | AB24: =IFERROR(ROUNDDOWN(AA24*L24*Q24,-1),0) -> 0
N25: 2.5/10 | O25: =IF(N25="1","1",LEFT(N25,FIND("/",N25)-1)) -> 2.5 | P25: =IF(N25="1","1",RIGHT(N25,LEN(N25)-FIND("/",N25))) -> 10 | Q25: =O25/P25 -> 0.25 | S25: =IFERROR(ROUNDDOWN(R25*L25*Q25,-1),0) -> 0 | U25: =IFERROR(ROUNDDOWN(T25*L25*Q25,-1),0) -> 0 | W25: =IFERROR(ROUNDDOWN(V25*L25*Q25,-1),0) -> 0 | X25: =MAX(R25,T25,V25) -> 0 | Y25: =MIN(R25,T25,V25) -> 0 | Z25: =X25/Y25 -> #DIV/0! | AA25: =IFERROR(AVERAGE(R25,T25,V25),0) -> 0 | AB25: =IFERROR(ROUNDDOWN(AA25*L25*Q25,-1),0) -> 0
N26: 2.5/10 | O26: =IF(N26="1","1",LEFT(N26,FIND("/",N26)-1)) -> 2.5 | P26: =IF(N26="1","1",RIGHT(N26,LEN(N26)-FIND("/",N26))) -> 10 | Q26: =O26/P26 -> 0.25 | S26: =IFERROR(ROUNDDOWN(R26*L26*Q26,-1),0) -> 0 | U26: =IFERROR(ROUNDDOWN(T26*L26*Q26,-1),0) -> 0 | W26: =IFERROR(ROUNDDOWN(V26*L26*Q26,-1),0) -> 0 | X26: =MAX(R26,T26,V26) -> 0 | Y26: =MIN(R26,T26,V26) -> 0 | Z26: =X26/Y26 -> #DIV/0! | AA26: =IFERROR(AVERAGE(R26,T26,V26),0) -> 0 | AB26: =IFERROR(ROUNDDOWN(AA26*L26*Q26,-1),0) -> 0
N27: 1/10 | O27: =IF(N27="1","1",LEFT(N27,FIND("/",N27)-1)) -> 1 | P27: =IF(N27="1","1",RIGHT(N27,LEN(N27)-FIND("/",N27))) -> 10 | Q27: =O27/P27 -> 0.1 | S27: =IFERROR(ROUNDDOWN(R27*L27*Q27,-1),0) -> 0 | U27: =IFERROR(ROUNDDOWN(T27*L27*Q27,-1),0) -> 0 | W27: =IFERROR(ROUNDDOWN(V27*L27*Q27,-1),0) -> 0 | X27: =MAX(R27,T27,V27) -> 0 | Y27: =MIN(R27,T27,V27) -> 0 | Z27: =X27/Y27 -> #DIV/0! | AA27: =IFERROR(AVERAGE(R27,T27,V27),0) -> 0 | AB27: =IFERROR(ROUNDDOWN(AA27*L27*Q27,-1),0) -> 0
N28: 1/10 | O28: =IF(N28="1","1",LEFT(N28,FIND("/",N28)-1)) -> 1 | P28: =IF(N28="1","1",RIGHT(N28,LEN(N28)-FIND("/",N28))) -> 10 | Q28: =O28/P28 -> 0.1 | S28: =IFERROR(ROUNDDOWN(R28*L28*Q28,-1),0) -> 0 | U28: =IFERROR(ROUNDDOWN(T28*L28*Q28,-1),0) -> 0 | W28: =IFERROR(ROUNDDOWN(V28*L28*Q28,-1),0) -> 0 | X28: =MAX(R28,T28,V28) -> 0 | Y28: =MIN(R28,T28,V28) -> 0 | Z28: =X28/Y28 -> #DIV/0! | AA28: =IFERROR(AVERAGE(R28,T28,V28),0) -> 0 | AB28: =IFERROR(ROUNDDOWN(AA28*L28*Q28,-1),0) -> 0
A29: 12 | B29: 서구 | C29: 서대신동3가 | D29: 31-89 | E29: 31-89 | F29: 전 | G29: 전 | H29: 자연녹지지역 | K29: 33 | L29: 33 | M29: ㎡ | N29: 1/1 | O29: =IF(N29="1","1",LEFT(N29,FIND("/",N29)-1)) -> 1 | P29: =IF(N29="1","1",RIGHT(N29,LEN(N29)-FIND("/",N29))) -> 1 | Q29: =O29/P29 -> 1 | S29: =IFERROR(ROUNDDOWN(R29*L29*Q29,-1),0) -> 0 | U29: =IFERROR(ROUNDDOWN(T29*L29*Q29,-1),0) -> 0 | W29: =IFERROR(ROUNDDOWN(V29*L29*Q29,-1),0) -> 0 | X29: =MAX(R29,T29,V29) -> 0 | Y29: =MIN(R29,T29,V29) -> 0 | Z29: =X29/Y29 -> #DIV/0! | AA29: =IFERROR(AVERAGE(R29,T29,V29),0) -> 0 | AB29: =IFERROR(ROUNDDOWN(AA29*L29*Q29,-1),0) -> 0
A30: 13 | B30: 서구 | C30: 서대신동3가 | D30: 31-90 | E30: 31-468 | F30: 전 | G30: 전 | H30: 자연녹지지역 | K30: 60 | L30: 60 | M30: ㎡ | N30: 3/10 | O30: =IF(N30="1","1",LEFT(N30,FIND("/",N30)-1)) -> 3 | P30: =IF(N30="1","1",RIGHT(N30,LEN(N30)-FIND("/",N30))) -> 10 | Q30: =O30/P30 -> 0.3 | S30: =IFERROR(ROUNDDOWN(R30*L30*Q30,-1),0) -> 0 | U30: =IFERROR(ROUNDDOWN(T30*L30*Q30,-1),0) -> 0 | W30: =IFERROR(ROUNDDOWN(V30*L30*Q30,-1),0) -> 0 | X30: =MAX(R30,T30,V30) -> 0 | Y30: =MIN(R30,T30,V30) -> 0 | Z30: =X30/Y30 -> #DIV/0! | AA30: =IFERROR(AVERAGE(R30,T30,V30),0) -> 0 | AB30: =IFERROR(ROUNDDOWN(AA30*L30*Q30,-1),0) -> 0
N31: 2.5/10 | O31: =IF(N31="1","1",LEFT(N31,FIND("/",N31)-1)) -> 2.5 | P31: =IF(N31="1","1",RIGHT(N31,LEN(N31)-FIND("/",N31))) -> 10 | Q31: =O31/P31 -> 0.25 | S31: =IFERROR(ROUNDDOWN(R31*L31*Q31,-1),0) -> 0 | U31: =IFERROR(ROUNDDOWN(T31*L31*Q31,-1),0) -> 0 | W31: =IFERROR(ROUNDDOWN(V31*L31*Q31,-1),0) -> 0 | X31: =MAX(R31,T31,V31) -> 0 | Y31: =MIN(R31,T31,V31) -> 0 | Z31: =X31/Y31 -> #DIV/0! | AA31: =IFERROR(AVERAGE(R31,T31,V31),0) -> 0 | AB31: =IFERROR(ROUNDDOWN(AA31*L31*Q31,-1),0) -> 0
N32: 2.5/10 | O32: =IF(N32="1","1",LEFT(N32,FIND("/",N32)-1)) -> 2.5 | P32: =IF(N32="1","1",RIGHT(N32,LEN(N32)-FIND("/",N32))) -> 10 | Q32: =O32/P32 -> 0.25 | S32: =IFERROR(ROUNDDOWN(R32*L32*Q32,-1),0) -> 0 | U32: =IFERROR(ROUNDDOWN(T32*L32*Q32,-1),0) -> 0 | W32: =IFERROR(ROUNDDOWN(V32*L32*Q32,-1),0) -> 0 | X32: =MAX(R32,T32,V32) -> 0 | Y32: =MIN(R32,T32,V32) -> 0 | Z32: =X32/Y32 -> #DIV/0! | AA32: =IFERROR(AVERAGE(R32,T32,V32),0) -> 0 | AB32: =IFERROR(ROUNDDOWN(AA32*L32*Q32,-1),0) -> 0 | AU32: 토지
N33: 1/10 | O33: =IF(N33="1","1",LEFT(N33,FIND("/",N33)-1)) -> 1 | P33: =IF(N33="1","1",RIGHT(N33,LEN(N33)-FIND("/",N33))) -> 10 | Q33: =O33/P33 -> 0.1 | S33: =IFERROR(ROUNDDOWN(R33*L33*Q33,-1),0) -> 0 | U33: =IFERROR(ROUNDDOWN(T33*L33*Q33,-1),0) -> 0 | W33: =IFERROR(ROUNDDOWN(V33*L33*Q33,-1),0) -> 0 | X33: =MAX(R33,T33,V33) -> 0 | Y33: =MIN(R33,T33,V33) -> 0 | Z33: =X33/Y33 -> #DIV/0! | AA33: =IFERROR(AVERAGE(R33,T33,V33),0) -> 0 | AB33: =IFERROR(ROUNDDOWN(AA33*L33*Q33,-1),0) -> 0
N34: 1/10 | O34: =IF(N34="1","1",LEFT(N34,FIND("/",N34)-1)) -> 1 | P34: =IF(N34="1","1",RIGHT(N34,LEN(N34)-FIND("/",N34))) -> 10 | Q34: =O34/P34 -> 0.1 | S34: =IFERROR(ROUNDDOWN(R34*L34*Q34,-1),0) -> 0 | U34: =IFERROR(ROUNDDOWN(T34*L34*Q34,-1),0) -> 0 | W34: =IFERROR(ROUNDDOWN(V34*L34*Q34,-1),0) -> 0 | X34: =MAX(R34,T34,V34) -> 0 | Y34: =MIN(R34,T34,V34) -> 0 | Z34: =X34/Y34 -> #DIV/0! | AA34: =IFERROR(AVERAGE(R34,T34,V34),0) -> 0 | AB34: =IFERROR(ROUNDDOWN(AA34*L34*Q34,-1),0) -> 0
A35: 14 | B35: 서구 | C35: 서대신동3가 | D35: 31-91 | E35: 31-469 | F35: 전 | G35: 전 | H35: 자연녹지지역 | K35: 618 | L35: 618 | M35: ㎡ | N35: 10/25 | O35: =IF(N35="1","1",LEFT(N35,FIND("/",N35)-1)) -> 10 | P35: =IF(N35="1","1",RIGHT(N35,LEN(N35)-FIND("/",N35))) -> 25 | Q35: =O35/P35 -> 0.4 | S35: =IFERROR(ROUNDDOWN(R35*L35*Q35,-1),0) -> 0 | U35: =IFERROR(ROUNDDOWN(T35*L35*Q35,-1),0) -> 0 | W35: =IFERROR(ROUNDDOWN(V35*L35*Q35,-1),0) -> 0 | X35: =MAX(R35,T35,V35) -> 0 | Y35: =MIN(R35,T35,V35) -> 0 | Z35: =X35/Y35 -> #DIV/0! | AA35: =IFERROR(AVERAGE(R35,T35,V35),0) -> 0 | AB35: =IFERROR(ROUNDDOWN(AA35*L35*Q35,-1),0) -> 0
N36: 6/25 | O36: =IF(N36="1","1",LEFT(N36,FIND("/",N36)-1)) -> 6 | P36: =IF(N36="1","1",RIGHT(N36,LEN(N36)-FIND("/",N36))) -> 25 | Q36: =O36/P36 -> 0.24 | S36: =IFERROR(ROUNDDOWN(R36*L36*Q36,-1),0) -> 0 | U36: =IFERROR(ROUNDDOWN(T36*L36*Q36,-1),0) -> 0 | W36: =IFERROR(ROUNDDOWN(V36*L36*Q36,-1),0) -> 0 | X36: =MAX(R36,T36,V36) -> 0 | Y36: =MIN(R36,T36,V36) -> 0 | Z36: =X36/Y36 -> #DIV/0! | AA36: =IFERROR(AVERAGE(R36,T36,V36),0) -> 0 | AB36: =IFERROR(ROUNDDOWN(AA36*L36*Q36,-1),0) -> 0
N37: 1/25 | O37: =IF(N37="1","1",LEFT(N37,FIND("/",N37)-1)) -> 1 | P37: =IF(N37="1","1",RIGHT(N37,LEN(N37)-FIND("/",N37))) -> 25 | Q37: =O37/P37 -> 0.04 | S37: =IFERROR(ROUNDDOWN(R37*L37*Q37,-1),0) -> 0 | U37: =IFERROR(ROUNDDOWN(T37*L37*Q37,-1),0) -> 0 | W37: =IFERROR(ROUNDDOWN(V37*L37*Q37,-1),0) -> 0 | X37: =MAX(R37,T37,V37) -> 0 | Y37: =MIN(R37,T37,V37) -> 0 | Z37: =X37/Y37 -> #DIV/0! | AA37: =IFERROR(AVERAGE(R37,T37,V37),0) -> 0 | AB37: =IFERROR(ROUNDDOWN(AA37*L37*Q37,-1),0) -> 0
N38: 4/25 | O38: =IF(N38="1","1",LEFT(N38,FIND("/",N38)-1)) -> 4 | P38: =IF(N38="1","1",RIGHT(N38,LEN(N38)-FIND("/",N38))) -> 25 | Q38: =O38/P38 -> 0.16 | S38: =IFERROR(ROUNDDOWN(R38*L38*Q38,-1),0) -> 0 | U38: =IFERROR(ROUNDDOWN(T38*L38*Q38,-1),0) -> 0 | W38: =IFERROR(ROUNDDOWN(V38*L38*Q38,-1),0) -> 0 | X38: =MAX(R38,T38,V38) -> 0 | Y38: =MIN(R38,T38,V38) -> 0 | Z38: =X38/Y38 -> #DIV/0! | AA38: =IFERROR(AVERAGE(R38,T38,V38),0) -> 0 | AB38: =IFERROR(ROUNDDOWN(AA38*L38*Q38,-1),0) -> 0
N39: 4/25 | O39: =IF(N39="1","1",LEFT(N39,FIND("/",N39)-1)) -> 4 | P39: =IF(N39="1","1",RIGHT(N39,LEN(N39)-FIND("/",N39))) -> 25 | Q39: =O39/P39 -> 0.16 | S39: =IFERROR(ROUNDDOWN(R39*L39*Q39,-1),0) -> 0 | U39: =IFERROR(ROUNDDOWN(T39*L39*Q39,-1),0) -> 0 | W39: =IFERROR(ROUNDDOWN(V39*L39*Q39,-1),0) -> 0 | X39: =MAX(R39,T39,V39) -> 0 | Y39: =MIN(R39,T39,V39) -> 0 | Z39: =X39/Y39 -> #DIV/0! | AA39: =IFERROR(AVERAGE(R39,T39,V39),0) -> 0 | AB39: =IFERROR(ROUNDDOWN(AA39*L39*Q39,-1),0) -> 0
A40: 15 | B40: 서구 | C40: 서대신동3가 | D40: 31-92 | E40: 31-470 | F40: 전 | G40: 전 | H40: 자연녹지지역,제2종일반주거지역 | K40: 557 | L40: 557 | M40: ㎡ | N40: 1/2 | O40: =IF(N40="1","1",LEFT(N40,FIND("/",N40)-1)) -> 1 | P40: =IF(N40="1","1",RIGHT(N40,LEN(N40)-FIND("/",N40))) -> 2 | Q40: =O40/P40 -> 0.5 | S40: =IFERROR(ROUNDDOWN(R40*L40*Q40,-1),0) -> 0 | U40: =IFERROR(ROUNDDOWN(T40*L40*Q40,-1),0) -> 0 | W40: =IFERROR(ROUNDDOWN(V40*L40*Q40,-1),0) -> 0 | X40: =MAX(R40,T40,V40) -> 0 | Y40: =MIN(R40,T40,V40) -> 0 | Z40: =X40/Y40 -> #DIV/0! | AA40: =IFERROR(AVERAGE(R40,T40,V40),0) -> 0 | AB40: =IFERROR(ROUNDDOWN(AA40*L40*Q40,-1),0) -> 0
N41: 1/2 | O41: =IF(N41="1","1",LEFT(N41,FIND("/",N41)-1)) -> 1 | P41: =IF(N41="1","1",RIGHT(N41,LEN(N41)-FIND("/",N41))) -> 2 | Q41: =O41/P41 -> 0.5 | S41: =IFERROR(ROUNDDOWN(R41*L41*Q41,-1),0) -> 0 | U41: =IFERROR(ROUNDDOWN(T41*L41*Q41,-1),0) -> 0 | W41: =IFERROR(ROUNDDOWN(V41*L41*Q41,-1),0) -> 0 | X41: =MAX(R41,T41,V41) -> 0 | Y41: =MIN(R41,T41,V41) -> 0 | Z41: =X41/Y41 -> #DIV/0! | AA41: =IFERROR(AVERAGE(R41,T41,V41),0) -> 0 | AB41: =IFERROR(ROUNDDOWN(AA41*L41*Q41,-1),0) -> 0
A42: 16 | B42: 서구 | C42: 서대신동3가 | D42: 31-93 | E42: 31-471 | F42: 전 | G42: 전 | H42: 제2종일반주거지역 | K42: 159 | L42: 159 | M42: ㎡ | N42: 6/31 | O42: =IF(N42="1","1",LEFT(N42,FIND("/",N42)-1)) -> 6 | P42: =IF(N42="1","1",RIGHT(N42,LEN(N42)-FIND("/",N42))) -> 31 | Q42: =O42/P42 -> 0.19354839 | S42: =IFERROR(ROUNDDOWN(R42*L42*Q42,-1),0) -> 0 | U42: =IFERROR(ROUNDDOWN(T42*L42*Q42,-1),0) -> 0 | W42: =IFERROR(ROUNDDOWN(V42*L42*Q42,-1),0) -> 0 | X42: =MAX(R42,T42,V42) -> 0 | Y42: =MIN(R42,T42,V42) -> 0 | Z42: =X42/Y42 -> #DIV/0! | AA42: =IFERROR(AVERAGE(R42,T42,V42),0) -> 0 | AB42: =IFERROR(ROUNDDOWN(AA42*L42*Q42,-1),0) -> 0
N43: 25/31 | O43: =IF(N43="1","1",LEFT(N43,FIND("/",N43)-1)) -> 25 | P43: =IF(N43="1","1",RIGHT(N43,LEN(N43)-FIND("/",N43))) -> 31 | Q43: =O43/P43 -> 0.80645161 | S43: =IFERROR(ROUNDDOWN(R43*L43*Q43,-1),0) -> 0 | U43: =IFERROR(ROUNDDOWN(T43*L43*Q43,-1),0) -> 0 | W43: =IFERROR(ROUNDDOWN(V43*L43*Q43,-1),0) -> 0 | X43: =MAX(R43,T43,V43) -> 0 | Y43: =MIN(R43,T43,V43) -> 0 | Z43: =X43/Y43 -> #DIV/0! | AA43: =IFERROR(AVERAGE(R43,T43,V43),0) -> 0 | AB43: =IFERROR(ROUNDDOWN(AA43*L43*Q43,-1),0) -> 0
A44: 17 | B44: 서구 | C44: 서대신동3가 | D44: 161-210 | E44: 161-250 | F44: 전 | G44: 전 | H44: 제2종일반주거지역 | K44: 5 | L44: 5 | M44: ㎡ | N44: 6/31 | O44: =IF(N44="1","1",LEFT(N44,FIND("/",N44)-1)) -> 6 | P44: =IF(N44="1","1",RIGHT(N44,LEN(N44)-FIND("/",N44))) -> 31 | Q44: =O44/P44 -> 0.19354839 | S44: =IFERROR(ROUNDDOWN(R44*L44*Q44,-1),0) -> 0 | U44: =IFERROR(ROUNDDOWN(T44*L44*Q44,-1),0) -> 0 | W44: =IFERROR(ROUNDDOWN(V44*L44*Q44,-1),0) -> 0 | X44: =MAX(R44,T44,V44) -> 0 | Y44: =MIN(R44,T44,V44) -> 0 | Z44: =X44/Y44 -> #DIV/0! | AA44: =IFERROR(AVERAGE(R44,T44,V44),0) -> 0 | AB44: =IFERROR(ROUNDDOWN(AA44*L44*Q44,-1),0) -> 0
N45: 25/31 | O45: =IF(N45="1","1",LEFT(N45,FIND("/",N45)-1)) -> 25 | P45: =IF(N45="1","1",RIGHT(N45,LEN(N45)-FIND("/",N45))) -> 31 | Q45: =O45/P45 -> 0.80645161 | S45: =IFERROR(ROUNDDOWN(R45*L45*Q45,-1),0) -> 0 | U45: =IFERROR(ROUNDDOWN(T45*L45*Q45,-1),0) -> 0 | W45: =IFERROR(ROUNDDOWN(V45*L45*Q45,-1),0) -> 0 | X45: =MAX(R45,T45,V45) -> 0 | Y45: =MIN(R45,T45,V45) -> 0 | Z45: =X45/Y45 -> #DIV/0! | AA45: =IFERROR(AVERAGE(R45,T45,V45),0) -> 0 | AB45: =IFERROR(ROUNDDOWN(AA45*L45*Q45,-1),0) -> 0
A46: 18 | B46: 서구 | C46: 서대신동3가 | D46: 31-371 | E46: 31-371 | F46: 도로 | G46: 도로 | H46: 제2종일반주거지역 | K46: 2 | L46: 2 | M46: ㎡ | N46: 1/1 | O46: =IF(N46="1","1",LEFT(N46,FIND("/",N46)-1)) -> 1 | P46: =IF(N46="1","1",RIGHT(N46,LEN(N46)-FIND("/",N46))) -> 1 | Q46: =O46/P46 -> 1 | S46: =IFERROR(ROUNDDOWN(R46*L46*Q46,-1),0) -> 0 | U46: =IFERROR(ROUNDDOWN(T46*L46*Q46,-1),0) -> 0 | W46: =IFERROR(ROUNDDOWN(V46*L46*Q46,-1),0) -> 0 | X46: =MAX(R46,T46,V46) -> 0 | Y46: =MIN(R46,T46,V46) -> 0 | Z46: =X46/Y46 -> #DIV/0! | AA46: =IFERROR(AVERAGE(R46,T46,V46),0) -> 0 | AB46: =IFERROR(ROUNDDOWN(AA46*L46*Q46,-1),0) -> 0
A47: 19 | B47: 서구 | C47: 서대신동3가 | D47: 31-88 | E47: 31-88 | F47: 전 | G47: 전 | H47: 제2종일반주거지역 | K47: 244 | L47: 244 | M47: ㎡ | N47: 12/62 | O47: =IF(N47="1","1",LEFT(N47,FIND("/",N47)-1)) -> 12 | P47: =IF(N47="1","1",RIGHT(N47,LEN(N47)-FIND("/",N47))) -> 62 | Q47: =O47/P47 -> 0.19354839 | S47: =IFERROR(ROUNDDOWN(R47*L47*Q47,-1),0) -> 0 | U47: =IFERROR(ROUNDDOWN(T47*L47*Q47,-1),0) -> 0 | W47: =IFERROR(ROUNDDOWN(V47*L47*Q47,-1),0) -> 0 | X47: =MAX(R47,T47,V47) -> 0 | Y47: =MIN(R47,T47,V47) -> 0 | Z47: =X47/Y47 -> #DIV/0! | AA47: =IFERROR(AVERAGE(R47,T47,V47),0) -> 0 | AB47: =IFERROR(ROUNDDOWN(AA47*L47*Q47,-1),0) -> 0
N48: 25/62 | O48: =IF(N48="1","1",LEFT(N48,FIND("/",N48)-1)) -> 25 | P48: =IF(N48="1","1",RIGHT(N48,LEN(N48)-FIND("/",N48))) -> 62 | Q48: =O48/P48 -> 0.40322581 | S48: =IFERROR(ROUNDDOWN(R48*L48*Q48,-1),0) -> 0 | U48: =IFERROR(ROUNDDOWN(T48*L48*Q48,-1),0) -> 0 | W48: =IFERROR(ROUNDDOWN(V48*L48*Q48,-1),0) -> 0 | X48: =MAX(R48,T48,V48) -> 0 | Y48: =MIN(R48,T48,V48) -> 0 | Z48: =X48/Y48 -> #DIV/0! | AA48: =IFERROR(AVERAGE(R48,T48,V48),0) -> 0 | AB48: =IFERROR(ROUNDDOWN(AA48*L48*Q48,-1),0) -> 0
N49: 25/62 | O49: =IF(N49="1","1",LEFT(N49,FIND("/",N49)-1)) -> 25 | P49: =IF(N49="1","1",RIGHT(N49,LEN(N49)-FIND("/",N49))) -> 62 | Q49: =O49/P49 -> 0.40322581 | S49: =IFERROR(ROUNDDOWN(R49*L49*Q49,-1),0) -> 0 | U49: =IFERROR(ROUNDDOWN(T49*L49*Q49,-1),0) -> 0 | W49: =IFERROR(ROUNDDOWN(V49*L49*Q49,-1),0) -> 0 | X49: =MAX(R49,T49,V49) -> 0 | Y49: =MIN(R49,T49,V49) -> 0 | Z49: =X49/Y49 -> #DIV/0! | AA49: =IFERROR(AVERAGE(R49,T49,V49),0) -> 0 | AB49: =IFERROR(ROUNDDOWN(AA49*L49*Q49,-1),0) -> 0
O50: =IF(N50="1","1",LEFT(N50,FIND("/",N50)-1)) -> #VALUE! | P50: =IF(N50="1","1",RIGHT(N50,LEN(N50)-FIND("/",N50))) -> #VALUE! | Q50: =O50/P50 -> #VALUE! | S50: =IFERROR(ROUNDDOWN(R50*L50*Q50,-1),0) -> 0 | U50: =IFERROR(ROUNDDOWN(T50*L50*Q50,-1),0) -> 0 | W50: =IFERROR(ROUNDDOWN(V50*L50*Q50,-1),0) -> 0 | X50: =MAX(R50,T50,V50) -> 0 | Y50: =MIN(R50,T50,V50) -> 0 | Z50: =X50/Y50 -> #DIV/0! | AA50: =IFERROR(AVERAGE(R50,T50,V50),0) -> 0 | AB50: =IFERROR(ROUNDDOWN(AA50*L50*Q50,-1),0) -> 0

Sheet 지하사용권
A1: 사용 또는 수용할 토지 및 소유권 이외의 권리자 조서(지하보상)
A2: =총괄!A3 -> ○ 사업명 : 승학터널 민간투자사업
A3: 세목고시일련번호 | B3: 소재지 | D3: 지번 | F3: 지목 | H3: 토피 (m) | I3: 범위 (평균해 수면기준) | J3: 지하권깊이 산출근거 | K3: 지적 | N3: 소유지분 | O3: 지분 | P3: 지분 | Q3: 지분 | R3: 프라임 | T3: 미래새한 | V3: - | X3: 최고 | Y3: 최저 | Z3: 단가비율 | AD3: 감정평가 법인 평균 | AF3: 소유자 | AK3: 소유권이외의 권리 | AN3: 비고 | AO3: 공탁 | AR3: 등기 | AT3: 취득방법
B4: 구 | C4: 동 | D4: 당초지번 | E4: 편입지번 | F4: 공부상 지목 | G4: 현황 지목 | K4: 공부상 총면적 | L4: 지하권 보상면적 | M4: 단위 | O4: (분자) | P4: (분모) | Q4: 계산 | R4: 단가 | S4: 금액 | T4: 단가 | U4: 금액 | V4: 단가 | W4: 금액 | X4: 단가 | Y4: 단가 | Z4: (최고/최저) | AD4: 평균단가 | AE4: 평균금액(원) | AF4: 성명 | AG4: 등기주소 | AH4: 송달주소 | AI4: 주민 등록번호 | AJ4: 연락처 | AK4: 권리자 | AL4: 주소 | AM4: 권리 내용 | AO4: 공탁일 | AP4: 공탁번호 | AQ4: 공탁기관 | AR4: 등기일 | AS4: 등기번호 | AT4: 취득일 | AU4: 방법
A5: 1 | B5: 서구 | C5: 서대신동3가 | D5: 산37 | E5: 산37 | F5: 임야 | H5: 359.26 | I5: -10.34 ~ 9.06 | J5: [362.32 - (9.06) = 353.26] | K5: 62777 | L5: 2512 | M5: ㎡ | N5: 1/1 | O5: 1 | P5: 1 | Q5: 1 | S5: 0 | U5: 0 | W5: 0 | X5: 0 | Y5: 0 | Z5: #DIV/0! | AA5: 0 | AB5: 0 | AD5: 국(산림청)
A6: 2 | B6: 서구 | C6: 서대신동3가 | D6: 산47-12 | E6: 산47-12 | F6: 임야 | H6: 321.01 | I6: 7.14 ~ 26.54 | J6: [341.55 - (26.54) = 315.01] | K6: 68926 | L6: 64 | M6: ㎡ | N6: 1/1 | O6: 1 | P6: 1 | Q6: 1 | S6: 0 | U6: 0 | W6: 0 | X6: 0 | Y6: 0 | Z6: #DIV/0! | AA6: 0 | AB6: 0 | AD6: 재단법인제7일안식일예수재림교한국연합회유지재단 | AE6: 서울 동대문구 회기동 66
A7: 3 | B7: 서구 | C7: 서대신동3가 | D7: 산39 | E7: 산39 | F7: 임야 | H7: 321.01 | I7: 7.14 ~ 26.54 | J7: [341.55 - (26.54) = 315.01] | K7: 26569 | L7: 610 | M7: ㎡ | N7: 1/1 | O7: 1 | P7: 1 | Q7: 1 | S7: 0 | U7: 0 | W7: 0 | X7: 0 | Y7: 0 | Z7: #DIV/0! | AA7: 0 | AB7: 0 | AD7: 재단법인제7일안식일예수재림교한국연합회유지재단 | AE7: 서울 동대문구 회기동 66
A8: 4 | B8: 서구 | C8: 서대신동3가 | D8: 산40-1 | E8: 산40-1 | F8: 임야 | H8: 296.84 | I8: 34.46 ~ 53.86 | J8: [344.7 - (53.86) = 290.84] | K8: 42843 | L8: 2360 | M8: ㎡ | N8: 1/1 | O8: 1 | P8: 1 | Q8: 1 | S8: 0 | U8: 0 | W8: 0 | X8: 0 | Y8: 0 | Z8: #DIV/0! | AA8: 0 | AB8: 0 | AD8: 재단법인제7일안식일예수재림교한국연합회유지재단 | AE8: 서울 동대문구 회기동 66
A9: 5 | B9: 서구 | C9: 서대신동3가 | D9: 산36 | E9: 산36 | F9: 임야 | H9: 225.74 | I9: 73.54 ~ 92.94 | J9: [312.68 - (92.94) = 219.74] | K9: 47901 | L9: 981 | M9: ㎡ | N9: 1/1 | O9: 1 | P9: 1 | Q9: 1 | S9: 0 | U9: 0 | W9: 0 | X9: 0 | Y9: 0 | Z9: #DIV/0! | AA9: 0 | AB9: 0 | AD9: 국(산림청)
A10: 6 | B10: 서구 | C10: 서대신동3가 | D10: 산35-9 | E10: 산35-9 | F10: 임야 | H10: 162.19 | I10: 82.34 ~ 101.74 | J10: [257.93 - (101.74) = 156.19] | K10: 9124 | L10: 209 | M10: ㎡ | N10: 1/1 | O10: 1 | P10: 1 | Q10: 1 | S10: 0 | U10: 0 | W10: 0 | X10: 0 | Y10: 0 | Z10: #DIV/0! | AA10: 0 | AB10: 0 | AD10: 국(기획재정부)
A11: 7 | B11: 서구 | C11: 서대신동3가 | D11: 산34-1 | E11: 산34-1 | F11: 임야 | H11: 162.19 | I11: 82.34 ~ 101.74 | J11: [257.93 - (101.74) = 156.19] | K11: 33709 | L11: 1049 | M11: ㎡ | N11: 1/1 | O11: 1 | P11: 1 | Q11: 1 | S11: 0 | U11: 0 | W11: 0 | X11: 0 | Y11: 0 | Z11: #DIV/0! | AA11: 0 | AB11: 0 | AD11: 국(산림청)
A12: 8 | B12: 서구 | C12: 서대신동3가 | D12: 산34-53 | E12: 산34-53 | F12: 임야 | H12: 79.03 | I12: 100.34 ~ 119.74 | J12: [192.77 - (119.74) = 73.03] | K12: 8430 | L12: 463 | M12: ㎡ | N12: 1/1 | O12: 1 | P12: 1 | Q12: 1 | S12: 0 | U12: 0 | W12: 0 | X12: 0 | Y12: 0 | Z12: #DIV/0! | AA12: 0 | AB12: 0 | AD12: 국(기획재정부)
A13: 9 | B13: 서구 | C13: 서대신동3가 | D13: 31-26 | E13: 31-26 | F13: 전 | H13: 52.89 | I13: 107.54 ~ 126.94 | J13: [173.83 - (126.94) = 46.89] | K13: 417 | L13: 6 | M13: ㎡ | N13: 1/1 | O13: 1 | P13: 1 | Q13: 1 | S13: 0 | U13: 0 | W13: 0 | X13: 0 | Y13: 0 | Z13: #DIV/0! | AA13: 0 | AB13: 0 | AD13: 김기석 | AE13: 부산 부산진구 부전동 98-10 진효파크빌오피스텔-101
A14: 10 | B14: 서구 | C14: 서대신동3가 | D14: 31-34 | E14: 31-34 | F14: 전 | H14: 52.89 | I14: 107.54 ~ 126.94 | J14: [173.83 - (126.94) = 46.89] | K14: 258 | L14: 89 | M14: ㎡ | N14: 6/24 | O14: 6 | P14: 24 | Q14: 0.25 | S14: 0 | U14: 0 | W14: 0 | X14: 0 | Y14: 0 | Z14: #DIV/0! | AA14: 0 | AB14: 0 | AD14: 임학선 | AE14: 부산 사하구 다대동 960 우신아파트 1동 110호
N15: 1/24 | O15: 1 | P15: 24 | Q15: 0.041666667 | S15: 0 | U15: 0 | W15: 0 | X15: 0 | Y15: 0 | Z15: #DIV/0! | AA15: 0 | AB15: 0 | AD15: 이성순 | AE15: 인천시 부평구 갈산동 362 하나아파트 101동 1301호
N16: 1/24 | O16: 1 | P16: 24 | Q16: 0.041666667 | S16: 0 | U16: 0 | W16: 0 | X16: 0 | Y16: 0 | Z16: #DIV/0! | AA16: 0 | AB16: 0 | AD16: 이계자 | AE16: 부산 중구 신창동 1가 32-2
N17: 6/24 | O17: 6 | P17: 24 | Q17: 0.25 | S17: 0 | U17: 0 | W17: 0 | X17: 0 | Y17: 0 | Z17: #DIV/0! | AA17: 0 | AB17: 0 | AD17: 이용대 | AE17: 부산광역시 사하구 윤공단로17번길 29, 1동 110호(다대동, 우신아파트)
N18: 4/24 | O18: 4 | P18: 24 | Q18: 0.16666667 | S18: 0 | U18: 0 | W18: 0 | X18: 0 | Y18: 0 | Z18: #DIV/0! | AA18: 0 | AB18: 0 | AD18: 이성대 | AE18: 대구 수성구 수성동 1가 234
N19: 1/24 | O19: 1 | P19: 24 | Q19: 0.041666667 | S19: 0 | U19: 0 | W19: 0 | X19: 0 | Y19: 0 | Z19: #DIV/0! | AA19: 0 | AB19: 0 | AD19: 이성자 | AE19: 부산 북구 만덕동 384-15
N20: 1/24 | O20: 1 | P20: 24 | Q20: 0.041666667 | S20: 0 | U20: 0 | W20: 0 | X20: 0 | Y20: 0 | Z20: #DIV/0! | AA20: 0 | AB20: 0 | AD20: 이성미 | AE20: 서울 동작구 사당동 1028-6
N21: 4/24 | O21: 4 | P21: 24 | Q21: 0.16666667 | S21: 0 | U21: 0 | W21: 0 | X21: 0 | Y21: 0 | Z21: #DIV/0! | AA21: 0 | AB21: 0 | AD21: 이성기 | AE21: 부산 사하구 다대동 96-1 도개공4지구아파트 113동 601호
A22: 11 | B22: 서구 | C22: 서대신동3가 | D22: 31-36 | E22: 31-36 | F22: 전 | H22: 40.14 | I22: 111.14 ~ 130.54 | J22: [164.68 - (130.54) = 34.14] | K22: 30 | L22: 30 | M22: ㎡ | N22: 1/1 | O22: 1 | P22: 1 | Q22: 1 | S22: 0 | U22: 0 | W22: 0 | X22: 0 | Y22: 0 | Z22: #DIV/0! | AA22: 0 | AB22: 0 | AD22: 국(기획재정부)
A23: 12 | B23: 서구 | C23: 서대신동3가 | D23: 31-29 | E23: 31-29 | F23: 전 | H23: 40.14 | I23: 111.14 ~ 130.54 | J23: [164.68 - (130.54) = 34.14] | K23: 704 | L23: 17 | M23: ㎡ | N23: 7/12 | O23: 7 | P23: 12 | Q23: 0.58333333 | S23: 0 | U23: 0 | W23: 0 | X23: 0 | Y23: 0 | Z23: #DIV/0! | AA23: 0 | AB23: 0 | AD23: 김준철 | AE23: 부산 부산진구 양정동 458-20 현대아파트 206-104
N24: 5/12 | O24: 5 | P24: 12 | Q24: 0.41666667 | S24: 0 | U24: 0 | W24: 0 | X24: 0 | Y24: 0 | Z24: #DIV/0! | AA24: 0 | AB24: 0 | AD24: 김준근 | AE24: 부산 사상구 주례동 595 럭키아파트 5-305
A25: 13 | B25: 서구 | C25: 서대신동3가 | D25: 31-30 | E25: 31-30 | F25: 전 | H25: 28.27 | I25: 114.71 ~ 134.11 | J25: [156.38 - (134.11) = 22.27] | K25: 843 | L25: 118 | M25: ㎡ | N25: 1/1 | O25: 1 | P25: 1 | Q25: 1 | S25: 0 | U25: 0 | W25: 0 | X25: 0 | Y25: 0 | Z25: #DIV/0! | AA25: 0 | AB25: 0 | AD25: 이계완 | AE25: 부산광역시 서구 서대신동3가 19-9 유진대림아파트 406호
A26: 14 | B26: 서구 | C26: 서대신동3가 | D26: 31-31 | E26: 31-462 | F26: 전 | H26: 19.67 | I26: 216.96 ~ 236.36 | J26: [250.03 - (236.36) = 13.67] | K26: 432 | L26: 73 | M26: ㎡ | N26: 42/84 | O26: 42 | P26: 84 | Q26: 0.5 | S26: 0 | U26: 0 | W26: 0 | X26: 0 | Y26: 0 | Z26: #DIV/0! | AA26: 0 | AB26: 0 | AD26: 박순옥 | AE26: 부산 서구 서대신동 3가 687-33
N27: 14/84 | O27: 14 | P27: 84 | Q27: 0.16666667 | S27: 0 | U27: 0 | W27: 0 | X27: 0 | Y27: 0 | Z27: #DIV/0! | AA27: 0 | AB27: 0 | AD27: 김원숙 | AE27: 부산 서구 서대신동3가 684-1
N28: 14/84 | O28: 14 | P28: 84 | Q28: 0.16666667 | S28: 0 | U28: 0 | W28: 0 | X28: 0 | Y28: 0 | Z28: #DIV/0! | AA28: 0 | AB28: 0 | AD28: 김종희 | AE28: 부산 서구 서대신동3가 684-1
N29: 4/84 | O29: 4 | P29: 84 | Q29: 0.047619048 | S29: 0 | U29: 0 | W29: 0 | X29: 0 | Y29: 0 | Z29: #DIV/0! | AA29: 0 | AB29: 0 | AD29: 김민석 | AE29: 부산광역시 사하구 오작로 104, 101동 1301호(괴정동,괴정벽산하이츠타운)
N30: 4/84 | O30: 4 | P30: 84 | Q30: 0.047619048 | S30: 0 | U30: 0 | W30: 0 | X30: 0 | Y30: 0 | Z30: #DIV/0! | AA30: 0 | AB30: 0 | AD30: 김성준 | AE30: 부산광역시 사하구 오작로 104, 101동 1301호(괴정동,괴정벽산하이츠타운)
N31: 6/84 | O31: 6 | P31: 84 | Q31: 0.071428571 | S31: 0 | U31: 0 | W31: 0 | X31: 0 | Y31: 0 | Z31: #DIV/0! | AA31: 0 | AB31: 0 | AD31: 박은숙 | AE31: 부산광역시 사하구 오작로 104, 101동 1301호(괴정동,괴정벽산하이츠타운)
A32: 15 | B32: 서구 | C32: 서대신동3가 | D32: 31-33 | E32: 31-33 | F32: 전 | H32: 52.89 | I32: 107.54 ~ 126.94 | J32: [173.83 - (126.94) = 46.89] | K32: 132 | L32: 77 | M32: ㎡ | N32: 1/1 | O32: 1 | P32: 1 | Q32: 1 | S32: 0 | U32: 0 | W32: 0 | X32: 0 | Y32: 0 | Z32: #DIV/0! | AA32: 0 | AB32: 0 | AD32: 국(기획재정부)
A33: 16 | B33: 서구 | C33: 서대신동3가 | D33: 31-35 | E33: 31-35 | F33: 전 | H33: 40.14 | I33: 111.14 ~ 130.54 | J33: [164.68 - (130.54) = 34.14] | K33: 536 | L33: 158 | M33: ㎡ | N33: 1/1 | O33: 1 | P33: 1 | Q33: 1 | S33: 0 | U33: 0 | W33: 0 | X33: 0 | Y33: 0 | Z33: #DIV/0! | AA33: 0 | AB33: 0 | AD33: 임학선 | AE33: 부산 사하구 다대동960 우신아파트1-110
A34: 17 | B34: 서구 | C34: 서대신동3가 | D34: 31-38 | E34: 31-38 | F34: 전 | H34: 40.14 | I34: 111.14 ~ 130.54 | J34: [164.68 - (130.54) = 34.14] | K34: 241 | L34: 73 | M34: ㎡ | N34: 1/1 | O34: 1 | P34: 1 | Q34: 1 | S34: 0 | U34: 0 | W34: 0 | X34: 0 | Y34: 0 | Z34: #DIV/0! | AA34: 0 | AB34: 0 | AD34: 노금희 | AE34: 부산광역시 사하구 다대낙조2길 100, 306동 102호 (다대동,다대동롯데캐슬몰운대아파트)
A35: 18 | B35: 서구 | C35: 서대신동3가 | D35: 31-39 | E35: 31-39 | F35: 전 | H35: 28.27 | I35: 114.71 ~ 134.11 | J35: [156.38 - (134.11) = 22.27] | K35: 893 | L35: 120 | M35: ㎡ | N35: 42/84 | O35: 42 | P35: 84 | Q35: 0.5 | S35: 0 | U35: 0 | W35: 0 | X35: 0 | Y35: 0 | Z35: #DIV/0! | AA35: 0 | AB35: 0 | AD35: 박순옥 | AE35: 부산 서구 서대신동 3가 687-33
N36: 14/84 | O36: 14 | P36: 84 | Q36: 0.16666667 | S36: 0 | U36: 0 | W36: 0 | X36: 0 | Y36: 0 | Z36: #DIV/0! | AA36: 0 | AB36: 0 | AD36: 김원숙 | AE36: 부산 서구 서대신동3가 684-1
N37: 14/84 | O37: 14 | P37: 84 | Q37: 0.16666667 | S37: 0 | U37: 0 | W37: 0 | X37: 0 | Y37: 0 | Z37: #DIV/0! | AA37: 0 | AB37: 0 | AD37: 김종희 | AE37: 부산 서구 서대신동3가 684-1
N38: 4/84 | O38: 4 | P38: 84 | Q38: 0.047619048 | S38: 0 | U38: 0 | W38: 0 | X38: 0 | Y38: 0 | Z38: #DIV/0! | AA38: 0 | AB38: 0 | AD38: 김민석 | AE38: 부산광역시 사하구 오작로 104, 101동 1301호(괴정동,괴정벽산하이츠타운)
N39: 4/84 | O39: 4 | P39: 84 | Q39: 0.047619048 | S39: 0 | U39: 0 | W39: 0 | X39: 0 | Y39: 0 | Z39: #DIV/0! | AA39: 0 | AB39: 0 | AD39: 김성준 | AE39: 부산광역시 사하구 오작로 104, 101동 1301호(괴정동,괴정벽산하이츠타운)
N40: 6/84 | O40: 6 | P40: 84 | Q40: 0.071428571 | S40: 0 | U40: 0 | W40: 0 | X40: 0 | Y40: 0 | Z40: #DIV/0! | AA40: 0 | AB40: 0 | AD40: 박은숙 | AE40: 부산광역시 사하구 오작로 104, 101동 1301호(괴정동,괴정벽산하이츠타운)
A41: 19 | B41: 서구 | C41: 서대신동3가 | D41: 31-40 | E41: 31-40 | F41: 전 | H41: 19.67 | I41: 116.96 ~ 136.36 | J41: [150.03 - (136.36) = 13.67] | K41: 513 | L41: 14 | M41: ㎡ | N41: 1/1 | O41: 1 | P41: 1 | Q41: 1 | S41: 0 | U41: 0 | W41: 0 | X41: 0 | Y41: 0 | Z41: #DIV/0! | AA41: 0 | AB41: 0 | AD41: 김형구 | AE41: 부산광역시 서구 대신로 55 (서대신동3가)

Sheet 지장물
A1: 손실보상금 산정 및 지급조서(지장물)
A2: =총괄!$A$3 -> ○ 사업명 : 승학터널 민간투자사업
A3: 일련 | B3: 소재지 | D3: 지번 | F3: 물건 | G3: 구조 및 | L3: 수량 | M3: 단위 | N3: 소유 | O3: 지분 | P3: 지분 | Q3: 지분 | R3: 프라임 | T3: 미래새한 | V3: - | X3: 최고 | Y3: 최저 | Z3: 단가비율 | AD3: 감정평가 법인 평균 | AF3: 소유자 | AJ3: 소유권이외의 권리 | AM3: 공탁 | AP3: 등기 | AR3: 취득방법
A4: 번호 | B4: 구 | C4: 동 | D4: 당초지번 | E4: 편입지번 | F4: 종류 | G4: 규격 | L4: (면적) | N4: 지분 | O4: (분자) | P4: (분모) | Q4: 계산 | R4: 단가 | S4: 금액 | T4: 단가 | U4: 금액 | V4: 단가 | W4: 금액 | X4: 단가 | Y4: 단가 | Z4: (최고/최저) | AD4: 평균단가 | AE4: 평균금액(원) | AF4: 성명 | AG4: 주소 | AH4: 주민등록번호 | AI4: 연락처 | AJ4: 권리자 | AK4: 주소 | AL4: 권리 내용 | AM4: 공탁일 | AN4: 공탁번호 | AO4: 공탁기관 | AP4: 등기일 | AQ4: 등기번호 | AR4: 취득일 | AS4: 방법 | AT4: 비고
A5: 1 | B5: 서구 | C5: 서대신동3가 | D5: 31-92 | E5: 31-470 | F5: 농막 | G5: 목조, 판넬지붕, 4×2.3, H2m | L5: 9.2 | M5: ㎡ | N5: 1/1 | O5: =IF(N5="1","1",LEFT(N5,FIND("/",N5)-1)) -> 1 | P5: =IF(N5="1","1",RIGHT(N5,LEN(N5)-FIND("/",N5))) -> 1 | Q5: =O5/P5 -> 1 | S5: =IF(ISNUMBER(FIND("↑",R5))=TRUE,"↑",IF(ISNUMBER(FIND("↑",R6))=TRUE,R5,IF(ISNUMBER(FIND("포함",R5))=TRUE,R5,IFERROR(ROUNDDOWN(R5*$L5*$Q5,-1),0)))) -> 0 | U5: =IF(ISNUMBER(FIND("↑",T5))=TRUE,"↑",IF(ISNUMBER(FIND("↑",T6))=TRUE,T5,IF(ISNUMBER(FIND("포함",T5))=TRUE,T5,IFERROR(ROUNDDOWN(T5*$L5*$Q5,-1),0)))) -> 0 | W5: =IF(ISNUMBER(FIND("↑",V5))=TRUE,"↑",IF(ISNUMBER(FIND("↑",V6))=TRUE,V5,IF(ISNUMBER(FIND("포함",V5))=TRUE,V5,IFERROR(ROUNDDOWN(V5*$L5*$Q5,-1),0)))) -> 0 | X5: =MAX(R5,T5,V5) -> 0 | Y5: =MIN(R5,T5,V5) -> 0 | Z5: =X5/Y5 -> #DIV/0! | AD5: =IF(ISNUMBER(FIND("↑",R5))=TRUE,"↑",IF(ISNUMBER(FIND("포함",R5))=TRUE,R5,IF(ISNUMBER(FIND("↑",R6))=TRUE,"일괄",IFERROR(AVERAGE(R5,T5,V5),0)))) -> 0 | AE5: =IF(ISNUMBER(FIND("↑",R5))=TRUE,"↑",IF(ISNUMBER(FIND("포함",R5))=TRUE,R5,IF(ISNUMBER(FIND("↑",R6))=TRUE,IFERROR(ROUNDDOWN(IF(V5="",AVERAGEA(U5,S5),AVERAGEA(S5,U5,W5)),-1),0),IFERROR(ROUNDDOWN(AD5*L5*Q5,-1),0)))) -> 0
A6: 2 | B6: 서구 | C6: 서대신동3가 | D6: 31-92 | E6: 31-470 | F6: 창고1 | G6: 목조, 함석지붕, 1.4 × 1.4m | L6: 2 | M6: ㎡ | N6: 1/1 | O6: =IF(N6="1","1",LEFT(N6,FIND("/",N6)-1)) -> 1 | P6: =IF(N6="1","1",RIGHT(N6,LEN(N6)-FIND("/",N6))) -> 1 | Q6: =O6/P6 -> 1 | S6: =IF(ISNUMBER(FIND("↑",R6))=TRUE,"↑",IF(ISNUMBER(FIND("↑",R7))=TRUE,R6,IF(ISNUMBER(FIND("포함",R6))=TRUE,R6,IFERROR(ROUNDDOWN(R6*$L6*$Q6,-1),0)))) -> 0 | U6: =IF(ISNUMBER(FIND("↑",T6))=TRUE,"↑",IF(ISNUMBER(FIND("↑",T7))=TRUE,T6,IF(ISNUMBER(FIND("포함",T6))=TRUE,T6,IFERROR(ROUNDDOWN(T6*$L6*$Q6,-1),0)))) -> 0 | W6: =IF(ISNUMBER(FIND("↑",V6))=TRUE,"↑",IF(ISNUMBER(FIND("↑",V7))=TRUE,V6,IF(ISNUMBER(FIND("포함",V6))=TRUE,V6,IFERROR(ROUNDDOWN(V6*$L6*$Q6,-1),0)))) -> 0 | X6: =MAX(R6,T6,V6) -> 0 | Y6: =MIN(R6,T6,V6) -> 0 | Z6: =X6/Y6 -> #DIV/0! | AD6: =IF(ISNUMBER(FIND("↑",R6))=TRUE,"↑",IF(ISNUMBER(FIND("포함",R6))=TRUE,R6,IF(ISNUMBER(FIND("↑",R7))=TRUE,"일괄",IFERROR(AVERAGE(R6,T6,V6),0)))) -> 0 | AE6: =IF(ISNUMBER(FIND("↑",R6))=TRUE,"↑",IF(ISNUMBER(FIND("포함",R6))=TRUE,R6,IF(ISNUMBER(FIND("↑",R7))=TRUE,IFERROR(ROUNDDOWN(IF(V6="",AVERAGEA(U6,S6),AVERAGEA(S6,U6,W6)),-1),0),IFERROR(ROUNDDOWN(AD6*L6*Q6,-1),0)))) -> 0
A7: 3 | B7: 서구 | C7: 서대신동3가 | D7: 31-92 | E7: 31-470 | F7: 창고2 | G7: 앵글조, 천막 합판마감 바닥 팔레트, 1×1, H1.8m | L7: 1 | M7: ㎡ | N7: 1/1 | O7: =IF(N7="1","1",LEFT(N7,FIND("/",N7)-1)) -> 1 | P7: =IF(N7="1","1",RIGHT(N7,LEN(N7)-FIND("/",N7))) -> 1 | Q7: =O7/P7 -> 1 | S7: =IF(ISNUMBER(FIND("↑",R7))=TRUE,"↑",IF(ISNUMBER(FIND("↑",R8))=TRUE,R7,IF(ISNUMBER(FIND("포함",R7))=TRUE,R7,IFERROR(ROUNDDOWN(R7*$L7*$Q7,-1),0)))) -> 0 | U7: =IF(ISNUMBER(FIND("↑",T7))=TRUE,"↑",IF(ISNUMBER(FIND("↑",T8))=TRUE,T7,IF(ISNUMBER(FIND("포함",T7))=TRUE,T7,IFERROR(ROUNDDOWN(T7*$L7*$Q7,-1),0)))) -> 0 | W7: =IF(ISNUMBER(FIND("↑",V7))=TRUE,"↑",IF(ISNUMBER(FIND("↑",V8))=TRUE,V7,IF(ISNUMBER(FIND("포함",V7))=TRUE,V7,IFERROR(ROUNDDOWN(V7*$L7*$Q7,-1),0)))) -> 0 | X7: =MAX(R7,T7,V7) -> 0 | Y7: =MIN(R7,T7,V7) -> 0 | Z7: =X7/Y7 -> #DIV/0! | AD7: =IF(ISNUMBER(FIND("↑",R7))=TRUE,"↑",IF(ISNUMBER(FIND("포함",R7))=TRUE,R7,IF(ISNUMBER(FIND("↑",R8))=TRUE,"일괄",IFERROR(AVERAGE(R7,T7,V7),0)))) -> 0 | AE7: =IF(ISNUMBER(FIND("↑",R7))=TRUE,"↑",IF(ISNUMBER(FIND("포함",R7))=TRUE,R7,IF(ISNUMBER(FIND("↑",R8))=TRUE,IFERROR(ROUNDDOWN(IF(V7="",AVERAGEA(U7,S7),AVERAGEA(S7,U7,W7)),-1),0),IFERROR(ROUNDDOWN(AD7*L7*Q7,-1),0)))) -> 0
A8: 4 | B8: 서구 | C8: 서대신동3가 | D8: 31-92 | E8: 31-470 | F8: 울타리1 | G8: 망사그물망, H1.5~1.8m | L8: 47 | M8: m | N8: 1/1 | O8: =IF(N8="1","1",LEFT(N8,FIND("/",N8)-1)) -> 1 | P8: =IF(N8="1","1",RIGHT(N8,LEN(N8)-FIND("/",N8))) -> 1 | Q8: =O8/P8 -> 1 | S8: =IF(ISNUMBER(FIND("↑",R8))=TRUE,"↑",IF(ISNUMBER(FIND("↑",R9))=TRUE,R8,IF(ISNUMBER(FIND("포함",R8))=TRUE,R8,IFERROR(ROUNDDOWN(R8*$L8*$Q8,-1),0)))) -> 0 | U8: =IF(ISNUMBER(FIND("↑",T8))=TRUE,"↑",IF(ISNUMBER(FIND("↑",T9))=TRUE,T8,IF(ISNUMBER(FIND("포함",T8))=TRUE,T8,IFERROR(ROUNDDOWN(T8*$L8*$Q8,-1),0)))) -> 0 | W8: =IF(ISNUMBER(FIND("↑",V8))=TRUE,"↑",IF(ISNUMBER(FIND("↑",V9))=TRUE,V8,IF(ISNUMBER(FIND("포함",V8))=TRUE,V8,IFERROR(ROUNDDOWN(V8*$L8*$Q8,-1),0)))) -> 0 | X8: =MAX(R8,T8,V8) -> 0 | Y8: =MIN(R8,T8,V8) -> 0 | Z8: =X8/Y8 -> #DIV/0! | AD8: =IF(ISNUMBER(FIND("↑",R8))=TRUE,"↑",IF(ISNUMBER(FIND("포함",R8))=TRUE,R8,IF(ISNUMBER(FIND("↑",R9))=TRUE,"일괄",IFERROR(AVERAGE(R8,T8,V8),0)))) -> 0 | AE8: =IF(ISNUMBER(FIND("↑",R8))=TRUE,"↑",IF(ISNUMBER(FIND("포함",R8))=TRUE,R8,IF(ISNUMBER(FIND("↑",R9))=TRUE,IFERROR(ROUNDDOWN(IF(V8="",AVERAGEA(U8,S8),AVERAGEA(S8,U8,W8)),-1),0),IFERROR(ROUNDDOWN(AD8*L8*Q8,-1),0)))) -> 0
A9: 5 | B9: 서구 | C9: 서대신동3가 | D9: 31-92 | E9: 31-470 | F9: 울타리2 | G9: 철망, H1.5m | L9: 9 | M9: m | N9: 1/1 | O9: =IF(N9="1","1",LEFT(N9,FIND("/",N9)-1)) -> 1 | P9: =IF(N9="1","1",RIGHT(N9,LEN(N9)-FIND("/",N9))) -> 1 | Q9: =O9/P9 -> 1 | S9: =IF(ISNUMBER(FIND("↑",R9))=TRUE,"↑",IF(ISNUMBER(FIND("↑",R10))=TRUE,R9,IF(ISNUMBER(FIND("포함",R9))=TRUE,R9,IFERROR(ROUNDDOWN(R9*$L9*$Q9,-1),0)))) -> 0 | U9: =IF(ISNUMBER(FIND("↑",T9))=TRUE,"↑",IF(ISNUMBER(FIND("↑",T10))=TRUE,T9,IF(ISNUMBER(FIND("포함",T9))=TRUE,T9,IFERROR(ROUNDDOWN(T9*$L9*$Q9,-1),0)))) -> 0 | W9: =IF(ISNUMBER(FIND("↑",V9))=TRUE,"↑",IF(ISNUMBER(FIND("↑",V10))=TRUE,V9,IF(ISNUMBER(FIND("포함",V9))=TRUE,V9,IFERROR(ROUNDDOWN(V9*$L9*$Q9,-1),0)))) -> 0 | X9: =MAX(R9,T9,V9) -> 0 | Y9: =MIN(R9,T9,V9) -> 0 | Z9: =X9/Y9 -> #DIV/0! | AD9: =IF(ISNUMBER(FIND("↑",R9))=TRUE,"↑",IF(ISNUMBER(FIND("포함",R9))=TRUE,R9,IF(ISNUMBER(FIND("↑",R10))=TRUE,"일괄",IFERROR(AVERAGE(R9,T9,V9),0)))) -> 0 | AE9: =IF(ISNUMBER(FIND("↑",R9))=TRUE,"↑",IF(ISNUMBER(FIND("포함",R9))=TRUE,R9,IF(ISNUMBER(FIND("↑",R10))=TRUE,IFERROR(ROUNDDOWN(IF(V9="",AVERAGEA(U9,S9),AVERAGEA(S9,U9,W9)),-1),0),IFERROR(ROUNDDOWN(AD9*L9*Q9,-1),0)))) -> 0
A10: 6 | B10: 서구 | C10: 서대신동3가 | D10: 31-92 | E10: 31-470 | F10: 물탱크 | G10: 2톤 2EA | L10: 1 | M10: 식 | N10: 1/1 | O10: =IF(N10="1","1",LEFT(N10,FIND("/",N10)-1)) -> 1 | P10: =IF(N10="1","1",RIGHT(N10,LEN(N10)-FIND("/",N10))) -> 1 | Q10: =O10/P10 -> 1 | S10: =IF(ISNUMBER(FIND("↑",R10))=TRUE,"↑",IF(ISNUMBER(FIND("↑",#REF!))=TRUE,R10,IF(ISNUMBER(FIND("포함",R10))=TRUE,R10,IFERROR(ROUNDDOWN(R10*$L10*$Q10,-1),0)))) -> 0 | U10: =IF(ISNUMBER(FIND("↑",T10))=TRUE,"↑",IF(ISNUMBER(FIND("↑",#REF!))=TRUE,T10,IF(ISNUMBER(FIND("포함",T10))=TRUE,T10,IFERROR(ROUNDDOWN(T10*$L10*$Q10,-1),0)))) -> 0 | W10: =IF(ISNUMBER(FIND("↑",V10))=TRUE,"↑",IF(ISNUMBER(FIND("↑",#REF!))=TRUE,V10,IF(ISNUMBER(FIND("포함",V10))=TRUE,V10,IFERROR(ROUNDDOWN(V10*$L10*$Q10,-1),0)))) -> 0 | X10: =MAX(R10,T10,V10) -> 0 | Y10: =MIN(R10,T10,V10) -> 0 | Z10: =X10/Y10 -> #DIV/0! | AD10: =IF(ISNUMBER(FIND("↑",R10))=TRUE,"↑",IF(ISNUMBER(FIND("포함",R10))=TRUE,R10,IF(ISNUMBER(FIND("↑",#REF!))=TRUE,"일괄",IFERROR(AVERAGE(R10,T10,V10),0)))) -> 0 | AE10: =IF(ISNUMBER(FIND("↑",R10))=TRUE,"↑",IF(ISNUMBER(FIND("포함",R10))=TRUE,R10,IF(ISNUMBER(FIND("↑",#REF!))=TRUE,IFERROR(ROUNDDOWN(IF(V10="",AVERAGEA(U10,S10),AVERAGEA(S10,U10,W10)),-1),0),IFERROR(ROUNDDOWN(AD10*L10*Q10,-1),0)))) -> 0
A11: 7 | B11: 서구 | C11: 서대신동3가 | D11: 31-92 | E11: 31-470 | F11: 더덕 | G11: 2 × 2.5m, 지주대포함 | L11: 1 | M11: 식 | N11: 1/1 | O11: =IF(N11="1","1",LEFT(N11,FIND("/",N11)-1)) -> 1 | P11: =IF(N11="1","1",RIGHT(N11,LEN(N11)-FIND("/",N11))) -> 1 | Q11: =O11/P11 -> 1 | S11: =IF(ISNUMBER(FIND("↑",R11))=TRUE,"↑",IF(ISNUMBER(FIND("↑",R12))=TRUE,R11,IF(ISNUMBER(FIND("포함",R11))=TRUE,R11,IFERROR(ROUNDDOWN(R11*$L11*$Q11,-1),0)))) -> 0 | U11: =IF(ISNUMBER(FIND("↑",T11))=TRUE,"↑",IF(ISNUMBER(FIND("↑",T12))=TRUE,T11,IF(ISNUMBER(FIND("포함",T11))=TRUE,T11,IFERROR(ROUNDDOWN(T11*$L11*$Q11,-1),0)))) -> 0 | W11: =IF(ISNUMBER(FIND("↑",V11))=TRUE,"↑",IF(ISNUMBER(FIND("↑",V12))=TRUE,V11,IF(ISNUMBER(FIND("포함",V11))=TRUE,V11,IFERROR(ROUNDDOWN(V11*$L11*$Q11,-1),0)))) -> 0 | X11: =MAX(R11,T11,V11) -> 0 | Y11: =MIN(R11,T11,V11) -> 0 | Z11: =X11/Y11 -> #DIV/0! | AD11: =IF(ISNUMBER(FIND("↑",R11))=TRUE,"↑",IF(ISNUMBER(FIND("포함",R11))=TRUE,R11,IF(ISNUMBER(FIND("↑",R12))=TRUE,"일괄",IFERROR(AVERAGE(R11,T11,V11),0)))) -> 0 | AE11: =IF(ISNUMBER(FIND("↑",R11))=TRUE,"↑",IF(ISNUMBER(FIND("포함",R11))=TRUE,R11,IF(ISNUMBER(FIND("↑",R12))=TRUE,IFERROR(ROUNDDOWN(IF(V11="",AVERAGEA(U11,S11),AVERAGEA(S11,U11,W11)),-1),0),IFERROR(ROUNDDOWN(AD11*L11*Q11,-1),0)))) -> 0
A12: 8 | B12: 서구 | C12: 서대신동3가 | D12: 31-92 | E12: 31-470 | F12: 매실나무1 | G12: H4m, R15㎝ | L12: 1 | M12: 주 | N12: 1/1 | O12: =IF(N12="1","1",LEFT(N12,FIND("/",N12)-1)) -> 1 | P12: =IF(N12="1","1",RIGHT(N12,LEN(N12)-FIND("/",N12))) -> 1 | Q12: =O12/P12 -> 1 | S12: =IF(ISNUMBER(FIND("↑",R12))=TRUE,"↑",IF(ISNUMBER(FIND("↑",R13))=TRUE,R12,IF(ISNUMBER(FIND("포함",R12))=TRUE,R12,IFERROR(ROUNDDOWN(R12*$L12*$Q12,-1),0)))) -> 0 | U12: =IF(ISNUMBER(FIND("↑",T12))=TRUE,"↑",IF(ISNUMBER(FIND("↑",T13))=TRUE,T12,IF(ISNUMBER(FIND("포함",T12))=TRUE,T12,IFERROR(ROUNDDOWN(T12*$L12*$Q12,-1),0)))) -> 0 | W12: =IF(ISNUMBER(FIND("↑",V12))=TRUE,"↑",IF(ISNUMBER(FIND("↑",V13))=TRUE,V12,IF(ISNUMBER(FIND("포함",V12))=TRUE,V12,IFERROR(ROUNDDOWN(V12*$L12*$Q12,-1),0)))) -> 0 | X12: =MAX(R12,T12,V12) -> 0 | Y12: =MIN(R12,T12,V12) -> 0 | Z12: =X12/Y12 -> #DIV/0! | AD12: =IF(ISNUMBER(FIND("↑",R12))=TRUE,"↑",IF(ISNUMBER(FIND("포함",R12))=TRUE,R12,IF(ISNUMBER(FIND("↑",R13))=TRUE,"일괄",IFERROR(AVERAGE(R12,T12,V12),0)))) -> 0 | AE12: =IF(ISNUMBER(FIND("↑",R12))=TRUE,"↑",IF(ISNUMBER(FIND("포함",R12))=TRUE,R12,IF(ISNUMBER(FIND("↑",R13))=TRUE,IFERROR(ROUNDDOWN(IF(V12="",AVERAGEA(U12,S12),AVERAGEA(S12,U12,W12)),-1),0),IFERROR(ROUNDDOWN(AD12*L12*Q12,-1),0)))) -> 0
A13: 9 | B13: 서구 | C13: 서대신동3가 | D13: 31-92 | E13: 31-470 | F13: 매실나무2 | G13: H3m, R25㎝ | L13: 2 | M13: 주 | N13: 1/1 | O13: =IF(N13="1","1",LEFT(N13,FIND("/",N13)-1)) -> 1 | P13: =IF(N13="1","1",RIGHT(N13,LEN(N13)-FIND("/",N13))) -> 1 | Q13: =O13/P13 -> 1 | S13: =IF(ISNUMBER(FIND("↑",R13))=TRUE,"↑",IF(ISNUMBER(FIND("↑",R14))=TRUE,R13,IF(ISNUMBER(FIND("포함",R13))=TRUE,R13,IFERROR(ROUNDDOWN(R13*$L13*$Q13,-1),0)))) -> 0 | U13: =IF(ISNUMBER(FIND("↑",T13))=TRUE,"↑",IF(ISNUMBER(FIND("↑",T14))=TRUE,T13,IF(ISNUMBER(FIND("포함",T13))=TRUE,T13,IFERROR(ROUNDDOWN(T13*$L13*$Q13,-1),0)))) -> 0 | W13: =IF(ISNUMBER(FIND("↑",V13))=TRUE,"↑",IF(ISNUMBER(FIND("↑",V14))=TRUE,V13,IF(ISNUMBER(FIND("포함",V13))=TRUE,V13,IFERROR(ROUNDDOWN(V13*$L13*$Q13,-1),0)))) -> 0 | X13: =MAX(R13,T13,V13) -> 0 | Y13: =MIN(R13,T13,V13) -> 0 | Z13: =X13/Y13 -> #DIV/0! | AD13: =IF(ISNUMBER(FIND("↑",R13))=TRUE,"↑",IF(ISNUMBER(FIND("포함",R13))=TRUE,R13,IF(ISNUMBER(FIND("↑",R14))=TRUE,"일괄",IFERROR(AVERAGE(R13,T13,V13),0)))) -> 0 | AE13: =IF(ISNUMBER(FIND("↑",R13))=TRUE,"↑",IF(ISNUMBER(FIND("포함",R13))=TRUE,R13,IF(ISNUMBER(FIND("↑",R14))=TRUE,IFERROR(ROUNDDOWN(IF(V13="",AVERAGEA(U13,S13),AVERAGEA(S13,U13,W13)),-1),0),IFERROR(ROUNDDOWN(AD13*L13*Q13,-1),0)))) -> 0
A14: 10 | B14: 서구 | C14: 서대신동3가 | D14: 31-92 | E14: 31-470 | F14: 헛개나무 | G14: H10m, R30㎝ | L14: 1 | M14: 주 | N14: 1/1 | O14: =IF(N14="1","1",LEFT(N14,FIND("/",N14)-1)) -> 1 | P14: =IF(N14="1","1",RIGHT(N14,LEN(N14)-FIND("/",N14))) -> 1 | Q14: =O14/P14 -> 1 | S14: =IF(ISNUMBER(FIND("↑",R14))=TRUE,"↑",IF(ISNUMBER(FIND("↑",R15))=TRUE,R14,IF(ISNUMBER(FIND("포함",R14))=TRUE,R14,IFERROR(ROUNDDOWN(R14*$L14*$Q14,-1),0)))) -> 0 | U14: =IF(ISNUMBER(FIND("↑",T14))=TRUE,"↑",IF(ISNUMBER(FIND("↑",T15))=TRUE,T14,IF(ISNUMBER(FIND("포함",T14))=TRUE,T14,IFERROR(ROUNDDOWN(T14*$L14*$Q14,-1),0)))) -> 0 | W14: =IF(ISNUMBER(FIND("↑",V14))=TRUE,"↑",IF(ISNUMBER(FIND("↑",V15))=TRUE,V14,IF(ISNUMBER(FIND("포함",V14))=TRUE,V14,IFERROR(ROUNDDOWN(V14*$L14*$Q14,-1),0)))) -> 0 | X14: =MAX(R14,T14,V14) -> 0 | Y14: =MIN(R14,T14,V14) -> 0 | Z14: =X14/Y14 -> #DIV/0! | AD14: =IF(ISNUMBER(FIND("↑",R14))=TRUE,"↑",IF(ISNUMBER(FIND("포함",R14))=TRUE,R14,IF(ISNUMBER(FIND("↑",R15))=TRUE,"일괄",IFERROR(AVERAGE(R14,T14,V14),0)))) -> 0 | AE14: =IF(ISNUMBER(FIND("↑",R14))=TRUE,"↑",IF(ISNUMBER(FIND("포함",R14))=TRUE,R14,IF(ISNUMBER(FIND("↑",R15))=TRUE,IFERROR(ROUNDDOWN(IF(V14="",AVERAGEA(U14,S14),AVERAGEA(S14,U14,W14)),-1),0),IFERROR(ROUNDDOWN(AD14*L14*Q14,-1),0)))) -> 0
A15: 11 | B15: 서구 | C15: 서대신동3가 | D15: 31-92 | E15: 31-470 | F15: 제피나무1 | G15: H1~1.5m, R2~7㎝ | L15: 2 | M15: 주 | N15: 1/1 | O15: =IF(N15="1","1",LEFT(N15,FIND("/",N15)-1)) -> 1 | P15: =IF(N15="1","1",RIGHT(N15,LEN(N15)-FIND("/",N15))) -> 1 | Q15: =O15/P15 -> 1 | S15: =IF(ISNUMBER(FIND("↑",R15))=TRUE,"↑",IF(ISNUMBER(FIND("↑",R16))=TRUE,R15,IF(ISNUMBER(FIND("포함",R15))=TRUE,R15,IFERROR(ROUNDDOWN(R15*$L15*$Q15,-1),0)))) -> 0 | U15: =IF(ISNUMBER(FIND("↑",T15))=TRUE,"↑",IF(ISNUMBER(FIND("↑",T16))=TRUE,T15,IF(ISNUMBER(FIND("포함",T15))=TRUE,T15,IFERROR(ROUNDDOWN(T15*$L15*$Q15,-1),0)))) -> 0 | W15: =IF(ISNUMBER(FIND("↑",V15))=TRUE,"↑",IF(ISNUMBER(FIND("↑",V16))=TRUE,V15,IF(ISNUMBER(FIND("포함",V15))=TRUE,V15,IFERROR(ROUNDDOWN(V15*$L15*$Q15,-1),0)))) -> 0 | X15: =MAX(R15,T15,V15) -> 0 | Y15: =MIN(R15,T15,V15) -> 0 | Z15: =X15/Y15 -> #DIV/0! | AD15: =IF(ISNUMBER(FIND("↑",R15))=TRUE,"↑",IF(ISNUMBER(FIND("포함",R15))=TRUE,R15,IF(ISNUMBER(FIND("↑",R16))=TRUE,"일괄",IFERROR(AVERAGE(R15,T15,V15),0)))) -> 0 | AE15: =IF(ISNUMBER(FIND("↑",R15))=TRUE,"↑",IF(ISNUMBER(FIND("포함",R15))=TRUE,R15,IF(ISNUMBER(FIND("↑",R16))=TRUE,IFERROR(ROUNDDOWN(IF(V15="",AVERAGEA(U15,S15),AVERAGEA(S15,U15,W15)),-1),0),IFERROR(ROUNDDOWN(AD15*L15*Q15,-1),0)))) -> 0
A16: 12 | B16: 서구 | C16: 서대신동3가 | D16: 31-92 | E16: 31-470 | F16: 오가피나무1 | G16: H1m, R10㎝ | L16: 1 | M16: 주 | N16: 1/1 | O16: =IF(N16="1","1",LEFT(N16,FIND("/",N16)-1)) -> 1 | P16: =IF(N16="1","1",RIGHT(N16,LEN(N16)-FIND("/",N16))) -> 1 | Q16: =O16/P16 -> 1 | S16: =IF(ISNUMBER(FIND("↑",R16))=TRUE,"↑",IF(ISNUMBER(FIND("↑",R17))=TRUE,R16,IF(ISNUMBER(FIND("포함",R16))=TRUE,R16,IFERROR(ROUNDDOWN(R16*$L16*$Q16,-1),0)))) -> 0 | U16: =IF(ISNUMBER(FIND("↑",T16))=TRUE,"↑",IF(ISNUMBER(FIND("↑",T17))=TRUE,T16,IF(ISNUMBER(FIND("포함",T16))=TRUE,T16,IFERROR(ROUNDDOWN(T16*$L16*$Q16,-1),0)))) -> 0 | W16: =IF(ISNUMBER(FIND("↑",V16))=TRUE,"↑",IF(ISNUMBER(FIND("↑",V17))=TRUE,V16,IF(ISNUMBER(FIND("포함",V16))=TRUE,V16,IFERROR(ROUNDDOWN(V16*$L16*$Q16,-1),0)))) -> 0 | X16: =MAX(R16,T16,V16) -> 0 | Y16: =MIN(R16,T16,V16) -> 0 | Z16: =X16/Y16 -> #DIV/0! | AD16: =IF(ISNUMBER(FIND("↑",R16))=TRUE,"↑",IF(ISNUMBER(FIND("포함",R16))=TRUE,R16,IF(ISNUMBER(FIND("↑",R17))=TRUE,"일괄",IFERROR(AVERAGE(R16,T16,V16),0)))) -> 0 | AE16: =IF(ISNUMBER(FIND("↑",R16))=TRUE,"↑",IF(ISNUMBER(FIND("포함",R16))=TRUE,R16,IF(ISNUMBER(FIND("↑",R17))=TRUE,IFERROR(ROUNDDOWN(IF(V16="",AVERAGEA(U16,S16),AVERAGEA(S16,U16,W16)),-1),0),IFERROR(ROUNDDOWN(AD16*L16*Q16,-1),0)))) -> 0
A17: 13 | B17: 서구 | C17: 서대신동3가 | D17: 31-92 | E17: 31-470 | F17: 매실나무3 | G17: H1.5m, R10㎝ | L17: 1 | M17: 주 | N17: 1/1 | O17: =IF(N17="1","1",LEFT(N17,FIND("/",N17)-1)) -> 1 | P17: =IF(N17="1","1",RIGHT(N17,LEN(N17)-FIND("/",N17))) -> 1 | Q17: =O17/P17 -> 1 | S17: =IF(ISNUMBER(FIND("↑",R17))=TRUE,"↑",IF(ISNUMBER(FIND("↑",R18))=TRUE,R17,IF(ISNUMBER(FIND("포함",R17))=TRUE,R17,IFERROR(ROUNDDOWN(R17*$L17*$Q17,-1),0)))) -> 0 | U17: =IF(ISNUMBER(FIND("↑",T17))=TRUE,"↑",IF(ISNUMBER(FIND("↑",T18))=TRUE,T17,IF(ISNUMBER(FIND("포함",T17))=TRUE,T17,IFERROR(ROUNDDOWN(T17*$L17*$Q17,-1),0)))) -> 0 | W17: =IF(ISNUMBER(FIND("↑",V17))=TRUE,"↑",IF(ISNUMBER(FIND("↑",V18))=TRUE,V17,IF(ISNUMBER(FIND("포함",V17))=TRUE,V17,IFERROR(ROUNDDOWN(V17*$L17*$Q17,-1),0)))) -> 0 | X17: =MAX(R17,T17,V17) -> 0 | Y17: =MIN(R17,T17,V17) -> 0 | Z17: =X17/Y17 -> #DIV/0! | AD17: =IF(ISNUMBER(FIND("↑",R17))=TRUE,"↑",IF(ISNUMBER(FIND("포함",R17))=TRUE,R17,IF(ISNUMBER(FIND("↑",R18))=TRUE,"일괄",IFERROR(AVERAGE(R17,T17,V17),0)))) -> 0 | AE17: =IF(ISNUMBER(FIND("↑",R17))=TRUE,"↑",IF(ISNUMBER(FIND("포함",R17))=TRUE,R17,IF(ISNUMBER(FIND("↑",R18))=TRUE,IFERROR(ROUNDDOWN(IF(V17="",AVERAGEA(U17,S17),AVERAGEA(S17,U17,W17)),-1),0),IFERROR(ROUNDDOWN(AD17*L17*Q17,-1),0)))) -> 0
A18: 14 | B18: 서구 | C18: 서대신동3가 | D18: 31-92 | E18: 31-470 | F18: 매실나무4 | G18: H5m, R20㎝ | L18: 12 | M18: 주 | N18: 1/1 | O18: =IF(N18="1","1",LEFT(N18,FIND("/",N18)-1)) -> 1 | P18: =IF(N18="1","1",RIGHT(N18,LEN(N18)-FIND("/",N18))) -> 1 | Q18: =O18/P18 -> 1 | S18: =IF(ISNUMBER(FIND("↑",R18))=TRUE,"↑",IF(ISNUMBER(FIND("↑",R19))=TRUE,R18,IF(ISNUMBER(FIND("포함",R18))=TRUE,R18,IFERROR(ROUNDDOWN(R18*$L18*$Q18,-1),0)))) -> 0 | U18: =IF(ISNUMBER(FIND("↑",T18))=TRUE,"↑",IF(ISNUMBER(FIND("↑",T19))=TRUE,T18,IF(ISNUMBER(FIND("포함",T18))=TRUE,T18,IFERROR(ROUNDDOWN(T18*$L18*$Q18,-1),0)))) -> 0 | W18: =IF(ISNUMBER(FIND("↑",V18))=TRUE,"↑",IF(ISNUMBER(FIND("↑",V19))=TRUE,V18,IF(ISNUMBER(FIND("포함",V18))=TRUE,V18,IFERROR(ROUNDDOWN(V18*$L18*$Q18,-1),0)))) -> 0 | X18: =MAX(R18,T18,V18) -> 0 | Y18: =MIN(R18,T18,V18) -> 0 | Z18: =X18/Y18 -> #DIV/0! | AD18: =IF(ISNUMBER(FIND("↑",R18))=TRUE,"↑",IF(ISNUMBER(FIND("포함",R18))=TRUE,R18,IF(ISNUMBER(FIND("↑",R19))=TRUE,"일괄",IFERROR(AVERAGE(R18,T18,V18),0)))) -> 0 | AE18: =IF(ISNUMBER(FIND("↑",R18))=TRUE,"↑",IF(ISNUMBER(FIND("포함",R18))=TRUE,R18,IF(ISNUMBER(FIND("↑",R19))=TRUE,IFERROR(ROUNDDOWN(IF(V18="",AVERAGEA(U18,S18),AVERAGEA(S18,U18,W18)),-1),0),IFERROR(ROUNDDOWN(AD18*L18*Q18,-1),0)))) -> 0
A19: 15 | B19: 서구 | C19: 서대신동3가 | D19: 31-92 | E19: 31-470 | F19: 개복숭아 | G19: H6m, R15㎝ | L19: 1 | M19: 주 | N19: 1/1 | O19: =IF(N19="1","1",LEFT(N19,FIND("/",N19)-1)) -> 1 | P19: =IF(N19="1","1",RIGHT(N19,LEN(N19)-FIND("/",N19))) -> 1 | Q19: =O19/P19 -> 1 | S19: =IF(ISNUMBER(FIND("↑",R19))=TRUE,"↑",IF(ISNUMBER(FIND("↑",R20))=TRUE,R19,IF(ISNUMBER(FIND("포함",R19))=TRUE,R19,IFERROR(ROUNDDOWN(R19*$L19*$Q19,-1),0)))) -> 0 | U19: =IF(ISNUMBER(FIND("↑",T19))=TRUE,"↑",IF(ISNUMBER(FIND("↑",T20))=TRUE,T19,IF(ISNUMBER(FIND("포함",T19))=TRUE,T19,IFERROR(ROUNDDOWN(T19*$L19*$Q19,-1),0)))) -> 0 | W19: =IF(ISNUMBER(FIND("↑",V19))=TRUE,"↑",IF(ISNUMBER(FIND("↑",V20))=TRUE,V19,IF(ISNUMBER(FIND("포함",V19))=TRUE,V19,IFERROR(ROUNDDOWN(V19*$L19*$Q19,-1),0)))) -> 0 | X19: =MAX(R19,T19,V19) -> 0 | Y19: =MIN(R19,T19,V19) -> 0 | Z19: =X19/Y19 -> #DIV/0! | AD19: =IF(ISNUMBER(FIND("↑",R19))=TRUE,"↑",IF(ISNUMBER(FIND("포함",R19))=TRUE,R19,IF(ISNUMBER(FIND("↑",R20))=TRUE,"일괄",IFERROR(AVERAGE(R19,T19,V19),0)))) -> 0 | AE19: =IF(ISNUMBER(FIND("↑",R19))=TRUE,"↑",IF(ISNUMBER(FIND("포함",R19))=TRUE,R19,IF(ISNUMBER(FIND("↑",R20))=TRUE,IFERROR(ROUNDDOWN(IF(V19="",AVERAGEA(U19,S19),AVERAGEA(S19,U19,W19)),-1),0),IFERROR(ROUNDDOWN(AD19*L19*Q19,-1),0)))) -> 0
A20: 16 | B20: 서구 | C20: 서대신동3가 | D20: 31-93 | E20: 31-471 | F20: 오가피나무2 | G20: H3m, R10㎝ | L20: 3 | M20: 주 | N20: 1/1 | O20: =IF(N20="1","1",LEFT(N20,FIND("/",N20)-1)) -> 1 | P20: =IF(N20="1","1",RIGHT(N20,LEN(N20)-FIND("/",N20))) -> 1 | Q20: =O20/P20 -> 1 | S20: =IF(ISNUMBER(FIND("↑",R20))=TRUE,"↑",IF(ISNUMBER(FIND("↑",R21))=TRUE,R20,IF(ISNUMBER(FIND("포함",R20))=TRUE,R20,IFERROR(ROUNDDOWN(R20*$L20*$Q20,-1),0)))) -> 0 | U20: =IF(ISNUMBER(FIND("↑",T20))=TRUE,"↑",IF(ISNUMBER(FIND("↑",T21))=TRUE,T20,IF(ISNUMBER(FIND("포함",T20))=TRUE,T20,IFERROR(ROUNDDOWN(T20*$L20*$Q20,-1),0)))) -> 0 | W20: =IF(ISNUMBER(FIND("↑",V20))=TRUE,"↑",IF(ISNUMBER(FIND("↑",V21))=TRUE,V20,IF(ISNUMBER(FIND("포함",V20))=TRUE,V20,IFERROR(ROUNDDOWN(V20*$L20*$Q20,-1),0)))) -> 0 | X20: =MAX(R20,T20,V20) -> 0 | Y20: =MIN(R20,T20,V20) -> 0 | Z20: =X20/Y20 -> #DIV/0! | AD20: =IF(ISNUMBER(FIND("↑",R20))=TRUE,"↑",IF(ISNUMBER(FIND("포함",R20))=TRUE,R20,IF(ISNUMBER(FIND("↑",R21))=TRUE,"일괄",IFERROR(AVERAGE(R20,T20,V20),0)))) -> 0 | AE20: =IF(ISNUMBER(FIND("↑",R20))=TRUE,"↑",IF(ISNUMBER(FIND("포함",R20))=TRUE,R20,IF(ISNUMBER(FIND("↑",R21))=TRUE,IFERROR(ROUNDDOWN(IF(V20="",AVERAGEA(U20,S20),AVERAGEA(S20,U20,W20)),-1),0),IFERROR(ROUNDDOWN(AD20*L20*Q20,-1),0)))) -> 0
A21: 17 | B21: 서구 | C21: 서대신동3가 | D21: 31-92 | E21: 31-470 | F21: 제피나무2 | G21: H3m, R5㎝ | L21: 2 | M21: 주 | N21: 1/1 | O21: =IF(N21="1","1",LEFT(N21,FIND("/",N21)-1)) -> 1 | P21: =IF(N21="1","1",RIGHT(N21,LEN(N21)-FIND("/",N21))) -> 1 | Q21: =O21/P21 -> 1 | S21: =IF(ISNUMBER(FIND("↑",R21))=TRUE,"↑",IF(ISNUMBER(FIND("↑",R27))=TRUE,R21,IF(ISNUMBER(FIND("포함",R21))=TRUE,R21,IFERROR(ROUNDDOWN(R21*$L21*$Q21,-1),0)))) -> 0 | U21: =IF(ISNUMBER(FIND("↑",T21))=TRUE,"↑",IF(ISNUMBER(FIND("↑",T27))=TRUE,T21,IF(ISNUMBER(FIND("포함",T21))=TRUE,T21,IFERROR(ROUNDDOWN(T21*$L21*$Q21,-1),0)))) -> 0 | W21: =IF(ISNUMBER(FIND("↑",V21))=TRUE,"↑",IF(ISNUMBER(FIND("↑",V27))=TRUE,V21,IF(ISNUMBER(FIND("포함",V21))=TRUE,V21,IFERROR(ROUNDDOWN(V21*$L21*$Q21,-1),0)))) -> 0 | X21: =MAX(R21,T21,V21) -> 0 | Y21: =MIN(R21,T21,V21) -> 0 | Z21: =X21/Y21 -> #DIV/0! | AD21: =IF(ISNUMBER(FIND("↑",R21))=TRUE,"↑",IF(ISNUMBER(FIND("포함",R21))=TRUE,R21,IF(ISNUMBER(FIND("↑",R27))=TRUE,"일괄",IFERROR(AVERAGE(R21,T21,V21),0)))) -> 0 | AE21: =IF(ISNUMBER(FIND("↑",R21))=TRUE,"↑",IF(ISNUMBER(FIND("포함",R21))=TRUE,R21,IF(ISNUMBER(FIND("↑",R27))=TRUE,IFERROR(ROUNDDOWN(IF(V21="",AVERAGEA(U21,S21),AVERAGEA(S21,U21,W21)),-1),0),IFERROR(ROUNDDOWN(AD21*L21*Q21,-1),0)))) -> 0
A22: 18 | B22: 서구 | C22: 서대신동3가 | D22: 31-92 | E22: 31-470 | F22: 울타리 | G22: 그물망, 철제 지주대 포함, H0.8m | L22: 36 | M22: m | N22: 1/1 | O22: =IF(N22="1","1",LEFT(N22,FIND("/",N22)-1)) -> 1 | P22: =IF(N22="1","1",RIGHT(N22,LEN(N22)-FIND("/",N22))) -> 1 | Q22: =O22/P22 -> 1 | S22: =IF(ISNUMBER(FIND("↑",R22))=TRUE,"↑",IF(ISNUMBER(FIND("↑",#REF!))=TRUE,R22,IF(ISNUMBER(FIND("포함",R22))=TRUE,R22,IFERROR(ROUNDDOWN(R22*$L22*$Q22,-1),0)))) -> 0 | U22: =IF(ISNUMBER(FIND("↑",T22))=TRUE,"↑",IF(ISNUMBER(FIND("↑",#REF!))=TRUE,T22,IF(ISNUMBER(FIND("포함",T22))=TRUE,T22,IFERROR(ROUNDDOWN(T22*$L22*$Q22,-1),0)))) -> 0 | W22: =IF(ISNUMBER(FIND("↑",V22))=TRUE,"↑",IF(ISNUMBER(FIND("↑",#REF!))=TRUE,V22,IF(ISNUMBER(FIND("포함",V22))=TRUE,V22,IFERROR(ROUNDDOWN(V22*$L22*$Q22,-1),0)))) -> 0 | X22: =MAX(R22,T22,V22) -> 0 | Y22: =MIN(R22,T22,V22) -> 0 | Z22: =X22/Y22 -> #DIV/0! | AD22: =IF(ISNUMBER(FIND("↑",R22))=TRUE,"↑",IF(ISNUMBER(FIND("포함",R22))=TRUE,R22,IF(ISNUMBER(FIND("↑",#REF!))=TRUE,"일괄",IFERROR(AVERAGE(R22,T22,V22),0)))) -> 0 | AE22: =IF(ISNUMBER(FIND("↑",R22))=TRUE,"↑",IF(ISNUMBER(FIND("포함",R22))=TRUE,R22,IF(ISNUMBER(FIND("↑",#REF!))=TRUE,IFERROR(ROUNDDOWN(IF(V22="",AVERAGEA(U22,S22),AVERAGEA(S22,U22,W22)),-1),0),IFERROR(ROUNDDOWN(AD22*L22*Q22,-1),0)))) -> 0
A23: 19 | B23: 서구 | C23: 서대신동3가 | D23: 31-92 | E23: 31-470 | F23: 제피나무1 | G23: H2m, R10㎝ | L23: 1 | M23: 주 | N23: 1/1 | O23: =IF(N23="1","1",LEFT(N23,FIND("/",N23)-1)) -> 1 | P23: =IF(N23="1","1",RIGHT(N23,LEN(N23)-FIND("/",N23))) -> 1 | Q23: =O23/P23 -> 1 | S23: =IF(ISNUMBER(FIND("↑",R23))=TRUE,"↑",IF(ISNUMBER(FIND("↑",R24))=TRUE,R23,IF(ISNUMBER(FIND("포함",R23))=TRUE,R23,IFERROR(ROUNDDOWN(R23*$L23*$Q23,-1),0)))) -> 0 | U23: =IF(ISNUMBER(FIND("↑",T23))=TRUE,"↑",IF(ISNUMBER(FIND("↑",T24))=TRUE,T23,IF(ISNUMBER(FIND("포함",T23))=TRUE,T23,IFERROR(ROUNDDOWN(T23*$L23*$Q23,-1),0)))) -> 0 | W23: =IF(ISNUMBER(FIND("↑",V23))=TRUE,"↑",IF(ISNUMBER(FIND("↑",V24))=TRUE,V23,IF(ISNUMBER(FIND("포함",V23))=TRUE,V23,IFERROR(ROUNDDOWN(V23*$L23*$Q23,-1),0)))) -> 0 | X23: =MAX(R23,T23,V23) -> 0 | Y23: =MIN(R23,T23,V23) -> 0 | Z23: =X23/Y23 -> #DIV/0! | AD23: =IF(ISNUMBER(FIND("↑",R23))=TRUE,"↑",IF(ISNUMBER(FIND("포함",R23))=TRUE,R23,IF(ISNUMBER(FIND("↑",R24))=TRUE,"일괄",IFERROR(AVERAGE(R23,T23,V23),0)))) -> 0 | AE23: =IF(ISNUMBER(FIND("↑",R23))=TRUE,"↑",IF(ISNUMBER(FIND("포함",R23))=TRUE,R23,IF(ISNUMBER(FIND("↑",R24))=TRUE,IFERROR(ROUNDDOWN(IF(V23="",AVERAGEA(U23,S23),AVERAGEA(S23,U23,W23)),-1),0),IFERROR(ROUNDDOWN(AD23*L23*Q23,-1),0)))) -> 0
A24: 20 | B24: 서구 | C24: 서대신동3가 | D24: 31-92 | E24: 31-470 | F24: 제피나무2 | G24: H1.5m, R3㎝ | L24: 1 | M24: 주 | N24: 1/1 | O24: =IF(N24="1","1",LEFT(N24,FIND("/",N24)-1)) -> 1 | P24: =IF(N24="1","1",RIGHT(N24,LEN(N24)-FIND("/",N24))) -> 1 | Q24: =O24/P24 -> 1 | S24: =IF(ISNUMBER(FIND("↑",R24))=TRUE,"↑",IF(ISNUMBER(FIND("↑",R25))=TRUE,R24,IF(ISNUMBER(FIND("포함",R24))=TRUE,R24,IFERROR(ROUNDDOWN(R24*$L24*$Q24,-1),0)))) -> 0 | U24: =IF(ISNUMBER(FIND("↑",T24))=TRUE,"↑",IF(ISNUMBER(FIND("↑",T25))=TRUE,T24,IF(ISNUMBER(FIND("포함",T24))=TRUE,T24,IFERROR(ROUNDDOWN(T24*$L24*$Q24,-1),0)))) -> 0 | W24: =IF(ISNUMBER(FIND("↑",V24))=TRUE,"↑",IF(ISNUMBER(FIND("↑",V25))=TRUE,V24,IF(ISNUMBER(FIND("포함",V24))=TRUE,V24,IFERROR(ROUNDDOWN(V24*$L24*$Q24,-1),0)))) -> 0 | X24: =MAX(R24,T24,V24) -> 0 | Y24: =MIN(R24,T24,V24) -> 0 | Z24: =X24/Y24 -> #DIV/0! | AD24: =IF(ISNUMBER(FIND("↑",R24))=TRUE,"↑",IF(ISNUMBER(FIND("포함",R24))=TRUE,R24,IF(ISNUMBER(FIND("↑",R25))=TRUE,"일괄",IFERROR(AVERAGE(R24,T24,V24),0)))) -> 0 | AE24: =IF(ISNUMBER(FIND("↑",R24))=TRUE,"↑",IF(ISNUMBER(FIND("포함",R24))=TRUE,R24,IF(ISNUMBER(FIND("↑",R25))=TRUE,IFERROR(ROUNDDOWN(IF(V24="",AVERAGEA(U24,S24),AVERAGEA(S24,U24,W24)),-1),0),IFERROR(ROUNDDOWN(AD24*L24*Q24,-1),0)))) -> 0
A25: 21 | B25: 서구 | C25: 서대신동3가 | D25: 31-92 | E25: 31-470 | F25: 산딸기 | G25: 1 × 1m | L25: 5 | M25: 군 | N25: 1/1 | O25: =IF(N25="1","1",LEFT(N25,FIND("/",N25)-1)) -> 1 | P25: =IF(N25="1","1",RIGHT(N25,LEN(N25)-FIND("/",N25))) -> 1 | Q25: =O25/P25 -> 1 | S25: =IF(ISNUMBER(FIND("↑",R25))=TRUE,"↑",IF(ISNUMBER(FIND("↑",R26))=TRUE,R25,IF(ISNUMBER(FIND("포함",R25))=TRUE,R25,IFERROR(ROUNDDOWN(R25*$L25*$Q25,-1),0)))) -> 0 | U25: =IF(ISNUMBER(FIND("↑",T25))=TRUE,"↑",IF(ISNUMBER(FIND("↑",T26))=TRUE,T25,IF(ISNUMBER(FIND("포함",T25))=TRUE,T25,IFERROR(ROUNDDOWN(T25*$L25*$Q25,-1),0)))) -> 0 | W25: =IF(ISNUMBER(FIND("↑",V25))=TRUE,"↑",IF(ISNUMBER(FIND("↑",V26))=TRUE,V25,IF(ISNUMBER(FIND("포함",V25))=TRUE,V25,IFERROR(ROUNDDOWN(V25*$L25*$Q25,-1),0)))) -> 0 | X25: =MAX(R25,T25,V25) -> 0 | Y25: =MIN(R25,T25,V25) -> 0 | Z25: =X25/Y25 -> #DIV/0! | AD25: =IF(ISNUMBER(FIND("↑",R25))=TRUE,"↑",IF(ISNUMBER(FIND("포함",R25))=TRUE,R25,IF(ISNUMBER(FIND("↑",R26))=TRUE,"일괄",IFERROR(AVERAGE(R25,T25,V25),0)))) -> 0 | AE25: =IF(ISNUMBER(FIND("↑",R25))=TRUE,"↑",IF(ISNUMBER(FIND("포함",R25))=TRUE,R25,IF(ISNUMBER(FIND("↑",R26))=TRUE,IFERROR(ROUNDDOWN(IF(V25="",AVERAGEA(U25,S25),AVERAGEA(S25,U25,W25)),-1),0),IFERROR(ROUNDDOWN(AD25*L25*Q25,-1),0)))) -> 0
A26: 22 | B26: 서구 | C26: 서대신동3가 | D26: 31-92 | E26: 31-470 | F26: 녹차나무 | G26: 4 × 0.7m | L26: 4 | M26: 군 | N26: 1/1 | O26: =IF(N26="1","1",LEFT(N26,FIND("/",N26)-1)) -> 1 | P26: =IF(N26="1","1",RIGHT(N26,LEN(N26)-FIND("/",N26))) -> 1 | Q26: =O26/P26 -> 1 | S26: =IF(ISNUMBER(FIND("↑",R26))=TRUE,"↑",IF(ISNUMBER(FIND("↑",R28))=TRUE,R26,IF(ISNUMBER(FIND("포함",R26))=TRUE,R26,IFERROR(ROUNDDOWN(R26*$L26*$Q26,-1),0)))) -> 0 | U26: =IF(ISNUMBER(FIND("↑",T26))=TRUE,"↑",IF(ISNUMBER(FIND("↑",T28))=TRUE,T26,IF(ISNUMBER(FIND("포함",T26))=TRUE,T26,IFERROR(ROUNDDOWN(T26*$L26*$Q26,-1),0)))) -> 0 | W26: =IF(ISNUMBER(FIND("↑",V26))=TRUE,"↑",IF(ISNUMBER(FIND("↑",V28))=TRUE,V26,IF(ISNUMBER(FIND("포함",V26))=TRUE,V26,IFERROR(ROUNDDOWN(V26*$L26*$Q26,-1),0)))) -> 0 | X26: =MAX(R26,T26,V26) -> 0 | Y26: =MIN(R26,T26,V26) -> 0 | Z26: =X26/Y26 -> #DIV/0! | AD26: =IF(ISNUMBER(FIND("↑",R26))=TRUE,"↑",IF(ISNUMBER(FIND("포함",R26))=TRUE,R26,IF(ISNUMBER(FIND("↑",R28))=TRUE,"일괄",IFERROR(AVERAGE(R26,T26,V26),0)))) -> 0 | AE26: =IF(ISNUMBER(FIND("↑",R26))=TRUE,"↑",IF(ISNUMBER(FIND("포함",R26))=TRUE,R26,IF(ISNUMBER(FIND("↑",R28))=TRUE,IFERROR(ROUNDDOWN(IF(V26="",AVERAGEA(U26,S26),AVERAGEA(S26,U26,W26)),-1),0),IFERROR(ROUNDDOWN(AD26*L26*Q26,-1),0)))) -> 0
A27: 23 | B27: 서구 | C27: 서대신동3가 | D27: 31-93 | E27: 31-471 | F27: 울타리 | G27: 철망, H1.5m | L27: 9 | M27: m | N27: 1/1 | O27: =IF(N27="1","1",LEFT(N27,FIND("/",N27)-1)) -> 1 | P27: =IF(N27="1","1",RIGHT(N27,LEN(N27)-FIND("/",N27))) -> 1 | Q27: =O27/P27 -> 1 | S27: =IF(ISNUMBER(FIND("↑",R27))=TRUE,"↑",IF(ISNUMBER(FIND("↑",#REF!))=TRUE,R27,IF(ISNUMBER(FIND("포함",R27))=TRUE,R27,IFERROR(ROUNDDOWN(R27*$L27*$Q27,-1),0)))) -> 0 | U27: =IF(ISNUMBER(FIND("↑",T27))=TRUE,"↑",IF(ISNUMBER(FIND("↑",#REF!))=TRUE,T27,IF(ISNUMBER(FIND("포함",T27))=TRUE,T27,IFERROR(ROUNDDOWN(T27*$L27*$Q27,-1),0)))) -> 0 | W27: =IF(ISNUMBER(FIND("↑",V27))=TRUE,"↑",IF(ISNUMBER(FIND("↑",#REF!))=TRUE,V27,IF(ISNUMBER(FIND("포함",V27))=TRUE,V27,IFERROR(ROUNDDOWN(V27*$L27*$Q27,-1),0)))) -> 0 | X27: =MAX(R27,T27,V27) -> 0 | Y27: =MIN(R27,T27,V27) -> 0 | Z27: =X27/Y27 -> #DIV/0! | AD27: =IF(ISNUMBER(FIND("↑",R27))=TRUE,"↑",IF(ISNUMBER(FIND("포함",R27))=TRUE,R27,IF(ISNUMBER(FIND("↑",#REF!))=TRUE,"일괄",IFERROR(AVERAGE(R27,T27,V27),0)))) -> 0 | AE27: =IF(ISNUMBER(FIND("↑",R27))=TRUE,"↑",IF(ISNUMBER(FIND("포함",R27))=TRUE,R27,IF(ISNUMBER(FIND("↑",#REF!))=TRUE,IFERROR(ROUNDDOWN(IF(V27="",AVERAGEA(U27,S27),AVERAGEA(S27,U27,W27)),-1),0),IFERROR(ROUNDDOWN(AD27*L27*Q27,-1),0)))) -> 0
A28: 24 | B28: 서구 | C28: 서대신동3가 | D28: 31-89,31-91 | E28: 31-89,31-469 | F28: 물탱크 | G28: 플라스틱, 2톤2EA | L28: 1 | M28: 식 | N28: 1/1 | O28: =IF(N28="1","1",LEFT(N28,FIND("/",N28)-1)) -> 1 | P28: =IF(N28="1","1",RIGHT(N28,LEN(N28)-FIND("/",N28))) -> 1 | Q28: =O28/P28 -> 1 | S28: =IF(ISNUMBER(FIND("↑",R28))=TRUE,"↑",IF(ISNUMBER(FIND("↑",R29))=TRUE,R28,IF(ISNUMBER(FIND("포함",R28))=TRUE,R28,IFERROR(ROUNDDOWN(R28*$L28*$Q28,-1),0)))) -> 0 | U28: =IF(ISNUMBER(FIND("↑",T28))=TRUE,"↑",IF(ISNUMBER(FIND("↑",T29))=TRUE,T28,IF(ISNUMBER(FIND("포함",T28))=TRUE,T28,IFERROR(ROUNDDOWN(T28*$L28*$Q28,-1),0)))) -> 0 | W28: =IF(ISNUMBER(FIND("↑",V28))=TRUE,"↑",IF(ISNUMBER(FIND("↑",V29))=TRUE,V28,IF(ISNUMBER(FIND("포함",V28))=TRUE,V28,IFERROR(ROUNDDOWN(V28*$L28*$Q28,-1),0)))) -> 0 | X28: =MAX(R28,T28,V28) -> 0 | Y28: =MIN(R28,T28,V28) -> 0 | Z28: =X28/Y28 -> #DIV/0! | AD28: =IF(ISNUMBER(FIND("↑",R28))=TRUE,"↑",IF(ISNUMBER(FIND("포함",R28))=TRUE,R28,IF(ISNUMBER(FIND("↑",R29))=TRUE,"일괄",IFERROR(AVERAGE(R28,T28,V28),0)))) -> 0 | AE28: =IF(ISNUMBER(FIND("↑",R28))=TRUE,"↑",IF(ISNUMBER(FIND("포함",R28))=TRUE,R28,IF(ISNUMBER(FIND("↑",R29))=TRUE,IFERROR(ROUNDDOWN(IF(V28="",AVERAGEA(U28,S28),AVERAGEA(S28,U28,W28)),-1),0),IFERROR(ROUNDDOWN(AD28*L28*Q28,-1),0)))) -> 0
A29: 25 | B29: 서구 | C29: 서대신동3가 | D29: 31-91 | E29: 31-469 | F29: 철제 울타리 | G29: H1m, 목재 출입문 포함 | L29: 10 | M29: m | N29: 1/1 | O29: =IF(N29="1","1",LEFT(N29,FIND("/",N29)-1)) -> 1 | P29: =IF(N29="1","1",RIGHT(N29,LEN(N29)-FIND("/",N29))) -> 1 | Q29: =O29/P29 -> 1 | S29: =IF(ISNUMBER(FIND("↑",R29))=TRUE,"↑",IF(ISNUMBER(FIND("↑",#REF!))=TRUE,R29,IF(ISNUMBER(FIND("포함",R29))=TRUE,R29,IFERROR(ROUNDDOWN(R29*$L29*$Q29,-1),0)))) -> 0 | U29: =IF(ISNUMBER(FIND("↑",T29))=TRUE,"↑",IF(ISNUMBER(FIND("↑",#REF!))=TRUE,T29,IF(ISNUMBER(FIND("포함",T29))=TRUE,T29,IFERROR(ROUNDDOWN(T29*$L29*$Q29,-1),0)))) -> 0 | W29: =IF(ISNUMBER(FIND("↑",V29))=TRUE,"↑",IF(ISNUMBER(FIND("↑",#REF!))=TRUE,V29,IF(ISNUMBER(FIND("포함",V29))=TRUE,V29,IFERROR(ROUNDDOWN(V29*$L29*$Q29,-1),0)))) -> 0 | X29: =MAX(R29,T29,V29) -> 0 | Y29: =MIN(R29,T29,V29) -> 0 | Z29: =X29/Y29 -> #DIV/0! | AD29: =IF(ISNUMBER(FIND("↑",R29))=TRUE,"↑",IF(ISNUMBER(FIND("포함",R29))=TRUE,R29,IF(ISNUMBER(FIND("↑",#REF!))=TRUE,"일괄",IFERROR(AVERAGE(R29,T29,V29),0)))) -> 0 | AE29: =IF(ISNUMBER(FIND("↑",R29))=TRUE,"↑",IF(ISNUMBER(FIND("포함",R29))=TRUE,R29,IF(ISNUMBER(FIND("↑",#REF!))=TRUE,IFERROR(ROUNDDOWN(IF(V29="",AVERAGEA(U29,S29),AVERAGEA(S29,U29,W29)),-1),0),IFERROR(ROUNDDOWN(AD29*L29*Q29,-1),0)))) -> 0
A30: 26 | B30: 서구 | C30: 서대신동3가 | D30: 31-91 | E30: 31-469 | F30: 두릅나무 | G30: H2m, R10㎝(편입) | L30: 5 | M30: 군 | N30: 1/1 | O30: =IF(N30="1","1",LEFT(N30,FIND("/",N30)-1)) -> 1 | P30: =IF(N30="1","1",RIGHT(N30,LEN(N30)-FIND("/",N30))) -> 1 | Q30: =O30/P30 -> 1 | S30: =IF(ISNUMBER(FIND("↑",R30))=TRUE,"↑",IF(ISNUMBER(FIND("↑",#REF!))=TRUE,R30,IF(ISNUMBER(FIND("포함",R30))=TRUE,R30,IFERROR(ROUNDDOWN(R30*$L30*$Q30,-1),0)))) -> 0 | U30: =IF(ISNUMBER(FIND("↑",T30))=TRUE,"↑",IF(ISNUMBER(FIND("↑",#REF!))=TRUE,T30,IF(ISNUMBER(FIND("포함",T30))=TRUE,T30,IFERROR(ROUNDDOWN(T30*$L30*$Q30,-1),0)))) -> 0 | W30: =IF(ISNUMBER(FIND("↑",V30))=TRUE,"↑",IF(ISNUMBER(FIND("↑",#REF!))=TRUE,V30,IF(ISNUMBER(FIND("포함",V30))=TRUE,V30,IFERROR(ROUNDDOWN(V30*$L30*$Q30,-1),0)))) -> 0 | X30: =MAX(R30,T30,V30) -> 0 | Y30: =MIN(R30,T30,V30) -> 0 | Z30: =X30/Y30 -> #DIV/0! | AD30: =IF(ISNUMBER(FIND("↑",R30))=TRUE,"↑",IF(ISNUMBER(FIND("포함",R30))=TRUE,R30,IF(ISNUMBER(FIND("↑",#REF!))=TRUE,"일괄",IFERROR(AVERAGE(R30,T30,V30),0)))) -> 0 | AE30: =IF(ISNUMBER(FIND("↑",R30))=TRUE,"↑",IF(ISNUMBER(FIND("포함",R30))=TRUE,R30,IF(ISNUMBER(FIND("↑",#REF!))=TRUE,IFERROR(ROUNDDOWN(IF(V30="",AVERAGEA(U30,S30),AVERAGEA(S30,U30,W30)),-1),0),IFERROR(ROUNDDOWN(AD30*L30*Q30,-1),0)))) -> 0
A31: 27 | B31: 서구 | C31: 서대신동3가 | D31: 31-91 | E31: 31-469 | F31: 매실나무 | G31: H3m, R10~15㎝ | L31: 10 | M31: 주 | N31: 1/1 | O31: =IF(N31="1","1",LEFT(N31,FIND("/",N31)-1)) -> 1 | P31: =IF(N31="1","1",RIGHT(N31,LEN(N31)-FIND("/",N31))) -> 1 | Q31: =O31/P31 -> 1 | S31: =IF(ISNUMBER(FIND("↑",R31))=TRUE,"↑",IF(ISNUMBER(FIND("↑",#REF!))=TRUE,R31,IF(ISNUMBER(FIND("포함",R31))=TRUE,R31,IFERROR(ROUNDDOWN(R31*$L31*$Q31,-1),0)))) -> 0 | U31: =IF(ISNUMBER(FIND("↑",T31))=TRUE,"↑",IF(ISNUMBER(FIND("↑",#REF!))=TRUE,T31,IF(ISNUMBER(FIND("포함",T31))=TRUE,T31,IFERROR(ROUNDDOWN(T31*$L31*$Q31,-1),0)))) -> 0 | W31: =IF(ISNUMBER(FIND("↑",V31))=TRUE,"↑",IF(ISNUMBER(FIND("↑",#REF!))=TRUE,V31,IF(ISNUMBER(FIND("포함",V31))=TRUE,V31,IFERROR(ROUNDDOWN(V31*$L31*$Q31,-1),0)))) -> 0 | X31: =MAX(R31,T31,V31) -> 0 | Y31: =MIN(R31,T31,V31) -> 0 | Z31: =X31/Y31 -> #DIV/0! | AD31: =IF(ISNUMBER(FIND("↑",R31))=TRUE,"↑",IF(ISNUMBER(FIND("포함",R31))=TRUE,R31,IF(ISNUMBER(FIND("↑",#REF!))=TRUE,"일괄",IFERROR(AVERAGE(R31,T31,V31),0)))) -> 0 | AE31: =IF(ISNUMBER(FIND("↑",R31))=TRUE,"↑",IF(ISNUMBER(FIND("포함",R31))=TRUE,R31,IF(ISNUMBER(FIND("↑",#REF!))=TRUE,IFERROR(ROUNDDOWN(IF(V31="",AVERAGEA(U31,S31),AVERAGEA(S31,U31,W31)),-1),0),IFERROR(ROUNDDOWN(AD31*L31*Q31,-1),0)))) -> 0
A32: 28 | B32: 서구 | C32: 서대신동3가 | D32: 31-91 | E32: 31-469 | F32: 오가피나무 | G32: H2m, W1m | L32: 1 | M32: 식 | N32: 1/1 | O32: =IF(N32="1","1",LEFT(N32,FIND("/",N32)-1)) -> 1 | P32: =IF(N32="1","1",RIGHT(N32,LEN(N32)-FIND("/",N32))) -> 1 | Q32: =O32/P32 -> 1 | S32: =IF(ISNUMBER(FIND("↑",R32))=TRUE,"↑",IF(ISNUMBER(FIND("↑",R33))=TRUE,R32,IF(ISNUMBER(FIND("포함",R32))=TRUE,R32,IFERROR(ROUNDDOWN(R32*$L32*$Q32,-1),0)))) -> 0 | U32: =IF(ISNUMBER(FIND("↑",T32))=TRUE,"↑",IF(ISNUMBER(FIND("↑",T33))=TRUE,T32,IF(ISNUMBER(FIND("포함",T32))=TRUE,T32,IFERROR(ROUNDDOWN(T32*$L32*$Q32,-1),0)))) -> 0 | W32: =IF(ISNUMBER(FIND("↑",V32))=TRUE,"↑",IF(ISNUMBER(FIND("↑",V33))=TRUE,V32,IF(ISNUMBER(FIND("포함",V32))=TRUE,V32,IFERROR(ROUNDDOWN(V32*$L32*$Q32,-1),0)))) -> 0 | X32: =MAX(R32,T32,V32) -> 0 | Y32: =MIN(R32,T32,V32) -> 0 | Z32: =X32/Y32 -> #DIV/0! | AD32: =IF(ISNUMBER(FIND("↑",R32))=TRUE,"↑",IF(ISNUMBER(FIND("포함",R32))=TRUE,R32,IF(ISNUMBER(FIND("↑",R33))=TRUE,"일괄",IFERROR(AVERAGE(R32,T32,V32),0)))) -> 0 | AE32: =IF(ISNUMBER(FIND("↑",R32))=TRUE,"↑",IF(ISNUMBER(FIND("포함",R32))=TRUE,R32,IF(ISNUMBER(FIND("↑",R33))=TRUE,IFERROR(ROUNDDOWN(IF(V32="",AVERAGEA(U32,S32),AVERAGEA(S32,U32,W32)),-1),0),IFERROR(ROUNDDOWN(AD32*L32*Q32,-1),0)))) -> 0
A33: 29 | B33: 서구 | C33: 서대신동3가 | D33: 31-91 | E33: 31-469 | F33: 보리수나무 | G33: H4m, R15㎝ | L33: 2 | M33: 주 | N33: 1/1 | O33: =IF(N33="1","1",LEFT(N33,FIND("/",N33)-1)) -> 1 | P33: =IF(N33="1","1",RIGHT(N33,LEN(N33)-FIND("/",N33))) -> 1 | Q33: =O33/P33 -> 1 | S33: =IF(ISNUMBER(FIND("↑",R33))=TRUE,"↑",IF(ISNUMBER(FIND("↑",R52))=TRUE,R33,IF(ISNUMBER(FIND("포함",R33))=TRUE,R33,IFERROR(ROUNDDOWN(R33*$L33*$Q33,-1),0)))) -> 0 | U33: =IF(ISNUMBER(FIND("↑",T33))=TRUE,"↑",IF(ISNUMBER(FIND("↑",T52))=TRUE,T33,IF(ISNUMBER(FIND("포함",T33))=TRUE,T33,IFERROR(ROUNDDOWN(T33*$L33*$Q33,-1),0)))) -> 0 | W33: =IF(ISNUMBER(FIND("↑",V33))=TRUE,"↑",IF(ISNUMBER(FIND("↑",V52))=TRUE,V33,IF(ISNUMBER(FIND("포함",V33))=TRUE,V33,IFERROR(ROUNDDOWN(V33*$L33*$Q33,-1),0)))) -> 0 | X33: =MAX(R33,T33,V33) -> 0 | Y33: =MIN(R33,T33,V33) -> 0 | Z33: =X33/Y33 -> #DIV/0! | AD33: =IF(ISNUMBER(FIND("↑",R33))=TRUE,"↑",IF(ISNUMBER(FIND("포함",R33))=TRUE,R33,IF(ISNUMBER(FIND("↑",R52))=TRUE,"일괄",IFERROR(AVERAGE(R33,T33,V33),0)))) -> 0 | AE33: =IF(ISNUMBER(FIND("↑",R33))=TRUE,"↑",IF(ISNUMBER(FIND("포함",R33))=TRUE,R33,IF(ISNUMBER(FIND("↑",R52))=TRUE,IFERROR(ROUNDDOWN(IF(V33="",AVERAGEA(U33,S33),AVERAGEA(S33,U33,W33)),-1),0),IFERROR(ROUNDDOWN(AD33*L33*Q33,-1),0)))) -> 0
A34: 30 | B34: 서구 | C34: 서대신동3가 | D34: 31-91 | E34: 31-469 | F34: 구지뽕나무 | G34: H4m, R8㎝ | L34: 1 | M34: 주 | N34: 1/1 | O34: =IF(N34="1","1",LEFT(N34,FIND("/",N34)-1)) -> 1 | P34: =IF(N34="1","1",RIGHT(N34,LEN(N34)-FIND("/",N34))) -> 1 | Q34: =O34/P34 -> 1 | S34: =IF(ISNUMBER(FIND("↑",R34))=TRUE,"↑",IF(ISNUMBER(FIND("↑",R35))=TRUE,R34,IF(ISNUMBER(FIND("포함",R34))=TRUE,R34,IFERROR(ROUNDDOWN(R34*$L34*$Q34,-1),0)))) -> 0 | U34: =IF(ISNUMBER(FIND("↑",T34))=TRUE,"↑",IF(ISNUMBER(FIND("↑",T35))=TRUE,T34,IF(ISNUMBER(FIND("포함",T34))=TRUE,T34,IFERROR(ROUNDDOWN(T34*$L34*$Q34,-1),0)))) -> 0 | W34: =IF(ISNUMBER(FIND("↑",V34))=TRUE,"↑",IF(ISNUMBER(FIND("↑",V35))=TRUE,V34,IF(ISNUMBER(FIND("포함",V34))=TRUE,V34,IFERROR(ROUNDDOWN(V34*$L34*$Q34,-1),0)))) -> 0 | X34: =MAX(R34,T34,V34) -> 0 | Y34: =MIN(R34,T34,V34) -> 0 | Z34: =X34/Y34 -> #DIV/0! | AD34: =IF(ISNUMBER(FIND("↑",R34))=TRUE,"↑",IF(ISNUMBER(FIND("포함",R34))=TRUE,R34,IF(ISNUMBER(FIND("↑",R35))=TRUE,"일괄",IFERROR(AVERAGE(R34,T34,V34),0)))) -> 0 | AE34: =IF(ISNUMBER(FIND("↑",R34))=TRUE,"↑",IF(ISNUMBER(FIND("포함",R34))=TRUE,R34,IF(ISNUMBER(FIND("↑",R35))=TRUE,IFERROR(ROUNDDOWN(IF(V34="",AVERAGEA(U34,S34),AVERAGEA(S34,U34,W34)),-1),0),IFERROR(ROUNDDOWN(AD34*L34*Q34,-1),0)))) -> 0
A35: 31 | B35: 서구 | C35: 서대신동3가 | D35: 31-91,31-92 | E35: 31-469,31-470 | F35: 비닐하우스 | G35: 철파이즈조 , 6×8m | L35: 1 | M35: 식 | N35: 1/1 | O35: =IF(N35="1","1",LEFT(N35,FIND("/",N35)-1)) -> 1 | P35: =IF(N35="1","1",RIGHT(N35,LEN(N35)-FIND("/",N35))) -> 1 | Q35: =O35/P35 -> 1 | S35: =IF(ISNUMBER(FIND("↑",R35))=TRUE,"↑",IF(ISNUMBER(FIND("↑",R36))=TRUE,R35,IF(ISNUMBER(FIND("포함",R35))=TRUE,R35,IFERROR(ROUNDDOWN(R35*$L35*$Q35,-1),0)))) -> 0 | U35: =IF(ISNUMBER(FIND("↑",T35))=TRUE,"↑",IF(ISNUMBER(FIND("↑",T36))=TRUE,T35,IF(ISNUMBER(FIND("포함",T35))=TRUE,T35,IFERROR(ROUNDDOWN(T35*$L35*$Q35,-1),0)))) -> 0 | W35: =IF(ISNUMBER(FIND("↑",V35))=TRUE,"↑",IF(ISNUMBER(FIND("↑",V36))=TRUE,V35,IF(ISNUMBER(FIND("포함",V35))=TRUE,V35,IFERROR(ROUNDDOWN(V35*$L35*$Q35,-1),0)))) -> 0 | X35: =MAX(R35,T35,V35) -> 0 | Y35: =MIN(R35,T35,V35) -> 0 | Z35: =X35/Y35 -> #DIV/0! | AD35: =IF(ISNUMBER(FIND("↑",R35))=TRUE,"↑",IF(ISNUMBER(FIND("포함",R35))=TRUE,R35,IF(ISNUMBER(FIND("↑",R36))=TRUE,"일괄",IFERROR(AVERAGE(R35,T35,V35),0)))) -> 0 | AE35: =IF(ISNUMBER(FIND("↑",R35))=TRUE,"↑",IF(ISNUMBER(FIND("포함",R35))=TRUE,R35,IF(ISNUMBER(FIND("↑",R36))=TRUE,IFERROR(ROUNDDOWN(IF(V35="",AVERAGEA(U35,S35),AVERAGEA(S35,U35,W35)),-1),0),IFERROR(ROUNDDOWN(AD35*L35*Q35,-1),0)))) -> 0
A36: 32 | B36: 서구 | C36: 서대신동3가 | D36: 31-91 | E36: 31-469 | F36: 화단 | G36: 아크릴, 철제 포함, 1.1×2.7m, 와송식재 | L36: 2.9 | M36: ㎡ | N36: 1/1 | O36: =IF(N36="1","1",LEFT(N36,FIND("/",N36)-1)) -> 1 | P36: =IF(N36="1","1",RIGHT(N36,LEN(N36)-FIND("/",N36))) -> 1 | Q36: =O36/P36 -> 1 | S36: =IF(ISNUMBER(FIND("↑",R36))=TRUE,"↑",IF(ISNUMBER(FIND("↑",R37))=TRUE,R36,IF(ISNUMBER(FIND("포함",R36))=TRUE,R36,IFERROR(ROUNDDOWN(R36*$L36*$Q36,-1),0)))) -> 0 | U36: =IF(ISNUMBER(FIND("↑",T36))=TRUE,"↑",IF(ISNUMBER(FIND("↑",T37))=TRUE,T36,IF(ISNUMBER(FIND("포함",T36))=TRUE,T36,IFERROR(ROUNDDOWN(T36*$L36*$Q36,-1),0)))) -> 0 | W36: =IF(ISNUMBER(FIND("↑",V36))=TRUE,"↑",IF(ISNUMBER(FIND("↑",V37))=TRUE,V36,IF(ISNUMBER(FIND("포함",V36))=TRUE,V36,IFERROR(ROUNDDOWN(V36*$L36*$Q36,-1),0)))) -> 0 | X36: =MAX(R36,T36,V36) -> 0 | Y36: =MIN(R36,T36,V36) -> 0 | Z36: =X36/Y36 -> #DIV/0! | AD36: =IF(ISNUMBER(FIND("↑",R36))=TRUE,"↑",IF(ISNUMBER(FIND("포함",R36))=TRUE,R36,IF(ISNUMBER(FIND("↑",R37))=TRUE,"일괄",IFERROR(AVERAGE(R36,T36,V36),0)))) -> 0 | AE36: =IF(ISNUMBER(FIND("↑",R36))=TRUE,"↑",IF(ISNUMBER(FIND("포함",R36))=TRUE,R36,IF(ISNUMBER(FIND("↑",R37))=TRUE,IFERROR(ROUNDDOWN(IF(V36="",AVERAGEA(U36,S36),AVERAGEA(S36,U36,W36)),-1),0),IFERROR(ROUNDDOWN(AD36*L36*Q36,-1),0)))) -> 0
A37: 33 | B37: 서구 | C37: 서대신동3가 | D37: 31-91 | E37: 31-469 | F37: 구조물 | G37: 철파이프조, 철망 포함, 4×4, H2m | L37: 16 | M37: ㎡ | N37: 1/1 | O37: =IF(N37="1","1",LEFT(N37,FIND("/",N37)-1)) -> 1 | P37: =IF(N37="1","1",RIGHT(N37,LEN(N37)-FIND("/",N37))) -> 1 | Q37: =O37/P37 -> 1 | S37: =IF(ISNUMBER(FIND("↑",R37))=TRUE,"↑",IF(ISNUMBER(FIND("↑",R38))=TRUE,R37,IF(ISNUMBER(FIND("포함",R37))=TRUE,R37,IFERROR(ROUNDDOWN(R37*$L37*$Q37,-1),0)))) -> 0 | U37: =IF(ISNUMBER(FIND("↑",T37))=TRUE,"↑",IF(ISNUMBER(FIND("↑",T38))=TRUE,T37,IF(ISNUMBER(FIND("포함",T37))=TRUE,T37,IFERROR(ROUNDDOWN(T37*$L37*$Q37,-1),0)))) -> 0 | W37: =IF(ISNUMBER(FIND("↑",V37))=TRUE,"↑",IF(ISNUMBER(FIND("↑",V38))=TRUE,V37,IF(ISNUMBER(FIND("포함",V37))=TRUE,V37,IFERROR(ROUNDDOWN(V37*$L37*$Q37,-1),0)))) -> 0 | X37: =MAX(R37,T37,V37) -> 0 | Y37: =MIN(R37,T37,V37) -> 0 | Z37: =X37/Y37 -> #DIV/0! | AD37: =IF(ISNUMBER(FIND("↑",R37))=TRUE,"↑",IF(ISNUMBER(FIND("포함",R37))=TRUE,R37,IF(ISNUMBER(FIND("↑",R38))=TRUE,"일괄",IFERROR(AVERAGE(R37,T37,V37),0)))) -> 0 | AE37: =IF(ISNUMBER(FIND("↑",R37))=TRUE,"↑",IF(ISNUMBER(FIND("포함",R37))=TRUE,R37,IF(ISNUMBER(FIND("↑",R38))=TRUE,IFERROR(ROUNDDOWN(IF(V37="",AVERAGEA(U37,S37),AVERAGEA(S37,U37,W37)),-1),0),IFERROR(ROUNDDOWN(AD37*L37*Q37,-1),0)))) -> 0
A38: 34 | B38: 서구 | C38: 서대신동3가 | D38: 31-91 | E38: 31-469 | F38: 창고 | G38: 판넬조, 4×2, H2m | L38: 8 | M38: ㎡ | N38: 1/1 | O38: =IF(N38="1","1",LEFT(N38,FIND("/",N38)-1)) -> 1 | P38: =IF(N38="1","1",RIGHT(N38,LEN(N38)-FIND("/",N38))) -> 1 | Q38: =O38/P38 -> 1 | S38: =IF(ISNUMBER(FIND("↑",R38))=TRUE,"↑",IF(ISNUMBER(FIND("↑",#REF!))=TRUE,R38,IF(ISNUMBER(FIND("포함",R38))=TRUE,R38,IFERROR(ROUNDDOWN(R38*$L38*$Q38,-1),0)))) -> 0 | U38: =IF(ISNUMBER(FIND("↑",T38))=TRUE,"↑",IF(ISNUMBER(FIND("↑",#REF!))=TRUE,T38,IF(ISNUMBER(FIND("포함",T38))=TRUE,T38,IFERROR(ROUNDDOWN(T38*$L38*$Q38,-1),0)))) -> 0 | W38: =IF(ISNUMBER(FIND("↑",V38))=TRUE,"↑",IF(ISNUMBER(FIND("↑",#REF!))=TRUE,V38,IF(ISNUMBER(FIND("포함",V38))=TRUE,V38,IFERROR(ROUNDDOWN(V38*$L38*$Q38,-1),0)))) -> 0 | X38: =MAX(R38,T38,V38) -> 0 | Y38: =MIN(R38,T38,V38) -> 0 | Z38: =X38/Y38 -> #DIV/0! | AD38: =IF(ISNUMBER(FIND("↑",R38))=TRUE,"↑",IF(ISNUMBER(FIND("포함",R38))=TRUE,R38,IF(ISNUMBER(FIND("↑",#REF!))=TRUE,"일괄",IFERROR(AVERAGE(R38,T38,V38),0)))) -> 0 | AE38: =IF(ISNUMBER(FIND("↑",R38))=TRUE,"↑",IF(ISNUMBER(FIND("포함",R38))=TRUE,R38,IF(ISNUMBER(FIND("↑",#REF!))=TRUE,IFERROR(ROUNDDOWN(IF(V38="",AVERAGEA(U38,S38),AVERAGEA(S38,U38,W38)),-1),0),IFERROR(ROUNDDOWN(AD38*L38*Q38,-1),0)))) -> 0
A39: 35 | B39: 서구 | C39: 서대신동3가 | D39: 31-91 | E39: 31-469 | F39: 비파나무1 | G39: H4m, R10㎝ | L39: 1 | M39: 주 | N39: 1/1 | O39: =IF(N39="1","1",LEFT(N39,FIND("/",N39)-1)) -> 1 | P39: =IF(N39="1","1",RIGHT(N39,LEN(N39)-FIND("/",N39))) -> 1 | Q39: =O39/P39 -> 1 | S39: =IF(ISNUMBER(FIND("↑",R39))=TRUE,"↑",IF(ISNUMBER(FIND("↑",R40))=TRUE,R39,IF(ISNUMBER(FIND("포함",R39))=TRUE,R39,IFERROR(ROUNDDOWN(R39*$L39*$Q39,-1),0)))) -> 0 | U39: =IF(ISNUMBER(FIND("↑",T39))=TRUE,"↑",IF(ISNUMBER(FIND("↑",T40))=TRUE,T39,IF(ISNUMBER(FIND("포함",T39))=TRUE,T39,IFERROR(ROUNDDOWN(T39*$L39*$Q39,-1),0)))) -> 0 | W39: =IF(ISNUMBER(FIND("↑",V39))=TRUE,"↑",IF(ISNUMBER(FIND("↑",V40))=TRUE,V39,IF(ISNUMBER(FIND("포함",V39))=TRUE,V39,IFERROR(ROUNDDOWN(V39*$L39*$Q39,-1),0)))) -> 0 | X39: =MAX(R39,T39,V39) -> 0 | Y39: =MIN(R39,T39,V39) -> 0 | Z39: =X39/Y39 -> #DIV/0! | AD39: =IF(ISNUMBER(FIND("↑",R39))=TRUE,"↑",IF(ISNUMBER(FIND("포함",R39))=TRUE,R39,IF(ISNUMBER(FIND("↑",R40))=TRUE,"일괄",IFERROR(AVERAGE(R39,T39,V39),0)))) -> 0 | AE39: =IF(ISNUMBER(FIND("↑",R39))=TRUE,"↑",IF(ISNUMBER(FIND("포함",R39))=TRUE,R39,IF(ISNUMBER(FIND("↑",R40))=TRUE,IFERROR(ROUNDDOWN(IF(V39="",AVERAGEA(U39,S39),AVERAGEA(S39,U39,W39)),-1),0),IFERROR(ROUNDDOWN(AD39*L39*Q39,-1),0)))) -> 0
A40: 36 | B40: 서구 | C40: 서대신동3가 | D40: 31-91 | E40: 31-469 | F40: 비파나무2 | G40: H3m, R20㎝ | L40: 1 | M40: 주 | N40: 1/1 | O40: =IF(N40="1","1",LEFT(N40,FIND("/",N40)-1)) -> 1 | P40: =IF(N40="1","1",RIGHT(N40,LEN(N40)-FIND("/",N40))) -> 1 | Q40: =O40/P40 -> 1 | S40: =IF(ISNUMBER(FIND("↑",R40))=TRUE,"↑",IF(ISNUMBER(FIND("↑",R41))=TRUE,R40,IF(ISNUMBER(FIND("포함",R40))=TRUE,R40,IFERROR(ROUNDDOWN(R40*$L40*$Q40,-1),0)))) -> 0 | U40: =IF(ISNUMBER(FIND("↑",T40))=TRUE,"↑",IF(ISNUMBER(FIND("↑",T41))=TRUE,T40,IF(ISNUMBER(FIND("포함",T40))=TRUE,T40,IFERROR(ROUNDDOWN(T40*$L40*$Q40,-1),0)))) -> 0 | W40: =IF(ISNUMBER(FIND("↑",V40))=TRUE,"↑",IF(ISNUMBER(FIND("↑",V41))=TRUE,V40,IF(ISNUMBER(FIND("포함",V40))=TRUE,V40,IFERROR(ROUNDDOWN(V40*$L40*$Q40,-1),0)))) -> 0 | X40: =MAX(R40,T40,V40) -> 0 | Y40: =MIN(R40,T40,V40) -> 0 | Z40: =X40/Y40 -> #DIV/0! | AD40: =IF(ISNUMBER(FIND("↑",R40))=TRUE,"↑",IF(ISNUMBER(FIND("포함",R40))=TRUE,R40,IF(ISNUMBER(FIND("↑",R41))=TRUE,"일괄",IFERROR(AVERAGE(R40,T40,V40),0)))) -> 0 | AE40: =IF(ISNUMBER(FIND("↑",R40))=TRUE,"↑",IF(ISNUMBER(FIND("포함",R40))=TRUE,R40,IF(ISNUMBER(FIND("↑",R41))=TRUE,IFERROR(ROUNDDOWN(IF(V40="",AVERAGEA(U40,S40),AVERAGEA(S40,U40,W40)),-1),0),IFERROR(ROUNDDOWN(AD40*L40*Q40,-1),0)))) -> 0
A41: 37 | B41: 서구 | C41: 서대신동3가 | D41: 31-91 | E41: 31-469 | F41: 두릅나무1 | G41: H3m, R15㎝ | L41: 1 | M41: 군 | N41: 1/1 | O41: =IF(N41="1","1",LEFT(N41,FIND("/",N41)-1)) -> 1 | P41: =IF(N41="1","1",RIGHT(N41,LEN(N41)-FIND("/",N41))) -> 1 | Q41: =O41/P41 -> 1 | S41: =IF(ISNUMBER(FIND("↑",R41))=TRUE,"↑",IF(ISNUMBER(FIND("↑",R42))=TRUE,R41,IF(ISNUMBER(FIND("포함",R41))=TRUE,R41,IFERROR(ROUNDDOWN(R41*$L41*$Q41,-1),0)))) -> 0 | U41: =IF(ISNUMBER(FIND("↑",T41))=TRUE,"↑",IF(ISNUMBER(FIND("↑",T42))=TRUE,T41,IF(ISNUMBER(FIND("포함",T41))=TRUE,T41,IFERROR(ROUNDDOWN(T41*$L41*$Q41,-1),0)))) -> 0 | W41: =IF(ISNUMBER(FIND("↑",V41))=TRUE,"↑",IF(ISNUMBER(FIND("↑",V42))=TRUE,V41,IF(ISNUMBER(FIND("포함",V41))=TRUE,V41,IFERROR(ROUNDDOWN(V41*$L41*$Q41,-1),0)))) -> 0 | X41: =MAX(R41,T41,V41) -> 0 | Y41: =MIN(R41,T41,V41) -> 0 | Z41: =X41/Y41 -> #DIV/0! | AD41: =IF(ISNUMBER(FIND("↑",R41))=TRUE,"↑",IF(ISNUMBER(FIND("포함",R41))=TRUE,R41,IF(ISNUMBER(FIND("↑",R42))=TRUE,"일괄",IFERROR(AVERAGE(R41,T41,V41),0)))) -> 0 | AE41: =IF(ISNUMBER(FIND("↑",R41))=TRUE,"↑",IF(ISNUMBER(FIND("포함",R41))=TRUE,R41,IF(ISNUMBER(FIND("↑",R42))=TRUE,IFERROR(ROUNDDOWN(IF(V41="",AVERAGEA(U41,S41),AVERAGEA(S41,U41,W41)),-1),0),IFERROR(ROUNDDOWN(AD41*L41*Q41,-1),0)))) -> 0
A42: 38 | B42: 서구 | C42: 서대신동3가 | D42: 31-91 | E42: 31-469 | F42: 두릅나무2 | G42: H3m, R5㎝ | L42: 7 | M42: 군 | N42: 1/1 | O42: =IF(N42="1","1",LEFT(N42,FIND("/",N42)-1)) -> 1 | P42: =IF(N42="1","1",RIGHT(N42,LEN(N42)-FIND("/",N42))) -> 1 | Q42: =O42/P42 -> 1 | S42: =IF(ISNUMBER(FIND("↑",R42))=TRUE,"↑",IF(ISNUMBER(FIND("↑",R43))=TRUE,R42,IF(ISNUMBER(FIND("포함",R42))=TRUE,R42,IFERROR(ROUNDDOWN(R42*$L42*$Q42,-1),0)))) -> 0 | U42: =IF(ISNUMBER(FIND("↑",T42))=TRUE,"↑",IF(ISNUMBER(FIND("↑",T43))=TRUE,T42,IF(ISNUMBER(FIND("포함",T42))=TRUE,T42,IFERROR(ROUNDDOWN(T42*$L42*$Q42,-1),0)))) -> 0 | W42: =IF(ISNUMBER(FIND("↑",V42))=TRUE,"↑",IF(ISNUMBER(FIND("↑",V43))=TRUE,V42,IF(ISNUMBER(FIND("포함",V42))=TRUE,V42,IFERROR(ROUNDDOWN(V42*$L42*$Q42,-1),0)))) -> 0 | X42: =MAX(R42,T42,V42) -> 0 | Y42: =MIN(R42,T42,V42) -> 0 | Z42: =X42/Y42 -> #DIV/0! | AD42: =IF(ISNUMBER(FIND("↑",R42))=TRUE,"↑",IF(ISNUMBER(FIND("포함",R42))=TRUE,R42,IF(ISNUMBER(FIND("↑",R43))=TRUE,"일괄",IFERROR(AVERAGE(R42,T42,V42),0)))) -> 0 | AE42: =IF(ISNUMBER(FIND("↑",R42))=TRUE,"↑",IF(ISNUMBER(FIND("포함",R42))=TRUE,R42,IF(ISNUMBER(FIND("↑",R43))=TRUE,IFERROR(ROUNDDOWN(IF(V42="",AVERAGEA(U42,S42),AVERAGEA(S42,U42,W42)),-1),0),IFERROR(ROUNDDOWN(AD42*L42*Q42,-1),0)))) -> 0
A43: 39 | B43: 서구 | C43: 서대신동3가 | D43: 31-91 | E43: 31-469 | F43: 앵두나무 | G43: H1.2m, R5㎝ | L43: 1 | M43: 주 | N43: 1/1 | O43: =IF(N43="1","1",LEFT(N43,FIND("/",N43)-1)) -> 1 | P43: =IF(N43="1","1",RIGHT(N43,LEN(N43)-FIND("/",N43))) -> 1 | Q43: =O43/P43 -> 1 | S43: =IF(ISNUMBER(FIND("↑",R43))=TRUE,"↑",IF(ISNUMBER(FIND("↑",R44))=TRUE,R43,IF(ISNUMBER(FIND("포함",R43))=TRUE,R43,IFERROR(ROUNDDOWN(R43*$L43*$Q43,-1),0)))) -> 0 | U43: =IF(ISNUMBER(FIND("↑",T43))=TRUE,"↑",IF(ISNUMBER(FIND("↑",T44))=TRUE,T43,IF(ISNUMBER(FIND("포함",T43))=TRUE,T43,IFERROR(ROUNDDOWN(T43*$L43*$Q43,-1),0)))) -> 0 | W43: =IF(ISNUMBER(FIND("↑",V43))=TRUE,"↑",IF(ISNUMBER(FIND("↑",V44))=TRUE,V43,IF(ISNUMBER(FIND("포함",V43))=TRUE,V43,IFERROR(ROUNDDOWN(V43*$L43*$Q43,-1),0)))) -> 0 | X43: =MAX(R43,T43,V43) -> 0 | Y43: =MIN(R43,T43,V43) -> 0 | Z43: =X43/Y43 -> #DIV/0! | AD43: =IF(ISNUMBER(FIND("↑",R43))=TRUE,"↑",IF(ISNUMBER(FIND("포함",R43))=TRUE,R43,IF(ISNUMBER(FIND("↑",R44))=TRUE,"일괄",IFERROR(AVERAGE(R43,T43,V43),0)))) -> 0 | AE43: =IF(ISNUMBER(FIND("↑",R43))=TRUE,"↑",IF(ISNUMBER(FIND("포함",R43))=TRUE,R43,IF(ISNUMBER(FIND("↑",R44))=TRUE,IFERROR(ROUNDDOWN(IF(V43="",AVERAGEA(U43,S43),AVERAGEA(S43,U43,W43)),-1),0),IFERROR(ROUNDDOWN(AD43*L43*Q43,-1),0)))) -> 0
A44: 40 | B44: 서구 | C44: 서대신동3가 | D44: 31-91 | E44: 31-469 | F44: 엄나무 | G44: H3m, R15㎝ | L44: 1 | M44: 주 | N44: 1/1 | O44: =IF(N44="1","1",LEFT(N44,FIND("/",N44)-1)) -> 1 | P44: =IF(N44="1","1",RIGHT(N44,LEN(N44)-FIND("/",N44))) -> 1 | Q44: =O44/P44 -> 1 | S44: =IF(ISNUMBER(FIND("↑",R44))=TRUE,"↑",IF(ISNUMBER(FIND("↑",R45))=TRUE,R44,IF(ISNUMBER(FIND("포함",R44))=TRUE,R44,IFERROR(ROUNDDOWN(R44*$L44*$Q44,-1),0)))) -> 0 | U44: =IF(ISNUMBER(FIND("↑",T44))=TRUE,"↑",IF(ISNUMBER(FIND("↑",T45))=TRUE,T44,IF(ISNUMBER(FIND("포함",T44))=TRUE,T44,IFERROR(ROUNDDOWN(T44*$L44*$Q44,-1),0)))) -> 0 | W44: =IF(ISNUMBER(FIND("↑",V44))=TRUE,"↑",IF(ISNUMBER(FIND("↑",V45))=TRUE,V44,IF(ISNUMBER(FIND("포함",V44))=TRUE,V44,IFERROR(ROUNDDOWN(V44*$L44*$Q44,-1),0)))) -> 0 | X44: =MAX(R44,T44,V44) -> 0 | Y44: =MIN(R44,T44,V44) -> 0 | Z44: =X44/Y44 -> #DIV/0! | AD44: =IF(ISNUMBER(FIND("↑",R44))=TRUE,"↑",IF(ISNUMBER(FIND("포함",R44))=TRUE,R44,IF(ISNUMBER(FIND("↑",R45))=TRUE,"일괄",IFERROR(AVERAGE(R44,T44,V44),0)))) -> 0 | AE44: =IF(ISNUMBER(FIND("↑",R44))=TRUE,"↑",IF(ISNUMBER(FIND("포함",R44))=TRUE,R44,IF(ISNUMBER(FIND("↑",R45))=TRUE,IFERROR(ROUNDDOWN(IF(V44="",AVERAGEA(U44,S44),AVERAGEA(S44,U44,W44)),-1),0),IFERROR(ROUNDDOWN(AD44*L44*Q44,-1),0)))) -> 0
A45: 41 | B45: 서구 | C45: 서대신동3가 | D45: 31-91 | E45: 31-469 | F45: 무화과 | G45: H1m, R3㎝ | L45: 1 | M45: 주 | N45: 1/1 | O45: =IF(N45="1","1",LEFT(N45,FIND("/",N45)-1)) -> 1 | P45: =IF(N45="1","1",RIGHT(N45,LEN(N45)-FIND("/",N45))) -> 1 | Q45: =O45/P45 -> 1 | S45: =IF(ISNUMBER(FIND("↑",R45))=TRUE,"↑",IF(ISNUMBER(FIND("↑",R46))=TRUE,R45,IF(ISNUMBER(FIND("포함",R45))=TRUE,R45,IFERROR(ROUNDDOWN(R45*$L45*$Q45,-1),0)))) -> 0 | U45: =IF(ISNUMBER(FIND("↑",T45))=TRUE,"↑",IF(ISNUMBER(FIND("↑",T46))=TRUE,T45,IF(ISNUMBER(FIND("포함",T45))=TRUE,T45,IFERROR(ROUNDDOWN(T45*$L45*$Q45,-1),0)))) -> 0 | W45: =IF(ISNUMBER(FIND("↑",V45))=TRUE,"↑",IF(ISNUMBER(FIND("↑",V46))=TRUE,V45,IF(ISNUMBER(FIND("포함",V45))=TRUE,V45,IFERROR(ROUNDDOWN(V45*$L45*$Q45,-1),0)))) -> 0 | X45: =MAX(R45,T45,V45) -> 0 | Y45: =MIN(R45,T45,V45) -> 0 | Z45: =X45/Y45 -> #DIV/0! | AD45: =IF(ISNUMBER(FIND("↑",R45))=TRUE,"↑",IF(ISNUMBER(FIND("포함",R45))=TRUE,R45,IF(ISNUMBER(FIND("↑",R46))=TRUE,"일괄",IFERROR(AVERAGE(R45,T45,V45),0)))) -> 0 | AE45: =IF(ISNUMBER(FIND("↑",R45))=TRUE,"↑",IF(ISNUMBER(FIND("포함",R45))=TRUE,R45,IF(ISNUMBER(FIND("↑",R46))=TRUE,IFERROR(ROUNDDOWN(IF(V45="",AVERAGEA(U45,S45),AVERAGEA(S45,U45,W45)),-1),0),IFERROR(ROUNDDOWN(AD45*L45*Q45,-1),0)))) -> 0
A46: 42 | B46: 서구 | C46: 서대신동3가 | D46: 31-91 | E46: 31-469 | F46: 대추나무 | G46: H2.5m, R5㎝ | L46: 1 | M46: 주 | N46: 1/1 | O46: =IF(N46="1","1",LEFT(N46,FIND("/",N46)-1)) -> 1 | P46: =IF(N46="1","1",RIGHT(N46,LEN(N46)-FIND("/",N46))) -> 1 | Q46: =O46/P46 -> 1 | S46: =IF(ISNUMBER(FIND("↑",R46))=TRUE,"↑",IF(ISNUMBER(FIND("↑",R47))=TRUE,R46,IF(ISNUMBER(FIND("포함",R46))=TRUE,R46,IFERROR(ROUNDDOWN(R46*$L46*$Q46,-1),0)))) -> 0 | U46: =IF(ISNUMBER(FIND("↑",T46))=TRUE,"↑",IF(ISNUMBER(FIND("↑",T47))=TRUE,T46,IF(ISNUMBER(FIND("포함",T46))=TRUE,T46,IFERROR(ROUNDDOWN(T46*$L46*$Q46,-1),0)))) -> 0 | W46: =IF(ISNUMBER(FIND("↑",V46))=TRUE,"↑",IF(ISNUMBER(FIND("↑",V47))=TRUE,V46,IF(ISNUMBER(FIND("포함",V46))=TRUE,V46,IFERROR(ROUNDDOWN(V46*$L46*$Q46,-1),0)))) -> 0 | X46: =MAX(R46,T46,V46) -> 0 | Y46: =MIN(R46,T46,V46) -> 0 | Z46: =X46/Y46 -> #DIV/0! | AD46: =IF(ISNUMBER(FIND("↑",R46))=TRUE,"↑",IF(ISNUMBER(FIND("포함",R46))=TRUE,R46,IF(ISNUMBER(FIND("↑",R47))=TRUE,"일괄",IFERROR(AVERAGE(R46,T46,V46),0)))) -> 0 | AE46: =IF(ISNUMBER(FIND("↑",R46))=TRUE,"↑",IF(ISNUMBER(FIND("포함",R46))=TRUE,R46,IF(ISNUMBER(FIND("↑",R47))=TRUE,IFERROR(ROUNDDOWN(IF(V46="",AVERAGEA(U46,S46),AVERAGEA(S46,U46,W46)),-1),0),IFERROR(ROUNDDOWN(AD46*L46*Q46,-1),0)))) -> 0
A47: 43 | B47: 서구 | C47: 서대신동3가 | D47: 31-91 | E47: 31-469 | F47: 개복숭아 | G47: H3m, R10㎝ | L47: 1 | M47: 주 | N47: 1/1 | O47: =IF(N47="1","1",LEFT(N47,FIND("/",N47)-1)) -> 1 | P47: =IF(N47="1","1",RIGHT(N47,LEN(N47)-FIND("/",N47))) -> 1 | Q47: =O47/P47 -> 1 | S47: =IF(ISNUMBER(FIND("↑",R47))=TRUE,"↑",IF(ISNUMBER(FIND("↑",R48))=TRUE,R47,IF(ISNUMBER(FIND("포함",R47))=TRUE,R47,IFERROR(ROUNDDOWN(R47*$L47*$Q47,-1),0)))) -> 0 | U47: =IF(ISNUMBER(FIND("↑",T47))=TRUE,"↑",IF(ISNUMBER(FIND("↑",T48))=TRUE,T47,IF(ISNUMBER(FIND("포함",T47))=TRUE,T47,IFERROR(ROUNDDOWN(T47*$L47*$Q47,-1),0)))) -> 0 | W47: =IF(ISNUMBER(FIND("↑",V47))=TRUE,"↑",IF(ISNUMBER(FIND("↑",V48))=TRUE,V47,IF(ISNUMBER(FIND("포함",V47))=TRUE,V47,IFERROR(ROUNDDOWN(V47*$L47*$Q47,-1),0)))) -> 0 | X47: =MAX(R47,T47,V47) -> 0 | Y47: =MIN(R47,T47,V47) -> 0 | Z47: =X47/Y47 -> #DIV/0! | AD47: =IF(ISNUMBER(FIND("↑",R47))=TRUE,"↑",IF(ISNUMBER(FIND("포함",R47))=TRUE,R47,IF(ISNUMBER(FIND("↑",R48))=TRUE,"일괄",IFERROR(AVERAGE(R47,T47,V47),0)))) -> 0 | AE47: =IF(ISNUMBER(FIND("↑",R47))=TRUE,"↑",IF(ISNUMBER(FIND("포함",R47))=TRUE,R47,IF(ISNUMBER(FIND("↑",R48))=TRUE,IFERROR(ROUNDDOWN(IF(V47="",AVERAGEA(U47,S47),AVERAGEA(S47,U47,W47)),-1),0),IFERROR(ROUNDDOWN(AD47*L47*Q47,-1),0)))) -> 0
A48: 44 | B48: 서구 | C48: 서대신동3가 | D48: 31-91 | E48: 31-469 | F48: 팽나무1 | G48: H5m, R40㎝ | L48: 1 | M48: 주 | N48: 1/1 | O48: =IF(N48="1","1",LEFT(N48,FIND("/",N48)-1)) -> 1 | P48: =IF(N48="1","1",RIGHT(N48,LEN(N48)-FIND("/",N48))) -> 1 | Q48: =O48/P48 -> 1 | S48: =IF(ISNUMBER(FIND("↑",R48))=TRUE,"↑",IF(ISNUMBER(FIND("↑",R49))=TRUE,R48,IF(ISNUMBER(FIND("포함",R48))=TRUE,R48,IFERROR(ROUNDDOWN(R48*$L48*$Q48,-1),0)))) -> 0 | U48: =IF(ISNUMBER(FIND("↑",T48))=TRUE,"↑",IF(ISNUMBER(FIND("↑",T49))=TRUE,T48,IF(ISNUMBER(FIND("포함",T48))=TRUE,T48,IFERROR(ROUNDDOWN(T48*$L48*$Q48,-1),0)))) -> 0 | W48: =IF(ISNUMBER(FIND("↑",V48))=TRUE,"↑",IF(ISNUMBER(FIND("↑",V49))=TRUE,V48,IF(ISNUMBER(FIND("포함",V48))=TRUE,V48,IFERROR(ROUNDDOWN(V48*$L48*$Q48,-1),0)))) -> 0 | X48: =MAX(R48,T48,V48) -> 0 | Y48: =MIN(R48,T48,V48) -> 0 | Z48: =X48/Y48 -> #DIV/0! | AD48: =IF(ISNUMBER(FIND("↑",R48))=TRUE,"↑",IF(ISNUMBER(FIND("포함",R48))=TRUE,R48,IF(ISNUMBER(FIND("↑",R49))=TRUE,"일괄",IFERROR(AVERAGE(R48,T48,V48),0)))) -> 0 | AE48: =IF(ISNUMBER(FIND("↑",R48))=TRUE,"↑",IF(ISNUMBER(FIND("포함",R48))=TRUE,R48,IF(ISNUMBER(FIND("↑",R49))=TRUE,IFERROR(ROUNDDOWN(IF(V48="",AVERAGEA(U48,S48),AVERAGEA(S48,U48,W48)),-1),0),IFERROR(ROUNDDOWN(AD48*L48*Q48,-1),0)))) -> 0
A49: 45 | B49: 서구 | C49: 서대신동3가 | D49: 31-91 | E49: 31-469 | F49: 복분자 | G49: H2m, R3㎝ | L49: 2 | M49: 주 | N49: 1/1 | O49: =IF(N49="1","1",LEFT(N49,FIND("/",N49)-1)) -> 1 | P49: =IF(N49="1","1",RIGHT(N49,LEN(N49)-FIND("/",N49))) -> 1 | Q49: =O49/P49 -> 1 | S49: =IF(ISNUMBER(FIND("↑",R49))=TRUE,"↑",IF(ISNUMBER(FIND("↑",R50))=TRUE,R49,IF(ISNUMBER(FIND("포함",R49))=TRUE,R49,IFERROR(ROUNDDOWN(R49*$L49*$Q49,-1),0)))) -> 0 | U49: =IF(ISNUMBER(FIND("↑",T49))=TRUE,"↑",IF(ISNUMBER(FIND("↑",T50))=TRUE,T49,IF(ISNUMBER(FIND("포함",T49))=TRUE,T49,IFERROR(ROUNDDOWN(T49*$L49*$Q49,-1),0)))) -> 0 | W49: =IF(ISNUMBER(FIND("↑",V49))=TRUE,"↑",IF(ISNUMBER(FIND("↑",V50))=TRUE,V49,IF(ISNUMBER(FIND("포함",V49))=TRUE,V49,IFERROR(ROUNDDOWN(V49*$L49*$Q49,-1),0)))) -> 0 | X49: =MAX(R49,T49,V49) -> 0 | Y49: =MIN(R49,T49,V49) -> 0 | Z49: =X49/Y49 -> #DIV/0! | AD49: =IF(ISNUMBER(FIND("↑",R49))=TRUE,"↑",IF(ISNUMBER(FIND("포함",R49))=TRUE,R49,IF(ISNUMBER(FIND("↑",R50))=TRUE,"일괄",IFERROR(AVERAGE(R49,T49,V49),0)))) -> 0 | AE49: =IF(ISNUMBER(FIND("↑",R49))=TRUE,"↑",IF(ISNUMBER(FIND("포함",R49))=TRUE,R49,IF(ISNUMBER(FIND("↑",R50))=TRUE,IFERROR(ROUNDDOWN(IF(V49="",AVERAGEA(U49,S49),AVERAGEA(S49,U49,W49)),-1),0),IFERROR(ROUNDDOWN(AD49*L49*Q49,-1),0)))) -> 0
A50: 46 | B50: 서구 | C50: 서대신동3가 | D50: 31-91 | E50: 31-469 | F50: 팽나무2 | G50: H12m, R100㎝ | L50: 1 | M50: 주 | N50: 1/1 | O50: =IF(N50="1","1",LEFT(N50,FIND("/",N50)-1)) -> 1 | P50: =IF(N50="1","1",RIGHT(N50,LEN(N50)-FIND("/",N50))) -> 1 | Q50: =O50/P50 -> 1 | S50: =IF(ISNUMBER(FIND("↑",R50))=TRUE,"↑",IF(ISNUMBER(FIND("↑",R51))=TRUE,R50,IF(ISNUMBER(FIND("포함",R50))=TRUE,R50,IFERROR(ROUNDDOWN(R50*$L50*$Q50,-1),0)))) -> 0 | U50: =IF(ISNUMBER(FIND("↑",T50))=TRUE,"↑",IF(ISNUMBER(FIND("↑",T51))=TRUE,T50,IF(ISNUMBER(FIND("포함",T50))=TRUE,T50,IFERROR(ROUNDDOWN(T50*$L50*$Q50,-1),0)))) -> 0 | W50: =IF(ISNUMBER(FIND("↑",V50))=TRUE,"↑",IF(ISNUMBER(FIND("↑",V51))=TRUE,V50,IF(ISNUMBER(FIND("포함",V50))=TRUE,V50,IFERROR(ROUNDDOWN(V50*$L50*$Q50,-1),0)))) -> 0 | X50: =MAX(R50,T50,V50) -> 0 | Y50: =MIN(R50,T50,V50) -> 0 | Z50: =X50/Y50 -> #DIV/0! | AD50: =IF(ISNUMBER(FIND("↑",R50))=TRUE,"↑",IF(ISNUMBER(FIND("포함",R50))=TRUE,R50,IF(ISNUMBER(FIND("↑",R51))=TRUE,"일괄",IFERROR(AVERAGE(R50,T50,V50),0)))) -> 0 | AE50: =IF(ISNUMBER(FIND("↑",R50))=TRUE,"↑",IF(ISNUMBER(FIND("포함",R50))=TRUE,R50,IF(ISNUMBER(FIND("↑",R51))=TRUE,IFERROR(ROUNDDOWN(IF(V50="",AVERAGEA(U50,S50),AVERAGEA(S50,U50,W50)),-1),0),IFERROR(ROUNDDOWN(AD50*L50*Q50,-1),0)))) -> 0
A51: 47 | B51: 서구 | C51: 서대신동3가 | D51: 31-91 | E51: 31-469 | F51: 팽나무3 | G51: H4m, R20㎝ | L51: 1 | M51: 주 | N51: 1/1 | O51: =IF(N51="1","1",LEFT(N51,FIND("/",N51)-1)) -> 1 | P51: =IF(N51="1","1",RIGHT(N51,LEN(N51)-FIND("/",N51))) -> 1 | Q51: =O51/P51 -> 1 | S51: =IF(ISNUMBER(FIND("↑",R51))=TRUE,"↑",IF(ISNUMBER(FIND("↑",#REF!))=TRUE,R51,IF(ISNUMBER(FIND("포함",R51))=TRUE,R51,IFERROR(ROUNDDOWN(R51*$L51*$Q51,-1),0)))) -> 0 | U51: =IF(ISNUMBER(FIND("↑",T51))=TRUE,"↑",IF(ISNUMBER(FIND("↑",#REF!))=TRUE,T51,IF(ISNUMBER(FIND("포함",T51))=TRUE,T51,IFERROR(ROUNDDOWN(T51*$L51*$Q51,-1),0)))) -> 0 | W51: =IF(ISNUMBER(FIND("↑",V51))=TRUE,"↑",IF(ISNUMBER(FIND("↑",#REF!))=TRUE,V51,IF(ISNUMBER(FIND("포함",V51))=TRUE,V51,IFERROR(ROUNDDOWN(V51*$L51*$Q51,-1),0)))) -> 0 | X51: =MAX(R51,T51,V51) -> 0 | Y51: =MIN(R51,T51,V51) -> 0 | Z51: =X51/Y51 -> #DIV/0! | AD51: =IF(ISNUMBER(FIND("↑",R51))=TRUE,"↑",IF(ISNUMBER(FIND("포함",R51))=TRUE,R51,IF(ISNUMBER(FIND("↑",#REF!))=TRUE,"일괄",IFERROR(AVERAGE(R51,T51,V51),0)))) -> 0 | AE51: =IF(ISNUMBER(FIND("↑",R51))=TRUE,"↑",IF(ISNUMBER(FIND("포함",R51))=TRUE,R51,IF(ISNUMBER(FIND("↑",#REF!))=TRUE,IFERROR(ROUNDDOWN(IF(V51="",AVERAGEA(U51,S51),AVERAGEA(S51,U51,W51)),-1),0),IFERROR(ROUNDDOWN(AD51*L51*Q51,-1),0)))) -> 0
A52: 48 | B52: 서구 | C52: 서대신동3가 | D52: 31-89,31-91 | E52: 31-89,31-469 | F52: 창고4 | G52: 목조, 천막지붕 | L52: 22.6 | M52: ㎡ | N52: 1/1 | O52: =IF(N52="1","1",LEFT(N52,FIND("/",N52)-1)) -> 1 | P52: =IF(N52="1","1",RIGHT(N52,LEN(N52)-FIND("/",N52))) -> 1 | Q52: =O52/P52 -> 1 | S52: =IF(ISNUMBER(FIND("↑",R52))=TRUE,"↑",IF(ISNUMBER(FIND("↑",#REF!))=TRUE,R52,IF(ISNUMBER(FIND("포함",R52))=TRUE,R52,IFERROR(ROUNDDOWN(R52*$L52*$Q52,-1),0)))) -> 0 | U52: =IF(ISNUMBER(FIND("↑",T52))=TRUE,"↑",IF(ISNUMBER(FIND("↑",#REF!))=TRUE,T52,IF(ISNUMBER(FIND("포함",T52))=TRUE,T52,IFERROR(ROUNDDOWN(T52*$L52*$Q52,-1),0)))) -> 0 | W52: =IF(ISNUMBER(FIND("↑",V52))=TRUE,"↑",IF(ISNUMBER(FIND("↑",#REF!))=TRUE,V52,IF(ISNUMBER(FIND("포함",V52))=TRUE,V52,IFERROR(ROUNDDOWN(V52*$L52*$Q52,-1),0)))) -> 0 | X52: =MAX(R52,T52,V52) -> 0 | Y52: =MIN(R52,T52,V52) -> 0 | Z52: =X52/Y52 -> #DIV/0! | AD52: =IF(ISNUMBER(FIND("↑",R52))=TRUE,"↑",IF(ISNUMBER(FIND("포함",R52))=TRUE,R52,IF(ISNUMBER(FIND("↑",#REF!))=TRUE,"일괄",IFERROR(AVERAGE(R52,T52,V52),0)))) -> 0 | AE52: =IF(ISNUMBER(FIND("↑",R52))=TRUE,"↑",IF(ISNUMBER(FIND("포함",R52))=TRUE,R52,IF(ISNUMBER(FIND("↑",#REF!))=TRUE,IFERROR(ROUNDDOWN(IF(V52="",AVERAGEA(U52,S52),AVERAGEA(S52,U52,W52)),-1),0),IFERROR(ROUNDDOWN(AD52*L52*Q52,-1),0)))) -> 0
A53: 49 | B53: 서구 | C53: 서대신동3가 | D53: 31-91 | E53: 31-469 | F53: 감나무 | G53: H5m, R15㎝ | L53: 1 | M53: 주 | N53: 1/1 | O53: =IF(N53="1","1",LEFT(N53,FIND("/",N53)-1)) -> 1 | P53: =IF(N53="1","1",RIGHT(N53,LEN(N53)-FIND("/",N53))) -> 1 | Q53: =O53/P53 -> 1 | S53: =IF(ISNUMBER(FIND("↑",R53))=TRUE,"↑",IF(ISNUMBER(FIND("↑",R54))=TRUE,R53,IF(ISNUMBER(FIND("포함",R53))=TRUE,R53,IFERROR(ROUNDDOWN(R53*$L53*$Q53,-1),0)))) -> 0 | U53: =IF(ISNUMBER(FIND("↑",T53))=TRUE,"↑",IF(ISNUMBER(FIND("↑",T54))=TRUE,T53,IF(ISNUMBER(FIND("포함",T53))=TRUE,T53,IFERROR(ROUNDDOWN(T53*$L53*$Q53,-1),0)))) -> 0 | W53: =IF(ISNUMBER(FIND("↑",V53))=TRUE,"↑",IF(ISNUMBER(FIND("↑",V54))=TRUE,V53,IF(ISNUMBER(FIND("포함",V53))=TRUE,V53,IFERROR(ROUNDDOWN(V53*$L53*$Q53,-1),0)))) -> 0 | X53: =MAX(R53,T53,V53) -> 0 | Y53: =MIN(R53,T53,V53) -> 0 | Z53: =X53/Y53 -> #DIV/0! | AD53: =IF(ISNUMBER(FIND("↑",R53))=TRUE,"↑",IF(ISNUMBER(FIND("포함",R53))=TRUE,R53,IF(ISNUMBER(FIND("↑",R54))=TRUE,"일괄",IFERROR(AVERAGE(R53,T53,V53),0)))) -> 0 | AE53: =IF(ISNUMBER(FIND("↑",R53))=TRUE,"↑",IF(ISNUMBER(FIND("포함",R53))=TRUE,R53,IF(ISNUMBER(FIND("↑",R54))=TRUE,IFERROR(ROUNDDOWN(IF(V53="",AVERAGEA(U53,S53),AVERAGEA(S53,U53,W53)),-1),0),IFERROR(ROUNDDOWN(AD53*L53*Q53,-1),0)))) -> 0
A54: 50 | B54: 서구 | C54: 서대신동3가 | D54: 31-91 | E54: 31-469 | F54: 매실나무4 | G54: H3m, R10~15㎝ | L54: 9 | M54: 주 | N54: 1/1 | O54: =IF(N54="1","1",LEFT(N54,FIND("/",N54)-1)) -> 1 | P54: =IF(N54="1","1",RIGHT(N54,LEN(N54)-FIND("/",N54))) -> 1 | Q54: =O54/P54 -> 1 | S54: =IF(ISNUMBER(FIND("↑",R54))=TRUE,"↑",IF(ISNUMBER(FIND("↑",R55))=TRUE,R54,IF(ISNUMBER(FIND("포함",R54))=TRUE,R54,IFERROR(ROUNDDOWN(R54*$L54*$Q54,-1),0)))) -> 0 | U54: =IF(ISNUMBER(FIND("↑",T54))=TRUE,"↑",IF(ISNUMBER(FIND("↑",T55))=TRUE,T54,IF(ISNUMBER(FIND("포함",T54))=TRUE,T54,IFERROR(ROUNDDOWN(T54*$L54*$Q54,-1),0)))) -> 0 | W54: =IF(ISNUMBER(FIND("↑",V54))=TRUE,"↑",IF(ISNUMBER(FIND("↑",V55))=TRUE,V54,IF(ISNUMBER(FIND("포함",V54))=TRUE,V54,IFERROR(ROUNDDOWN(V54*$L54*$Q54,-1),0)))) -> 0 | X54: =MAX(R54,T54,V54) -> 0 | Y54: =MIN(R54,T54,V54) -> 0 | Z54: =X54/Y54 -> #DIV/0! | AD54: =IF(ISNUMBER(FIND("↑",R54))=TRUE,"↑",IF(ISNUMBER(FIND("포함",R54))=TRUE,R54,IF(ISNUMBER(FIND("↑",R55))=TRUE,"일괄",IFERROR(AVERAGE(R54,T54,V54),0)))) -> 0 | AE54: =IF(ISNUMBER(FIND("↑",R54))=TRUE,"↑",IF(ISNUMBER(FIND("포함",R54))=TRUE,R54,IF(ISNUMBER(FIND("↑",R55))=TRUE,IFERROR(ROUNDDOWN(IF(V54="",AVERAGEA(U54,S54),AVERAGEA(S54,U54,W54)),-1),0),IFERROR(ROUNDDOWN(AD54*L54*Q54,-1),0)))) -> 0
A55: 51 | B55: 서구 | C55: 서대신동3가 | D55: 31-40 | E55: 31-463 | F55: 창고1 | G55: 목조, 1.6×2, H2.5m | L55: 3 | M55: ㎡ | N55: 1/1 | O55: =IF(N55="1","1",LEFT(N55,FIND("/",N55)-1)) -> 1 | P55: =IF(N55="1","1",RIGHT(N55,LEN(N55)-FIND("/",N55))) -> 1 | Q55: =O55/P55 -> 1 | S55: =IF(ISNUMBER(FIND("↑",R55))=TRUE,"↑",IF(ISNUMBER(FIND("↑",R56))=TRUE,R55,IF(ISNUMBER(FIND("포함",R55))=TRUE,R55,IFERROR(ROUNDDOWN(R55*$L55*$Q55,-1),0)))) -> 0 | U55: =IF(ISNUMBER(FIND("↑",T55))=TRUE,"↑",IF(ISNUMBER(FIND("↑",T56))=TRUE,T55,IF(ISNUMBER(FIND("포함",T55))=TRUE,T55,IFERROR(ROUNDDOWN(T55*$L55*$Q55,-1),0)))) -> 0 | W55: =IF(ISNUMBER(FIND("↑",V55))=TRUE,"↑",IF(ISNUMBER(FIND("↑",V56))=TRUE,V55,IF(ISNUMBER(FIND("포함",V55))=TRUE,V55,IFERROR(ROUNDDOWN(V55*$L55*$Q55,-1),0)))) -> 0 | X55: =MAX(R55,T55,V55) -> 0 | Y55: =MIN(R55,T55,V55) -> 0 | Z55: =X55/Y55 -> #DIV/0! | AD55: =IF(ISNUMBER(FIND("↑",R55))=TRUE,"↑",IF(ISNUMBER(FIND("포함",R55))=TRUE,R55,IF(ISNUMBER(FIND("↑",R56))=TRUE,"일괄",IFERROR(AVERAGE(R55,T55,V55),0)))) -> 0 | AE55: =IF(ISNUMBER(FIND("↑",R55))=TRUE,"↑",IF(ISNUMBER(FIND("포함",R55))=TRUE,R55,IF(ISNUMBER(FIND("↑",R56))=TRUE,IFERROR(ROUNDDOWN(IF(V55="",AVERAGEA(U55,S55),AVERAGEA(S55,U55,W55)),-1),0),IFERROR(ROUNDDOWN(AD55*L55*Q55,-1),0)))) -> 0
A56: 52 | B56: 서구 | C56: 서대신동3가 | D56: 31-40 | E56: 31-463 | F56: 창고2 | G56: 목조, 1.7×2.5, H2.5m | L56: 4 | M56: ㎡ | N56: 1/1 | O56: =IF(N56="1","1",LEFT(N56,FIND("/",N56)-1)) -> 1 | P56: =IF(N56="1","1",RIGHT(N56,LEN(N56)-FIND("/",N56))) -> 1 | Q56: =O56/P56 -> 1 | S56: =IF(ISNUMBER(FIND("↑",R56))=TRUE,"↑",IF(ISNUMBER(FIND("↑",R57))=TRUE,R56,IF(ISNUMBER(FIND("포함",R56))=TRUE,R56,IFERROR(ROUNDDOWN(R56*$L56*$Q56,-1),0)))) -> 0 | U56: =IF(ISNUMBER(FIND("↑",T56))=TRUE,"↑",IF(ISNUMBER(FIND("↑",T57))=TRUE,T56,IF(ISNUMBER(FIND("포함",T56))=TRUE,T56,IFERROR(ROUNDDOWN(T56*$L56*$Q56,-1),0)))) -> 0 | W56: =IF(ISNUMBER(FIND("↑",V56))=TRUE,"↑",IF(ISNUMBER(FIND("↑",V57))=TRUE,V56,IF(ISNUMBER(FIND("포함",V56))=TRUE,V56,IFERROR(ROUNDDOWN(V56*$L56*$Q56,-1),0)))) -> 0 | X56: =MAX(R56,T56,V56) -> 0 | Y56: =MIN(R56,T56,V56) -> 0 | Z56: =X56/Y56 -> #DIV/0! | AD56: =IF(ISNUMBER(FIND("↑",R56))=TRUE,"↑",IF(ISNUMBER(FIND("포함",R56))=TRUE,R56,IF(ISNUMBER(FIND("↑",R57))=TRUE,"일괄",IFERROR(AVERAGE(R56,T56,V56),0)))) -> 0 | AE56: =IF(ISNUMBER(FIND("↑",R56))=TRUE,"↑",IF(ISNUMBER(FIND("포함",R56))=TRUE,R56,IF(ISNUMBER(FIND("↑",R57))=TRUE,IFERROR(ROUNDDOWN(IF(V56="",AVERAGEA(U56,S56),AVERAGEA(S56,U56,W56)),-1),0),IFERROR(ROUNDDOWN(AD56*L56*Q56,-1),0)))) -> 0
A57: 53 | B57: 서구 | C57: 서대신동3가 | D57: 31-42 | E57: 31-464 | F57: 구조물 | G57: 경량철골구조 , 3×4.5, H1.8m | L57: 13.5 | M57: ㎡ | N57: 1/1 | O57: =IF(N57="1","1",LEFT(N57,FIND("/",N57)-1)) -> 1 | P57: =IF(N57="1","1",RIGHT(N57,LEN(N57)-FIND("/",N57))) -> 1 | Q57: =O57/P57 -> 1 | S57: =IF(ISNUMBER(FIND("↑",R57))=TRUE,"↑",IF(ISNUMBER(FIND("↑",#REF!))=TRUE,R57,IF(ISNUMBER(FIND("포함",R57))=TRUE,R57,IFERROR(ROUNDDOWN(R57*$L57*$Q57,-1),0)))) -> 0 | U57: =IF(ISNUMBER(FIND("↑",T57))=TRUE,"↑",IF(ISNUMBER(FIND("↑",#REF!))=TRUE,T57,IF(ISNUMBER(FIND("포함",T57))=TRUE,T57,IFERROR(ROUNDDOWN(T57*$L57*$Q57,-1),0)))) -> 0 | W57: =IF(ISNUMBER(FIND("↑",V57))=TRUE,"↑",IF(ISNUMBER(FIND("↑",#REF!))=TRUE,V57,IF(ISNUMBER(FIND("포함",V57))=TRUE,V57,IFERROR(ROUNDDOWN(V57*$L57*$Q57,-1),0)))) -> 0 | X57: =MAX(R57,T57,V57) -> 0 | Y57: =MIN(R57,T57,V57) -> 0 | Z57: =X57/Y57 -> #DIV/0! | AD57: =IF(ISNUMBER(FIND("↑",R57))=TRUE,"↑",IF(ISNUMBER(FIND("포함",R57))=TRUE,R57,IF(ISNUMBER(FIND("↑",#REF!))=TRUE,"일괄",IFERROR(AVERAGE(R57,T57,V57),0)))) -> 0 | AE57: =IF(ISNUMBER(FIND("↑",R57))=TRUE,"↑",IF(ISNUMBER(FIND("포함",R57))=TRUE,R57,IF(ISNUMBER(FIND("↑",#REF!))=TRUE,IFERROR(ROUNDDOWN(IF(V57="",AVERAGEA(U57,S57),AVERAGEA(S57,U57,W57)),-1),0),IFERROR(ROUNDDOWN(AD57*L57*Q57,-1),0)))) -> 0
A58: 54 | B58: 서구 | C58: 서대신동3가 | D58: 31-41 | E58: 31-41 | F58: 철제 울타리1 | G58: 철제 지주대, 목재 출입문 포함, H1.5m | L58: 22 | M58: m | N58: 1/1 | O58: =IF(N58="1","1",LEFT(N58,FIND("/",N58)-1)) -> 1 | P58: =IF(N58="1","1",RIGHT(N58,LEN(N58)-FIND("/",N58))) -> 1 | Q58: =O58/P58 -> 1 | S58: =IF(ISNUMBER(FIND("↑",R58))=TRUE,"↑",IF(ISNUMBER(FIND("↑",R59))=TRUE,R58,IF(ISNUMBER(FIND("포함",R58))=TRUE,R58,IFERROR(ROUNDDOWN(R58*$L58*$Q58,-1),0)))) -> 0 | U58: =IF(ISNUMBER(FIND("↑",T58))=TRUE,"↑",IF(ISNUMBER(FIND("↑",T59))=TRUE,T58,IF(ISNUMBER(FIND("포함",T58))=TRUE,T58,IFERROR(ROUNDDOWN(T58*$L58*$Q58,-1),0)))) -> 0 | W58: =IF(ISNUMBER(FIND("↑",V58))=TRUE,"↑",IF(ISNUMBER(FIND("↑",V59))=TRUE,V58,IF(ISNUMBER(FIND("포함",V58))=TRUE,V58,IFERROR(ROUNDDOWN(V58*$L58*$Q58,-1),0)))) -> 0 | X58: =MAX(R58,T58,V58) -> 0 | Y58: =MIN(R58,T58,V58) -> 0 | Z58: =X58/Y58 -> #DIV/0! | AD58: =IF(ISNUMBER(FIND("↑",R58))=TRUE,"↑",IF(ISNUMBER(FIND("포함",R58))=TRUE,R58,IF(ISNUMBER(FIND("↑",R59))=TRUE,"일괄",IFERROR(AVERAGE(R58,T58,V58),0)))) -> 0 | AE58: =IF(ISNUMBER(FIND("↑",R58))=TRUE,"↑",IF(ISNUMBER(FIND("포함",R58))=TRUE,R58,IF(ISNUMBER(FIND("↑",R59))=TRUE,IFERROR(ROUNDDOWN(IF(V58="",AVERAGEA(U58,S58),AVERAGEA(S58,U58,W58)),-1),0),IFERROR(ROUNDDOWN(AD58*L58*Q58,-1),0)))) -> 0
A59: 55 | B59: 서구 | C59: 서대신동3가 | D59: 31-42 | E59: 31-464 | F59: 철제 울타리2 | G59: 철제 지주대, 노끈 포함, H1.7m | L59: 30 | M59: m | N59: 1/1 | O59: =IF(N59="1","1",LEFT(N59,FIND("/",N59)-1)) -> 1 | P59: =IF(N59="1","1",RIGHT(N59,LEN(N59)-FIND("/",N59))) -> 1 | Q59: =O59/P59 -> 1 | S59: =IF(ISNUMBER(FIND("↑",R59))=TRUE,"↑",IF(ISNUMBER(FIND("↑",R60))=TRUE,R59,IF(ISNUMBER(FIND("포함",R59))=TRUE,R59,IFERROR(ROUNDDOWN(R59*$L59*$Q59,-1),0)))) -> 0 | U59: =IF(ISNUMBER(FIND("↑",T59))=TRUE,"↑",IF(ISNUMBER(FIND("↑",T60))=TRUE,T59,IF(ISNUMBER(FIND("포함",T59))=TRUE,T59,IFERROR(ROUNDDOWN(T59*$L59*$Q59,-1),0)))) -> 0 | W59: =IF(ISNUMBER(FIND("↑",V59))=TRUE,"↑",IF(ISNUMBER(FIND("↑",V60))=TRUE,V59,IF(ISNUMBER(FIND("포함",V59))=TRUE,V59,IFERROR(ROUNDDOWN(V59*$L59*$Q59,-1),0)))) -> 0 | X59: =MAX(R59,T59,V59) -> 0 | Y59: =MIN(R59,T59,V59) -> 0 | Z59: =X59/Y59 -> #DIV/0! | AD59: =IF(ISNUMBER(FIND("↑",R59))=TRUE,"↑",IF(ISNUMBER(FIND("포함",R59))=TRUE,R59,IF(ISNUMBER(FIND("↑",R60))=TRUE,"일괄",IFERROR(AVERAGE(R59,T59,V59),0)))) -> 0 | AE59: =IF(ISNUMBER(FIND("↑",R59))=TRUE,"↑",IF(ISNUMBER(FIND("포함",R59))=TRUE,R59,IF(ISNUMBER(FIND("↑",R60))=TRUE,IFERROR(ROUNDDOWN(IF(V59="",AVERAGEA(U59,S59),AVERAGEA(S59,U59,W59)),-1),0),IFERROR(ROUNDDOWN(AD59*L59*Q59,-1),0)))) -> 0
A60: 56 | B60: 서구 | C60: 서대신동3가 | D60: 31-40 | E60: 31-463 | F60: 그물망 울타리 | G60: 철제 지주대 포함, H0.8m | L60: 10 | M60: m | N60: 1/1 | O60: =IF(N60="1","1",LEFT(N60,FIND("/",N60)-1)) -> 1 | P60: =IF(N60="1","1",RIGHT(N60,LEN(N60)-FIND("/",N60))) -> 1 | Q60: =O60/P60 -> 1 | S60: =IF(ISNUMBER(FIND("↑",R60))=TRUE,"↑",IF(ISNUMBER(FIND("↑",R61))=TRUE,R60,IF(ISNUMBER(FIND("포함",R60))=TRUE,R60,IFERROR(ROUNDDOWN(R60*$L60*$Q60,-1),0)))) -> 0 | U60: =IF(ISNUMBER(FIND("↑",T60))=TRUE,"↑",IF(ISNUMBER(FIND("↑",T61))=TRUE,T60,IF(ISNUMBER(FIND("포함",T60))=TRUE,T60,IFERROR(ROUNDDOWN(T60*$L60*$Q60,-1),0)))) -> 0 | W60: =IF(ISNUMBER(FIND("↑",V60))=TRUE,"↑",IF(ISNUMBER(FIND("↑",V61))=TRUE,V60,IF(ISNUMBER(FIND("포함",V60))=TRUE,V60,IFERROR(ROUNDDOWN(V60*$L60*$Q60,-1),0)))) -> 0 | X60: =MAX(R60,T60,V60) -> 0 | Y60: =MIN(R60,T60,V60) -> 0 | Z60: =X60/Y60 -> #DIV/0! | AD60: =IF(ISNUMBER(FIND("↑",R60))=TRUE,"↑",IF(ISNUMBER(FIND("포함",R60))=TRUE,R60,IF(ISNUMBER(FIND("↑",R61))=TRUE,"일괄",IFERROR(AVERAGE(R60,T60,V60),0)))) -> 0 | AE60: =IF(ISNUMBER(FIND("↑",R60))=TRUE,"↑",IF(ISNUMBER(FIND("포함",R60))=TRUE,R60,IF(ISNUMBER(FIND("↑",R61))=TRUE,IFERROR(ROUNDDOWN(IF(V60="",AVERAGEA(U60,S60),AVERAGEA(S60,U60,W60)),-1),0),IFERROR(ROUNDDOWN(AD60*L60*Q60,-1),0)))) -> 0
A61: 57 | B61: 서구 | C61: 서대신동3가 | D61: 31-40 | E61: 31-463 | F61: 대추나무1 | G61: H3m, R8㎝ | L61: 1 | M61: 주 | N61: 1/1 | O61: =IF(N61="1","1",LEFT(N61,FIND("/",N61)-1)) -> 1 | P61: =IF(N61="1","1",RIGHT(N61,LEN(N61)-FIND("/",N61))) -> 1 | Q61: =O61/P61 -> 1 | S61: =IF(ISNUMBER(FIND("↑",R61))=TRUE,"↑",IF(ISNUMBER(FIND("↑",R62))=TRUE,R61,IF(ISNUMBER(FIND("포함",R61))=TRUE,R61,IFERROR(ROUNDDOWN(R61*$L61*$Q61,-1),0)))) -> 0 | U61: =IF(ISNUMBER(FIND("↑",T61))=TRUE,"↑",IF(ISNUMBER(FIND("↑",T62))=TRUE,T61,IF(ISNUMBER(FIND("포함",T61))=TRUE,T61,IFERROR(ROUNDDOWN(T61*$L61*$Q61,-1),0)))) -> 0 | W61: =IF(ISNUMBER(FIND("↑",V61))=TRUE,"↑",IF(ISNUMBER(FIND("↑",V62))=TRUE,V61,IF(ISNUMBER(FIND("포함",V61))=TRUE,V61,IFERROR(ROUNDDOWN(V61*$L61*$Q61,-1),0)))) -> 0 | X61: =MAX(R61,T61,V61) -> 0 | Y61: =MIN(R61,T61,V61) -> 0 | Z61: =X61/Y61 -> #DIV/0! | AD61: =IF(ISNUMBER(FIND("↑",R61))=TRUE,"↑",IF(ISNUMBER(FIND("포함",R61))=TRUE,R61,IF(ISNUMBER(FIND("↑",R62))=TRUE,"일괄",IFERROR(AVERAGE(R61,T61,V61),0)))) -> 0 | AE61: =IF(ISNUMBER(FIND("↑",R61))=TRUE,"↑",IF(ISNUMBER(FIND("포함",R61))=TRUE,R61,IF(ISNUMBER(FIND("↑",R62))=TRUE,IFERROR(ROUNDDOWN(IF(V61="",AVERAGEA(U61,S61),AVERAGEA(S61,U61,W61)),-1),0),IFERROR(ROUNDDOWN(AD61*L61*Q61,-1),0)))) -> 0
A62: 58 | B62: 서구 | C62: 서대신동3가 | D62: 31-40 | E62: 31-463 | F62: 구지뽕나무1 | G62: H3m, R8㎝ | L62: 1 | M62: 주 | N62: 1/1 | O62: =IF(N62="1","1",LEFT(N62,FIND("/",N62)-1)) -> 1 | P62: =IF(N62="1","1",RIGHT(N62,LEN(N62)-FIND("/",N62))) -> 1 | Q62: =O62/P62 -> 1 | S62: =IF(ISNUMBER(FIND("↑",R62))=TRUE,"↑",IF(ISNUMBER(FIND("↑",R63))=TRUE,R62,IF(ISNUMBER(FIND("포함",R62))=TRUE,R62,IFERROR(ROUNDDOWN(R62*$L62*$Q62,-1),0)))) -> 0 | U62: =IF(ISNUMBER(FIND("↑",T62))=TRUE,"↑",IF(ISNUMBER(FIND("↑",T63))=TRUE,T62,IF(ISNUMBER(FIND("포함",T62))=TRUE,T62,IFERROR(ROUNDDOWN(T62*$L62*$Q62,-1),0)))) -> 0 | W62: =IF(ISNUMBER(FIND("↑",V62))=TRUE,"↑",IF(ISNUMBER(FIND("↑",V63))=TRUE,V62,IF(ISNUMBER(FIND("포함",V62))=TRUE,V62,IFERROR(ROUNDDOWN(V62*$L62*$Q62,-1),0)))) -> 0 | X62: =MAX(R62,T62,V62) -> 0 | Y62: =MIN(R62,T62,V62) -> 0 | Z62: =X62/Y62 -> #DIV/0! | AD62: =IF(ISNUMBER(FIND("↑",R62))=TRUE,"↑",IF(ISNUMBER(FIND("포함",R62))=TRUE,R62,IF(ISNUMBER(FIND("↑",R63))=TRUE,"일괄",IFERROR(AVERAGE(R62,T62,V62),0)))) -> 0 | AE62: =IF(ISNUMBER(FIND("↑",R62))=TRUE,"↑",IF(ISNUMBER(FIND("포함",R62))=TRUE,R62,IF(ISNUMBER(FIND("↑",R63))=TRUE,IFERROR(ROUNDDOWN(IF(V62="",AVERAGEA(U62,S62),AVERAGEA(S62,U62,W62)),-1),0),IFERROR(ROUNDDOWN(AD62*L62*Q62,-1),0)))) -> 0
A63: 59 | B63: 서구 | C63: 서대신동3가 | D63: 31-40 | E63: 31-463 | F63: 가죽나무1 | G63: H5m, R25㎝ | L63: 2 | M63: 주 | N63: 1/1 | O63: =IF(N63="1","1",LEFT(N63,FIND("/",N63)-1)) -> 1 | P63: =IF(N63="1","1",RIGHT(N63,LEN(N63)-FIND("/",N63))) -> 1 | Q63: =O63/P63 -> 1 | S63: =IF(ISNUMBER(FIND("↑",R63))=TRUE,"↑",IF(ISNUMBER(FIND("↑",R64))=TRUE,R63,IF(ISNUMBER(FIND("포함",R63))=TRUE,R63,IFERROR(ROUNDDOWN(R63*$L63*$Q63,-1),0)))) -> 0 | U63: =IF(ISNUMBER(FIND("↑",T63))=TRUE,"↑",IF(ISNUMBER(FIND("↑",T64))=TRUE,T63,IF(ISNUMBER(FIND("포함",T63))=TRUE,T63,IFERROR(ROUNDDOWN(T63*$L63*$Q63,-1),0)))) -> 0 | W63: =IF(ISNUMBER(FIND("↑",V63))=TRUE,"↑",IF(ISNUMBER(FIND("↑",V64))=TRUE,V63,IF(ISNUMBER(FIND("포함",V63))=TRUE,V63,IFERROR(ROUNDDOWN(V63*$L63*$Q63,-1),0)))) -> 0 | X63: =MAX(R63,T63,V63) -> 0 | Y63: =MIN(R63,T63,V63) -> 0 | Z63: =X63/Y63 -> #DIV/0! | AD63: =IF(ISNUMBER(FIND("↑",R63))=TRUE,"↑",IF(ISNUMBER(FIND("포함",R63))=TRUE,R63,IF(ISNUMBER(FIND("↑",R64))=TRUE,"일괄",IFERROR(AVERAGE(R63,T63,V63),0)))) -> 0 | AE63: =IF(ISNUMBER(FIND("↑",R63))=TRUE,"↑",IF(ISNUMBER(FIND("포함",R63))=TRUE,R63,IF(ISNUMBER(FIND("↑",R64))=TRUE,IFERROR(ROUNDDOWN(IF(V63="",AVERAGEA(U63,S63),AVERAGEA(S63,U63,W63)),-1),0),IFERROR(ROUNDDOWN(AD63*L63*Q63,-1),0)))) -> 0
A64: 60 | B64: 서구 | C64: 서대신동3가 | D64: 31-40 | E64: 31-463 | F64: 가죽나무2 | G64: H4m, R15㎝ | L64: 1 | M64: 주 | N64: 1/1 | O64: =IF(N64="1","1",LEFT(N64,FIND("/",N64)-1)) -> 1 | P64: =IF(N64="1","1",RIGHT(N64,LEN(N64)-FIND("/",N64))) -> 1 | Q64: =O64/P64 -> 1 | S64: =IF(ISNUMBER(FIND("↑",R64))=TRUE,"↑",IF(ISNUMBER(FIND("↑",R65))=TRUE,R64,IF(ISNUMBER(FIND("포함",R64))=TRUE,R64,IFERROR(ROUNDDOWN(R64*$L64*$Q64,-1),0)))) -> 0 | U64: =IF(ISNUMBER(FIND("↑",T64))=TRUE,"↑",IF(ISNUMBER(FIND("↑",T65))=TRUE,T64,IF(ISNUMBER(FIND("포함",T64))=TRUE,T64,IFERROR(ROUNDDOWN(T64*$L64*$Q64,-1),0)))) -> 0 | W64: =IF(ISNUMBER(FIND("↑",V64))=TRUE,"↑",IF(ISNUMBER(FIND("↑",V65))=TRUE,V64,IF(ISNUMBER(FIND("포함",V64))=TRUE,V64,IFERROR(ROUNDDOWN(V64*$L64*$Q64,-1),0)))) -> 0 | X64: =MAX(R64,T64,V64) -> 0 | Y64: =MIN(R64,T64,V64) -> 0 | Z64: =X64/Y64 -> #DIV/0! | AD64: =IF(ISNUMBER(FIND("↑",R64))=TRUE,"↑",IF(ISNUMBER(FIND("포함",R64))=TRUE,R64,IF(ISNUMBER(FIND("↑",R65))=TRUE,"일괄",IFERROR(AVERAGE(R64,T64,V64),0)))) -> 0 | AE64: =IF(ISNUMBER(FIND("↑",R64))=TRUE,"↑",IF(ISNUMBER(FIND("포함",R64))=TRUE,R64,IF(ISNUMBER(FIND("↑",R65))=TRUE,IFERROR(ROUNDDOWN(IF(V64="",AVERAGEA(U64,S64),AVERAGEA(S64,U64,W64)),-1),0),IFERROR(ROUNDDOWN(AD64*L64*Q64,-1),0)))) -> 0
A65: 61 | B65: 서구 | C65: 서대신동3가 | D65: 31-40 | E65: 31-463 | F65: 블루베리1 | G65: H1m, R3㎝ | L65: 2 | M65: 주 | N65: 1/1 | O65: =IF(N65="1","1",LEFT(N65,FIND("/",N65)-1)) -> 1 | P65: =IF(N65="1","1",RIGHT(N65,LEN(N65)-FIND("/",N65))) -> 1 | Q65: =O65/P65 -> 1 | S65: =IF(ISNUMBER(FIND("↑",R65))=TRUE,"↑",IF(ISNUMBER(FIND("↑",#REF!))=TRUE,R65,IF(ISNUMBER(FIND("포함",R65))=TRUE,R65,IFERROR(ROUNDDOWN(R65*$L65*$Q65,-1),0)))) -> 0 | U65: =IF(ISNUMBER(FIND("↑",T65))=TRUE,"↑",IF(ISNUMBER(FIND("↑",#REF!))=TRUE,T65,IF(ISNUMBER(FIND("포함",T65))=TRUE,T65,IFERROR(ROUNDDOWN(T65*$L65*$Q65,-1),0)))) -> 0 | W65: =IF(ISNUMBER(FIND("↑",V65))=TRUE,"↑",IF(ISNUMBER(FIND("↑",#REF!))=TRUE,V65,IF(ISNUMBER(FIND("포함",V65))=TRUE,V65,IFERROR(ROUNDDOWN(V65*$L65*$Q65,-1),0)))) -> 0 | X65: =MAX(R65,T65,V65) -> 0 | Y65: =MIN(R65,T65,V65) -> 0 | Z65: =X65/Y65 -> #DIV/0! | AD65: =IF(ISNUMBER(FIND("↑",R65))=TRUE,"↑",IF(ISNUMBER(FIND("포함",R65))=TRUE,R65,IF(ISNUMBER(FIND("↑",#REF!))=TRUE,"일괄",IFERROR(AVERAGE(R65,T65,V65),0)))) -> 0 | AE65: =IF(ISNUMBER(FIND("↑",R65))=TRUE,"↑",IF(ISNUMBER(FIND("포함",R65))=TRUE,R65,IF(ISNUMBER(FIND("↑",#REF!))=TRUE,IFERROR(ROUNDDOWN(IF(V65="",AVERAGEA(U65,S65),AVERAGEA(S65,U65,W65)),-1),0),IFERROR(ROUNDDOWN(AD65*L65*Q65,-1),0)))) -> 0
A66: 62 | B66: 서구 | C66: 서대신동3가 | D66: 31-40 | E66: 31-463 | F66: 치자나무 | G66: H1.5m, R12㎝ | L66: 1 | M66: 주 | N66: 1/1 | O66: =IF(N66="1","1",LEFT(N66,FIND("/",N66)-1)) -> 1 | P66: =IF(N66="1","1",RIGHT(N66,LEN(N66)-FIND("/",N66))) -> 1 | Q66: =O66/P66 -> 1 | S66: =IF(ISNUMBER(FIND("↑",R66))=TRUE,"↑",IF(ISNUMBER(FIND("↑",R67))=TRUE,R66,IF(ISNUMBER(FIND("포함",R66))=TRUE,R66,IFERROR(ROUNDDOWN(R66*$L66*$Q66,-1),0)))) -> 0 | U66: =IF(ISNUMBER(FIND("↑",T66))=TRUE,"↑",IF(ISNUMBER(FIND("↑",T67))=TRUE,T66,IF(ISNUMBER(FIND("포함",T66))=TRUE,T66,IFERROR(ROUNDDOWN(T66*$L66*$Q66,-1),0)))) -> 0 | W66: =IF(ISNUMBER(FIND("↑",V66))=TRUE,"↑",IF(ISNUMBER(FIND("↑",V67))=TRUE,V66,IF(ISNUMBER(FIND("포함",V66))=TRUE,V66,IFERROR(ROUNDDOWN(V66*$L66*$Q66,-1),0)))) -> 0 | X66: =MAX(R66,T66,V66) -> 0 | Y66: =MIN(R66,T66,V66) -> 0 | Z66: =X66/Y66 -> #DIV/0! | AD66: =IF(ISNUMBER(FIND("↑",R66))=TRUE,"↑",IF(ISNUMBER(FIND("포함",R66))=TRUE,R66,IF(ISNUMBER(FIND("↑",R67))=TRUE,"일괄",IFERROR(AVERAGE(R66,T66,V66),0)))) -> 0 | AE66: =IF(ISNUMBER(FIND("↑",R66))=TRUE,"↑",IF(ISNUMBER(FIND("포함",R66))=TRUE,R66,IF(ISNUMBER(FIND("↑",R67))=TRUE,IFERROR(ROUNDDOWN(IF(V66="",AVERAGEA(U66,S66),AVERAGEA(S66,U66,W66)),-1),0),IFERROR(ROUNDDOWN(AD66*L66*Q66,-1),0)))) -> 0
A67: 63 | B67: 서구 | C67: 서대신동3가 | D67: 31-40 | E67: 31-463 | F67: 블루베리2 | G67: H2m, R8㎝ | L67: 3 | M67: 주 | N67: 1/1 | O67: =IF(N67="1","1",LEFT(N67,FIND("/",N67)-1)) -> 1 | P67: =IF(N67="1","1",RIGHT(N67,LEN(N67)-FIND("/",N67))) -> 1 | Q67: =O67/P67 -> 1 | S67: =IF(ISNUMBER(FIND("↑",R67))=TRUE,"↑",IF(ISNUMBER(FIND("↑",R68))=TRUE,R67,IF(ISNUMBER(FIND("포함",R67))=TRUE,R67,IFERROR(ROUNDDOWN(R67*$L67*$Q67,-1),0)))) -> 0 | U67: =IF(ISNUMBER(FIND("↑",T67))=TRUE,"↑",IF(ISNUMBER(FIND("↑",T68))=TRUE,T67,IF(ISNUMBER(FIND("포함",T67))=TRUE,T67,IFERROR(ROUNDDOWN(T67*$L67*$Q67,-1),0)))) -> 0 | W67: =IF(ISNUMBER(FIND("↑",V67))=TRUE,"↑",IF(ISNUMBER(FIND("↑",V68))=TRUE,V67,IF(ISNUMBER(FIND("포함",V67))=TRUE,V67,IFERROR(ROUNDDOWN(V67*$L67*$Q67,-1),0)))) -> 0 | X67: =MAX(R67,T67,V67) -> 0 | Y67: =MIN(R67,T67,V67) -> 0 | Z67: =X67/Y67 -> #DIV/0! | AD67: =IF(ISNUMBER(FIND("↑",R67))=TRUE,"↑",IF(ISNUMBER(FIND("포함",R67))=TRUE,R67,IF(ISNUMBER(FIND("↑",R68))=TRUE,"일괄",IFERROR(AVERAGE(R67,T67,V67),0)))) -> 0 | AE67: =IF(ISNUMBER(FIND("↑",R67))=TRUE,"↑",IF(ISNUMBER(FIND("포함",R67))=TRUE,R67,IF(ISNUMBER(FIND("↑",R68))=TRUE,IFERROR(ROUNDDOWN(IF(V67="",AVERAGEA(U67,S67),AVERAGEA(S67,U67,W67)),-1),0),IFERROR(ROUNDDOWN(AD67*L67*Q67,-1),0)))) -> 0
A68: 64 | B68: 서구 | C68: 서대신동3가 | D68: 31-40 | E68: 31-463 | F68: 자두나무 | G68: H3m, R10㎝ | L68: 1 | M68: 주 | N68: 1/1 | O68: =IF(N68="1","1",LEFT(N68,FIND("/",N68)-1)) -> 1 | P68: =IF(N68="1","1",RIGHT(N68,LEN(N68)-FIND("/",N68))) -> 1 | Q68: =O68/P68 -> 1 | S68: =IF(ISNUMBER(FIND("↑",R68))=TRUE,"↑",IF(ISNUMBER(FIND("↑",R69))=TRUE,R68,IF(ISNUMBER(FIND("포함",R68))=TRUE,R68,IFERROR(ROUNDDOWN(R68*$L68*$Q68,-1),0)))) -> 0 | U68: =IF(ISNUMBER(FIND("↑",T68))=TRUE,"↑",IF(ISNUMBER(FIND("↑",T69))=TRUE,T68,IF(ISNUMBER(FIND("포함",T68))=TRUE,T68,IFERROR(ROUNDDOWN(T68*$L68*$Q68,-1),0)))) -> 0 | W68: =IF(ISNUMBER(FIND("↑",V68))=TRUE,"↑",IF(ISNUMBER(FIND("↑",V69))=TRUE,V68,IF(ISNUMBER(FIND("포함",V68))=TRUE,V68,IFERROR(ROUNDDOWN(V68*$L68*$Q68,-1),0)))) -> 0 | X68: =MAX(R68,T68,V68) -> 0 | Y68: =MIN(R68,T68,V68) -> 0 | Z68: =X68/Y68 -> #DIV/0! | AD68: =IF(ISNUMBER(FIND("↑",R68))=TRUE,"↑",IF(ISNUMBER(FIND("포함",R68))=TRUE,R68,IF(ISNUMBER(FIND("↑",R69))=TRUE,"일괄",IFERROR(AVERAGE(R68,T68,V68),0)))) -> 0 | AE68: =IF(ISNUMBER(FIND("↑",R68))=TRUE,"↑",IF(ISNUMBER(FIND("포함",R68))=TRUE,R68,IF(ISNUMBER(FIND("↑",R69))=TRUE,IFERROR(ROUNDDOWN(IF(V68="",AVERAGEA(U68,S68),AVERAGEA(S68,U68,W68)),-1),0),IFERROR(ROUNDDOWN(AD68*L68*Q68,-1),0)))) -> 0
A69: 65 | B69: 서구 | C69: 서대신동3가 | D69: 31-40 | E69: 31-463 | F69: 금목서 | G69: H2.5m, R8㎝ | L69: 1 | M69: 주 | N69: 1/1 | O69: =IF(N69="1","1",LEFT(N69,FIND("/",N69)-1)) -> 1 | P69: =IF(N69="1","1",RIGHT(N69,LEN(N69)-FIND("/",N69))) -> 1 | Q69: =O69/P69 -> 1 | S69: =IF(ISNUMBER(FIND("↑",R69))=TRUE,"↑",IF(ISNUMBER(FIND("↑",R70))=TRUE,R69,IF(ISNUMBER(FIND("포함",R69))=TRUE,R69,IFERROR(ROUNDDOWN(R69*$L69*$Q69,-1),0)))) -> 0 | U69: =IF(ISNUMBER(FIND("↑",T69))=TRUE,"↑",IF(ISNUMBER(FIND("↑",T70))=TRUE,T69,IF(ISNUMBER(FIND("포함",T69))=TRUE,T69,IFERROR(ROUNDDOWN(T69*$L69*$Q69,-1),0)))) -> 0 | W69: =IF(ISNUMBER(FIND("↑",V69))=TRUE,"↑",IF(ISNUMBER(FIND("↑",V70))=TRUE,V69,IF(ISNUMBER(FIND("포함",V69))=TRUE,V69,IFERROR(ROUNDDOWN(V69*$L69*$Q69,-1),0)))) -> 0 | X69: =MAX(R69,T69,V69) -> 0 | Y69: =MIN(R69,T69,V69) -> 0 | Z69: =X69/Y69 -> #DIV/0! | AD69: =IF(ISNUMBER(FIND("↑",R69))=TRUE,"↑",IF(ISNUMBER(FIND("포함",R69))=TRUE,R69,IF(ISNUMBER(FIND("↑",R70))=TRUE,"일괄",IFERROR(AVERAGE(R69,T69,V69),0)))) -> 0 | AE69: =IF(ISNUMBER(FIND("↑",R69))=TRUE,"↑",IF(ISNUMBER(FIND("포함",R69))=TRUE,R69,IF(ISNUMBER(FIND("↑",R70))=TRUE,IFERROR(ROUNDDOWN(IF(V69="",AVERAGEA(U69,S69),AVERAGEA(S69,U69,W69)),-1),0),IFERROR(ROUNDDOWN(AD69*L69*Q69,-1),0)))) -> 0
A70: 66 | B70: 서구 | C70: 서대신동3가 | D70: 31-40 | E70: 31-463 | F70: 매실나무1 | G70: H2.5m, R8㎝ | L70: 1 | M70: 주 | N70: 1/1 | O70: =IF(N70="1","1",LEFT(N70,FIND("/",N70)-1)) -> 1 | P70: =IF(N70="1","1",RIGHT(N70,LEN(N70)-FIND("/",N70))) -> 1 | Q70: =O70/P70 -> 1 | S70: =IF(ISNUMBER(FIND("↑",R70))=TRUE,"↑",IF(ISNUMBER(FIND("↑",R71))=TRUE,R70,IF(ISNUMBER(FIND("포함",R70))=TRUE,R70,IFERROR(ROUNDDOWN(R70*$L70*$Q70,-1),0)))) -> 0 | U70: =IF(ISNUMBER(FIND("↑",T70))=TRUE,"↑",IF(ISNUMBER(FIND("↑",T71))=TRUE,T70,IF(ISNUMBER(FIND("포함",T70))=TRUE,T70,IFERROR(ROUNDDOWN(T70*$L70*$Q70,-1),0)))) -> 0 | W70: =IF(ISNUMBER(FIND("↑",V70))=TRUE,"↑",IF(ISNUMBER(FIND("↑",V71))=TRUE,V70,IF(ISNUMBER(FIND("포함",V70))=TRUE,V70,IFERROR(ROUNDDOWN(V70*$L70*$Q70,-1),0)))) -> 0 | X70: =MAX(R70,T70,V70) -> 0 | Y70: =MIN(R70,T70,V70) -> 0 | Z70: =X70/Y70 -> #DIV/0! | AD70: =IF(ISNUMBER(FIND("↑",R70))=TRUE,"↑",IF(ISNUMBER(FIND("포함",R70))=TRUE,R70,IF(ISNUMBER(FIND("↑",R71))=TRUE,"일괄",IFERROR(AVERAGE(R70,T70,V70),0)))) -> 0 | AE70: =IF(ISNUMBER(FIND("↑",R70))=TRUE,"↑",IF(ISNUMBER(FIND("포함",R70))=TRUE,R70,IF(ISNUMBER(FIND("↑",R71))=TRUE,IFERROR(ROUNDDOWN(IF(V70="",AVERAGEA(U70,S70),AVERAGEA(S70,U70,W70)),-1),0),IFERROR(ROUNDDOWN(AD70*L70*Q70,-1),0)))) -> 0
A71: 67 | B71: 서구 | C71: 서대신동3가 | D71: 31-40 | E71: 31-463 | F71: 매실나무2 | G71: H5m, R15㎝ | L71: 1 | M71: 주 | N71: 1/1 | O71: =IF(N71="1","1",LEFT(N71,FIND("/",N71)-1)) -> 1 | P71: =IF(N71="1","1",RIGHT(N71,LEN(N71)-FIND("/",N71))) -> 1 | Q71: =O71/P71 -> 1 | S71: =IF(ISNUMBER(FIND("↑",R71))=TRUE,"↑",IF(ISNUMBER(FIND("↑",R72))=TRUE,R71,IF(ISNUMBER(FIND("포함",R71))=TRUE,R71,IFERROR(ROUNDDOWN(R71*$L71*$Q71,-1),0)))) -> 0 | U71: =IF(ISNUMBER(FIND("↑",T71))=TRUE,"↑",IF(ISNUMBER(FIND("↑",T72))=TRUE,T71,IF(ISNUMBER(FIND("포함",T71))=TRUE,T71,IFERROR(ROUNDDOWN(T71*$L71*$Q71,-1),0)))) -> 0 | W71: =IF(ISNUMBER(FIND("↑",V71))=TRUE,"↑",IF(ISNUMBER(FIND("↑",V72))=TRUE,V71,IF(ISNUMBER(FIND("포함",V71))=TRUE,V71,IFERROR(ROUNDDOWN(V71*$L71*$Q71,-1),0)))) -> 0 | X71: =MAX(R71,T71,V71) -> 0 | Y71: =MIN(R71,T71,V71) -> 0 | Z71: =X71/Y71 -> #DIV/0! | AD71: =IF(ISNUMBER(FIND("↑",R71))=TRUE,"↑",IF(ISNUMBER(FIND("포함",R71))=TRUE,R71,IF(ISNUMBER(FIND("↑",R72))=TRUE,"일괄",IFERROR(AVERAGE(R71,T71,V71),0)))) -> 0 | AE71: =IF(ISNUMBER(FIND("↑",R71))=TRUE,"↑",IF(ISNUMBER(FIND("포함",R71))=TRUE,R71,IF(ISNUMBER(FIND("↑",R72))=TRUE,IFERROR(ROUNDDOWN(IF(V71="",AVERAGEA(U71,S71),AVERAGEA(S71,U71,W71)),-1),0),IFERROR(ROUNDDOWN(AD71*L71*Q71,-1),0)))) -> 0
A72: 68 | B72: 서구 | C72: 서대신동3가 | D72: 31-42 | E72: 31-464 | F72: 매실나무3 | G72: H2.5m, R10㎝ | L72: 1 | M72: 주 | N72: 1/1 | O72: =IF(N72="1","1",LEFT(N72,FIND("/",N72)-1)) -> 1 | P72: =IF(N72="1","1",RIGHT(N72,LEN(N72)-FIND("/",N72))) -> 1 | Q72: =O72/P72 -> 1 | S72: =IF(ISNUMBER(FIND("↑",R72))=TRUE,"↑",IF(ISNUMBER(FIND("↑",R73))=TRUE,R72,IF(ISNUMBER(FIND("포함",R72))=TRUE,R72,IFERROR(ROUNDDOWN(R72*$L72*$Q72,-1),0)))) -> 0 | U72: =IF(ISNUMBER(FIND("↑",T72))=TRUE,"↑",IF(ISNUMBER(FIND("↑",T73))=TRUE,T72,IF(ISNUMBER(FIND("포함",T72))=TRUE,T72,IFERROR(ROUNDDOWN(T72*$L72*$Q72,-1),0)))) -> 0 | W72: =IF(ISNUMBER(FIND("↑",V72))=TRUE,"↑",IF(ISNUMBER(FIND("↑",V73))=TRUE,V72,IF(ISNUMBER(FIND("포함",V72))=TRUE,V72,IFERROR(ROUNDDOWN(V72*$L72*$Q72,-1),0)))) -> 0 | X72: =MAX(R72,T72,V72) -> 0 | Y72: =MIN(R72,T72,V72) -> 0 | Z72: =X72/Y72 -> #DIV/0! | AD72: =IF(ISNUMBER(FIND("↑",R72))=TRUE,"↑",IF(ISNUMBER(FIND("포함",R72))=TRUE,R72,IF(ISNUMBER(FIND("↑",R73))=TRUE,"일괄",IFERROR(AVERAGE(R72,T72,V72),0)))) -> 0 | AE72: =IF(ISNUMBER(FIND("↑",R72))=TRUE,"↑",IF(ISNUMBER(FIND("포함",R72))=TRUE,R72,IF(ISNUMBER(FIND("↑",R73))=TRUE,IFERROR(ROUNDDOWN(IF(V72="",AVERAGEA(U72,S72),AVERAGEA(S72,U72,W72)),-1),0),IFERROR(ROUNDDOWN(AD72*L72*Q72,-1),0)))) -> 0
A73: 69 | B73: 서구 | C73: 서대신동3가 | D73: 31-42 | E73: 31-464 | F73: 복숭아나무1 | G73: H1.5m, R15㎝ | L73: 7 | M73: 주 | N73: 1/1 | O73: =IF(N73="1","1",LEFT(N73,FIND("/",N73)-1)) -> 1 | P73: =IF(N73="1","1",RIGHT(N73,LEN(N73)-FIND("/",N73))) -> 1 | Q73: =O73/P73 -> 1 | S73: =IF(ISNUMBER(FIND("↑",R73))=TRUE,"↑",IF(ISNUMBER(FIND("↑",R74))=TRUE,R73,IF(ISNUMBER(FIND("포함",R73))=TRUE,R73,IFERROR(ROUNDDOWN(R73*$L73*$Q73,-1),0)))) -> 0 | U73: =IF(ISNUMBER(FIND("↑",T73))=TRUE,"↑",IF(ISNUMBER(FIND("↑",T74))=TRUE,T73,IF(ISNUMBER(FIND("포함",T73))=TRUE,T73,IFERROR(ROUNDDOWN(T73*$L73*$Q73,-1),0)))) -> 0 | W73: =IF(ISNUMBER(FIND("↑",V73))=TRUE,"↑",IF(ISNUMBER(FIND("↑",V74))=TRUE,V73,IF(ISNUMBER(FIND("포함",V73))=TRUE,V73,IFERROR(ROUNDDOWN(V73*$L73*$Q73,-1),0)))) -> 0 | X73: =MAX(R73,T73,V73) -> 0 | Y73: =MIN(R73,T73,V73) -> 0 | Z73: =X73/Y73 -> #DIV/0! | AD73: =IF(ISNUMBER(FIND("↑",R73))=TRUE,"↑",IF(ISNUMBER(FIND("포함",R73))=TRUE,R73,IF(ISNUMBER(FIND("↑",R74))=TRUE,"일괄",IFERROR(AVERAGE(R73,T73,V73),0)))) -> 0 | AE73: =IF(ISNUMBER(FIND("↑",R73))=TRUE,"↑",IF(ISNUMBER(FIND("포함",R73))=TRUE,R73,IF(ISNUMBER(FIND("↑",R74))=TRUE,IFERROR(ROUNDDOWN(IF(V73="",AVERAGEA(U73,S73),AVERAGEA(S73,U73,W73)),-1),0),IFERROR(ROUNDDOWN(AD73*L73*Q73,-1),0)))) -> 0
A74: 70 | B74: 서구 | C74: 서대신동3가 | D74: 31-42 | E74: 31-464 | F74: 두릅나무1 | G74: H2.5m, R8㎝ | L74: 5 | M74: 군 | N74: 1/1 | O74: =IF(N74="1","1",LEFT(N74,FIND("/",N74)-1)) -> 1 | P74: =IF(N74="1","1",RIGHT(N74,LEN(N74)-FIND("/",N74))) -> 1 | Q74: =O74/P74 -> 1 | S74: =IF(ISNUMBER(FIND("↑",R74))=TRUE,"↑",IF(ISNUMBER(FIND("↑",#REF!))=TRUE,R74,IF(ISNUMBER(FIND("포함",R74))=TRUE,R74,IFERROR(ROUNDDOWN(R74*$L74*$Q74,-1),0)))) -> 0 | U74: =IF(ISNUMBER(FIND("↑",T74))=TRUE,"↑",IF(ISNUMBER(FIND("↑",#REF!))=TRUE,T74,IF(ISNUMBER(FIND("포함",T74))=TRUE,T74,IFERROR(ROUNDDOWN(T74*$L74*$Q74,-1),0)))) -> 0 | W74: =IF(ISNUMBER(FIND("↑",V74))=TRUE,"↑",IF(ISNUMBER(FIND("↑",#REF!))=TRUE,V74,IF(ISNUMBER(FIND("포함",V74))=TRUE,V74,IFERROR(ROUNDDOWN(V74*$L74*$Q74,-1),0)))) -> 0 | X74: =MAX(R74,T74,V74) -> 0 | Y74: =MIN(R74,T74,V74) -> 0 | Z74: =X74/Y74 -> #DIV/0! | AD74: =IF(ISNUMBER(FIND("↑",R74))=TRUE,"↑",IF(ISNUMBER(FIND("포함",R74))=TRUE,R74,IF(ISNUMBER(FIND("↑",#REF!))=TRUE,"일괄",IFERROR(AVERAGE(R74,T74,V74),0)))) -> 0 | AE74: =IF(ISNUMBER(FIND("↑",R74))=TRUE,"↑",IF(ISNUMBER(FIND("포함",R74))=TRUE,R74,IF(ISNUMBER(FIND("↑",#REF!))=TRUE,IFERROR(ROUNDDOWN(IF(V74="",AVERAGEA(U74,S74),AVERAGEA(S74,U74,W74)),-1),0),IFERROR(ROUNDDOWN(AD74*L74*Q74,-1),0)))) -> 0
A75: 71 | B75: 서구 | C75: 서대신동3가 | D75: 31-88,31-368 | E75: 31-88,31-474 | F75: 울타리1 | G75: 철제파이프 철망,H1.5m | L75: 26 | M75: m | N75: 1/1 | O75: =IF(N75="1","1",LEFT(N75,FIND("/",N75)-1)) -> 1 | P75: =IF(N75="1","1",RIGHT(N75,LEN(N75)-FIND("/",N75))) -> 1 | Q75: =O75/P75 -> 1 | S75: =IF(ISNUMBER(FIND("↑",R75))=TRUE,"↑",IF(ISNUMBER(FIND("↑",R76))=TRUE,R75,IF(ISNUMBER(FIND("포함",R75))=TRUE,R75,IFERROR(ROUNDDOWN(R75*$L75*$Q75,-1),0)))) -> 0 | U75: =IF(ISNUMBER(FIND("↑",T75))=TRUE,"↑",IF(ISNUMBER(FIND("↑",T76))=TRUE,T75,IF(ISNUMBER(FIND("포함",T75))=TRUE,T75,IFERROR(ROUNDDOWN(T75*$L75*$Q75,-1),0)))) -> 0 | W75: =IF(ISNUMBER(FIND("↑",V75))=TRUE,"↑",IF(ISNUMBER(FIND("↑",V76))=TRUE,V75,IF(ISNUMBER(FIND("포함",V75))=TRUE,V75,IFERROR(ROUNDDOWN(V75*$L75*$Q75,-1),0)))) -> 0 | X75: =MAX(R75,T75,V75) -> 0 | Y75: =MIN(R75,T75,V75) -> 0 | Z75: =X75/Y75 -> #DIV/0! | AD75: =IF(ISNUMBER(FIND("↑",R75))=TRUE,"↑",IF(ISNUMBER(FIND("포함",R75))=TRUE,R75,IF(ISNUMBER(FIND("↑",R76))=TRUE,"일괄",IFERROR(AVERAGE(R75,T75,V75),0)))) -> 0 | AE75: =IF(ISNUMBER(FIND("↑",R75))=TRUE,"↑",IF(ISNUMBER(FIND("포함",R75))=TRUE,R75,IF(ISNUMBER(FIND("↑",R76))=TRUE,IFERROR(ROUNDDOWN(IF(V75="",AVERAGEA(U75,S75),AVERAGEA(S75,U75,W75)),-1),0),IFERROR(ROUNDDOWN(AD75*L75*Q75,-1),0)))) -> 0
A76: 72 | B76: 서구 | C76: 서대신동3가 | D76: 31-88,31-368 | E76: 31-88,31-474 | F76: 간이창고 | G76: 목조, 1.5×0.8m, 2ea | L76: 1 | M76: 식 | N76: 1/1 | O76: =IF(N76="1","1",LEFT(N76,FIND("/",N76)-1)) -> 1 | P76: =IF(N76="1","1",RIGHT(N76,LEN(N76)-FIND("/",N76))) -> 1 | Q76: =O76/P76 -> 1 | S76: =IF(ISNUMBER(FIND("↑",R76))=TRUE,"↑",IF(ISNUMBER(FIND("↑",R77))=TRUE,R76,IF(ISNUMBER(FIND("포함",R76))=TRUE,R76,IFERROR(ROUNDDOWN(R76*$L76*$Q76,-1),0)))) -> 0 | U76: =IF(ISNUMBER(FIND("↑",T76))=TRUE,"↑",IF(ISNUMBER(FIND("↑",T77))=TRUE,T76,IF(ISNUMBER(FIND("포함",T76))=TRUE,T76,IFERROR(ROUNDDOWN(T76*$L76*$Q76,-1),0)))) -> 0 | W76: =IF(ISNUMBER(FIND("↑",V76))=TRUE,"↑",IF(ISNUMBER(FIND("↑",V77))=TRUE,V76,IF(ISNUMBER(FIND("포함",V76))=TRUE,V76,IFERROR(ROUNDDOWN(V76*$L76*$Q76,-1),0)))) -> 0 | X76: =MAX(R76,T76,V76) -> 0 | Y76: =MIN(R76,T76,V76) -> 0 | Z76: =X76/Y76 -> #DIV/0! | AD76: =IF(ISNUMBER(FIND("↑",R76))=TRUE,"↑",IF(ISNUMBER(FIND("포함",R76))=TRUE,R76,IF(ISNUMBER(FIND("↑",R77))=TRUE,"일괄",IFERROR(AVERAGE(R76,T76,V76),0)))) -> 0 | AE76: =IF(ISNUMBER(FIND("↑",R76))=TRUE,"↑",IF(ISNUMBER(FIND("포함",R76))=TRUE,R76,IF(ISNUMBER(FIND("↑",R77))=TRUE,IFERROR(ROUNDDOWN(IF(V76="",AVERAGEA(U76,S76),AVERAGEA(S76,U76,W76)),-1),0),IFERROR(ROUNDDOWN(AD76*L76*Q76,-1),0)))) -> 0
A77: 73 | B77: 서구 | C77: 서대신동3가 | D77: 31-88,31-368 | E77: 31-88,31-474 | F77: 물탱크1 | G77: pe재질, 0.5ton 1ea / 2ton 1ea | L77: 1 | M77: 식 | N77: 1/1 | O77: =IF(N77="1","1",LEFT(N77,FIND("/",N77)-1)) -> 1 | P77: =IF(N77="1","1",RIGHT(N77,LEN(N77)-FIND("/",N77))) -> 1 | Q77: =O77/P77 -> 1 | S77: =IF(ISNUMBER(FIND("↑",R77))=TRUE,"↑",IF(ISNUMBER(FIND("↑",R78))=TRUE,R77,IF(ISNUMBER(FIND("포함",R77))=TRUE,R77,IFERROR(ROUNDDOWN(R77*$L77*$Q77,-1),0)))) -> 0 | U77: =IF(ISNUMBER(FIND("↑",T77))=TRUE,"↑",IF(ISNUMBER(FIND("↑",T78))=TRUE,T77,IF(ISNUMBER(FIND("포함",T77))=TRUE,T77,IFERROR(ROUNDDOWN(T77*$L77*$Q77,-1),0)))) -> 0 | W77: =IF(ISNUMBER(FIND("↑",V77))=TRUE,"↑",IF(ISNUMBER(FIND("↑",V78))=TRUE,V77,IF(ISNUMBER(FIND("포함",V77))=TRUE,V77,IFERROR(ROUNDDOWN(V77*$L77*$Q77,-1),0)))) -> 0 | X77: =MAX(R77,T77,V77) -> 0 | Y77: =MIN(R77,T77,V77) -> 0 | Z77: =X77/Y77 -> #DIV/0! | AD77: =IF(ISNUMBER(FIND("↑",R77))=TRUE,"↑",IF(ISNUMBER(FIND("포함",R77))=TRUE,R77,IF(ISNUMBER(FIND("↑",R78))=TRUE,"일괄",IFERROR(AVERAGE(R77,T77,V77),0)))) -> 0 | AE77: =IF(ISNUMBER(FIND("↑",R77))=TRUE,"↑",IF(ISNUMBER(FIND("포함",R77))=TRUE,R77,IF(ISNUMBER(FIND("↑",R78))=TRUE,IFERROR(ROUNDDOWN(IF(V77="",AVERAGEA(U77,S77),AVERAGEA(S77,U77,W77)),-1),0),IFERROR(ROUNDDOWN(AD77*L77*Q77,-1),0)))) -> 0
A78: 74 | B78: 서구 | C78: 서대신동3가 | D78: 31-88,31-368 | E78: 31-88,31-474 | F78: 물탱크 바닥 | G78: 자연석 및 시멘트, 1.2×0.9, H0.6m, 등 시설일체 포함 | L78: 1 | M78: 식 | N78: 1/1 | O78: =IF(N78="1","1",LEFT(N78,FIND("/",N78)-1)) -> 1 | P78: =IF(N78="1","1",RIGHT(N78,LEN(N78)-FIND("/",N78))) -> 1 | Q78: =O78/P78 -> 1 | S78: =IF(ISNUMBER(FIND("↑",R78))=TRUE,"↑",IF(ISNUMBER(FIND("↑",R79))=TRUE,R78,IF(ISNUMBER(FIND("포함",R78))=TRUE,R78,IFERROR(ROUNDDOWN(R78*$L78*$Q78,-1),0)))) -> 0 | U78: =IF(ISNUMBER(FIND("↑",T78))=TRUE,"↑",IF(ISNUMBER(FIND("↑",T79))=TRUE,T78,IF(ISNUMBER(FIND("포함",T78))=TRUE,T78,IFERROR(ROUNDDOWN(T78*$L78*$Q78,-1),0)))) -> 0 | W78: =IF(ISNUMBER(FIND("↑",V78))=TRUE,"↑",IF(ISNUMBER(FIND("↑",V79))=TRUE,V78,IF(ISNUMBER(FIND("포함",V78))=TRUE,V78,IFERROR(ROUNDDOWN(V78*$L78*$Q78,-1),0)))) -> 0 | X78: =MAX(R78,T78,V78) -> 0 | Y78: =MIN(R78,T78,V78) -> 0 | Z78: =X78/Y78 -> #DIV/0! | AD78: =IF(ISNUMBER(FIND("↑",R78))=TRUE,"↑",IF(ISNUMBER(FIND("포함",R78))=TRUE,R78,IF(ISNUMBER(FIND("↑",R79))=TRUE,"일괄",IFERROR(AVERAGE(R78,T78,V78),0)))) -> 0 | AE78: =IF(ISNUMBER(FIND("↑",R78))=TRUE,"↑",IF(ISNUMBER(FIND("포함",R78))=TRUE,R78,IF(ISNUMBER(FIND("↑",R79))=TRUE,IFERROR(ROUNDDOWN(IF(V78="",AVERAGEA(U78,S78),AVERAGEA(S78,U78,W78)),-1),0),IFERROR(ROUNDDOWN(AD78*L78*Q78,-1),0)))) -> 0
A79: 75 | B79: 서구 | C79: 서대신동3가 | D79: 31-88,31-368 | E79: 31-88,31-474 | F79: 구지뽕나무2 | G79: H2m, R4㎝ | L79: 3 | M79: 주 | N79: 1/1 | O79: =IF(N79="1","1",LEFT(N79,FIND("/",N79)-1)) -> 1 | P79: =IF(N79="1","1",RIGHT(N79,LEN(N79)-FIND("/",N79))) -> 1 | Q79: =O79/P79 -> 1 | S79: =IF(ISNUMBER(FIND("↑",R79))=TRUE,"↑",IF(ISNUMBER(FIND("↑",R80))=TRUE,R79,IF(ISNUMBER(FIND("포함",R79))=TRUE,R79,IFERROR(ROUNDDOWN(R79*$L79*$Q79,-1),0)))) -> 0 | U79: =IF(ISNUMBER(FIND("↑",T79))=TRUE,"↑",IF(ISNUMBER(FIND("↑",T80))=TRUE,T79,IF(ISNUMBER(FIND("포함",T79))=TRUE,T79,IFERROR(ROUNDDOWN(T79*$L79*$Q79,-1),0)))) -> 0 | W79: =IF(ISNUMBER(FIND("↑",V79))=TRUE,"↑",IF(ISNUMBER(FIND("↑",V80))=TRUE,V79,IF(ISNUMBER(FIND("포함",V79))=TRUE,V79,IFERROR(ROUNDDOWN(V79*$L79*$Q79,-1),0)))) -> 0 | X79: =MAX(R79,T79,V79) -> 0 | Y79: =MIN(R79,T79,V79) -> 0 | Z79: =X79/Y79 -> #DIV/0! | AD79: =IF(ISNUMBER(FIND("↑",R79))=TRUE,"↑",IF(ISNUMBER(FIND("포함",R79))=TRUE,R79,IF(ISNUMBER(FIND("↑",R80))=TRUE,"일괄",IFERROR(AVERAGE(R79,T79,V79),0)))) -> 0 | AE79: =IF(ISNUMBER(FIND("↑",R79))=TRUE,"↑",IF(ISNUMBER(FIND("포함",R79))=TRUE,R79,IF(ISNUMBER(FIND("↑",R80))=TRUE,IFERROR(ROUNDDOWN(IF(V79="",AVERAGEA(U79,S79),AVERAGEA(S79,U79,W79)),-1),0),IFERROR(ROUNDDOWN(AD79*L79*Q79,-1),0)))) -> 0
A80: 76 | B80: 서구 | C80: 서대신동3가 | D80: 31-88,31-368 | E80: 31-88,31-474 | F80: 철쭉 | G80: H1m, R6㎝ | L80: 1 | M80: 주 | N80: 1/1 | O80: =IF(N80="1","1",LEFT(N80,FIND("/",N80)-1)) -> 1 | P80: =IF(N80="1","1",RIGHT(N80,LEN(N80)-FIND("/",N80))) -> 1 | Q80: =O80/P80 -> 1 | S80: =IF(ISNUMBER(FIND("↑",R80))=TRUE,"↑",IF(ISNUMBER(FIND("↑",R81))=TRUE,R80,IF(ISNUMBER(FIND("포함",R80))=TRUE,R80,IFERROR(ROUNDDOWN(R80*$L80*$Q80,-1),0)))) -> 0 | U80: =IF(ISNUMBER(FIND("↑",T80))=TRUE,"↑",IF(ISNUMBER(FIND("↑",T81))=TRUE,T80,IF(ISNUMBER(FIND("포함",T80))=TRUE,T80,IFERROR(ROUNDDOWN(T80*$L80*$Q80,-1),0)))) -> 0 | W80: =IF(ISNUMBER(FIND("↑",V80))=TRUE,"↑",IF(ISNUMBER(FIND("↑",V81))=TRUE,V80,IF(ISNUMBER(FIND("포함",V80))=TRUE,V80,IFERROR(ROUNDDOWN(V80*$L80*$Q80,-1),0)))) -> 0 | X80: =MAX(R80,T80,V80) -> 0 | Y80: =MIN(R80,T80,V80) -> 0 | Z80: =X80/Y80 -> #DIV/0! | AD80: =IF(ISNUMBER(FIND("↑",R80))=TRUE,"↑",IF(ISNUMBER(FIND("포함",R80))=TRUE,R80,IF(ISNUMBER(FIND("↑",R81))=TRUE,"일괄",IFERROR(AVERAGE(R80,T80,V80),0)))) -> 0 | AE80: =IF(ISNUMBER(FIND("↑",R80))=TRUE,"↑",IF(ISNUMBER(FIND("포함",R80))=TRUE,R80,IF(ISNUMBER(FIND("↑",R81))=TRUE,IFERROR(ROUNDDOWN(IF(V80="",AVERAGEA(U80,S80),AVERAGEA(S80,U80,W80)),-1),0),IFERROR(ROUNDDOWN(AD80*L80*Q80,-1),0)))) -> 0
A81: 77 | B81: 서구 | C81: 서대신동3가 | D81: 31-88,31-368 | E81: 31-88,31-474 | F81: 뽕나무1 | G81: H3m, R14~18㎝ | L81: 9 | M81: 주 | N81: 1/1 | O81: =IF(N81="1","1",LEFT(N81,FIND("/",N81)-1)) -> 1 | P81: =IF(N81="1","1",RIGHT(N81,LEN(N81)-FIND("/",N81))) -> 1 | Q81: =O81/P81 -> 1 | S81: =IF(ISNUMBER(FIND("↑",R81))=TRUE,"↑",IF(ISNUMBER(FIND("↑",R82))=TRUE,R81,IF(ISNUMBER(FIND("포함",R81))=TRUE,R81,IFERROR(ROUNDDOWN(R81*$L81*$Q81,-1),0)))) -> 0 | U81: =IF(ISNUMBER(FIND("↑",T81))=TRUE,"↑",IF(ISNUMBER(FIND("↑",T82))=TRUE,T81,IF(ISNUMBER(FIND("포함",T81))=TRUE,T81,IFERROR(ROUNDDOWN(T81*$L81*$Q81,-1),0)))) -> 0 | W81: =IF(ISNUMBER(FIND("↑",V81))=TRUE,"↑",IF(ISNUMBER(FIND("↑",V82))=TRUE,V81,IF(ISNUMBER(FIND("포함",V81))=TRUE,V81,IFERROR(ROUNDDOWN(V81*$L81*$Q81,-1),0)))) -> 0 | X81: =MAX(R81,T81,V81) -> 0 | Y81: =MIN(R81,T81,V81) -> 0 | Z81: =X81/Y81 -> #DIV/0! | AD81: =IF(ISNUMBER(FIND("↑",R81))=TRUE,"↑",IF(ISNUMBER(FIND("포함",R81))=TRUE,R81,IF(ISNUMBER(FIND("↑",R82))=TRUE,"일괄",IFERROR(AVERAGE(R81,T81,V81),0)))) -> 0 | AE81: =IF(ISNUMBER(FIND("↑",R81))=TRUE,"↑",IF(ISNUMBER(FIND("포함",R81))=TRUE,R81,IF(ISNUMBER(FIND("↑",R82))=TRUE,IFERROR(ROUNDDOWN(IF(V81="",AVERAGEA(U81,S81),AVERAGEA(S81,U81,W81)),-1),0),IFERROR(ROUNDDOWN(AD81*L81*Q81,-1),0)))) -> 0
A82: 78 | B82: 서구 | C82: 서대신동3가 | D82: 31-88,31-368 | E82: 31-88,31-474 | F82: 팽나무1 | G82: H2.5m, R10㎝ | L82: 1 | M82: 주 | N82: 1/1 | O82: =IF(N82="1","1",LEFT(N82,FIND("/",N82)-1)) -> 1 | P82: =IF(N82="1","1",RIGHT(N82,LEN(N82)-FIND("/",N82))) -> 1 | Q82: =O82/P82 -> 1 | S82: =IF(ISNUMBER(FIND("↑",R82))=TRUE,"↑",IF(ISNUMBER(FIND("↑",R101))=TRUE,R82,IF(ISNUMBER(FIND("포함",R82))=TRUE,R82,IFERROR(ROUNDDOWN(R82*$L82*$Q82,-1),0)))) -> 0 | U82: =IF(ISNUMBER(FIND("↑",T82))=TRUE,"↑",IF(ISNUMBER(FIND("↑",T101))=TRUE,T82,IF(ISNUMBER(FIND("포함",T82))=TRUE,T82,IFERROR(ROUNDDOWN(T82*$L82*$Q82,-1),0)))) -> 0 | W82: =IF(ISNUMBER(FIND("↑",V82))=TRUE,"↑",IF(ISNUMBER(FIND("↑",V101))=TRUE,V82,IF(ISNUMBER(FIND("포함",V82))=TRUE,V82,IFERROR(ROUNDDOWN(V82*$L82*$Q82,-1),0)))) -> 0 | X82: =MAX(R82,T82,V82) -> 0 | Y82: =MIN(R82,T82,V82) -> 0 | Z82: =X82/Y82 -> #DIV/0! | AD82: =IF(ISNUMBER(FIND("↑",R82))=TRUE,"↑",IF(ISNUMBER(FIND("포함",R82))=TRUE,R82,IF(ISNUMBER(FIND("↑",R101))=TRUE,"일괄",IFERROR(AVERAGE(R82,T82,V82),0)))) -> 0 | AE82: =IF(ISNUMBER(FIND("↑",R82))=TRUE,"↑",IF(ISNUMBER(FIND("포함",R82))=TRUE,R82,IF(ISNUMBER(FIND("↑",R101))=TRUE,IFERROR(ROUNDDOWN(IF(V82="",AVERAGEA(U82,S82),AVERAGEA(S82,U82,W82)),-1),0),IFERROR(ROUNDDOWN(AD82*L82*Q82,-1),0)))) -> 0
A83: 79 | B83: 서구 | C83: 서대신동3가 | D83: 31-88,31-368 | E83: 31-88,31-474 | F83: 매실나무5 | G83: H2m, R10~12㎝ | L83: 3 | M83: 주 | N83: 1/1 | O83: =IF(N83="1","1",LEFT(N83,FIND("/",N83)-1)) -> 1 | P83: =IF(N83="1","1",RIGHT(N83,LEN(N83)-FIND("/",N83))) -> 1 | Q83: =O83/P83 -> 1 | S83: =IF(ISNUMBER(FIND("↑",R83))=TRUE,"↑",IF(ISNUMBER(FIND("↑",R84))=TRUE,R83,IF(ISNUMBER(FIND("포함",R83))=TRUE,R83,IFERROR(ROUNDDOWN(R83*$L83*$Q83,-1),0)))) -> 0 | U83: =IF(ISNUMBER(FIND("↑",T83))=TRUE,"↑",IF(ISNUMBER(FIND("↑",T84))=TRUE,T83,IF(ISNUMBER(FIND("포함",T83))=TRUE,T83,IFERROR(ROUNDDOWN(T83*$L83*$Q83,-1),0)))) -> 0 | W83: =IF(ISNUMBER(FIND("↑",V83))=TRUE,"↑",IF(ISNUMBER(FIND("↑",V84))=TRUE,V83,IF(ISNUMBER(FIND("포함",V83))=TRUE,V83,IFERROR(ROUNDDOWN(V83*$L83*$Q83,-1),0)))) -> 0 | X83: =MAX(R83,T83,V83) -> 0 | Y83: =MIN(R83,T83,V83) -> 0 | Z83: =X83/Y83 -> #DIV/0! | AD83: =IF(ISNUMBER(FIND("↑",R83))=TRUE,"↑",IF(ISNUMBER(FIND("포함",R83))=TRUE,R83,IF(ISNUMBER(FIND("↑",R84))=TRUE,"일괄",IFERROR(AVERAGE(R83,T83,V83),0)))) -> 0 | AE83: =IF(ISNUMBER(FIND("↑",R83))=TRUE,"↑",IF(ISNUMBER(FIND("포함",R83))=TRUE,R83,IF(ISNUMBER(FIND("↑",R84))=TRUE,IFERROR(ROUNDDOWN(IF(V83="",AVERAGEA(U83,S83),AVERAGEA(S83,U83,W83)),-1),0),IFERROR(ROUNDDOWN(AD83*L83*Q83,-1),0)))) -> 0
A84: 80 | B84: 서구 | C84: 서대신동3가 | D84: 31-88,31-368 | E84: 31-88,31-474 | F84: 생강나무 | G84: H4m, R15㎝ | L84: 4 | M84: 주 | N84: 1/1 | O84: =IF(N84="1","1",LEFT(N84,FIND("/",N84)-1)) -> 1 | P84: =IF(N84="1","1",RIGHT(N84,LEN(N84)-FIND("/",N84))) -> 1 | Q84: =O84/P84 -> 1 | S84: =IF(ISNUMBER(FIND("↑",R84))=TRUE,"↑",IF(ISNUMBER(FIND("↑",R85))=TRUE,R84,IF(ISNUMBER(FIND("포함",R84))=TRUE,R84,IFERROR(ROUNDDOWN(R84*$L84*$Q84,-1),0)))) -> 0 | U84: =IF(ISNUMBER(FIND("↑",T84))=TRUE,"↑",IF(ISNUMBER(FIND("↑",T85))=TRUE,T84,IF(ISNUMBER(FIND("포함",T84))=TRUE,T84,IFERROR(ROUNDDOWN(T84*$L84*$Q84,-1),0)))) -> 0 | W84: =IF(ISNUMBER(FIND("↑",V84))=TRUE,"↑",IF(ISNUMBER(FIND("↑",V85))=TRUE,V84,IF(ISNUMBER(FIND("포함",V84))=TRUE,V84,IFERROR(ROUNDDOWN(V84*$L84*$Q84,-1),0)))) -> 0 | X84: =MAX(R84,T84,V84) -> 0 | Y84: =MIN(R84,T84,V84) -> 0 | Z84: =X84/Y84 -> #DIV/0! | AD84: =IF(ISNUMBER(FIND("↑",R84))=TRUE,"↑",IF(ISNUMBER(FIND("포함",R84))=TRUE,R84,IF(ISNUMBER(FIND("↑",R85))=TRUE,"일괄",IFERROR(AVERAGE(R84,T84,V84),0)))) -> 0 | AE84: =IF(ISNUMBER(FIND("↑",R84))=TRUE,"↑",IF(ISNUMBER(FIND("포함",R84))=TRUE,R84,IF(ISNUMBER(FIND("↑",R85))=TRUE,IFERROR(ROUNDDOWN(IF(V84="",AVERAGEA(U84,S84),AVERAGEA(S84,U84,W84)),-1),0),IFERROR(ROUNDDOWN(AD84*L84*Q84,-1),0)))) -> 0
A85: 81 | B85: 서구 | C85: 서대신동3가 | D85: 31-88,31-368 | E85: 31-88,31-474 | F85: 두릅나무2 | G85: H2m, R5~10㎝ | L85: 3 | M85: 주 | N85: 1/1 | O85: =IF(N85="1","1",LEFT(N85,FIND("/",N85)-1)) -> 1 | P85: =IF(N85="1","1",RIGHT(N85,LEN(N85)-FIND("/",N85))) -> 1 | Q85: =O85/P85 -> 1 | S85: =IF(ISNUMBER(FIND("↑",R85))=TRUE,"↑",IF(ISNUMBER(FIND("↑",R86))=TRUE,R85,IF(ISNUMBER(FIND("포함",R85))=TRUE,R85,IFERROR(ROUNDDOWN(R85*$L85*$Q85,-1),0)))) -> 0 | U85: =IF(ISNUMBER(FIND("↑",T85))=TRUE,"↑",IF(ISNUMBER(FIND("↑",T86))=TRUE,T85,IF(ISNUMBER(FIND("포함",T85))=TRUE,T85,IFERROR(ROUNDDOWN(T85*$L85*$Q85,-1),0)))) -> 0 | W85: =IF(ISNUMBER(FIND("↑",V85))=TRUE,"↑",IF(ISNUMBER(FIND("↑",V86))=TRUE,V85,IF(ISNUMBER(FIND("포함",V85))=TRUE,V85,IFERROR(ROUNDDOWN(V85*$L85*$Q85,-1),0)))) -> 0 | X85: =MAX(R85,T85,V85) -> 0 | Y85: =MIN(R85,T85,V85) -> 0 | Z85: =X85/Y85 -> #DIV/0! | AD85: =IF(ISNUMBER(FIND("↑",R85))=TRUE,"↑",IF(ISNUMBER(FIND("포함",R85))=TRUE,R85,IF(ISNUMBER(FIND("↑",R86))=TRUE,"일괄",IFERROR(AVERAGE(R85,T85,V85),0)))) -> 0 | AE85: =IF(ISNUMBER(FIND("↑",R85))=TRUE,"↑",IF(ISNUMBER(FIND("포함",R85))=TRUE,R85,IF(ISNUMBER(FIND("↑",R86))=TRUE,IFERROR(ROUNDDOWN(IF(V85="",AVERAGEA(U85,S85),AVERAGEA(S85,U85,W85)),-1),0),IFERROR(ROUNDDOWN(AD85*L85*Q85,-1),0)))) -> 0
A86: 82 | B86: 서구 | C86: 서대신동3가 | D86: 31-88,31-368 | E86: 31-88,31-474 | F86: 오가피나무1 | G86: 2 × 2.5m | L86: 3 | M86: 주 | N86: 1/1 | O86: =IF(N86="1","1",LEFT(N86,FIND("/",N86)-1)) -> 1 | P86: =IF(N86="1","1",RIGHT(N86,LEN(N86)-FIND("/",N86))) -> 1 | Q86: =O86/P86 -> 1 | S86: =IF(ISNUMBER(FIND("↑",R86))=TRUE,"↑",IF(ISNUMBER(FIND("↑",R87))=TRUE,R86,IF(ISNUMBER(FIND("포함",R86))=TRUE,R86,IFERROR(ROUNDDOWN(R86*$L86*$Q86,-1),0)))) -> 0 | U86: =IF(ISNUMBER(FIND("↑",T86))=TRUE,"↑",IF(ISNUMBER(FIND("↑",T87))=TRUE,T86,IF(ISNUMBER(FIND("포함",T86))=TRUE,T86,IFERROR(ROUNDDOWN(T86*$L86*$Q86,-1),0)))) -> 0 | W86: =IF(ISNUMBER(FIND("↑",V86))=TRUE,"↑",IF(ISNUMBER(FIND("↑",V87))=TRUE,V86,IF(ISNUMBER(FIND("포함",V86))=TRUE,V86,IFERROR(ROUNDDOWN(V86*$L86*$Q86,-1),0)))) -> 0 | X86: =MAX(R86,T86,V86) -> 0 | Y86: =MIN(R86,T86,V86) -> 0 | Z86: =X86/Y86 -> #DIV/0! | AD86: =IF(ISNUMBER(FIND("↑",R86))=TRUE,"↑",IF(ISNUMBER(FIND("포함",R86))=TRUE,R86,IF(ISNUMBER(FIND("↑",R87))=TRUE,"일괄",IFERROR(AVERAGE(R86,T86,V86),0)))) -> 0 | AE86: =IF(ISNUMBER(FIND("↑",R86))=TRUE,"↑",IF(ISNUMBER(FIND("포함",R86))=TRUE,R86,IF(ISNUMBER(FIND("↑",R87))=TRUE,IFERROR(ROUNDDOWN(IF(V86="",AVERAGEA(U86,S86),AVERAGEA(S86,U86,W86)),-1),0),IFERROR(ROUNDDOWN(AD86*L86*Q86,-1),0)))) -> 0
A87: 83 | B87: 서구 | C87: 서대신동3가 | D87: 31-88,31-368 | E87: 31-88,31-474 | F87: 오가피나무2 | G87: H2m, R7㎝ | L87: 1 | M87: 주 | N87: 1/1 | O87: =IF(N87="1","1",LEFT(N87,FIND("/",N87)-1)) -> 1 | P87: =IF(N87="1","1",RIGHT(N87,LEN(N87)-FIND("/",N87))) -> 1 | Q87: =O87/P87 -> 1 | S87: =IF(ISNUMBER(FIND("↑",R87))=TRUE,"↑",IF(ISNUMBER(FIND("↑",#REF!))=TRUE,R87,IF(ISNUMBER(FIND("포함",R87))=TRUE,R87,IFERROR(ROUNDDOWN(R87*$L87*$Q87,-1),0)))) -> 0 | U87: =IF(ISNUMBER(FIND("↑",T87))=TRUE,"↑",IF(ISNUMBER(FIND("↑",#REF!))=TRUE,T87,IF(ISNUMBER(FIND("포함",T87))=TRUE,T87,IFERROR(ROUNDDOWN(T87*$L87*$Q87,-1),0)))) -> 0 | W87: =IF(ISNUMBER(FIND("↑",V87))=TRUE,"↑",IF(ISNUMBER(FIND("↑",#REF!))=TRUE,V87,IF(ISNUMBER(FIND("포함",V87))=TRUE,V87,IFERROR(ROUNDDOWN(V87*$L87*$Q87,-1),0)))) -> 0 | X87: =MAX(R87,T87,V87) -> 0 | Y87: =MIN(R87,T87,V87) -> 0 | Z87: =X87/Y87 -> #DIV/0! | AD87: =IF(ISNUMBER(FIND("↑",R87))=TRUE,"↑",IF(ISNUMBER(FIND("포함",R87))=TRUE,R87,IF(ISNUMBER(FIND("↑",#REF!))=TRUE,"일괄",IFERROR(AVERAGE(R87,T87,V87),0)))) -> 0 | AE87: =IF(ISNUMBER(FIND("↑",R87))=TRUE,"↑",IF(ISNUMBER(FIND("포함",R87))=TRUE,R87,IF(ISNUMBER(FIND("↑",#REF!))=TRUE,IFERROR(ROUNDDOWN(IF(V87="",AVERAGEA(U87,S87),AVERAGEA(S87,U87,W87)),-1),0),IFERROR(ROUNDDOWN(AD87*L87*Q87,-1),0)))) -> 0
A88: 84 | B88: 서구 | C88: 서대신동3가 | D88: 31-111 | E88: 31-473 | F88: 울타리2 | G88: 철파이프 철망, H1.6m (31-92지번 쪽) | L88: 5 | M88: m | N88: 1/1 | O88: =IF(N88="1","1",LEFT(N88,FIND("/",N88)-1)) -> 1 | P88: =IF(N88="1","1",RIGHT(N88,LEN(N88)-FIND("/",N88))) -> 1 | Q88: =O88/P88 -> 1 | S88: =IF(ISNUMBER(FIND("↑",R88))=TRUE,"↑",IF(ISNUMBER(FIND("↑",R89))=TRUE,R88,IF(ISNUMBER(FIND("포함",R88))=TRUE,R88,IFERROR(ROUNDDOWN(R88*$L88*$Q88,-1),0)))) -> 0 | U88: =IF(ISNUMBER(FIND("↑",T88))=TRUE,"↑",IF(ISNUMBER(FIND("↑",T89))=TRUE,T88,IF(ISNUMBER(FIND("포함",T88))=TRUE,T88,IFERROR(ROUNDDOWN(T88*$L88*$Q88,-1),0)))) -> 0 | W88: =IF(ISNUMBER(FIND("↑",V88))=TRUE,"↑",IF(ISNUMBER(FIND("↑",V89))=TRUE,V88,IF(ISNUMBER(FIND("포함",V88))=TRUE,V88,IFERROR(ROUNDDOWN(V88*$L88*$Q88,-1),0)))) -> 0 | X88: =MAX(R88,T88,V88) -> 0 | Y88: =MIN(R88,T88,V88) -> 0 | Z88: =X88/Y88 -> #DIV/0! | AD88: =IF(ISNUMBER(FIND("↑",R88))=TRUE,"↑",IF(ISNUMBER(FIND("포함",R88))=TRUE,R88,IF(ISNUMBER(FIND("↑",R89))=TRUE,"일괄",IFERROR(AVERAGE(R88,T88,V88),0)))) -> 0 | AE88: =IF(ISNUMBER(FIND("↑",R88))=TRUE,"↑",IF(ISNUMBER(FIND("포함",R88))=TRUE,R88,IF(ISNUMBER(FIND("↑",R89))=TRUE,IFERROR(ROUNDDOWN(IF(V88="",AVERAGEA(U88,S88),AVERAGEA(S88,U88,W88)),-1),0),IFERROR(ROUNDDOWN(AD88*L88*Q88,-1),0)))) -> 0
A89: 85 | B89: 서구 | C89: 서대신동3가 | D89: 31-111 | E89: 31-473 | F89: 창고 | G89: 목조,천막지붕, 2×1.2, H1.8m | L89: 1 | M89: 식 | N89: 1/1 | O89: =IF(N89="1","1",LEFT(N89,FIND("/",N89)-1)) -> 1 | P89: =IF(N89="1","1",RIGHT(N89,LEN(N89)-FIND("/",N89))) -> 1 | Q89: =O89/P89 -> 1 | S89: =IF(ISNUMBER(FIND("↑",R89))=TRUE,"↑",IF(ISNUMBER(FIND("↑",R90))=TRUE,R89,IF(ISNUMBER(FIND("포함",R89))=TRUE,R89,IFERROR(ROUNDDOWN(R89*$L89*$Q89,-1),0)))) -> 0 | U89: =IF(ISNUMBER(FIND("↑",T89))=TRUE,"↑",IF(ISNUMBER(FIND("↑",T90))=TRUE,T89,IF(ISNUMBER(FIND("포함",T89))=TRUE,T89,IFERROR(ROUNDDOWN(T89*$L89*$Q89,-1),0)))) -> 0 | W89: =IF(ISNUMBER(FIND("↑",V89))=TRUE,"↑",IF(ISNUMBER(FIND("↑",V90))=TRUE,V89,IF(ISNUMBER(FIND("포함",V89))=TRUE,V89,IFERROR(ROUNDDOWN(V89*$L89*$Q89,-1),0)))) -> 0 | X89: =MAX(R89,T89,V89) -> 0 | Y89: =MIN(R89,T89,V89) -> 0 | Z89: =X89/Y89 -> #DIV/0! | AD89: =IF(ISNUMBER(FIND("↑",R89))=TRUE,"↑",IF(ISNUMBER(FIND("포함",R89))=TRUE,R89,IF(ISNUMBER(FIND("↑",R90))=TRUE,"일괄",IFERROR(AVERAGE(R89,T89,V89),0)))) -> 0 | AE89: =IF(ISNUMBER(FIND("↑",R89))=TRUE,"↑",IF(ISNUMBER(FIND("포함",R89))=TRUE,R89,IF(ISNUMBER(FIND("↑",R90))=TRUE,IFERROR(ROUNDDOWN(IF(V89="",AVERAGEA(U89,S89),AVERAGEA(S89,U89,W89)),-1),0),IFERROR(ROUNDDOWN(AD89*L89*Q89,-1),0)))) -> 0
A90: 86 | B90: 서구 | C90: 서대신동3가 | D90: 31-111 | E90: 31-473 | F90: 복숭아나무2 | G90: H2m, R5㎝, (31-92 쪽) | L90: 1 | M90: 주 | N90: 1/1 | O90: =IF(N90="1","1",LEFT(N90,FIND("/",N90)-1)) -> 1 | P90: =IF(N90="1","1",RIGHT(N90,LEN(N90)-FIND("/",N90))) -> 1 | Q90: =O90/P90 -> 1 | S90: =IF(ISNUMBER(FIND("↑",R90))=TRUE,"↑",IF(ISNUMBER(FIND("↑",R91))=TRUE,R90,IF(ISNUMBER(FIND("포함",R90))=TRUE,R90,IFERROR(ROUNDDOWN(R90*$L90*$Q90,-1),0)))) -> 0 | U90: =IF(ISNUMBER(FIND("↑",T90))=TRUE,"↑",IF(ISNUMBER(FIND("↑",T91))=TRUE,T90,IF(ISNUMBER(FIND("포함",T90))=TRUE,T90,IFERROR(ROUNDDOWN(T90*$L90*$Q90,-1),0)))) -> 0 | W90: =IF(ISNUMBER(FIND("↑",V90))=TRUE,"↑",IF(ISNUMBER(FIND("↑",V91))=TRUE,V90,IF(ISNUMBER(FIND("포함",V90))=TRUE,V90,IFERROR(ROUNDDOWN(V90*$L90*$Q90,-1),0)))) -> 0 | X90: =MAX(R90,T90,V90) -> 0 | Y90: =MIN(R90,T90,V90) -> 0 | Z90: =X90/Y90 -> #DIV/0! | AD90: =IF(ISNUMBER(FIND("↑",R90))=TRUE,"↑",IF(ISNUMBER(FIND("포함",R90))=TRUE,R90,IF(ISNUMBER(FIND("↑",R91))=TRUE,"일괄",IFERROR(AVERAGE(R90,T90,V90),0)))) -> 0 | AE90: =IF(ISNUMBER(FIND("↑",R90))=TRUE,"↑",IF(ISNUMBER(FIND("포함",R90))=TRUE,R90,IF(ISNUMBER(FIND("↑",R91))=TRUE,IFERROR(ROUNDDOWN(IF(V90="",AVERAGEA(U90,S90),AVERAGEA(S90,U90,W90)),-1),0),IFERROR(ROUNDDOWN(AD90*L90*Q90,-1),0)))) -> 0
A91: 87 | B91: 서구 | C91: 서대신동3가 | D91: 31-111 | E91: 31-473 | F91: 오가피나무3 | G91: H1m, W2m, (31-92 쪽) | L91: 1 | M91: 주 | N91: 1/1 | O91: =IF(N91="1","1",LEFT(N91,FIND("/",N91)-1)) -> 1 | P91: =IF(N91="1","1",RIGHT(N91,LEN(N91)-FIND("/",N91))) -> 1 | Q91: =O91/P91 -> 1 | S91: =IF(ISNUMBER(FIND("↑",R91))=TRUE,"↑",IF(ISNUMBER(FIND("↑",R92))=TRUE,R91,IF(ISNUMBER(FIND("포함",R91))=TRUE,R91,IFERROR(ROUNDDOWN(R91*$L91*$Q91,-1),0)))) -> 0 | U91: =IF(ISNUMBER(FIND("↑",T91))=TRUE,"↑",IF(ISNUMBER(FIND("↑",T92))=TRUE,T91,IF(ISNUMBER(FIND("포함",T91))=TRUE,T91,IFERROR(ROUNDDOWN(T91*$L91*$Q91,-1),0)))) -> 0 | W91: =IF(ISNUMBER(FIND("↑",V91))=TRUE,"↑",IF(ISNUMBER(FIND("↑",V92))=TRUE,V91,IF(ISNUMBER(FIND("포함",V91))=TRUE,V91,IFERROR(ROUNDDOWN(V91*$L91*$Q91,-1),0)))) -> 0 | X91: =MAX(R91,T91,V91) -> 0 | Y91: =MIN(R91,T91,V91) -> 0 | Z91: =X91/Y91 -> #DIV/0! | AD91: =IF(ISNUMBER(FIND("↑",R91))=TRUE,"↑",IF(ISNUMBER(FIND("포함",R91))=TRUE,R91,IF(ISNUMBER(FIND("↑",R92))=TRUE,"일괄",IFERROR(AVERAGE(R91,T91,V91),0)))) -> 0 | AE91: =IF(ISNUMBER(FIND("↑",R91))=TRUE,"↑",IF(ISNUMBER(FIND("포함",R91))=TRUE,R91,IF(ISNUMBER(FIND("↑",R92))=TRUE,IFERROR(ROUNDDOWN(IF(V91="",AVERAGEA(U91,S91),AVERAGEA(S91,U91,W91)),-1),0),IFERROR(ROUNDDOWN(AD91*L91*Q91,-1),0)))) -> 0
A92: 88 | B92: 서구 | C92: 서대신동3가 | D92: 31-111 | E92: 31-473 | F92: 피마자나무 | G92: H2.5m, R5㎝, (창고 뒷편) | L92: 15 | M92: 주 | N92: 1/1 | O92: =IF(N92="1","1",LEFT(N92,FIND("/",N92)-1)) -> 1 | P92: =IF(N92="1","1",RIGHT(N92,LEN(N92)-FIND("/",N92))) -> 1 | Q92: =O92/P92 -> 1 | S92: =IF(ISNUMBER(FIND("↑",R92))=TRUE,"↑",IF(ISNUMBER(FIND("↑",R93))=TRUE,R92,IF(ISNUMBER(FIND("포함",R92))=TRUE,R92,IFERROR(ROUNDDOWN(R92*$L92*$Q92,-1),0)))) -> 0 | U92: =IF(ISNUMBER(FIND("↑",T92))=TRUE,"↑",IF(ISNUMBER(FIND("↑",T93))=TRUE,T92,IF(ISNUMBER(FIND("포함",T92))=TRUE,T92,IFERROR(ROUNDDOWN(T92*$L92*$Q92,-1),0)))) -> 0 | W92: =IF(ISNUMBER(FIND("↑",V92))=TRUE,"↑",IF(ISNUMBER(FIND("↑",V93))=TRUE,V92,IF(ISNUMBER(FIND("포함",V92))=TRUE,V92,IFERROR(ROUNDDOWN(V92*$L92*$Q92,-1),0)))) -> 0 | X92: =MAX(R92,T92,V92) -> 0 | Y92: =MIN(R92,T92,V92) -> 0 | Z92: =X92/Y92 -> #DIV/0! | AD92: =IF(ISNUMBER(FIND("↑",R92))=TRUE,"↑",IF(ISNUMBER(FIND("포함",R92))=TRUE,R92,IF(ISNUMBER(FIND("↑",R93))=TRUE,"일괄",IFERROR(AVERAGE(R92,T92,V92),0)))) -> 0 | AE92: =IF(ISNUMBER(FIND("↑",R92))=TRUE,"↑",IF(ISNUMBER(FIND("포함",R92))=TRUE,R92,IF(ISNUMBER(FIND("↑",R93))=TRUE,IFERROR(ROUNDDOWN(IF(V92="",AVERAGEA(U92,S92),AVERAGEA(S92,U92,W92)),-1),0),IFERROR(ROUNDDOWN(AD92*L92*Q92,-1),0)))) -> 0
A93: 89 | B93: 서구 | C93: 서대신동3가 | D93: 31-111 | E93: 31-473 | F93: 제피나무 | G93: H1.8m, R5㎝, (창고 우측) | L93: 1 | M93: 주 | N93: 1/1 | O93: =IF(N93="1","1",LEFT(N93,FIND("/",N93)-1)) -> 1 | P93: =IF(N93="1","1",RIGHT(N93,LEN(N93)-FIND("/",N93))) -> 1 | Q93: =O93/P93 -> 1 | S93: =IF(ISNUMBER(FIND("↑",R93))=TRUE,"↑",IF(ISNUMBER(FIND("↑",R94))=TRUE,R93,IF(ISNUMBER(FIND("포함",R93))=TRUE,R93,IFERROR(ROUNDDOWN(R93*$L93*$Q93,-1),0)))) -> 0 | U93: =IF(ISNUMBER(FIND("↑",T93))=TRUE,"↑",IF(ISNUMBER(FIND("↑",T94))=TRUE,T93,IF(ISNUMBER(FIND("포함",T93))=TRUE,T93,IFERROR(ROUNDDOWN(T93*$L93*$Q93,-1),0)))) -> 0 | W93: =IF(ISNUMBER(FIND("↑",V93))=TRUE,"↑",IF(ISNUMBER(FIND("↑",V94))=TRUE,V93,IF(ISNUMBER(FIND("포함",V93))=TRUE,V93,IFERROR(ROUNDDOWN(V93*$L93*$Q93,-1),0)))) -> 0 | X93: =MAX(R93,T93,V93) -> 0 | Y93: =MIN(R93,T93,V93) -> 0 | Z93: =X93/Y93 -> #DIV/0! | AD93: =IF(ISNUMBER(FIND("↑",R93))=TRUE,"↑",IF(ISNUMBER(FIND("포함",R93))=TRUE,R93,IF(ISNUMBER(FIND("↑",R94))=TRUE,"일괄",IFERROR(AVERAGE(R93,T93,V93),0)))) -> 0 | AE93: =IF(ISNUMBER(FIND("↑",R93))=TRUE,"↑",IF(ISNUMBER(FIND("포함",R93))=TRUE,R93,IF(ISNUMBER(FIND("↑",R94))=TRUE,IFERROR(ROUNDDOWN(IF(V93="",AVERAGEA(U93,S93),AVERAGEA(S93,U93,W93)),-1),0),IFERROR(ROUNDDOWN(AD93*L93*Q93,-1),0)))) -> 0
A94: 90 | B94: 서구 | C94: 서대신동3가 | D94: 31-111 | E94: 31-473 | F94: 돼지감자 | G94: H0.6m, W1.2m, (창고 우측) | L94: 2 | M94: 주 | N94: 1/1 | O94: =IF(N94="1","1",LEFT(N94,FIND("/",N94)-1)) -> 1 | P94: =IF(N94="1","1",RIGHT(N94,LEN(N94)-FIND("/",N94))) -> 1 | Q94: =O94/P94 -> 1 | S94: =IF(ISNUMBER(FIND("↑",R94))=TRUE,"↑",IF(ISNUMBER(FIND("↑",R95))=TRUE,R94,IF(ISNUMBER(FIND("포함",R94))=TRUE,R94,IFERROR(ROUNDDOWN(R94*$L94*$Q94,-1),0)))) -> 0 | U94: =IF(ISNUMBER(FIND("↑",T94))=TRUE,"↑",IF(ISNUMBER(FIND("↑",T95))=TRUE,T94,IF(ISNUMBER(FIND("포함",T94))=TRUE,T94,IFERROR(ROUNDDOWN(T94*$L94*$Q94,-1),0)))) -> 0 | W94: =IF(ISNUMBER(FIND("↑",V94))=TRUE,"↑",IF(ISNUMBER(FIND("↑",V95))=TRUE,V94,IF(ISNUMBER(FIND("포함",V94))=TRUE,V94,IFERROR(ROUNDDOWN(V94*$L94*$Q94,-1),0)))) -> 0 | X94: =MAX(R94,T94,V94) -> 0 | Y94: =MIN(R94,T94,V94) -> 0 | Z94: =X94/Y94 -> #DIV/0! | AD94: =IF(ISNUMBER(FIND("↑",R94))=TRUE,"↑",IF(ISNUMBER(FIND("포함",R94))=TRUE,R94,IF(ISNUMBER(FIND("↑",R95))=TRUE,"일괄",IFERROR(AVERAGE(R94,T94,V94),0)))) -> 0 | AE94: =IF(ISNUMBER(FIND("↑",R94))=TRUE,"↑",IF(ISNUMBER(FIND("포함",R94))=TRUE,R94,IF(ISNUMBER(FIND("↑",R95))=TRUE,IFERROR(ROUNDDOWN(IF(V94="",AVERAGEA(U94,S94),AVERAGEA(S94,U94,W94)),-1),0),IFERROR(ROUNDDOWN(AD94*L94*Q94,-1),0)))) -> 0
A95: 91 | B95: 서구 | C95: 서대신동3가 | D95: 31-86,31-111 | E95: 31-467,31-473 | F95: 물탱크2 | G95: (농막 우측편) | L95: 1 | M95: 식 | N95: 1/1 | O95: =IF(N95="1","1",LEFT(N95,FIND("/",N95)-1)) -> 1 | P95: =IF(N95="1","1",RIGHT(N95,LEN(N95)-FIND("/",N95))) -> 1 | Q95: =O95/P95 -> 1 | S95: =IF(ISNUMBER(FIND("↑",R95))=TRUE,"↑",IF(ISNUMBER(FIND("↑",R96))=TRUE,R95,IF(ISNUMBER(FIND("포함",R95))=TRUE,R95,IFERROR(ROUNDDOWN(R95*$L95*$Q95,-1),0)))) -> 0 | U95: =IF(ISNUMBER(FIND("↑",T95))=TRUE,"↑",IF(ISNUMBER(FIND("↑",T96))=TRUE,T95,IF(ISNUMBER(FIND("포함",T95))=TRUE,T95,IFERROR(ROUNDDOWN(T95*$L95*$Q95,-1),0)))) -> 0 | W95: =IF(ISNUMBER(FIND("↑",V95))=TRUE,"↑",IF(ISNUMBER(FIND("↑",V96))=TRUE,V95,IF(ISNUMBER(FIND("포함",V95))=TRUE,V95,IFERROR(ROUNDDOWN(V95*$L95*$Q95,-1),0)))) -> 0 | X95: =MAX(R95,T95,V95) -> 0 | Y95: =MIN(R95,T95,V95) -> 0 | Z95: =X95/Y95 -> #DIV/0! | AD95: =IF(ISNUMBER(FIND("↑",R95))=TRUE,"↑",IF(ISNUMBER(FIND("포함",R95))=TRUE,R95,IF(ISNUMBER(FIND("↑",R96))=TRUE,"일괄",IFERROR(AVERAGE(R95,T95,V95),0)))) -> 0 | AE95: =IF(ISNUMBER(FIND("↑",R95))=TRUE,"↑",IF(ISNUMBER(FIND("포함",R95))=TRUE,R95,IF(ISNUMBER(FIND("↑",R96))=TRUE,IFERROR(ROUNDDOWN(IF(V95="",AVERAGEA(U95,S95),AVERAGEA(S95,U95,W95)),-1),0),IFERROR(ROUNDDOWN(AD95*L95*Q95,-1),0)))) -> 0
A96: 92 | B96: 서구 | C96: 서대신동3가 | D96: 31-86,31-111 | E96: 31-467,31-473 | F96: 농막 | G96: 목조,목재지붕, 2.7×4.2, H1.9m, 바닥(콘크리트)등 시설일체 포함 | L96: 11.4 | M96: ㎡ | N96: 1/1 | O96: =IF(N96="1","1",LEFT(N96,FIND("/",N96)-1)) -> 1 | P96: =IF(N96="1","1",RIGHT(N96,LEN(N96)-FIND("/",N96))) -> 1 | Q96: =O96/P96 -> 1 | S96: =IF(ISNUMBER(FIND("↑",R96))=TRUE,"↑",IF(ISNUMBER(FIND("↑",R97))=TRUE,R96,IF(ISNUMBER(FIND("포함",R96))=TRUE,R96,IFERROR(ROUNDDOWN(R96*$L96*$Q96,-1),0)))) -> 0 | U96: =IF(ISNUMBER(FIND("↑",T96))=TRUE,"↑",IF(ISNUMBER(FIND("↑",T97))=TRUE,T96,IF(ISNUMBER(FIND("포함",T96))=TRUE,T96,IFERROR(ROUNDDOWN(T96*$L96*$Q96,-1),0)))) -> 0 | W96: =IF(ISNUMBER(FIND("↑",V96))=TRUE,"↑",IF(ISNUMBER(FIND("↑",V97))=TRUE,V96,IF(ISNUMBER(FIND("포함",V96))=TRUE,V96,IFERROR(ROUNDDOWN(V96*$L96*$Q96,-1),0)))) -> 0 | X96: =MAX(R96,T96,V96) -> 0 | Y96: =MIN(R96,T96,V96) -> 0 | Z96: =X96/Y96 -> #DIV/0! | AD96: =IF(ISNUMBER(FIND("↑",R96))=TRUE,"↑",IF(ISNUMBER(FIND("포함",R96))=TRUE,R96,IF(ISNUMBER(FIND("↑",R97))=TRUE,"일괄",IFERROR(AVERAGE(R96,T96,V96),0)))) -> 0 | AE96: =IF(ISNUMBER(FIND("↑",R96))=TRUE,"↑",IF(ISNUMBER(FIND("포함",R96))=TRUE,R96,IF(ISNUMBER(FIND("↑",R97))=TRUE,IFERROR(ROUNDDOWN(IF(V96="",AVERAGEA(U96,S96),AVERAGEA(S96,U96,W96)),-1),0),IFERROR(ROUNDDOWN(AD96*L96*Q96,-1),0)))) -> 0
A97: 93 | B97: 서구 | C97: 서대신동3가 | D97: 31-86,31-111 | E97: 31-467,31-473 | F97: 대문 | G97: 목재 철망, W1m, H1.2, (농막 좌측편) | L97: 1 | M97: 식 | N97: 1/1 | O97: =IF(N97="1","1",LEFT(N97,FIND("/",N97)-1)) -> 1 | P97: =IF(N97="1","1",RIGHT(N97,LEN(N97)-FIND("/",N97))) -> 1 | Q97: =O97/P97 -> 1 | S97: =IF(ISNUMBER(FIND("↑",R97))=TRUE,"↑",IF(ISNUMBER(FIND("↑",R98))=TRUE,R97,IF(ISNUMBER(FIND("포함",R97))=TRUE,R97,IFERROR(ROUNDDOWN(R97*$L97*$Q97,-1),0)))) -> 0 | U97: =IF(ISNUMBER(FIND("↑",T97))=TRUE,"↑",IF(ISNUMBER(FIND("↑",T98))=TRUE,T97,IF(ISNUMBER(FIND("포함",T97))=TRUE,T97,IFERROR(ROUNDDOWN(T97*$L97*$Q97,-1),0)))) -> 0 | W97: =IF(ISNUMBER(FIND("↑",V97))=TRUE,"↑",IF(ISNUMBER(FIND("↑",V98))=TRUE,V97,IF(ISNUMBER(FIND("포함",V97))=TRUE,V97,IFERROR(ROUNDDOWN(V97*$L97*$Q97,-1),0)))) -> 0 | X97: =MAX(R97,T97,V97) -> 0 | Y97: =MIN(R97,T97,V97) -> 0 | Z97: =X97/Y97 -> #DIV/0! | AD97: =IF(ISNUMBER(FIND("↑",R97))=TRUE,"↑",IF(ISNUMBER(FIND("포함",R97))=TRUE,R97,IF(ISNUMBER(FIND("↑",R98))=TRUE,"일괄",IFERROR(AVERAGE(R97,T97,V97),0)))) -> 0 | AE97: =IF(ISNUMBER(FIND("↑",R97))=TRUE,"↑",IF(ISNUMBER(FIND("포함",R97))=TRUE,R97,IF(ISNUMBER(FIND("↑",R98))=TRUE,IFERROR(ROUNDDOWN(IF(V97="",AVERAGEA(U97,S97),AVERAGEA(S97,U97,W97)),-1),0),IFERROR(ROUNDDOWN(AD97*L97*Q97,-1),0)))) -> 0
A98: 94 | B98: 서구 | C98: 서대신동3가 | D98: 31-86,31-111 | E98: 31-467,31-473 | F98: 대추나무2 | G98: H2.5m, R10㎝, (농막 우측편) | L98: 1 | M98: 주 | N98: 1/1 | O98: =IF(N98="1","1",LEFT(N98,FIND("/",N98)-1)) -> 1 | P98: =IF(N98="1","1",RIGHT(N98,LEN(N98)-FIND("/",N98))) -> 1 | Q98: =O98/P98 -> 1 | S98: =IF(ISNUMBER(FIND("↑",R98))=TRUE,"↑",IF(ISNUMBER(FIND("↑",R99))=TRUE,R98,IF(ISNUMBER(FIND("포함",R98))=TRUE,R98,IFERROR(ROUNDDOWN(R98*$L98*$Q98,-1),0)))) -> 0 | U98: =IF(ISNUMBER(FIND("↑",T98))=TRUE,"↑",IF(ISNUMBER(FIND("↑",T99))=TRUE,T98,IF(ISNUMBER(FIND("포함",T98))=TRUE,T98,IFERROR(ROUNDDOWN(T98*$L98*$Q98,-1),0)))) -> 0 | W98: =IF(ISNUMBER(FIND("↑",V98))=TRUE,"↑",IF(ISNUMBER(FIND("↑",V99))=TRUE,V98,IF(ISNUMBER(FIND("포함",V98))=TRUE,V98,IFERROR(ROUNDDOWN(V98*$L98*$Q98,-1),0)))) -> 0 | X98: =MAX(R98,T98,V98) -> 0 | Y98: =MIN(R98,T98,V98) -> 0 | Z98: =X98/Y98 -> #DIV/0! | AD98: =IF(ISNUMBER(FIND("↑",R98))=TRUE,"↑",IF(ISNUMBER(FIND("포함",R98))=TRUE,R98,IF(ISNUMBER(FIND("↑",R99))=TRUE,"일괄",IFERROR(AVERAGE(R98,T98,V98),0)))) -> 0 | AE98: =IF(ISNUMBER(FIND("↑",R98))=TRUE,"↑",IF(ISNUMBER(FIND("포함",R98))=TRUE,R98,IF(ISNUMBER(FIND("↑",R99))=TRUE,IFERROR(ROUNDDOWN(IF(V98="",AVERAGEA(U98,S98),AVERAGEA(S98,U98,W98)),-1),0),IFERROR(ROUNDDOWN(AD98*L98*Q98,-1),0)))) -> 0
A99: 95 | B99: 서구 | C99: 서대신동3가 | D99: 31-86,31-111 | E99: 31-467,31-473 | F99: 배나무 | G99: H2.2m, R10㎝, (농막 좌측편) | L99: 1 | M99: 주 | N99: 1/1 | O99: =IF(N99="1","1",LEFT(N99,FIND("/",N99)-1)) -> 1 | P99: =IF(N99="1","1",RIGHT(N99,LEN(N99)-FIND("/",N99))) -> 1 | Q99: =O99/P99 -> 1 | S99: =IF(ISNUMBER(FIND("↑",R99))=TRUE,"↑",IF(ISNUMBER(FIND("↑",R100))=TRUE,R99,IF(ISNUMBER(FIND("포함",R99))=TRUE,R99,IFERROR(ROUNDDOWN(R99*$L99*$Q99,-1),0)))) -> 0 | U99: =IF(ISNUMBER(FIND("↑",T99))=TRUE,"↑",IF(ISNUMBER(FIND("↑",T100))=TRUE,T99,IF(ISNUMBER(FIND("포함",T99))=TRUE,T99,IFERROR(ROUNDDOWN(T99*$L99*$Q99,-1),0)))) -> 0 | W99: =IF(ISNUMBER(FIND("↑",V99))=TRUE,"↑",IF(ISNUMBER(FIND("↑",V100))=TRUE,V99,IF(ISNUMBER(FIND("포함",V99))=TRUE,V99,IFERROR(ROUNDDOWN(V99*$L99*$Q99,-1),0)))) -> 0 | X99: =MAX(R99,T99,V99) -> 0 | Y99: =MIN(R99,T99,V99) -> 0 | Z99: =X99/Y99 -> #DIV/0! | AD99: =IF(ISNUMBER(FIND("↑",R99))=TRUE,"↑",IF(ISNUMBER(FIND("포함",R99))=TRUE,R99,IF(ISNUMBER(FIND("↑",R100))=TRUE,"일괄",IFERROR(AVERAGE(R99,T99,V99),0)))) -> 0 | AE99: =IF(ISNUMBER(FIND("↑",R99))=TRUE,"↑",IF(ISNUMBER(FIND("포함",R99))=TRUE,R99,IF(ISNUMBER(FIND("↑",R100))=TRUE,IFERROR(ROUNDDOWN(IF(V99="",AVERAGEA(U99,S99),AVERAGEA(S99,U99,W99)),-1),0),IFERROR(ROUNDDOWN(AD99*L99*Q99,-1),0)))) -> 0
A100: 96 | B100: 서구 | C100: 서대신동3가 | D100: 31-86,31-111 | E100: 31-467,31-473 | F100: 사과나무 | G100: H2m, R15㎝, (농막 좌측편) | L100: 1 | M100: 주 | N100: 1/1 | O100: =IF(N100="1","1",LEFT(N100,FIND("/",N100)-1)) -> 1 | P100: =IF(N100="1","1",RIGHT(N100,LEN(N100)-FIND("/",N100))) -> 1 | Q100: =O100/P100 -> 1 | S100: =IF(ISNUMBER(FIND("↑",R100))=TRUE,"↑",IF(ISNUMBER(FIND("↑",#REF!))=TRUE,R100,IF(ISNUMBER(FIND("포함",R100))=TRUE,R100,IFERROR(ROUNDDOWN(R100*$L100*$Q100,-1),0)))) -> 0 | U100: =IF(ISNUMBER(FIND("↑",T100))=TRUE,"↑",IF(ISNUMBER(FIND("↑",#REF!))=TRUE,T100,IF(ISNUMBER(FIND("포함",T100))=TRUE,T100,IFERROR(ROUNDDOWN(T100*$L100*$Q100,-1),0)))) -> 0 | W100: =IF(ISNUMBER(FIND("↑",V100))=TRUE,"↑",IF(ISNUMBER(FIND("↑",#REF!))=TRUE,V100,IF(ISNUMBER(FIND("포함",V100))=TRUE,V100,IFERROR(ROUNDDOWN(V100*$L100*$Q100,-1),0)))) -> 0 | X100: =MAX(R100,T100,V100) -> 0 | Y100: =MIN(R100,T100,V100) -> 0 | Z100: =X100/Y100 -> #DIV/0! | AD100: =IF(ISNUMBER(FIND("↑",R100))=TRUE,"↑",IF(ISNUMBER(FIND("포함",R100))=TRUE,R100,IF(ISNUMBER(FIND("↑",#REF!))=TRUE,"일괄",IFERROR(AVERAGE(R100,T100,V100),0)))) -> 0 | AE100: =IF(ISNUMBER(FIND("↑",R100))=TRUE,"↑",IF(ISNUMBER(FIND("포함",R100))=TRUE,R100,IF(ISNUMBER(FIND("↑",#REF!))=TRUE,IFERROR(ROUNDDOWN(IF(V100="",AVERAGEA(U100,S100),AVERAGEA(S100,U100,W100)),-1),0),IFERROR(ROUNDDOWN(AD100*L100*Q100,-1),0)))) -> 0
...
