Workbook
Name _: "="
Name _??±?????³?¿ª: #REF!
Name _??±?????³?¿ª: #REF!
Name __: #REF!
Name __: #REF!
Name __?Crite: #REF!
Name __?Crite: #REF!
Name __?Crite_18: #REF!
Name __?Crite_6: #REF!
Name __?Crite_7: #REF!
Name __?Crite_8: #REF!
Name __?Criteria: #REF!
Name __?Criteria_18: #REF!
Name __?Criteria_6: #REF!
Name __?Criteria_7: #REF!
Name __?Criteria_8: #REF!
Name ___: #REF!
Name ____: #REF!
Name _____: #REF!
Name ______: #REF!
Name _______: #REF!
Name __________: #REF!
Name _____________0: #REF!
Name _____________11: #REF!
Name _____________12: #REF!
Name ____________DOG1: #REF!
Name ____________DOG2: #REF!
Name ____________DOG3: #REF!
Name ____________DOG4: #REF!
Name ____________PI48: #REF!
Name ____________PI60: #REF!
Name ____________RO110: #REF!
Name ____________RO22: #REF!
Name ____________RO35: #REF!
Name ____________RO60: #REF!
Name ____________RO80: #REF!
Name ____________TON1: #REF!
Name ____________TON2: #REF!
Name ____________WW2: #REF!
Name ____________WW6: #REF!
Name ___________DOG1: #REF!
Name ___________DOG2: #REF!
Name ___________DOG3: #REF!
Name ___________DOG4: #REF!
Name ___________PI48: #REF!
Name ___________PI60: #REF!
Name ___________RO110: #REF!
Name ___________RO22: #REF!
Name ___________RO35: #REF!
Name ___________RO60: #REF!
Name ___________RO80: #REF!
Name ___________TON1: #REF!
Name ___________TON2: #REF!
Name ___________WW2: #REF!
Name ___________WW6: #REF!
Name __________0: #REF!
Name __________11: #REF!
Name __________12: #REF!
Name __________DOG1: #REF!
Name __________DOG2: #REF!

Sheet 원가계산서
B1: 공 사 원 가 계 산 서
B2: 공사명 : 부산광역시시의회 대회의실 기본 및 실시설계용역리모델링 전기공사
B3: 비 목 | E3: 금 액 | F3: 구 성 비 | G3: 비 고
A4: A1 | B4: 순 공 사 원 가 | C4: 재 료 비 | D4: 직 접 재 료 비 | E4: =공종별집계표!F5 -> 0
A5: A2 | D5: 간 접 재 료 비 | E5: 0
A6: A3 | D6: 작업설, 부산물(△) | E6: 0
A7: AS | D7: [ 소 계 ] | E7: =TRUNC(SUM(E4:E6), 0) -> 0
A8: B1 | C8: 노 무 비 | D8: 직 접 노 무 비 | E8: =공종별집계표!H5 -> 0
A9: B2 | D9: 간 접 노 무 비 | E9: =TRUNC(E8*0.126, 0) -> 0 | F9: 직접노무비 * 12.6%
A10: BS | D10: [ 소 계 ] | E10: =TRUNC(SUM(E8:E9), 0) -> 0
A11: C2 | C11: 경 비 | D11: 경 비 | E11: =공종별집계표!J5 -> 0
A12: C4 | D12: 산 재 보 험 료 | E12: =TRUNC(E10*0.0356, 0) -> 0 | F12: 노무비 * 3.56%
A13: C5 | D13: 고 용 보 험 료 | E13: =TRUNC(E10*0.0101, 0) -> 0 | F13: 노무비 * 1.01%
A14: C6 | D14: 국민 건강 보험료 | E14: =TRUNC(E8*0.03595, 0) -> 0 | F14: 직접노무비 * 3.595%
A15: C7 | D15: 국민 연금 보험료 | E15: =TRUNC(E8*0.0475, 0) -> 0 | F15: 직접노무비 * 4.75%
A16: C8 | D16: 퇴직 공제 부금비 | E16: =TRUNC(E8*0.023, 0) -> 0 | F16: 직접노무비 * 2.3%
A17: CA | D17: 산업안전보건관리비 | E17: =TRUNC(((E7+E8)*0.0311)*1.2, 0) -> 0 | F17: ((재료비+직노) * 3.11% ) * 1.2 | J17: =TRUNC((E7+E8+E27/1.1)*0.0311, 0) -> 0
A18: CB | D18: 노인장기요양보험료 | E18: =TRUNC(E14*0.1314, 0) -> 0 | F18: 건강보험료 * 13.14% | J18: =TRUNC(((E7+E8)*0.0311)*1.2, 0) -> 0
A19: CG | D19: 기 타 경 비 | E19: =TRUNC((E7+E10)*0.046, 0) -> 0 | F19: (재료비+노무비) * 4.6%
A20: CS | D20: [ 소 계 ] | E20: =TRUNC(SUM(E11:E19), 0) -> 0
A21: S1 | B21: 계 | E21: =TRUNC(E7+E10+E20, 0) -> 0
A22: D1 | B22: 일 반 관 리 비 | E22: =TRUNC(E21*0.06, 0) -> 0 | F22: 계 * 6.0%
A23: D2 | B23: 이 윤 | E23: =TRUNC((E10+E20+E22)*0.12, 0) -> 0 | F23: (노무비+경비+일반관리비) * 12%
A24: D9 | B24: 공 급 가 액 | E24: =TRUNC(INT((E21+E22+E23)/10000)*10000, 0) -> 0
A25: DB | B25: 부 가 가 치 세 | E25: =TRUNC(E24*0.1, 0) -> 0 | F25: 공급가액 * 10%
A26: DH | B26: 도 급 액 | E26: =TRUNC(E24+E25, 0) -> 0
A27: DH | B27: 도급자관급자재비
A28: S2 | B28: 총 공 사 비

Sheet 공종별집계표
A1: 공 종 별 집 계 표
A2: [ 부산광역시시의회 대회의실 기본 및 실시설계용역리모델링 전기공사 ]
A3: 품 명 | B3: 규 격 | C3: 단위 | D3: 수량 | E3: 재 료 비 | G3: 노 무 비 | I3: 경 비 | K3: 합 계 | M3: 비 고 | N3: 공종코드 | O3: 변수 | P3: 상위공종 | Q3: 공종구분 | R3: 공종레벨 | S3: 공종소계 | T3: 원가계산서 연결금액
E4: 단 가 | F4: 금 액 | G4: 단 가 | H4: 금 액 | I4: 단 가 | J4: 금 액 | K4: 단 가 | L4: 금 액
A5: 01 부산광역시시의회 대회의실 기본 및 실시설계용역리모델링 전기공사 | D5: 1 | E5: =F6 -> 0 | F5: =E5*D5 -> 0 | G5: =H6 -> 0 | H5: =G5*D5 -> 0 | I5: =J6 -> 0 | J5: =I5*D5 -> 0 | K5: =E5+G5+I5 -> 0 | L5: =F5+H5+J5 -> 0 | N5: 01 | R5: 1
A6: 0101 전기공사 | D6: 1 | E6: =F7+F8+F9+F10+F11 -> 0 | F6: =E6*D6 -> 0 | G6: =H7+H8+H9+H10+H11 -> 0 | H6: =G6*D6 -> 0 | I6: =J7+J8+J9+J10+J11 -> 0 | J6: =I6*D6 -> 0 | K6: =E6+G6+I6 -> 0 | L6: =F6+H6+J6 -> 0 | N6: 0101 | P6: 01 | R6: 2
A7: 010101 전력간선설비공사 | D7: 1 | E7: =공종별내역서!F27 -> 0 | F7: =E7*D7 -> 0 | G7: =공종별내역서!H27 -> 0 | H7: =G7*D7 -> 0 | I7: =공종별내역서!J27 -> 0 | J7: =I7*D7 -> 0 | K7: =E7+G7+I7 -> 0 | L7: =F7+H7+J7 -> 0 | N7: 010101 | P7: 0101 | R7: 3
A8: 010102 전열설비공사 | D8: 1 | E8: =공종별내역서!F51 -> 0 | F8: =E8*D8 -> 0 | G8: =공종별내역서!H51 -> 0 | H8: =G8*D8 -> 0 | I8: =공종별내역서!J51 -> 0 | J8: =I8*D8 -> 0 | K8: =E8+G8+I8 -> 0 | L8: =F8+H8+J8 -> 0 | N8: 010102 | P8: 0101 | R8: 3
A9: 010103 전등설비공사 | D9: 1 | E9: =공종별내역서!F99 -> 0 | F9: =E9*D9 -> 0 | G9: =공종별내역서!H99 -> 0 | H9: =G9*D9 -> 0 | I9: =공종별내역서!J99 -> 0 | J9: =I9*D9 -> 0 | K9: =E9+G9+I9 -> 0 | L9: =F9+H9+J9 -> 0 | N9: 010103 | P9: 0101 | R9: 3
A10: 010104 냉난방설비공사 | D10: 1 | E10: =공종별내역서!F123 -> 0 | F10: =E10*D10 -> 0 | G10: =공종별내역서!H123 -> 0 | H10: =G10*D10 -> 0 | I10: =공종별내역서!J123 -> 0 | J10: =I10*D10 -> 0 | K10: =E10+G10+I10 -> 0 | L10: =F10+H10+J10 -> 0 | N10: 010104 | P10: 0101 | R10: 3
A11: 010105 철거공사 | D11: 1 | E11: =공종별내역서!F147 -> 0 | F11: =E11*D11 -> 0 | G11: =공종별내역서!H147 -> 0 | H11: =G11*D11 -> 0 | I11: =공종별내역서!J147 -> 0 | J11: =I11*D11 -> 0 | K11: =E11+G11+I11 -> 0 | L11: =F11+H11+J11 -> 0 | N11: 010105 | P11: 0101 | R11: 3
A27: [ 합 계 ] | F27: =F5 -> 0 | H27: =H5 -> 0 | J27: =J5 -> 0 | L27: =L5 -> 0

Sheet 공종별내역서
A1: [ 부산광역시시의회 대회의실 기본 및 실시설계용역리모델링 전기공사 ]
A2: 품 명 | B2: 규 격 | C2: 단위 | D2: 수량 | E2: 재 료 비 | G2: 노 무 비 | I2: 경 비 | K2: 합 계 | M2: 비 고 | N2: 품목코드 | O2: 변수 | P2: 설정 | Q2: 공종코드 | R2: 일위 | S2: 단산 | T2: 자재 | U2: 손료적용 | V2: 손료저장 | W2: 적용율 | X2: JUK1 | Y2: JUK2 | Z2: JUK3 | AA2: JUK4 | AB2: JUK5 | AC2: JUK6 | AD2: JUK7 | AE2: JUK8 | AF2: JUK9 | AG2: JUK10 | AH2: JUK11 | AI2: JUK12 | AJ2: JUK13 | AK2: JUK14 | AL2: JUK15 | AM2: JUK16 | AN2: JUK17 | AO2: JUK18 | AP2: JUK19 | AQ2: JUK20 | AR2: 자재구분 | AS2: 공종구분 | AT2: 공종레벨 | AU2: 공종+자재 | AV2: 고유번호
E3: 단 가 | F3: 금 액 | G3: 단 가 | H3: 금 액 | I3: 단 가 | J3: 금 액 | K3: 단 가 | L3: 금 액
A4: 010101 전력간선설비공사 | Q4: 010101
A5: 접지용비닐절연전선 | B5: F-GV 6㎟ | C5: m | D5: 30 | N5: 556EE2058B1862DEBA1726789A3181A63233D1 | Q5: 010101 | R5: F | S5: F | T5: T | X5: 1 | AU5: 010101556EE2058B1862DEBA1726789A3181A63233D1 | AV5: 99
A6: 접지용비닐절연전선 | B6: F-GV 16㎟ | C6: m | D6: 100 | N6: 556EE2058B1862DEBA1726789A3181A63233DF | Q6: 010101 | R6: F | S6: F | T6: T | X6: 1 | AU6: 010101556EE2058B1862DEBA1726789A3181A63233DF | AV6: 100
A7: 전력케이블 | B7: F-CV 6㎟×4C | C7: m | D7: 29 | N7: 556EE2058B1862DD931710FD5A14E8916D7881 | Q7: 010101 | R7: F | S7: F | T7: T | X7: 1 | AU7: 010101556EE2058B1862DD931710FD5A14E8916D7881 | AV7: 101
A8: 전력케이블 | B8: F-CV 25㎟×4C | C8: m | D8: 95 | N8: 556EE2058B1862DD931710FD5A14E8916D788C | Q8: 010101 | R8: F | S8: F | T8: T | X8: 1 | AU8: 010101556EE2058B1862DD931710FD5A14E8916D788C | AV8: 102
A9: 잡재료 | B9: 주재료비의 2% | C9: 식 | D9: 1 | N9: 534632459DD7669957175BF02F14001 | Q9: 010101 | R9: F | S9: F | T9: F | U9: 0 | V9: 0 | W9: 0.02 | AU9: 010101534632459DD7669957175BF02F14001 | AV9: 198
A10: 압착단자(접지용) | B10: 16㎟ | C10: 개 | D10: 4 | N10: 55786205FE056C637B17CC70371C5C98E9029C | Q10: 010101 | R10: F | S10: F | T10: T | AU10: 01010155786205FE056C637B17CC70371C5C98E9029C | AV10: 103
A11: 압착단자(전력용) | B11: 25㎟ | C11: 개 | D11: 16 | N11: 55786205FE056C637B17CC70371C5C98E9029D | Q11: 010101 | R11: F | S11: F | T11: T | AU11: 01010155786205FE056C637B17CC70371C5C98E9029D | AV11: 104
A12: 멀티와이어덕트(70×50) | B12: AL, 1.5×70×43.5mm | C12: m | D12: 8 | N12: 52157295C0B06B3CB7177E55DCC6C62BDAD419 | Q12: 010101 | R12: F | S12: F | T12: T | AU12: 01010152157295C0B06B3CB7177E55DCC6C62BDAD419 | AV12: 5
A13: 멀티와이어덕트 커버(70×50) | B13: AL, 1.5×70×15.8mm | C13: m | D13: 8 | N13: 52157295C0B06B3CB7177E55DCC6C62BDAD418 | Q13: 010101 | R13: F | S13: F | T13: T | AU13: 01010152157295C0B06B3CB7177E55DCC6C62BDAD418 | AV13: 6
A14: 파이프행거 | B14: 54C | C14: 개소 | D14: 55 | M14: 호표 1 | N14: 521592E58609607F911791796D7294 | Q14: 010101 | R14: T | S14: F | T14: F | AU14: 010101521592E58609607F911791796D7294 | AV14: 7
A15: PVC HI BOX | C15: 개 | D15: 1 | M15: 호표 2 | N15: 53E73255E1D162106117D3DE802892 | Q15: 010101 | R15: T | S15: F | T15: F | AU15: 01010153E73255E1D162106117D3DE802892 | AV15: 147
A16: L-대회의실 PNL | B16: 700*800*180 | C16: 면 | D16: 1 | M16: 호표 3 | N16: 52157295B547630F5D17333B8C87F0 | Q16: 010101 | R16: T | S16: F | T16: F | AU16: 01010152157295B547630F5D17333B8C87F0 | AV16: 188
A17: 배관용구멍뚫기(코어드릴사용기준) | B17: 벽면, 구경50mm, 콘크리트두께 150mm이하 | C17: 개소 | D17: 3 | M17: 호표 4 | N17: 52140245EB226C9D4F17EED1B81EEE | Q17: 010101 | R17: T | S17: F | T17: F | AU17: 01010152140245EB226C9D4F17EED1B81EEE | AV17: 187
A18: 내선전공 | B18: 일반공사 직종 | C18: 인 | D18: =#REF! -> #REF! | N18: 528522959DAE66CE4017A7909AAF1A23F4CC09 | Q18: 010101 | R18: F | S18: F | T18: T | Y18: 2 | AU18: 010101528522959DAE66CE4017A7909AAF1A23F4CC09 | AV18: 105
A19: 저압케이블전공 | B19: 일반공사 직종 | C19: 인 | D19: =#REF! -> #REF! | N19: 528522959DAE66CE4017A7909AAF1A23F4CC04 | Q19: 010101 | R19: F | S19: F | T19: T | Y19: 2 | AU19: 010101528522959DAE66CE4017A7909AAF1A23F4CC04 | AV19: 106
A20: 공구손료 | B20: 인력품의 3% | C20: 식 | D20: 1 | N20: 534632459DD7669957175BF02F17002 | Q20: 010101 | R20: F | S20: F | T20: F | U20: 1 | V20: 0 | W20: 0.03 | AU20: 010101534632459DD7669957175BF02F17002 | AV20: 199
Q21: 010101
Q22: 010101
Q23: 010101
Q24: 010101
Q25: 010101
Q26: 010101
A27: [ 합 계 ] | N27: TOTAL
A28: 010102 전열설비공사 | Q28: 010102
A29: 합성수지제가요전선관 | B29: 하이렉스-CD, 난연성, 22㎜ | C29: m | D29: 66 | N29: 55786205FE166501FD1797400364CD488249B4 | Q29: 010102 | R29: F | S29: F | T29: T | X29: 1 | Y29: 2 | AU29: 01010255786205FE166501FD1797400364CD488249B4 | AV29: 113
A30: 합성수지제가요전선관 | B30: 하이렉스-CD, 난연성, 28㎜ | C30: m | D30: 19 | N30: 55786205FE166501FD1797400364CD488249B7 | Q30: 010102 | R30: F | S30: F | T30: T | X30: 1 | Y30: 2 | AU30: 01010255786205FE166501FD1797400364CD488249B7 | AV30: 180
A31: 관부속품 | B31: 주재료비의 40% | C31: 식 | D31: 1 | N31: 534632459DD7669957175BF02F14001 | Q31: 010102 | R31: F | S31: F | T31: F | U31: 0 | V31: 0 | W31: 0.4 | Y31: 2 | AU31: 010102534632459DD7669957175BF02F17002 | AV31: 225
A32: 전력케이블 | B32: F-CV 2.5㎟×3C | C32: m | D32: 298 | N32: 556EE2058B1862DD931710FD5A14E8916D7E2C | Q32: 010102 | R32: F | S32: F | T32: T | Y32: 2 | AU32: 010102556EE2058B1862DD931710FD5A14E8916D7E2C | AV32: 108
A33: 잡재료 | B33: 주재료비의 2% | C33: 식 | D33: 1 | N33: 534632459DD7669957175BF02F17002 | Q33: 010102 | R33: F | S33: F | T33: F | U33: 0 | V33: 0 | W33: 0.02 | AU33: 010102534632459DD7669957175BF02F14001 | AV33: 224
A34: 스위치박스 | B34: 1개용, 54mm | C34: 개 | D34: 3 | N34: 55786205FE056C641E17DB12DC3837CFA49F0C | Q34: 010102 | R34: F | S34: F | T34: T | AU34: 01010255786205FE056C641E17DB12DC3837CFA49F0C | AV34: 181
A35: 아웃렛박스 | B35: 8각, 54mm | C35: 개 | D35: 13 | N35: 55786205FE056C641E17D58AB6EBEF75A880BC | Q35: 010102 | R35: F | S35: F | T35: T | AU35: 01010255786205FE056C641E17D58AB6EBEF75A880BC | AV35: 109
A36: 아웃렛박스 | B36: 중형4각, 54mm | C36: 개 | D36: 19 | N36: 55786205FE056C641E17D58AB6EBEF75A880BF | Q36: 010102 | R36: F | S36: F | T36: T | AU36: 01010255786205FE056C641E17D58AB6EBEF75A880BF | AV36: 110
A37: 아웃렛박스 커버 | B37: 8각, 평 | C37: 개 | D37: 13 | N37: 55786205FE056C641E17D58990E91C113383C3 | Q37: 010102 | R37: F | S37: F | T37: T | AU37: 01010255786205FE056C641E17D58990E91C113383C3 | AV37: 16
A38: 아웃렛박스 커버 | B38: 4각, 평 | C38: 개 | D38: 19 | N38: 55786205FE056C641E17D58990E91C113383C0 | Q38: 010102 | R38: F | S38: F | T38: T | AU38: 01010255786205FE056C641E17D58990E91C113383C0 | AV38: 17
A39: 시스템박스 | B39: 액세스 플로어용 | C39: 개 | D39: 26 | N39: 55786205FE056C641F17E430E171488EDFD00B | Q39: 010102 | R39: F | S39: F | T39: T | AU39: 01010255786205FE056C641F17E430E171488EDFD00B | AV39: 111
A40: 콘센트 | B40: 매입-접지형, 15A 250V 2구 | C40: 개 | D40: 19 | N40: 55786205FE056C6378177CEDEDBD9B68B0245E | Q40: 010102 | R40: F | S40: F | T40: T | AU40: 01010255786205FE056C6378177CEDEDBD9B68B0245E | AV40: 112
A41: 온도센서 | C41: 개 | D41: 3 | N41: 53E73255E1D162106117D3DE80289543904B22 | Q41: 010102 | R41: F | S41: F | T41: T | AU41: 01010253E73255E1D162106117D3DE80289543904B22 | AV41: 183
A42: 배관용구멍뚫기(코어드릴사용기준) | B42: 벽면, 구경50mm, 콘크리트두께 150mm이하 | C42: 개소 | D42: 3 | M42: 호표 4 | N42: 52140245EB226C9D4F17EED1B81EEE | Q42: 010102 | R42: T | S42: F | T42: F | AU42: 01010252140245EB226C9D4F17EED1B81EEE | AV42: 182
A43: 내선전공 | B43: 일반공사 직종 | C43: 인 | D43: =#REF! -> #REF! | N43: 528522959DAE66CE4017A7909AAF1A23F4CC09 | Q43: 010102 | R43: F | S43: F | T43: T | Z43: 3 | AU43: 010102528522959DAE66CE4017A7909AAF1A23F4CC09 | AV43: 220
A44: 저압케이블전공 | B44: 일반공사 직종 | C44: 인 | D44: =#REF! -> #REF! | N44: 528522959DAE66CE4017A7909AAF1A23F4CC04 | Q44: 010102 | R44: F | S44: F | T44: T | Z44: 3 | AU44: 010102528522959DAE66CE4017A7909AAF1A23F4CC04 | AV44: 221
A45: 공구손료 | B45: 인력품의 3% | C45: 식 | D45: 1 | N45: 534632459DD7669957175BF02F16003 | Q45: 010102 | R45: F | S45: F | T45: F | U45: 1 | V45: 0 | W45: 0.03 | AU45: 010102534632459DD7669957175BF02F16003 | AV45: 226
Q46: 010102
Q47: 010102
Q48: 010102
Q49: 010102
Q50: 010102
A51: [ 합 계 ] | N51: TOTAL
A52: 010103 전등설비공사 | Q52: 010103
A53: 합성수지제가요전선관 | B53: 하이렉스-CD, 난연성, 16㎜ | C53: m | D53: 13 | N53: 55786205FE166501FD1797400364CD488249B5 | Q53: 010103 | R53: F | S53: F | T53: T | X53: 1 | Z53: 3 | AU53: 01010355786205FE166501FD1797400364CD488249B5 | AV53: 128
A54: 합성수지제가요전선관 | B54: 하이렉스-CD, 난연성, 22㎜ | C54: m | D54: 26 | N54: 55786205FE166501FD1797400364CD488249B4 | Q54: 010103 | R54: F | S54: F | T54: T | X54: 1 | Z54: 3 | AU54: 01010355786205FE166501FD1797400364CD488249B4 | AV54: 129
A55: 관부속품 | B55: 주재료비의 40% | C55: 식 | D55: 1 | N55: 534632459DD7669957175BF02F14001 | Q55: 010103 | R55: F | S55: F | T55: F | U55: 0 | V55: 0 | W55: 0.4 | Z55: 3 | AU55: 010103534632459DD7669957175BF02F17002 | AV55: 238
A56: 1종금속제가요전선관 | B56: 16mm, 비방수 | C56: m | D56: 1443 | N56: 55786205FE166501FD179743D78338A594FBB3 | Q56: 010103 | R56: F | S56: F | T56: T | Y56: 2 | Z56: 3 | AU56: 01010355786205FE166501FD179743D78338A594FBB3 | AV56: 131
A57: 1종금속제가요전선관 | B57: 22mm, 비방수 | C57: m | D57: 88 | N57: 55786205FE166501FD179743D78338A594FBB2 | Q57: 010103 | R57: F | S57: F | T57: T | Y57: 2 | Z57: 3 | AU57: 01010355786205FE166501FD179743D78338A594FBB2 | AV57: 132
A58: 관부속품 | B58: 주재료비의 15% | C58: 식 | D58: 1 | N58: 534632459DD7669957175BF02F17002 | Q58: 010103 | R58: F | S58: F | T58: F | U58: 0 | V58: 0 | W58: 0.15 | Z58: 3 | AU58: 010103534632459DD7669957175BF02F16003 | AV58: 239
A59: 절연전선 | B59: HFIX 1.38㎜(1.5㎟) | C59: m | D59: 715 | N59: 556EE2058B1862DD931710FD586450576DB08A | Q59: 010103 | R59: F | S59: F | T59: T | Z59: 3 | AU59: 010103556EE2058B1862DD931710FD586450576DB08A | AV59: 118
A60: 절연전선 | B60: HFIX 1.78㎜(2.5㎟) | C60: m | D60: 226 | N60: 556EE2058B1862DD931710FD586450576DB08B | Q60: 010103 | R60: F | S60: F | T60: T | Z60: 3 | AU60: 010103556EE2058B1862DD931710FD586450576DB08B | AV60: 235
A61: 절연전선 | B61: HFIX 2.25㎜(4㎟) | C61: m | D61: 3726 | N61: 556EE2058B1862DD931710FD586450576DB084 | Q61: 010103 | R61: F | S61: F | T61: T | Z61: 3 | AU61: 010103556EE2058B1862DD931710FD586450576DB084 | AV61: 119
A62: 잡재료 | B62: 주재료비의 2% | C62: 식 | D62: 1 | N62: 534632459DD7669957175BF02F16003 | Q62: 010103 | R62: F | S62: F | T62: F | U62: 0 | V62: 0 | W62: 0.02 | AU62: 010103534632459DD7669957175BF02F14001 | AV62: 237
A63: 1종금속제가요전선관 부속품 | B63: 박스커넥터, 16mm, 비방수 | C63: 개 | D63: 588 | N63: 55786205FE166501FD179743D78338A594FF12 | Q63: 010103 | R63: F | S63: F | T63: T | AU63: 01010355786205FE166501FD179743D78338A594FF12 | AV63: 27
A64: 1종금속제가요전선관 부속품 | B64: 박스커넥터, 22mm, 비방수 | C64: 개 | D64: 48 | N64: 55786205FE166501FD179743D78338A594FF13 | Q64: 010103 | R64: F | S64: F | T64: T | AU64: 01010355786205FE166501FD179743D78338A594FF13 | AV64: 28
A65: 스위치박스 | B65: 1개용, 54mm | C65: 개 | D65: 5 | N65: 55786205FE056C641E17DB12DC3837CFA49F0C | Q65: 010103 | R65: F | S65: F | T65: T | AU65: 01010355786205FE056C641E17DB12DC3837CFA49F0C | AV65: 120
A66: 스위치박스 | B66: 2개용, 54mm | C66: 개 | D66: 1 | N66: 55786205FE056C641E17DB12DC3837CFA4909E | Q66: 010103 | R66: F | S66: F | T66: T | AU66: 01010355786205FE056C641E17DB12DC3837CFA4909E | AV66: 121
A67: 아웃렛박스(연결) | B67: 중형4각, 54mm | C67: 개 | D67: 167 | N67: 55786205FE056C641E17D58AB6EBEF75A880B9 | Q67: 010103 | R67: F | S67: F | T67: T | AU67: 01010355786205FE056C641E17D58AB6EBEF75A880B9 | AV67: 223
A68: 아웃렛박스 커버 | B68: 4각, 평 | C68: 개 | D68: 167 | N68: 55786205FE056C641E17D58990E91C113383C0 | Q68: 010103 | R68: F | S68: F | T68: T | AU68: 01010355786205FE056C641E17D58990E91C113383C0 | AV68: 26
A69: 스위치 | B69: 단로, 15A 250V, 1구 | C69: 개 | D69: 9 | N69: 55786205FE056418A2173F54B96E617A011D98 | Q69: 010103 | R69: F | S69: F | T69: T | AU69: 01010355786205FE056418A2173F54B96E617A011D98 | AV69: 123
A70: 스위치 | B70: 단로, 15A 250V, 2구 | C70: 개 | D70: 3 | N70: 55786205FE056418A2173F54B96E617A011D97 | Q70: 010103 | R70: F | S70: F | T70: T | AU70: 01010355786205FE056418A2173F54B96E617A011D97 | AV70: 124
A71: 멀티와이어덕트(70×50) | B71: AL, 1.5×70×43.5mm | C71: m | D71: 4 | N71: 52157295C0B06B3CB7177E55DCC6C62BDAD419 | Q71: 010103 | R71: F | S71: F | T71: T | AU71: 01010352157295C0B06B3CB7177E55DCC6C62BDAD419 | AV71: 233
A72: 멀티와이어덕트 커버(70×50) | B72: AL, 1.5×70×15.8mm | C72: m | D72: 4 | N72: 52157295C0B06B3CB7177E55DCC6C62BDAD418 | Q72: 010103 | R72: F | S72: F | T72: T | AU72: 01010352157295C0B06B3CB7177E55DCC6C62BDAD418 | AV72: 234
A73: 멀티와이어덕트 부속품 | B73: 유니트커버 | C73: 개 | D73: 1 | N73: 52157295C0B06B3CB7177E55DCC6C62BDAD410 | Q73: 010103 | R73: F | S73: F | T73: T | AU73: 01010352157295C0B06B3CB7177E55DCC6C62BDAD410 | AV73: 33
A74: 멀티와이어덕트 부속품 | B74: 붙임쇠 | C74: 개 | D74: 1 | N74: 52157295C0B06B3CB7177E55DCC6C62BDAD520 | Q74: 010103 | R74: F | S74: F | T74: T | AU74: 01010352157295C0B06B3CB7177E55DCC6C62BDAD520 | AV74: 34
A75: 멀티와이어덕트 부속품 | B75: 엔드캡(1.5×70×50) | C75: 개 | D75: 1 | N75: 52157295C0B06B3CB7177E55DCC6C62BDAD521 | Q75: 010103 | R75: F | S75: F | T75: T | AU75: 01010352157295C0B06B3CB7177E55DCC6C62BDAD521 | AV75: 35
A76: 조명기구 | B76: LED15W,다운라이트 | C76: EA | D76: 15 | M76: 관급자재 | N76: 556EE2058B1862DD91176D2C9918A93BD57D0A | Q76: 010103 | R76: F | S76: F | T76: T | AU76: 010103556EE2058B1862DD91176D2C9918A93BD57D0A | AV76: 117
A77: 조명기구 | B77: LED45W,다운라이트 멀티3구 | C77: EA | D77: 103 | M77: 관급자재 | N77: 556EE2058B1862DD91176D2C9918A93BD57B5F | Q77: 010103 | R77: F | S77: F | T77: T | AU77: 010103556EE2058B1862DD91176D2C9918A93BD57B5F | AV77: 192
A78: 조명기구 | B78: LED9W, T5 W600 | C78: EA | D78: 24 | N78: 556EE2058B1862DD91176D2C9918A934A4E6B6 | Q78: 010103 | R78: F | S78: F | T78: T | AU78: 010103556EE2058B1862DD91176D2C9918A934A4E6B6 | AV78: 189
A79: 조명기구 | B79: LED13W, T5 W900 | C79: EA | D79: 22 | N79: 556EE2058B1862DD91176D2C9918A934A4E6B7 | Q79: 010103 | R79: F | S79: F | T79: T | AU79: 010103556EE2058B1862DD91176D2C9918A934A4E6B7 | AV79: 190
A80: 조명기구 | B80: LED18W, T5 W1200 | C80: EA | D80: 168 | N80: 556EE2058B1862DD91176D2C9918A934A4E6B0 | Q80: 010103 | R80: F | S80: F | T80: T | AU80: 010103556EE2058B1862DD91176D2C9918A934A4E6B0 | AV80: 191
A81: 조명기구 | B81: LED30W, 라인조명 1m | C81: EA | D81: 45 | N81: 556EE2058B1862DD91176D2C9918A934A4E75E | Q81: 010103 | R81: F | S81: F | T81: T | AU81: 010103556EE2058B1862DD91176D2C9918A934A4E75E | AV81: 193
A82: 조명기구 | B82: LED90W, 라인조명 3m | C82: EA | D82: 25 | N82: 556EE2058B1862DD91176D2C9918A934A4E75D | Q82: 010103 | R82: F | S82: F | T82: T | AU82: 010103556EE2058B1862DD91176D2C9918A934A4E75D | AV82: 194
A83: 조명기구 | B83: LED10W, 인테리어벽등 | C83: EA | D83: 2 | N83: 556EE2058B1862DD91176D2C9918A934A4E75C | Q83: 010103 | R83: F | S83: F | T83: T | AU83: 010103556EE2058B1862DD91176D2C9918A934A4E75C | AV83: 232
A84: SMPS | B84: 24V-300W | C84: 개 | D84: 17 | N84: 55786205FE056C66CC177F41E04D4EE5AD8239 | Q84: 010103 | R84: F | S84: F | T84: T | AU84: 01010355786205FE056C66CC177F41E04D4EE5AD8239 | AV84: 195
A85: SMPS | B85: 24V-400W | C85: 개 | D85: 1 | N85: 55786205FE056C66CC177F41E04D4EE5AD8238 | Q85: 010103 | R85: F | S85: F | T85: T | AU85: 01010355786205FE056C66CC177F41E04D4EE5AD8238 | AV85: 196
A86: 배관용구멍뚫기(코어드릴사용기준) | B86: 벽면, 구경50mm, 콘크리트두께 150mm이하 | C86: 개소 | D86: 1 | M86: 호표 4 | N86: 52140245EB226C9D4F17EED1B81EEE | Q86: 010103 | R86: T | S86: F | T86: F | AU86: 01010352140245EB226C9D4F17EED1B81EEE | AV86: 75
A87: 내선전공 | B87: 일반공사 직종 | C87: 인 | D87: =#REF! -> #REF! | N87: 528522959DAE66CE4017A7909AAF1A23F4CC09 | Q87: 010103 | R87: F | S87: F | T87: T | AA87: 4 | AU87: 010103528522959DAE66CE4017A7909AAF1A23F4CC09 | AV87: 236
A88: 공구손료 | B88: 인력품의 3% | C88: 식 | D88: 1 | N88: 534632459DD7669957175BF02F11004 | Q88: 010103 | R88: F | S88: F | T88: F | U88: 1 | V88: 0 | W88: 0.03 | AU88: 010103534632459DD7669957175BF02F11004 | AV88: 240
Q89: 010103
Q90: 010103
Q91: 010103
Q92: 010103
Q93: 010103
Q94: 010103
Q95: 010103
Q96: 010103
Q97: 010103
Q98: 010103
A99: [ 합 계 ] | N99: TOTAL
A100: 010104 냉난방설비공사 | Q100: 010104
...

Sheet 단가산출목록
B1: 단 가 산 출 목 록
B2: [ 부산광역시시의회 대회의실 기본 및 실시설계용역리모델링 전기공사 ]
A3: 코 드 | B3: 품 명 | C3: 규 격 | D3: 단위 | E3: 재 료 비 | F3: 노 무 비 | G3: 경 비 | H3: 합 계 | I3: 번 호 | J3: 비 고 | K3: START | L3: 품셈개요

Sheet 단가산출서
A1: 단 가 산 출 서
A2: [ 부산광역시시의회 대회의실 기본 및 실시설계용역리모델링 전기공사 ]
A3: 산 출 내 역 | B3: 재 료 비 | C3: 노 무 비 | D3: 경 비 | E3: 합 계 | F3: 비 고 | G3: START | H3: 코드 | I3: 품명 | J3: 규격 | K3: 단위 | L3: 수량 | M3: 변수 | N3: 값 | O3: 소계 | P3: 소계 | Q3: 소계 | R3: 소계 | S3: 소계 | T3: 총계
A4: ( )
A6: 총 계 | E6: 0

Sheet 공량설정
A1: 공종명 | B1: 적용율(%) | C1: 소수점이하자릿수 | D1: 공종코드
A2: 010101 전력간선설비공사 | B2: 100 | D2: 010101
A3: 내선전공 | C3: 0 | D3: 010101528522959DAE66CE4017A7909AAF1A23F4CC09
A4: 저압케이블전공 | C4: 0 | D4: 010101528522959DAE66CE4017A7909AAF1A23F4CC04
A5: 010102 전열설비공사 | B5: 100 | D5: 010102
A6: 내선전공 | C6: 0 | D6: 010102528522959DAE66CE4017A7909AAF1A23F4CC09
A7: 저압케이블전공 | C7: 0 | D7: 010102528522959DAE66CE4017A7909AAF1A23F4CC04
A8: 010103 전등설비공사 | B8: 100 | D8: 010103
A9: 내선전공 | C9: 0 | D9: 010103528522959DAE66CE4017A7909AAF1A23F4CC09
A10: 010104 냉난방설비공사 | B10: 100 | D10: 010104
A11: 내선전공 | C11: 0 | D11: 010104528522959DAE66CE4017A7909AAF1A23F4CC09
A12: 저압케이블전공 | C12: 0 | D12: 010104528522959DAE66CE4017A7909AAF1A23F4CC04
A13: 010105 철거공사 | B13: 100 | D13: 010105
A14: 내선전공 | C14: 0 | D14: 010105528522959DAE66CE4017A7909AAF1A23F4CC09
A15: 저압케이블전공 | C15: 0 | D15: 010105528522959DAE66CE4017A7909AAF1A23F4CC04

Sheet 공량산출근거서_일위대가
A1: 공 량 산 출 근 거 서
A2: [ 부산광역시시의회 대회의실 기본 및 실시설계용역리모델링 전기공사 ]
A3: 코 드 | B3: 품 명 | C3: 규 격 | D3: 단위 | E3: 품 셈 목 록 | F3: 수 량 | G3: 할증 | H3: 노임할증-1 | I3: 노임할증-2 | J3: 노임할증-3 | K3: 내역수량 | L3: 직 종 명 | M3: 공 량 | N3: 계 | O3: 번 호 | P3: 비 고 | T3: 일위대가목록+자재 | V3: 내선전공 | W3: 일반공사 직종
B4: 파이프행거 54C 개소 (호표 1)
A5: 5578E2455A4B6308C9177A86DEBEB80EA23F6D | B5: 스트롱앵커 | C5: 스트롱앵커, M10, 9.5mm | D5: 개 | E5: 전기품셈 5-29 | F5: 1 | H5: 0 | K5: 1 | L5: 내선전공 | M5: =0.036*(H5+100)/100*(I5+100)/100*(J5+100)/100 -> 0.036 | N5: =F5*M5 -> 0.036 | O5: 노임 3 | P5: 0.036*1 | Q5: 521592E58609607F911791796D7294 | R5: 528522959DAE66CE4017A7909AAF1A23F4CC09 | S5: 0.036 | T5: 521592E58609607F911791796D72945578E2455A4B6308C9177A86DEBEB80EA23F6D | V5: =N5 -> 0.036
A6: 528522959DAE66CE4017A7909AAF1A23F4CC09 | B6: 내선전공 | C6: 일반공사 직종 | D6: 인 | F6: =SUM(V5:V5) -> 0.036 | K6: =IF(TRUNC(F6*공량설정_일위대가!B2/100, 공량설정_일위대가!C3) = 0, TRUNC(F6*공량설정_일위대가!B2/100, 5), TRUNC(F6*공량설정_일위대가!B2/100, 공량설정_일위대가!C3)) -> 0.036 | O6: 노임 3 | Q6: 521592E58609607F911791796D7294 | T6: 521592E58609607F911791796D7294528522959DAE66CE4017A7909AAF1A23F4CC09
B7: PVC HI BOX 개 (호표 2)
A8: 55786205FE056C641E17DEE67AE2AF4221B5BD | B8: PVC 하이박스 | C8: 200×300×140 | D8: 개 | E8: 전기품셈 5-4 | F8: 1 | G8: 0 | K8: 1 | L8: 내선전공 | M8: =0.55*(H8+100)/100*(I8+100)/100*(J8+100)/100 -> 0.55 | N8: =F8*M8 -> 0.55 | O8: 노임 3 | P8: 0.55*1 | Q8: 53E73255E1D162106117D3DE802892 | R8: 528522959DAE66CE4017A7909AAF1A23F4CC09 | S8: 0.55 | T8: 53E73255E1D162106117D3DE80289255786205FE056C641E17DEE67AE2AF4221B5BD | V8: =N8 -> 0.55
A9: 55786205FE056C614B1703A4E81C86E8263103 | B9: 배선용차단기(분전반내설치) | C9: 4P, 100AF | D9: 개 | E9: 전기품셈 5-18 | F9: 1 | G9: 0 | H9: 30 | I9: -65 | K9: 1 | L9: 내선전공 | M9: =1.04*(H9+100)/100*(I9+100)/100*(J9+100)/100 -> 0.4732 | N9: =F9*M9 -> 0.4732 | O9: 노임 3 | P9: 1.04*1 * 130% * 35% | Q9: 53E73255E1D162106117D3DE802892 | R9: 528522959DAE66CE4017A7909AAF1A23F4CC09 | S9: 1.04 | T9: 53E73255E1D162106117D3DE80289255786205FE056C614B1703A4E81C86E8263103 | V9: =N9 -> 0.4732
A10: 528522959DAE66CE4017A7909AAF1A23F4CC09 | B10: 내선전공 | C10: 일반공사 직종 | D10: 인 | F10: =SUM(V8:V9) -> 1.0232 | K10: =IF(TRUNC(F10*공량설정_일위대가!B4/100, 공량설정_일위대가!C5) = 0, TRUNC(F10*공량설정_일위대가!B4/100, 5), TRUNC(F10*공량설정_일위대가!B4/100, 공량설정_일위대가!C5)) -> 1.023 | O10: 노임 3 | Q10: 53E73255E1D162106117D3DE802892 | T10: 53E73255E1D162106117D3DE802892528522959DAE66CE4017A7909AAF1A23F4CC09
B11: L-대회의실 PNL 700*800*180 면 (호표 3)
A12: 55786205FE056C66CC17793BE83A81A8F67573 | B12: L-대회의실 PNL | C12: 700Wx800Hx180D | D12: 면 | E12: 전기품셈 5-4 | F12: 1 | G12: 0 | K12: 1 | L12: 내선전공 | M12: =0.95*(H12+100)/100*(I12+100)/100*(J12+100)/100 -> 0.95 | N12: =F12*M12 -> 0.95 | O12: 노임 3 | P12: 0.95*1 | Q12: 52157295B547630F5D17333B8C87F0 | R12: 528522959DAE66CE4017A7909AAF1A23F4CC09 | S12: 0.95 | T12: 52157295B547630F5D17333B8C87F055786205FE056C66CC17793BE83A81A8F67573 | V12: =N12 -> 0.95
A13: 55786205FE056C614B1703A4E81C86E8263103 | B13: 배선용차단기(분전반내설치) | C13: 4P, 100AF | D13: 개 | E13: 전기품셈 5-18 | F13: 1 | G13: 0 | H13: -65 | I13: 30 | K13: 1 | L13: 내선전공 | M13: =1.04*(H13+100)/100*(I13+100)/100*(J13+100)/100 -> 0.4732 | N13: =F13*M13 -> 0.4732 | O13: 노임 3 | P13: 1.04*1 * 35% * 130% | Q13: 52157295B547630F5D17333B8C87F0 | R13: 528522959DAE66CE4017A7909AAF1A23F4CC09 | S13: 1.04 | T13: 52157295B547630F5D17333B8C87F055786205FE056C614B1703A4E81C86E8263103 | V13: =N13 -> 0.4732
A14: 55786205FE056C614B1703A4E81C86E826310D | B14: 배선용차단기(분전반내설치) | C14: 4P, 50AF | D14: 개 | E14: 전기품셈 5-18 | F14: 2 | G14: 0 | H14: -65 | I14: 30 | K14: 2 | L14: 내선전공 | M14: =0.74*(H14+100)/100*(I14+100)/100*(J14+100)/100 -> 0.3367 | N14: =F14*M14 -> 0.6734 | O14: 노임 3 | P14: 0.74*1 * 35% * 130% | Q14: 52157295B547630F5D17333B8C87F0 | R14: 528522959DAE66CE4017A7909AAF1A23F4CC09 | S14: 0.74 | T14: 52157295B547630F5D17333B8C87F055786205FE056C614B1703A4E81C86E826310D | V14: =N14 -> 0.6734
A15: 55786205FE056C614B1701FAE7A450D9FDE751 | B15: 누전차단기(분전반내설치) | C15: 2P, 30AF | D15: 개 | E15: 전기품셈 5-18 | F15: 16 | G15: 0 | H15: -65 | K15: 16 | L15: 내선전공 | M15: =0.43*(H15+100)/100*(I15+100)/100*(J15+100)/100 -> 0.1505 | N15: =F15*M15 -> 2.408 | O15: 노임 3 | P15: 0.43*1 * 35% | Q15: 52157295B547630F5D17333B8C87F0 | R15: 528522959DAE66CE4017A7909AAF1A23F4CC09 | S15: 0.43 | T15: 52157295B547630F5D17333B8C87F055786205FE056C614B1701FAE7A450D9FDE751 | V15: =N15 -> 2.408
A16: 528522959DAE66CE4017A7909AAF1A23F4CC09 | B16: 내선전공 | C16: 일반공사 직종 | D16: 인 | F16: =SUM(V12:V15) -> 4.5046 | K16: =IF(TRUNC(F16*공량설정_일위대가!B6/100, 공량설정_일위대가!C7) = 0, TRUNC(F16*공량설정_일위대가!B6/100, 5), TRUNC(F16*공량설정_일위대가!B6/100, 공량설정_일위대가!C7)) -> 4.504 | O16: 노임 3 | Q16: 52157295B547630F5D17333B8C87F0 | T16: 52157295B547630F5D17333B8C87F0528522959DAE66CE4017A7909AAF1A23F4CC09
B17: 파이프행거 36C 개소 (호표 5)
A18: 5578E2455A4B6308C9177A86DEBEB80EA23F6D | B18: 스트롱앵커 | C18: 스트롱앵커, M10, 9.5mm | D18: 개 | E18: 전기품셈 5-29 | F18: 1 | H18: 0 | K18: 1 | L18: 내선전공 | M18: =0.036*(H18+100)/100*(I18+100)/100*(J18+100)/100 -> 0.036 | N18: =F18*M18 -> 0.036 | O18: 노임 3 | P18: 0.036*1 | Q18: 521592E58609607F91179327C9DA4A | R18: 528522959DAE66CE4017A7909AAF1A23F4CC09 | S18: 0.036 | T18: 521592E58609607F91179327C9DA4A5578E2455A4B6308C9177A86DEBEB80EA23F6D | V18: =N18 -> 0.036
A19: 528522959DAE66CE4017A7909AAF1A23F4CC09 | B19: 내선전공 | C19: 일반공사 직종 | D19: 인 | F19: =SUM(V18:V18) -> 0.036 | K19: =IF(TRUNC(F19*공량설정_일위대가!B11/100, 공량설정_일위대가!C12) = 0, TRUNC(F19*공량설정_일위대가!B11/100, 5), TRUNC(F19*공량설정_일위대가!B11/100, 공량설정_일위대가!C12)) -> 0.036 | O19: 노임 3 | Q19: 521592E58609607F91179327C9DA4A | T19: 521592E58609607F91179327C9DA4A528522959DAE66CE4017A7909AAF1A23F4CC09

Sheet 공량설정_일위대가
A1: 일위대가 | B1: 적용율(%) | C1: 소수점이하자릿수 | D1: 일위대가 코드
A2: 파이프행거 54C (호표 1) | B2: 100 | D2: 521592E58609607F911791796D7294
A3: 내선전공 | C3: 3 | D3: 521592E58609607F911791796D7294528522959DAE66CE4017A7909AAF1A23F4CC09
A4: PVC HI BOX (호표 2) | B4: 100 | D4: 53E73255E1D162106117D3DE802892
A5: 내선전공 | C5: 3 | D5: 53E73255E1D162106117D3DE802892528522959DAE66CE4017A7909AAF1A23F4CC09
A6: L-대회의실 PNL 700*800*180 (호표 3) | B6: 100 | D6: 52157295B547630F5D17333B8C87F0
A7: 내선전공 | C7: 3 | D7: 52157295B547630F5D17333B8C87F0528522959DAE66CE4017A7909AAF1A23F4CC09
A8: 배관용구멍뚫기(코어드릴사용기준) 벽면, 구경50mm, 콘크리트두께 150mm이하 (호표 4) | B8: 100 | D8: 52140245EB226C9D4F17EED1B81EEE
A9: 보통인부 | C9: 3 | D9: 52140245EB226C9D4F17EED1B81EEE528522959DAE66CE4017A7909AAF1A23F4CB64
A10: 착암공 | C10: 3 | D10: 52140245EB226C9D4F17EED1B81EEE528522959DAE66CE4017A7909AAF1A23F4CA5A
A11: 파이프행거 36C (호표 5) | B11: 100 | D11: 521592E58609607F91179327C9DA4A
A12: 내선전공 | C12: 3 | D12: 521592E58609607F91179327C9DA4A528522959DAE66CE4017A7909AAF1A23F4CC09
A13: 코어드릴 15.24cm (호표 6) | B13: 100 | D13: 5543A24558336AF5C317A73D224C38B8218A75D8

Sheet  공사설정 
A1: 이 Sheet는 수정하지 마십시요
A2: 공사구분 | B2: D | C2: 타이틀
A3: 확정내역 | B3: 원내역
A4: 자재단가적용 | B4: 5
A5: 경비단가적용 | B5: 5
A6: 품목코드형식 | B6: XXXX-XXXXXXXXXXXXX
A7: 내역금액소수점처리 | B7: C | C7: 1
A8: 일위대가내역소수점처리 | B8: C | C8: 2
A9: 단가명 | B9: 가격정보 | C9: 물가자료 | D9: 물가정보 | E9: 조사가격 | F9: 관급자재 | G9: FTTTF
A10: 환율 | B10: 1153.3 | C10: 0 | D10: 0
A11: 시간당작업량 | B11: R | C11: 4
A12: 1회 사이클시간 | B12: R | C12: 4
A13: 시간당 작업사이클 | B13: R | C13: 3
A14: 일반변수 | B14: C | C14: 5
A15: 시간당 노임산출 계수 | B15: A | C15: 1/8*16/12*25/20 | D15: 1/8*16/12*25/20 | E15: 1/8*16/12*25/20 | F15: 1
A16: 재료비 할증 계수 | B16: 0 | C16: 0
A17: 노무비 할증 계수 | B17: 0 | C17: 0 | D17: 0 | E17: 0 | F17: 0 | G17: 0 | H17: 0 | I17: 0 | J17: 0 | K17: 0 | L17: 0 | M17: 0
A18: 경비 할증 계수 | B18: 0 | C18: 0
A19: 내역,일위대가 품명,규격,단위 따로적용
A20: 내역단가 소수점처리 | C20: 1
A21: 코드 | B21: 공종구분명 | C21: 원가비목코드
A22: 1 | B22: 작 업 부 산 물 | C22: A3
A23: 2 | B23: 운 반 비 | C23: C1
A24: 3 | B24: 관 급 자 재 비 | C24: DJ
A25: 4 | B25: 사 급 자 재 비 | C25: D3
A26: 5 | B26: 외 자 재
A27: 6 | B27: 폐기물처리비
A28: 7 | B28: ...
A29: 8 | B29: ...
A30: 9 | B30: ...
A31: A | B31: ....
A32: B | B32: .....
A33: C | B33: ....
A34: D | B34: ....
A35: E | B35: ....
A36: F | B36: ....
A37: G | B37: ....
A38: H | B38: ....
A39: I | B39: ....
A40: J | B40: ....
A43: 단가 순서 | B43: 1234

Sheet Sheet1
