Workbook
Name 노임단가: 노임!$B$4:$C$25

Sheet 원가계산서
A1: 원 가 계 산 서
A2: 공사명 : 국제관광도시 부산 공공와이파이 구축공사(3단계)
A3: 비 목 | D3: 금 액 | E3: 구 성 비 | F3: 비 고
A4: 순 공 사 비 원 가 | B4: 재 료 비 | C4: 직접재료비
C5: 간접재료비
C6: 작업설, 부산물 등(△)
C7: 소 계
B8: 노 무 비 | C8: 직접노무비
C9: 간접노무비 | E9: ="직접노무비의 "&G9*100&"%" -> 직접노무비의 12.5% | G9: 0.125
C10: 소 계
B11: 경 비 | C11: 기계 경비
C12: 산재보험료 | E12: ="노무비의 "&G12*100&"%" -> 노무비의 3.7% | G12: 0.037
C13: 고용보험료 | E13: ="노무비의 "&G13*100&"%" -> 노무비의 1.01% | G13: 0.0101
C14: 건강보험료 | E14: ="직접노무비의 "&G14*100&"%" -> 직접노무비의 3.495% | G14: 0.03495
C15: 연금보험료 | E15: ="직접노무비의 "&G15*100&"%" -> 직접노무비의 4.5% | G15: 0.045
C16: 노인장기요양보험료 | E16: ="건강보험료의 "&G16*100&"%" -> 건강보험료의 12.27% | G16: 0.1227
C17: 퇴직공제부금비 | E17: ="직접노무비의 "&G17*100&"%" -> 직접노무비의 2.3% | G17: 0.023
C18: 산업안전보건관리비 | E18: 작은 값 (재료비+직노)*1.85%*1.2 or (재료+직노+관급)*1.85% | G18: 0.0185 | H18: =INT((D7+D8)*1.85%*1.2) -> 0
C19: 기타 경비 | E19: ="(재료비+노무비)의 "&G19*100&"%" -> (재료비+노무비)의 7.8% | G19: 0.078 | H19: =INT((D7+D8+H28)*1.85%) -> 0
C20: 소 계
A21: 계
A22: 일 반 관 리 비 | E22: 순공사비의 6% | G22: 0.06
A23: 이 윤 | E23: (노무비+경비+일반관리비)의 15% | G23: 0.15
A24: 운 반 비
A25: 폐기물 처리비
A26: 공 급 가 액
A27: 부 가 가 치 세 | E27: 공급가액의 10%
A28: 공 사 원 가 | E28: 천단위이하 절사 | I28: 도급자 관급비
A29: 관 급 자 재 비 | E29: 도급자 관급비
A30: 도 급 공 사 비 | D30: =TRUNC(SUM(D28:D29),0) -> 0

Sheet 내역서
C1: 내 역 서
B2: =원가계산서!A2 -> 공사명 : 국제관광도시 부산 공공와이파이 구축공사(3단계) | N2: 단위 : 원
B3: 순 | C3: 공 정 명 | D3: 규 격 | E3: 단위 | F3: 수량 | G3: 재 료 비 | I3: 노 무 비 | K3: 경 비 | M3: 계 | N3: 비 고
G4: 단가 | H4: 금액 | I4: 단가 | J4: 금액 | K4: 단가 | L4: 금액
A5: =C5&D5 -> 광케이블 포설가공포설 | B5: =ROW()-4 -> 1 | C5: =IFERROR(집계표!C4,"") -> 광케이블 포설 | D5: =IFERROR(집계표!D4,"") -> 가공포설 | E5: =IFERROR(집계표!E4,"") -> 100m | F5: 10 | M5: =H5+J5+L5 -> 0 | N5: =IFERROR(VLOOKUP(A5,대가목록!$A$3:$K$71,2,),"") -> 1
A6: =C6&D6 -> 광케이블 포설지중포설 | B6: =ROW()-4 -> 2 | C6: =IFERROR(집계표!C5,"") -> 광케이블 포설 | D6: =IFERROR(집계표!D5,"") -> 지중포설 | E6: =IFERROR(집계표!E5,"") -> 100m | F6: 15.35 | M6: =H6+J6+L6 -> 0 | N6: =IFERROR(VLOOKUP(A6,대가목록!$A$3:$K$71,2,),"") -> 2
A7: =C7&D7 -> 꼬임케이블 포설UTP,옥외 | B7: =ROW()-4 -> 3 | C7: =IFERROR(집계표!C6,"") -> 꼬임케이블 포설 | D7: =IFERROR(집계표!D6,"") -> UTP,옥외 | E7: =IFERROR(집계표!E6,"") -> 10m | F7: 390.1 | M7: =H7+J7+L7 -> 0 | N7: =IFERROR(VLOOKUP(A7,대가목록!$A$3:$K$71,2,),"") -> 3
A8: =C8&D8 -> 꼬임케이블 포설UTP,옥외, 2조동시 | B8: =ROW()-4 -> 4 | C8: =IFERROR(집계표!C7,"") -> 꼬임케이블 포설 | D8: =IFERROR(집계표!D7,"") -> UTP,옥외, 2조동시 | E8: =IFERROR(집계표!E7,"") -> 10m | F8: 40.8 | M8: =H8+J8+L8 -> 0 | N8: =IFERROR(VLOOKUP(A8,대가목록!$A$3:$K$71,2,),"") -> 4
A9: =C9&D9 -> 꼬임케이블 포설UTP,구내 | B9: =ROW()-4 -> 5 | C9: =IFERROR(집계표!C8,"") -> 꼬임케이블 포설 | D9: =IFERROR(집계표!D8,"") -> UTP,구내 | E9: =IFERROR(집계표!E8,"") -> 10m | F9: 171.2 | M9: =H9+J9+L9 -> 0 | N9: =IFERROR(VLOOKUP(A9,대가목록!$A$3:$K$71,2,),"") -> 5
A10: =C10&D10 -> 전원 케이블 포가설F-CV 6㎟/2C | B10: =ROW()-4 -> 6 | C10: =IFERROR(집계표!C9,"") -> 전원 케이블 포가설 | D10: =IFERROR(집계표!D9,"") -> F-CV 6㎟/2C | E10: =IFERROR(집계표!E9,"") -> 10m | F10: 113 | M10: =H10+J10+L10 -> 0 | N10: =IFERROR(VLOOKUP(A10,대가목록!$A$3:$K$71,2,),"") -> 6
A11: =C11&D11 -> 스위칭 허브 설치4F8T | B11: =ROW()-4 -> 7 | C11: =IFERROR(집계표!C10,"") -> 스위칭 허브 설치 | D11: =IFERROR(집계표!D10,"") -> 4F8T | E11: =IFERROR(집계표!E10,"") -> 대 | F11: 3 | M11: =H11+J11+L11 -> 0 | N11: =IFERROR(VLOOKUP(A11,대가목록!$A$3:$K$71,2,),"") -> 7
A12: =C12&D12 -> 스위칭 허브 설치2F8T | B12: =ROW()-4 -> 8 | C12: =IFERROR(집계표!C11,"") -> 스위칭 허브 설치 | D12: =IFERROR(집계표!D11,"") -> 2F8T | E12: =IFERROR(집계표!E11,"") -> 대 | F12: 40 | M12: =H12+J12+L12 -> 0 | N12: =IFERROR(VLOOKUP(A12,대가목록!$A$3:$K$71,2,),"") -> 8
A13: =C13&D13 -> 더미 허브 설치Hub-4,Poe | B13: =ROW()-4 -> 9 | C13: =IFERROR(집계표!C12,"") -> 더미 허브 설치 | D13: =IFERROR(집계표!D12,"") -> Hub-4,Poe | E13: =IFERROR(집계표!E12,"") -> 대 | F13: 97 | M13: =H13+J13+L13 -> 0 | N13: =IFERROR(VLOOKUP(A13,대가목록!$A$3:$K$71,2,),"") -> 9
A14: =C14&D14 -> 광분배반(FDF)신설mini-FDF | B14: =ROW()-4 -> 10 | C14: =IFERROR(집계표!C13,"") -> 광분배반(FDF)신설 | D14: =IFERROR(집계표!D13,"") -> mini-FDF | E14: =IFERROR(집계표!E13,"") -> 대 | F14: 14 | M14: =H14+J14+L14 -> 0 | N14: =IFERROR(VLOOKUP(A14,대가목록!$A$3:$K$71,2,),"") -> 10
A15: =C15&D15 -> 광모듈 설치WDM-10km | B15: =ROW()-4 -> 11 | C15: =IFERROR(집계표!C14,"") -> 광모듈 설치 | D15: =IFERROR(집계표!D14,"") -> WDM-10km | E15: =IFERROR(집계표!E14,"") -> 개 | F15: 56 | M15: =H15+J15+L15 -> 0 | N15: =IFERROR(VLOOKUP(A15,대가목록!$A$3:$K$71,2,),"") -> 11
A16: =C16&D16 -> OJC 포설LC/SC-1m | B16: =ROW()-4 -> 12 | C16: =IFERROR(집계표!C15,"") -> OJC 포설 | D16: =IFERROR(집계표!D15,"") -> LC/SC-1m | E16: =IFERROR(집계표!E15,"") -> 본 | F16: 56 | M16: =H16+J16+L16 -> 0 | N16: =IFERROR(VLOOKUP(A16,대가목록!$A$3:$K$71,2,),"") -> 12
... A58: =C58&D58 -> 포장복구ASP, 소파, c-type(12㎡이하) | B58: =ROW()-4 -> 54 | C58: =IFERROR(집계표!C57,"") -> 포장복구 | D58: =IFERROR(집계표!D57,"") -> ASP, 소파, c-type(12㎡이하) | E58: =IFERROR(집계표!E57,"") -> ㎡ | F58: 1 | M58: =H58+J58+L58 -> 0 | N58: =IFERROR(VLOOKUP(A58,대가목록!$A$3:$K$71,2,),"") -> 54
B59: =ROW()-4 -> 55 | C59: 콘센트 | D59: 멀티탭 4구 | E59: 개 | F59: 31 | M59: =H59+J59+L59 -> 0
A60: =C60&D60 | B60: 계 | M60: =SUM(M5:M59) -> 0

Sheet 간지1
A1: 5. 일 위 대 가 표

Sheet 대가목록
B1: 일 위 대 가 목 록 표
B2: 순 번 | C2: 공 정 명 | D2: 규 격 | E2: 단위 | F2: 수량 | G2: 재료비 | H2: 노무비 | I2: 경 비 | J2: 계 | K2: 비고
A3: =C3&D3 -> 광케이블 포설가공포설 | B3: =ROW()-2 -> 1 | C3: =VLOOKUP($B3,일위대가!$C$2:$N$823,2,0) -> 광케이블 포설 | D3: =IF(VLOOKUP($B3,일위대가!$C$2:$N$782,3,0)="","",VLOOKUP($B3,일위대가!$C$2:$N$823,3,0)) -> 가공포설 | E3: =VLOOKUP($B3,일위대가!$C$2:$N$782,4,0) -> 100m | F3: 1 | J3: =SUM(G3:I3) -> 0
A4: =C4&D4 -> 광케이블 포설지중포설 | B4: =ROW()-2 -> 2 | C4: =VLOOKUP($B4,일위대가!$C$2:$N$823,2,0) -> 광케이블 포설 | D4: =IF(VLOOKUP($B4,일위대가!$C$2:$N$782,3,0)="","",VLOOKUP($B4,일위대가!$C$2:$N$823,3,0)) -> 지중포설 | E4: =VLOOKUP($B4,일위대가!$C$2:$N$782,4,0) -> 100m | F4: 1 | J4: =SUM(G4:I4) -> 0
A5: =C5&D5 -> 꼬임케이블 포설UTP,옥외 | B5: =ROW()-2 -> 3 | C5: =VLOOKUP($B5,일위대가!$C$2:$N$823,2,0) -> 꼬임케이블 포설 | D5: =IF(VLOOKUP($B5,일위대가!$C$2:$N$782,3,0)="","",VLOOKUP($B5,일위대가!$C$2:$N$823,3,0)) -> UTP,옥외 | E5: =VLOOKUP($B5,일위대가!$C$2:$N$782,4,0) -> 10m | F5: 1 | J5: =SUM(G5:I5) -> 0
A6: =C6&D6 -> 꼬임케이블 포설UTP,옥외, 2조동시 | B6: =ROW()-2 -> 4 | C6: =VLOOKUP($B6,일위대가!$C$2:$N$823,2,0) -> 꼬임케이블 포설 | D6: =IF(VLOOKUP($B6,일위대가!$C$2:$N$782,3,0)="","",VLOOKUP($B6,일위대가!$C$2:$N$823,3,0)) -> UTP,옥외, 2조동시 | E6: =VLOOKUP($B6,일위대가!$C$2:$N$782,4,0) -> 10m | F6: 1 | J6: =SUM(G6:I6) -> 0
A7: =C7&D7 -> 꼬임케이블 포설UTP,구내 | B7: =ROW()-2 -> 5 | C7: =VLOOKUP($B7,일위대가!$C$2:$N$823,2,0) -> 꼬임케이블 포설 | D7: =IF(VLOOKUP($B7,일위대가!$C$2:$N$782,3,0)="","",VLOOKUP($B7,일위대가!$C$2:$N$823,3,0)) -> UTP,구내 | E7: =VLOOKUP($B7,일위대가!$C$2:$N$782,4,0) -> 10m | F7: 1 | J7: =SUM(G7:I7) -> 0
A8: =C8&D8 -> 전원 케이블 포가설F-CV 6㎟/2C | B8: =ROW()-2 -> 6 | C8: =VLOOKUP($B8,일위대가!$C$2:$N$823,2,0) -> 전원 케이블 포가설 | D8: =IF(VLOOKUP($B8,일위대가!$C$2:$N$782,3,0)="","",VLOOKUP($B8,일위대가!$C$2:$N$823,3,0)) -> F-CV 6㎟/2C | E8: =VLOOKUP($B8,일위대가!$C$2:$N$782,4,0) -> 10m | F8: 1 | J8: =SUM(G8:I8) -> 0
A9: =C9&D9 -> 스위칭 허브 설치4F8T | B9: =ROW()-2 -> 7 | C9: =VLOOKUP($B9,일위대가!$C$2:$N$823,2,0) -> 스위칭 허브 설치 | D9: =IF(VLOOKUP($B9,일위대가!$C$2:$N$782,3,0)="","",VLOOKUP($B9,일위대가!$C$2:$N$823,3,0)) -> 4F8T | E9: =VLOOKUP($B9,일위대가!$C$2:$N$782,4,0) -> 대 | F9: 1 | J9: =SUM(G9:I9) -> 0
A10: =C10&D10 -> 스위칭 허브 설치2F8T | B10: =ROW()-2 -> 8 | C10: =VLOOKUP($B10,일위대가!$C$2:$N$823,2,0) -> 스위칭 허브 설치 | D10: =IF(VLOOKUP($B10,일위대가!$C$2:$N$782,3,0)="","",VLOOKUP($B10,일위대가!$C$2:$N$823,3,0)) -> 2F8T | E10: =VLOOKUP($B10,일위대가!$C$2:$N$782,4,0) -> 대 | F10: 1 | J10: =SUM(G10:I10) -> 0
A11: =C11&D11 -> 더미 허브 설치Hub-4,Poe | B11: =ROW()-2 -> 9 | C11: =VLOOKUP($B11,일위대가!$C$2:$N$823,2,0) -> 더미 허브 설치 | D11: =IF(VLOOKUP($B11,일위대가!$C$2:$N$782,3,0)="","",VLOOKUP($B11,일위대가!$C$2:$N$823,3,0)) -> Hub-4,Poe | E11: =VLOOKUP($B11,일위대가!$C$2:$N$782,4,0) -> 대 | F11: 1 | J11: =SUM(G11:I11) -> 0
A12: =C12&D12 -> 광분배반(FDF)신설mini-FDF | B12: =ROW()-2 -> 10 | C12: =VLOOKUP($B12,일위대가!$C$2:$N$823,2,0) -> 광분배반(FDF)신설 | D12: =IF(VLOOKUP($B12,일위대가!$C$2:$N$782,3,0)="","",VLOOKUP($B12,일위대가!$C$2:$N$823,3,0)) -> mini-FDF | E12: =VLOOKUP($B12,일위대가!$C$2:$N$782,4,0) -> 대 | F12: 1 | J12: =SUM(G12:I12) -> 0
A13: =C13&D13 -> 광모듈 설치WDM-10km | B13: =ROW()-2 -> 11 | C13: =VLOOKUP($B13,일위대가!$C$2:$N$823,2,0) -> 광모듈 설치 | D13: =IF(VLOOKUP($B13,일위대가!$C$2:$N$782,3,0)="","",VLOOKUP($B13,일위대가!$C$2:$N$823,3,0)) -> WDM-10km | E13: =VLOOKUP($B13,일위대가!$C$2:$N$782,4,0) -> 개 | F13: 1 | J13: =SUM(G13:I13) -> 0
A14: =C14&D14 -> OJC 포설LC/SC-1m | B14: =ROW()-2 -> 12 | C14: =VLOOKUP($B14,일위대가!$C$2:$N$823,2,0) -> OJC 포설 | D14: =IF(VLOOKUP($B14,일위대가!$C$2:$N$782,3,0)="","",VLOOKUP($B14,일위대가!$C$2:$N$823,3,0)) -> LC/SC-1m | E14: =VLOOKUP($B14,일위대가!$C$2:$N$782,4,0) -> 본 | F14: 1 | J14: =SUM(G14:I14) -> 0
... A59: =C59&D59 -> 잔토처리현장처리 | B59: =ROW()-2 -> 57 | C59: =VLOOKUP($B59,일위대가!$C$2:$N$823,2,0) -> 잔토처리 | D59: =IF(VLOOKUP($B59,일위대가!$C$2:$N$782,3,0)="","",VLOOKUP($B59,일위대가!$C$2:$N$823,3,0)) -> 현장처리 | E59: =VLOOKUP($B59,일위대가!$C$2:$N$782,4,0) -> ㎥ | F59: 1 | J59: =SUM(G59:I59) -> 0

Sheet 일위대가
C1: 일 위 대 가 표
C2: 번호 | D2: 공 정 명 | E2: 규 격 | F2: 단위 | G2: 수 량 | H2: 재 료 비 | J2: 노 무 비 | L2: 경 비 | N2: 비 고
H3: 단 가 | I3: 금 액 | J3: 단 가 | K3: 금 액 | L3: 단 가 | M3: 금 액
C4: =INT(ROW()/9+1) -> 1 | D4: 광케이블 포설 | E4: 가공포설 | F4: 100m
D5: 광케이블설치사 | F5: 인
D6: 보통인부 | F6: 인
A7: =D7&E7 -> 광케이블SM8C | D7: 광케이블 | E7: SM8C | F7: m
D8: 공구손료 | E8: 노무비의 3% | F8: 요율
B12: =C4&C12 -> 1계 | C12: 계
C13: =INT(ROW()/9+1) -> 2 | D13: 광케이블 포설 | E13: 지중포설 | F13: 100m
D14: 광케이블설치사 | F14: 인
D15: 보통인부 | F15: 인
A16: =D16&E16 -> 광케이블SM8C | D16: 광케이블 | E16: SM8C | F16: m
D17: 공구손료 | E17: 노무비의 3% | F17: 요율
B21: =C13&C21 -> 2계 | C21: 계
C22: =INT(ROW()/9+1) -> 3 | D22: 꼬임케이블 포설 | E22: UTP,옥외 | F22: 10m
D23: 통신케이블공 | F23: 인
A24: =D24&E24 -> UTP케이블LS CCTV POE 장거리용 | D24: UTP케이블 | E24: LS CCTV POE 장거리용 | F24: m
D25: 공구손료 | E25: 노무비의 3% | F25: 요율
B30: =C22&C30 -> 3계 | C30: 계
C31: =INT(ROW()/9+1) -> 4 | D31: 꼬임케이블 포설 | E31: UTP,옥외, 2조동시 | F31: 10m
D32: 통신케이블공 | F32: 인
A33: =D33&E33 -> UTP케이블LS CCTV POE 장거리용 | D33: UTP케이블 | E33: LS CCTV POE 장거리용 | F33: m
D34: 공구손료 | E34: 노무비의 3% | F34: 요율
B39: =C31&C39 -> 4계 | C39: 계
C40: =INT(ROW()/9+1) -> 5 | D40: 꼬임케이블 포설 | E40: UTP,구내 | F40: 10m
D41: 통신케이블공 | F41: 인
A42: =D42&E42 -> UTP케이블LS CCTV POE 장거리용 | D42: UTP케이블 | E42: LS CCTV POE 장거리용 | F42: m
D43: 공구손료 | E43: 노무비의 3% | F43: 요율
B48: =C40&C48 -> 5계 | C48: 계
C49: =INT(ROW()/9+1) -> 6 | D49: 전원 케이블 포가설 | E49: =E51 -> F-CV 6㎟/2C | F49: 10m
D50: 통신케이블공 | F50: 인
A51: =D51&E51 -> 전원 케이블F-CV 6㎟/2C | D51: 전원 케이블 | E51: F-CV 6㎟/2C | F51: m
D52: 공구손료 | E52: 기본품의3% | F52: 요율
B57: =C49&C57 -> 6계 | C57: 계
C58: =INT(ROW()/9+1) -> 7 | D58: 스위칭 허브 설치 | E58: =E61 -> 4F8T | F58: 대
D59: S/W시험사 | F59: 인
D60: H/W시험사 | F60: 인
A61: =D61&E61 -> 스위칭 허브4F8T | D61: 스위칭 허브 | E61: 4F8T | F61: 개
D62: 공구손료 | E62: 노무비의 3% | F62: 요율
...

Sheet 간지2
A1: 6. 공 정 집 계 표

Sheet 집계표
B1: 공정 집계표
B2: 순 | C2: 공 정 명 | D2: 규 격 | E2: 단위 | F2: 설계수량 | H2: 계 | I2: 비고
A4: =C4&D4 -> 광케이블 포설가공포설 | B4: =ROW()-3 -> 1 | C4: =VLOOKUP(B4,대가목록!$B$3:$K$94,2,0) -> 광케이블 포설 | D4: =VLOOKUP(B4,대가목록!$B$3:$K$94,3,0) -> 가공포설 | E4: =VLOOKUP(B4,대가목록!$B$3:$K$94,4,0) -> 100m | F4: 10 | H4: =SUM(F4:G4) -> 10
A5: =C5&D5 -> 광케이블 포설지중포설 | B5: =ROW()-3 -> 2 | C5: =VLOOKUP(B5,대가목록!$B$3:$K$94,2,0) -> 광케이블 포설 | D5: =VLOOKUP(B5,대가목록!$B$3:$K$94,3,0) -> 지중포설 | E5: =VLOOKUP(B5,대가목록!$B$3:$K$94,4,0) -> 100m | F5: 15.35 | H5: =SUM(F5:G5) -> 15.35
A6: =C6&D6 -> 꼬임케이블 포설UTP,옥외 | B6: =ROW()-3 -> 3 | C6: =VLOOKUP(B6,대가목록!$B$3:$K$94,2,0) -> 꼬임케이블 포설 | D6: =VLOOKUP(B6,대가목록!$B$3:$K$94,3,0) -> UTP,옥외 | E6: =VLOOKUP(B6,대가목록!$B$3:$K$94,4,0) -> 10m | F6: 390.1 | H6: =SUM(F6:G6) -> 390.1
A7: =C7&D7 -> 꼬임케이블 포설UTP,옥외, 2조동시 | B7: =ROW()-3 -> 4 | C7: =VLOOKUP(B7,대가목록!$B$3:$K$94,2,0) -> 꼬임케이블 포설 | D7: =VLOOKUP(B7,대가목록!$B$3:$K$94,3,0) -> UTP,옥외, 2조동시 | E7: =VLOOKUP(B7,대가목록!$B$3:$K$94,4,0) -> 10m | F7: 40.8 | H7: =SUM(F7:G7) -> 40.8
A8: =C8&D8 -> 꼬임케이블 포설UTP,구내 | B8: =ROW()-3 -> 5 | C8: =VLOOKUP(B8,대가목록!$B$3:$K$94,2,0) -> 꼬임케이블 포설 | D8: =VLOOKUP(B8,대가목록!$B$3:$K$94,3,0) -> UTP,구내 | E8: =VLOOKUP(B8,대가목록!$B$3:$K$94,4,0) -> 10m | F8: 171.2 | H8: =SUM(F8:G8) -> 171.2
A9: =C9&D9 -> 전원 케이블 포가설F-CV 6㎟/2C | B9: =ROW()-3 -> 6 | C9: =VLOOKUP(B9,대가목록!$B$3:$K$94,2,0) -> 전원 케이블 포가설 | D9: =VLOOKUP(B9,대가목록!$B$3:$K$94,3,0) -> F-CV 6㎟/2C | E9: =VLOOKUP(B9,대가목록!$B$3:$K$94,4,0) -> 10m | F9: 113 | H9: =SUM(F9:G9) -> 113
A10: =C10&D10 -> 스위칭 허브 설치4F8T | B10: =ROW()-3 -> 7 | C10: =VLOOKUP(B10,대가목록!$B$3:$K$94,2,0) -> 스위칭 허브 설치 | D10: =VLOOKUP(B10,대가목록!$B$3:$K$94,3,0) -> 4F8T | E10: =VLOOKUP(B10,대가목록!$B$3:$K$94,4,0) -> 대 | F10: 3 | H10: =SUM(F10:G10) -> 3
A11: =C11&D11 -> 스위칭 허브 설치2F8T | B11: =ROW()-3 -> 8 | C11: =VLOOKUP(B11,대가목록!$B$3:$K$94,2,0) -> 스위칭 허브 설치 | D11: =VLOOKUP(B11,대가목록!$B$3:$K$94,3,0) -> 2F8T | E11: =VLOOKUP(B11,대가목록!$B$3:$K$94,4,0) -> 대 | F11: 40 | H11: =SUM(F11:G11) -> 40
A12: =C12&D12 -> 더미 허브 설치Hub-4,Poe | B12: =ROW()-3 -> 9 | C12: =VLOOKUP(B12,대가목록!$B$3:$K$94,2,0) -> 더미 허브 설치 | D12: =VLOOKUP(B12,대가목록!$B$3:$K$94,3,0) -> Hub-4,Poe | E12: =VLOOKUP(B12,대가목록!$B$3:$K$94,4,0) -> 대 | F12: 97 | H12: =SUM(F12:G12) -> 97
A13: =C13&D13 -> 광분배반(FDF)신설mini-FDF | B13: =ROW()-3 -> 10 | C13: =VLOOKUP(B13,대가목록!$B$3:$K$94,2,0) -> 광분배반(FDF)신설 | D13: =VLOOKUP(B13,대가목록!$B$3:$K$94,3,0) -> mini-FDF | E13: =VLOOKUP(B13,대가목록!$B$3:$K$94,4,0) -> 대 | F13: 14 | H13: =SUM(F13:G13) -> 14
A14: =C14&D14 -> 광모듈 설치WDM-10km | B14: =ROW()-3 -> 11 | C14: =VLOOKUP(B14,대가목록!$B$3:$K$94,2,0) -> 광모듈 설치 | D14: =VLOOKUP(B14,대가목록!$B$3:$K$94,3,0) -> WDM-10km | E14: =VLOOKUP(B14,대가목록!$B$3:$K$94,4,0) -> 개 | F14: 56 | H14: =SUM(F14:G14) -> 56
A15: =C15&D15 -> OJC 포설LC/SC-1m | B15: =ROW()-3 -> 12 | C15: =VLOOKUP(B15,대가목록!$B$3:$K$94,2,0) -> OJC 포설 | D15: =VLOOKUP(B15,대가목록!$B$3:$K$94,3,0) -> LC/SC-1m | E15: =VLOOKUP(B15,대가목록!$B$3:$K$94,4,0) -> 본 | F15: 56 | H15: =SUM(F15:G15) -> 56
... A57: =C57&D57 -> 포장복구ASP, 소파, c-type(12㎡이하) | B57: =ROW()-3 -> 54 | C57: =VLOOKUP(B57,대가목록!$B$3:$K$94,2,0) -> 포장복구 | D57: =VLOOKUP(B57,대가목록!$B$3:$K$94,3,0) -> ASP, 소파, c-type(12㎡이하) | E57: =VLOOKUP(B57,대가목록!$B$3:$K$94,4,0) -> ㎡ | F57: 1 | H57: =SUM(F57:G57) -> 1

Sheet 수량산출
G1: 43 | N1: 1 | O1: 2 | P1: 3 | Q1: 4 | R1: 5 | S1: 6 | T1: 7 | U1: 8 | V1: 9 | W1: 10 | X1: 11 | Y1: 12 | Z1: 13 | AA1: 14 | AB1: 15 | AC1: 16 | AD1: 17 | AE1: 18 | AF1: 19 | AG1: 20 | AH1: 21 | AI1: 22 | AJ1: 23 | AK1: 24 | AL1: 25 | AM1: 26 | AN1: 27 | AO1: 28 | AP1: 29 | AQ1: 30 | AR1: 31 | AS1: 32 | AT1: 33 | AU1: 34 | AV1: 35 | AW1: 36 | AX1: 37 | AY1: 38 | AZ1: 39 | BA1: 40 | BB1: 41 | BC1: 42 | BD1: 44 | BE1: 45 | BF1: 46 | BG1: 47 | BH1: 48
A2: 순 | B2: 설 치 장 소 | E2: AP | J2: 유동인구 센서 | K2: CCTV 카메라 | N2: 케이블 | T2: 네트워크 설비 | AC2: pole 설치 및 부대공사 | AL2: CAM철거 | AM2: ARM/지지대 | AP2: 함체 | AR2: 기초공사 | AT2: 전원설비 | AW2: 접지공사 & 피뢰 | BA2: 안내판 | BC2: AP | BF2: 배관 | BI2: 통신회선 청약 | BK2: 수전
B3: 시 | D3: 종 | E3: 지향성 | F3: 무 지향성 | G3: 옥내형 | H3: 메시 | I3: 브릿지 | K3: 회전형IP | L3: 블릿 | M3: 브라켓 | N3: SM8C/가공 | O3: SM8C/지하 | P3: UTP-4P | Q3: UTP-4P(동시) | R3: UTP-4P/구내 | S3: 전원CA | T3: SFP-4,TP-8 | U3: SFP-2,TP-8 | V3: Hub-4P | W3: FDF-4P | X3: SFP | Y3: OJC | Z3: 국내성단 | AA3: 일반접속 | AB3: RJ-45 | AC3: L=7m | AD3: L=6m | AE3: L=4m | AF3: L=3m | AG3: 밴드 | AH3: 크램프 | AI3: 조가선 | AJ3: 바인딩 | AK3: 행거 | AL3: 회전/불 | AM3: ARM (1m) | AN3: ARM (2m) | AO3: 지지대 | AP3: 중 | AQ3: 소 | AR3: 기성 | AS3: 현타 | AT3: ELB | AU3: SPD | AV3: 콘센트 | AW3: 접지봉 | AX3: 접지선 | AY3: 압착단자 | AZ3: 피뢰 | BA3: CCTV | BB3: WiFi/스티커 | BC3: 설치 | BD3: 철거(재) | BE3: 철거(불) | BF3: F-Φ28 | BG3: CDP-Φ36 | BH3: 풀박스 | BI3: 유선 | BJ3: 무선 | BK3: 한전-가 | BL3: 한전-지
A4: 계 | E4: =SUM(E5:E233) -> 0 | F4: =SUM(F5:F233) -> 0 | G4: =SUM(G5:G233) -> 0 | H4: =SUM(H5:H233) -> 0 | I4: =SUM(I5:I233) -> 0 | J4: =SUM(J5:J233) -> 0 | K4: =SUM(K5:K233) -> 0 | L4: =SUM(L5:L233) -> 0 | ... BL4: =SUM(BL5:BL233) -> 0
A5: =ROW()-4 -> 1 | B5: 강서 녹산수문공원(sp)
A6: =A5+1 -> 2 | B6: 강서 산책로 및 자전거도로(sp)
A7: =A6+1 -> 3 | B7: 강서체육관 앞 | D7: 강서구청
B8: =D7 -> 강서구청 | C8: ~ | D8: 강서체육관
A9: =A7+1 -> 4 | B9: =D8 -> 강서체육관 | C9: ~ | D9: 강서체육관 하키경기장 앞
A10: =A9+1 -> 5 | B10: 낙동제방
B11: 스마트 폴 B-AP | C11: ~ | D11: AP#1
B12: =B11 -> 스마트 폴 B-AP | C12: ~ | D12: AP#2
B13: AP#2 | C13: ~ | D13: AP#3
B14: AP#3 | D14: AP#4
B15: AP#4 | D15: AP#5
A16: =A10+1 -> 6 | B16: 대저 낙동강 둔치공원
A17: =A16+1 -> 7 | B17: 대저 산책로 및 자전거도로
A18: =A17+1 -> 8 | B18: 대저생태공원
B19: 캠핑장 사무실 | C19: ~ | D19: AP#1
B20: AP#2
B21: AP#3
B22: AP#4
B23: AP#5
B24: 스마트 폴 B-AP | C24: ~ | D24: AP#6
B25: AP#7
B26: AP#8
B27: AP#9
B28: AP#10
A29: =A18+1 -> 9 | B29: 대저생태공원(SP)
A30: =A29+1 -> 10 | B30: 대저생태공원 캠핑장(SP)
A31: =A30+1 -> 11 | B31: 대항항 포진지 동굴
B32: AP#1
B33: AP#1 | C33: ~ | D33: AP#2
B34: AP#2 | C34: ~ | D34: AP#3
B35: AP#3 | C35: ~ | D35: AP#4
B36: AP#4 | C36: ~ | D36: AP#5
A37: =A31+1 -> 12 | B37: 맥도생태공원(45)
A38: =A37+1 -> 13 | B38: 맥도생태공원(42)
A39: =A38+1 -> 14 | B39: 맥도생태공원(40)
A40: =A39+1 -> 15 | B40: 외양포 일본군 포진지 | C40: ~ | D40: =B41 -> 관리사무소 옆 한전 pole
...

Sheet 자재집계
B1: 관급자재 및 사급자재 조서
B2: [사급자재]
B3: 순 | C3: 품명 | D3: 규격 | E3: 단위 | F3: 수량 | G3: 단가 | H3: 금액 | I3: 조달번호 | J3: 비 고
A4: =C4&D4 -> ARML=1m | B4: =ROW()-3 -> 1 | C4: ARM | D4: L=1m | E4: 기 | F4: 2 | H4: =G4*F4 -> 0
A5: =C5&D5 -> ARML=2m | B5: =ROW()-3 -> 2 | C5: ARM | D5: L=2m | E5: 기 | F5: 1 | H5: =G5*F5 -> 0
A6: =C6&D6 -> CCTV 안내판AL2T | B6: =ROW()-3 -> 3 | C6: CCTV 안내판 | D6: AL2T | E6: 개 | F6: 5 | H6: =G6*F6 -> 0
A7: =C7&D7 -> CD-PPE 36mm | B7: =ROW()-3 -> 4 | C7: CD-P | D7: PE 36mm | E7: m | F7: 660 | H7: =G7*F7 -> 0
A8: =C8&D8 -> ELB20AF | B8: =ROW()-3 -> 5 | C8: ELB | D8: 20AF | E8: 개 | F8: 55 | H8: =G8*F8 -> 0
A9: =C9&D9 -> FDFmini-4port(SC) | B9: =ROW()-3 -> 6 | C9: FDF | D9: mini-4port(SC) | E9: 개 | F9: 14 | H9: =G9*F9 -> 0
A10: =C10&D10 -> OJCLC/SC-1m | B10: =ROW()-3 -> 7 | C10: OJC | D10: LC/SC-1m | E10: 개 | F10: 56 | H10: =G10*F10 -> 0
A11: =C11&D11 -> Pole3m,sus | B11: =ROW()-3 -> 8 | C11: Pole | D11: 3m,sus | E11: 본 | F11: 3 | H11: =G11*F11 -> 0
A12: =C12&D12 -> Pole4m,sus | B12: =ROW()-3 -> 9 | C12: Pole | D12: 4m,sus | E12: 본 | F12: 4 | H12: =G12*F12 -> 0
A13: =C13&D13 -> Pole6m,sus | B13: =ROW()-3 -> 10 | C13: Pole | D13: 6m,sus | E13: 본 | F13: 4 | H13: =G13*F13 -> 0
A14: =C14&D14 -> RJ-45Cat.5E | B14: =ROW()-3 -> 11 | C14: RJ-45 | D14: Cat.5E | E14: 개 | F14: 714 | H14: =G14*F14 -> 0
A15: =C15&D15 -> SFPWDM-10km | B15: =ROW()-3 -> 12 | C15: SFP | D15: WDM-10km | E15: 개 | F15: 56 | H15: =G15*F15 -> 0
... A47: =C47&D47 -> 함체 스티커3방향, WiFi 존 홍보용 | B47: =ROW()-3 -> 44 | C47: 함체 스티커 | D47: 3방향, WiFi 존 홍보용 | E47: 매 | F47: 53 | H47: =G47*F47 -> 0
B48: 계 | H48: =SUM(H4:H47) -> 0

Sheet 기계경비
B1: 기계경비 산출조서
B2: 중 기 명 | C2: 규격 | D2: 수 량 | E2: 단위 | F2: 재 료 비 | H2: 노 무 비 | J2: 경 비 | L2: 합 계 | N2: 비 고
F3: 단 가 | G3: 금 액 | H3: 단 가 | I3: 금 액 | J3: 단 가 | K3: 금 액 | L3: 단 가 | M3: 금 액
B4: 초고압로봇 및 파워팩 | C4: 880hp | D4: 511483
A5: =SUBSTITUTE((B5&C5)," ","") -> 경유저유황 | B5: 경유 | C5: 저유황 | D5: 101 | E5: ℓ | F5: =VLOOKUP(A5,단가조서!$A$4:$T$33,15,0) -> #N/A | G5: =TRUNC($D5*F5,1) -> #N/A | L5: =F5+H5+J5 -> #N/A | M5: =G5+I5+K5 -> #N/A
B6: 잡품 | C6: 주연료비의% | D6: 24 | E6: % | F6: =G5 -> #N/A | G6: =TRUNC($D6/100*F6,1) -> #N/A | L6: =F6+H6+J6 -> #N/A | M6: =G6+I6+K6 -> #N/A
B7: 건설기계운전사 | D7: =1/8*16/12*25/20 -> 0.20833333 | E7: 인 | H7: =VLOOKUP(SUBSTITUTE(B7," ",""),노임단가,2,0) -> 230245 | I7: =TRUNC($D7*H7,1) -> 47967.7 | L7: =F7+H7+J7 -> 230245 | M7: =G7+I7+K7 -> 47967.7
B8: 기계손료 | D8: 0.2958 | J8: =+D4 -> 511483 | K8: =TRUNC($D8*J8,1) -> 151296.6 | L8: =F8+H8+J8 -> 511483 | M8: =G8+I8+K8 -> 151296.6
B9: 계 | G9: =INT(SUM(G5:G8)) -> #N/A | I9: =INT(SUM(I5:I8)) -> 47967 | K9: =INT(SUM(K5:K8)) -> 151296 | M9: =SUM(G9:K9) -> #N/A
B10: 초고압로봇 및 파워팩 | C10: 200hp | D10: 293076
A11: =SUBSTITUTE((B11&C11)," ","") -> 경유저유황 | B11: 경유 | C11: 저유황 | D11: 34.2 | E11: ℓ | F11: =VLOOKUP(A11,단가조서!$A$4:$T$33,15,0) -> #N/A | G11: =TRUNC($D11*F11,1) -> #N/A | L11: =F11+H11+J11 -> #N/A | M11: =G11+I11+K11 -> #N/A
B12: 잡품 | C12: 주연료비의% | D12: 20 | E12: % | F12: =G11 -> #N/A | G12: =TRUNC($D12/100*F12,1) -> #N/A | L12: =F12+H12+J12 -> #N/A | M12: =G12+I12+K12 -> #N/A
B13: 건설기계운전사 | D13: =1/8*16/12*25/20 -> 0.20833333 | E13: 인 | H13: =VLOOKUP(SUBSTITUTE(B13," ",""),노임단가,2,0) -> 230245 | I13: =TRUNC($D13*H13,1) -> 47967.7 | L13: =F13+H13+J13 -> 230245 | M13: =G13+I13+K13 -> 47967.7
B14: 기계손료 | D14: 0.3867 | J14: =+D10 -> 293076 | K14: =TRUNC($D14*J14,1) -> 113332.4 | L14: =F14+H14+J14 -> 293076 | M14: =G14+I14+K14 -> 113332.4
B15: 계 | G15: =INT(SUM(G11:G14)) -> #N/A | I15: =INT(SUM(I11:I14)) -> 47967 | K15: =INT(SUM(K11:K14)) -> 113332 | M15: =SUM(G15:K15) -> #N/A
B16: 싸인카 | C16: 자주식 | D16: 29358
A17: =SUBSTITUTE((B17&C17)," ","") -> 경유저유황 | B17: 경유 | C17: 저유황 | D17: 3.8 | E17: L | F17: =VLOOKUP(A17,단가조서!$A$4:$T$33,15,0) -> #N/A | G17: =TRUNC($D17*F17,1) -> #N/A | L17: =F17+H17+J17 -> #N/A | M17: =G17+I17+K17 -> #N/A
A18: =SUBSTITUTE((B18&C18)," ","") -> 공업용휘발유무연 | B18: 공업용휘발유 | C18: 무연 | D18: 0.9 | E18: L | F18: =VLOOKUP(A18,단가조서!$A$4:$T$33,15,0) -> #N/A | G18: =TRUNC($D18*F18,1) -> #N/A | L18: =F18+H18+J18 -> #N/A | M18: =G18+I18+K18 -> #N/A
B19: 화물차운전사 | D19: =1/8*16/12*25/20 -> 0.20833333 | E19: 인 | H19: =VLOOKUP(SUBSTITUTE(B19," ",""),노임단가,2,0) -> 192000 | I19: =TRUNC($D19*H19,1) -> 40000 | L19: =F19+H19+J19 -> 192000 | M19: =G19+I19+K19 -> 40000
B20: 기계손료 | D20: 0.359 | J20: =+D16 -> 29358 | K20: =TRUNC($D20*J20,1) -> 10539.5 | L20: =F20+H20+J20 -> 29358 | M20: =G20+I20+K20 -> 10539.5
B21: 계 | G21: =INT(SUM(G17:G20)) -> #N/A | I21: =INT(SUM(I17:I20)) -> 40000 | K21: =INT(SUM(K17:K20)) -> 10539 | M21: =SUM(G21:K21) -> #N/A
B22: 작업차(2.5TON WCAP) | C22: 2.5TON | D22: 26860
A23: =SUBSTITUTE((B23&C23)," ","") -> 경유저유황 | B23: 경유 | C23: 저유황 | D23: 2.9 | E23: L | F23: =VLOOKUP(A23,단가조서!$A$4:$T$33,15,0) -> #N/A | G23: =TRUNC($D23*F23,1) -> #N/A | L23: =F23+H23+J23 -> #N/A | M23: =G23+I23+K23 -> #N/A
B24: 잡품 | C24: 주연료비의% | D24: 38 | E24: % | F24: =G23 -> #N/A | G24: =TRUNC($D24/100*F24,1) -> #N/A | L24: =F24+H24+J24 -> #N/A | M24: =G24+I24+K24 -> #N/A
B25: 화물차운전사 | D25: =1/8*16/12*25/20 -> 0.20833333 | E25: 인 | H25: =VLOOKUP(SUBSTITUTE(B25," ",""),노임단가,2,0) -> 192000 | I25: =TRUNC($D25*H25,1) -> 40000 | L25: =F25+H25+J25 -> 192000 | M25: =G25+I25+K25 -> 40000
B26: 기계손료 | D26: 0.2901 | J26: =+D22 -> 26860 | K26: =TRUNC($D26*J26,1) -> 7792 | L26: =F26+H26+J26 -> 26860 | M26: =G26+I26+K26 -> 7792
B27: 계 | G27: =INT(SUM(G23:G26)) -> #N/A | I27: =INT(SUM(I23:I26)) -> 40000 | K27: =INT(SUM(K23:K26)) -> 7792 | M27: =SUM(G27:K27) -> #N/A
B28: 크레인(타이어) | C28: 25TON | D28: 266616
A29: =SUBSTITUTE((B29&C29)," ","") -> 경유저유황 | B29: 경유 | C29: 저유황 | D29: 6.1 | E29: L | F29: =VLOOKUP(A29,단가조서!$A$4:$T$33,15,0) -> #N/A | G29: =TRUNC($D29*F29,1) -> #N/A | L29: =F29+H29+J29 -> #N/A | M29: =G29+I29+K29 -> #N/A
B30: 잡품 | C30: 주연료비의% | D30: 39 | E30: % | F30: =G29 -> #N/A | G30: =TRUNC($D30/100*F30,1) -> #N/A | L30: =F30+H30+J30 -> #N/A | M30: =G30+I30+K30 -> #N/A
B31: 건설기계운전사 | D31: =1/8*16/12*25/20 -> 0.20833333 | E31: 인 | H31: =VLOOKUP(SUBSTITUTE(B31," ",""),노임단가,2,0) -> 230245 | I31: =TRUNC($D31*H31,1) -> 47967.7 | L31: =F31+H31+J31 -> 230245 | M31: =G31+I31+K31 -> 47967.7
B32: 기계손료 | D32: =1991*0.0001 -> 0.1991 | J32: =+D28 -> 266616 | K32: =TRUNC($D32*J32,1) -> 53083.2 | L32: =F32+H32+J32 -> 266616 | M32: =G32+I32+K32 -> 53083.2
B33: 계 | G33: =INT(SUM(G29:G32)) -> #N/A | I33: =INT(SUM(I29:I32)) -> 47967 | K33: =INT(SUM(K29:K32)) -> 53083 | M33: =SUM(G33:K33) -> #N/A
B34: 커터 | C34: 320~400mm | D34: 2838000
A35: =SUBSTITUTE((B35&C35)," ","") -> 공업용휘발유무연 | B35: 공업용휘발유 | C35: 무연 | D35: 5.6 | E35: L | F35: =VLOOKUP(A35,단가조서!$A$4:$T$33,15,0) -> #N/A | G35: =TRUNC($D35*F35,1) -> #N/A | L35: =F35+H35+J35 -> #N/A | M35: =G35+I35+K35 -> #N/A
B36: 잡품 | C36: 주연료비의% | D36: 20 | E36: % | F36: =G35 -> #N/A | G36: =TRUNC($D36/100*F36,1) -> #N/A | L36: =F36+H36+J36 -> #N/A | M36: =G36+I36+K36 -> #N/A
B37: 일반기계운전사 | D37: =1/8*16/12*25/20 -> 0.20833333 | E37: 인 | H37: =VLOOKUP(SUBSTITUTE(B37," ",""),노임단가,2,0) -> 151669 | I37: =TRUNC($D37*H37,1) -> 31597.7 | L37: =F37+H37+J37 -> 151669 | M37: =G37+I37+K37 -> 31597.7
B38: 기계손료 | D38: =6266*0.0000001 -> 0.0006266 | J38: =+D34 -> 2838000 | K38: =TRUNC($D38*J38,1) -> 1778.2 | L38: =F38+H38+J38 -> 2838000 | M38: =G38+I38+K38 -> 1778.2
B39: 계 | G39: =INT(SUM(G35:G38)) -> #N/A | I39: =INT(SUM(I35:I38)) -> 31597 | K39: =INT(SUM(K35:K38)) -> 1778 | M39: =SUM(G39:K39) -> #N/A

Sheet 간지3
A1: 7. 단 가 대 비 표

Sheet 단가조서
B1: 단가비교표(단가조사 기준 : 2022년10월)
B2: 품 명 | C2: 규 격 | D2: 단위 | E2: 물가정보 | G2: 유통물가 | I2: 물가자료 | K2: 거래가격 | M2: 견적서 | Q2: 적용가격 | R2: 조달물자 | T2: 비고
E3: 금 액 | F3: Page | G3: 금 액 | H3: Page | I3: 금 액 | J3: Page | K3: 금 액 | L3: Page | M3: 단가 | N3: 제조사 | O3: 단가 | P3: 제조사 | R3: 금액 | S3: 분류번호
A4: =B4&C4 -> ARML=1m | B4: ARM | C4: L=1m | D4: 기
A5: =B5&C5 -> ARML=2m | B5: ARM | C5: L=2m | D5: 기
A6: =B6&C6 -> CCTV 안내판AL2T | B6: CCTV 안내판 | C6: AL2T | D6: 개
A7: =B7&C7 -> CD-PPE 36mm | B7: CD-P | C7: PE 36mm | D7: m
A8: =B8&C8 -> ELB20AF | B8: ELB | C8: 20AF | D8: 개
A9: =B9&C9 -> FDFmini-4port(SC) | B9: FDF | C9: mini-4port(SC) | D9: 개
A10: =B10&C10 -> OJCLC/SC-1m | B10: OJC | C10: LC/SC-1m | D10: 개
A11: =B11&C11 -> Pole3m,sus | B11: Pole | C11: 3m,sus | D11: 본
A12: =B12&C12 -> Pole4m,sus | B12: Pole | C12: 4m,sus | D12: 본
A13: =B13&C13 -> Pole6m,sus | B13: Pole | C13: 6m,sus | D13: 본
A14: =B14&C14 -> RJ-45Cat.5E | B14: RJ-45 | C14: Cat.5E | D14: 개
A15: =B15&C15 -> SFPWDM-10km | B15: SFP | C15: WDM-10km | D15: 개
... A52: =B52&C52 -> 함체 스티커3방향, WiFi 존 홍보용 | B52: 함체 스티커 | C52: 3방향, WiFi 존 홍보용 | D52: 매

Sheet 폐기물
A1: 폐기물 처리비용 산출조서
A2: 1. 폐기물 물량 산출표
A3: 품 명 | B3: 단위 | C3: 토적량(㎥) | D3: 단위중량(kg) | E3: 계(Ton) | F3: 비고 | H3: https://blog.naver.com/phnn819/222722487570
A4: 폐 아스팔트 | B4: TON | C4: =#REF! -> #REF! | D4: 2350 | E4: =(C4*D4/1000) -> #REF! | F4: 폴2개소 임의 계상
A5: 폐 콘크리트 | B5: TON | C5: 0 | D5: 2300 | E5: =C5*D5 -> 0
A6: 품 명 | B6: 단위 | C6: 거리 | D6: M당(kg) | E6: 계(Ton) | F6: 비고
A7: 폐 광케이블 8C | B7: M | D7: =165/1000 -> 0.165 | E7: =(C7*D7)/1000 -> 0
A8: 폐 광케이블 24C | B8: M | C8: 0 | D8: =180/1000 -> 0.18 | E8: =(C8*D8)/1000 -> 0
A9: 계
A11: 2. 건설폐기물 수집ㆍ운반비
A12: 품 명 | B12: 구분 | D12: TON당 단가 | E12: 무게 | F12: 수집, 운반비(원)
A13: =A4 -> 폐 아스팔트 | B13: 상차비 | D13: 1820 | E13: =E4 -> #REF! | F13: =INT(D13*E13) -> #REF!
B14: 운반비 | D14: 11840 | E14: =E13 -> #REF! | F14: =INT(D14*E14) -> #REF!
A15: =A5 -> 폐 콘크리트 | B15: 상차비 | D15: 1820 | E15: =E5 -> 0 | F15: =INT(D15*E15) -> 0
B16: 운반비 | D16: 11840 | E16: =E15 -> 0 | F16: =INT(D16*E16) -> 0
A17: 폐 광케이블 | B17: 상차비 | D17: 1820 | E17: =E7+E8 -> 0 | F17: =INT(D17*E17) -> 0
B18: 운반비 | D18: 11840 | E18: =E17 -> 0 | F18: =INT(D18*E18) -> 0
A19: 계 | F19: =SUM(F13:F18) -> #REF!
A21: 3. 처리비용
A22: 품 명 | B22: TON당 단가 | E22: 무게 | F22: 처리비용
A23: =A13 -> 폐 아스팔트 | B23: 26647 | E23: =E4 -> #REF! | F23: =INT(B23*E23) -> #REF!
A24: =A15 -> 폐 콘크리트 | B24: 24947 | E24: =E5 -> 0 | F24: =INT(B24*E24) -> 0
A25: 계 | F25: =SUM(F23:F24) -> #REF!
A26: 품 명 | B26: TON당 단가 | E26: 무게 | F26: 처리비용
A27: =A7 -> 폐 광케이블 8C | B27: 211000 | E27: =E7 -> 0 | F27: =INT(B27*E27) -> 0
A28: =A8 -> 폐 광케이블 24C | B28: 211000 | E28: =E8 -> 0 | F28: =INT(B28*E28) -> 0
A29: 계 | F29: =SUM(F27:F28) -> 0
A31: 4. 폐기물 처리 비용 합계
A32: 구분 | B32: 비용(원) | E32: 비고
A33: 수집 운반비 | B33: =F19 -> #REF!
A34: 처리비용 | B34: =F25 -> #REF! | E34: ASP/con'c
A35: 처리비용 | B35: =F29 -> 0 | E35: 광케이블
A36: 합계 | B36: =SUM(B33:B35) -> #REF!

Sheet 노임
A1: 노 임 단 가 표(2022년 하반기)
A3: 직종번호 | B3: 직종명 | C3: 노임(원) | D3: 비 고 | F3: 번 호 | G3: 직종명 | H3: 2022.9.1 | I3: 2022.1.1 | J3: 2021.9.1 | K3: 2022.1.1
A4: 1002 | B4: =IFERROR(VLOOKUP(A4,$F$5:$K$200,2,0),"") -> 보통인부 | C4: =IFERROR(VLOOKUP(A4,$F$4:$K$200,3,0),"") -> 153671 | D4: =IF(C4=VLOOKUP(B4,$G$4:$K$200,2,0),"","check") | E4: =F4&G4 -> 1001작업반장 | F4: 1001 | G4: 작업반장 | H4: 191344 | I4: 189313 | J4: 182544 | K4: 180013
A5: 1003 | B5: =IFERROR(VLOOKUP(A5,$F$5:$K$200,2,0),"") -> 특별인부 | C5: =IFERROR(VLOOKUP(A5,$F$4:$K$200,3,0),"") -> 192375 | D5: =IF(C5=VLOOKUP(B5,$G$4:$K$200,2,0),"","check") | E5: =F5&G5 -> 1002보통인부 | F5: 1002 | G5: 보통인부 | H5: 153671 | I5: 148510 | J5: 144481 | K5: 141096
A6: 1007 | B6: =IFERROR(VLOOKUP(A6,$F$5:$K$200,2,0),"") -> 형틀목공 | C6: =IFERROR(VLOOKUP(A6,$F$4:$K$200,3,0),"") -> 246376 | D6: =IF(C6=VLOOKUP(B6,$G$4:$K$200,2,0),"","check") | E6: =F6&G6 -> 1003특별인부 | F6: 1003 | G6: 특별인부 | H6: 192375 | I6: 187435 | J6: 181293 | K6: 179203
A7: 1013 | B7: =IFERROR(VLOOKUP(A7,$F$5:$K$200,2,0),"") -> 콘크리트공 | C7: =IFERROR(VLOOKUP(A7,$F$4:$K$200,3,0),"") -> 235988 | D7: =IF(C7=VLOOKUP(B7,$G$4:$K$200,2,0),"","check") | E7: =F7&G7 -> 1004조력공 | F7: 1004 | G7: 조력공 | H7: 162577 | I7: 160048 | J7: 153674 | K7: 152740
A8: 1015 | B8: =IFERROR(VLOOKUP(A8,$F$5:$K$200,2,0),"") -> 착암공 | C8: =IFERROR(VLOOKUP(A8,$F$4:$K$200,3,0),"") -> 189031 | D8: =IF(C8=VLOOKUP(B8,$G$4:$K$200,2,0),"","check") | E8: =F8&G8 -> *1005제도사 | F8: *1005 | G8: 제도사 | H8: 207792 | I8: 194662 | J8: 188233 | K8: 186251
A9: 1019 | B9: =IFERROR(VLOOKUP(A9,$F$5:$K$200,2,0),"") -> 포장공 | C9: =IFERROR(VLOOKUP(A9,$F$4:$K$200,3,0),"") -> 232804 | D9: =IF(C9=VLOOKUP(B9,$G$4:$K$200,2,0),"","check") | E9: =F9&G9 -> 1006비계공 | F9: 1006 | G9: 비계공 | H9: 269039 | I9: 262297 | J9: 254117 | K9: 247977
A10: 1048 | B10: =IFERROR(VLOOKUP(A10,$F$5:$K$200,2,0),"") -> 건설기계운전사 | C10: =IFERROR(VLOOKUP(A10,$F$4:$K$200,3,0),"") -> 230245 | D10: =IF(C10=VLOOKUP(B10,$G$4:$K$200,2,0),"","check") | E10: =F10&G10 -> 1007형틀목공 | F10: 1007 | G10: 형틀목공 | H10: 246376 | I10: 242138 | J10: 230766 | K10: 226280
A11: 1049 | B11: =IFERROR(VLOOKUP(A11,$F$5:$K$200,2,0),"") -> 화물차운전사 | C11: =IFERROR(VLOOKUP(A11,$F$4:$K$200,3,0),"") -> 192000 | D11: =IF(C11=VLOOKUP(B11,$G$4:$K$200,2,0),"","check") | E11: =F11&G11 -> 1008철근공 | F11: 1008 | G11: 철근공 | H11: 240080 | I11: 236805 | J11: 229629 | K11: 228896
A12: 1075 | B12: =IFERROR(VLOOKUP(A12,$F$5:$K$200,2,0),"") -> 내선전공 | C12: =IFERROR(VLOOKUP(A12,$F$4:$K$200,3,0),"") -> 259089 | D12: =IF(C12=VLOOKUP(B12,$G$4:$K$200,2,0),"","check") | E12: =F12&G12 -> 1009철공 | F12: 1009 | G12: 철공 | H12: 211415 | I12: 209189 | J12: 202032 | K12: 200155
A13: 1086 | B13: =IFERROR(VLOOKUP(A13,$F$5:$K$200,2,0),"") -> 통신내선공 | C13: =IFERROR(VLOOKUP(A13,$F$4:$K$200,3,0),"") -> 242964 | D13: =IF(C13=VLOOKUP(B13,$G$4:$K$200,2,0),"","check") | E13: =F13&G13 -> 1010철판공 | F13: 1010 | G13: 철판공 | H13: 193615 | I13: 188181 | J13: 185232 | K13: 181604
A14: 1087 | B14: =IFERROR(VLOOKUP(A14,$F$5:$K$200,2,0),"") -> 통신설비공 | C14: =IFERROR(VLOOKUP(A14,$F$4:$K$200,3,0),"") -> 272067 | D14: =IF(C14=VLOOKUP(B14,$G$4:$K$200,2,0),"","check") | E14: =F14&G14 -> 1011철골공 | F14: 1011 | G14: 철골공 | H14: 216712 | I14: 214374 | J14: 207346 | K14: 205246
A15: 1088 | B15: =IFERROR(VLOOKUP(A15,$F$5:$K$200,2,0),"") -> 통신외선공 | C15: =IFERROR(VLOOKUP(A15,$F$4:$K$200,3,0),"") -> 357144 | D15: =IF(C15=VLOOKUP(B15,$G$4:$K$200,2,0),"","check") | E15: =F15&G15 -> 1012용접공 | F15: 1012 | G15: 용접공 | H15: 238739 | I15: 234564 | J15: 230706 | K15: 225966
A16: 1089 | B16: =IFERROR(VLOOKUP(A16,$F$5:$K$200,2,0),"") -> 통신케이블공 | C16: =IFERROR(VLOOKUP(A16,$F$4:$K$200,3,0),"") -> 381041 | D16: =IF(C16=VLOOKUP(B16,$G$4:$K$200,2,0),"","check") | E16: =F16&G16 -> 1013콘크리트공 | F16: 1013 | G16: 콘크리트공 | H16: 235988 | I16: 227269 | J16: 220755 | K16: 215145
A17: 1090 | B17: =IFERROR(VLOOKUP(A17,$F$5:$K$200,2,0),"") -> 무선안테나공 | C17: =IFERROR(VLOOKUP(A17,$F$4:$K$200,3,0),"") -> 311012 | D17: =IF(C17=VLOOKUP(B17,$G$4:$K$200,2,0),"","check") | E17: =F17&G17 -> 1014보링공 | F17: 1014 | G17: 보링공 | H17: 199921 | I17: 199076 | J17: 193659 | K17: 191340
A18: 2001 | B18: =IFERROR(VLOOKUP(A18,$F$5:$K$200,2,0),"") -> 광케이블설치사 | C18: =IFERROR(VLOOKUP(A18,$F$4:$K$200,3,0),"") -> 398214 | D18: =IF(C18=VLOOKUP(B18,$G$4:$K$200,2,0),"","check") | E18: =F18&G18 -> 1015착암공 | F18: 1015 | G18: 착암공 | H18: 189031 | I18: 185264 | J18: 174178 | K18: 173250
A19: 2002 | B19: =IFERROR(VLOOKUP(A19,$F$5:$K$200,2,0),"") -> H/W시험사 | C19: =IFERROR(VLOOKUP(A19,$F$4:$K$200,3,0),"") -> 349792 | D19: =IF(C19=VLOOKUP(B19,$G$4:$K$200,2,0),"","check") | E19: =F19&G19 -> 1016화약취급공 | F19: 1016 | G19: 화약취급공 | H19: 226437 | I19: 223097 | J19: 207145 | K19: 206294
A20: 2003 | B20: =IFERROR(VLOOKUP(A20,$F$5:$K$200,2,0),"") -> S/W시험사 | C20: =IFERROR(VLOOKUP(A20,$F$4:$K$200,3,0),"") -> 391265 | D20: =IF(C20=VLOOKUP(B20,$G$4:$K$200,2,0),"","check") | E20: =F20&G20 -> 1017할석공 | F20: 1017 | G20: 할석공 | H20: 208344 | I20: 200625 | J20: 195374 | K20: 189028
A21: 5001 | B21: =IFERROR(VLOOKUP(A21,$F$5:$K$200,2,0),"") -> 통신관련기사 | C21: =IFERROR(VLOOKUP(A21,$F$4:$K$200,3,0),"") -> 284842 | D21: =IF(C21=VLOOKUP(B21,$G$4:$K$200,2,0),"","check") | E21: =F21&G21 -> 1018포설공 | F21: 1018 | G21: 포설공 | H21: 192239 | I21: 183371 | J21: - | K21: 172935
A22: 5002 | B22: =IFERROR(VLOOKUP(A22,$F$5:$K$200,2,0),"") -> 통신관련산업기사 | C22: =IFERROR(VLOOKUP(A22,$F$4:$K$200,3,0),"") -> 273786 | D22: =IF(C22=VLOOKUP(B22,$G$4:$K$200,2,0),"","check") | E22: =F22&G22 -> 1019포장공 | F22: 1019 | G22: 포장공 | H22: 232804 | I22: 225104 | J22: 215034 | K22: 212761
A23: 5003 | B23: =IFERROR(VLOOKUP(A23,$F$5:$K$200,2,0),"") -> 통신관련기능사 | C23: =IFERROR(VLOOKUP(A23,$F$4:$K$200,3,0),"") -> 227878 | D23: =IF(C23=VLOOKUP(B23,$G$4:$K$200,2,0),"","check") | E23: =F23&G23 -> 1020잠수부 | F23: 1020 | G23: 잠수부 | H23: 323830 | I23: 322115 | J23: 295409 | K23: 285645
A24: 1047 | B24: =IFERROR(VLOOKUP(A24,$F$5:$K$200,2,0),"") -> 건설기계조장 | C24: =IFERROR(VLOOKUP(A24,$F$4:$K$200,3,0),"") -> 183489 | D24: =IF(C24=VLOOKUP(B24,$G$4:$K$200,2,0),"","check") | E24: =F24&G24 -> 1021조적공 | F24: 1021 | G24: 조적공 | H24: 233781 | I24: 222862 | J24: 219340 | K24: 217664
A25: 1050 | B25: =IFERROR(VLOOKUP(A25,$F$5:$K$200,2,0),"") -> 일반기계운전사 | C25: =IFERROR(VLOOKUP(A25,$F$4:$K$200,3,0),"") -> 151669 | D25: =IF(C25=VLOOKUP(B25,$G$4:$K$200,2,0),"","check") | E25: =F25&G25 -> 1022견출공 | F25: 1022 | G25: 견출공 | H25: 227145 | I25: 218209 | J25: 209167 | K25: 199735
A26: 건설협회 발표 2022. 9. 1 부터 적용 | E26: =F26&G26 -> 1023건축목공 | F26: 1023 | G26: 건축목공 | H26: 242631 | I26: 237273 | J26: 225210 | K26: 224657
E27: =F27&G27 -> 1024창호공 | F27: 1024 | G27: 창호공 | H27: 234564 | I27: 224380 | J27: 219260 | K27: 217409
E28: =F28&G28 -> 1025유리공 | F28: 1025 | G28: 유리공 | H28: 229105 | I28: 221409 | J28: 211036 | K28: 205044
E29: =F29&G29 -> 1026방수공 | F29: 1026 | G29: 방수공 | H29: 191620 | I29: 184934 | J29: 176933 | K29: 174334
E30: =F30&G30 -> 1027미장공 | F30: 1027 | G30: 미장공 | H30: 239846 | I30: 237304 | J30: 228820 | K30: 228423 | T30: =S11 -> 0 | U30: 개
E31: =F31&G31 -> 1028타일공 | F31: 1028 | G31: 타일공 | H31: 253427 | I31: 247079 | J31: 234370 | K31: 230160 | T31: =S12 -> 0 | U31: 식
E32: =F32&G32 -> 1029도장공 | F32: 1029 | G32: 도장공 | H32: 235799 | I32: 229273 | J32: 217123 | K32: 213676
E33: =F33&G33 -> 1030내장공 | F33: 1030 | G33: 내장공 | H33: 222738 | I33: 217517 | J33: 211250 | K33: 206253
E34: =F34&G34 -> 1031도배공 | F34: 1031 | G34: 도배공 | H34: 199187 | I34: 192426 | J34: 188914 | K34: 185814
E35: =F35&G35 -> *1032연마공 | F35: *1032 | G35: 연마공 | H35: 186660 | I35: - | J35: 170190 | K35: -
E36: =F36&G36 -> 1033석공 | F36: 1033 | G36: 석공 | H36: 236050 | I36: 226394 | J36: 217417 | K36: 212629
E37: =F37&G37 -> 1034줄눈공 | F37: 1034 | G37: 줄눈공 | H37: 181682 | I37: 176807 | J37: 173416 | K37: 169920
E38: =F38&G38 -> 1035판넬조립공 | F38: 1035 | G38: 판넬조립공 | H38: 205422 | I38: 198691 | J38: 192957 | K38: 186646
E39: =F39&G39 -> 1036지붕잇기공 | F39: 1036 | G39: 지붕잇기공 | H39: 204039 | I39: 194244 | J39: 187839 | K39: 181305
E40: =F40&G40 -> *1037벌목부 | F40: *1037 | G40: 벌목부 | H40: 219920 | I40: 213333 | J40: 201640 | K40: 200000
E41: =F41&G41 -> 1038조경공 | F41: 1038 | G41: 조경공 | H41: 192790 | I41: 189749 | J41: 185347 | K41: 181378
...

Sheet 목록
A2: 순 | B2: 장소명 | C2: 관할구/군 | Q2: 비고
D3: AP-Bri | E3: AP-Mesh | F3: AP무 | G3: AP옥내형 | H3: AP-철거 | I3: sensor | J3: pole | K3: 함체 | L3: 통-유 | M3: 통-무 | N3: 전원 | O3: Cam-B | P3: Cam-R
A4: 계 | C4: 78 | D4: =SUM(D5:D89) -> 7 | E4: =SUM(E5:E89) -> 40 | F4: =SUM(F5:F89) -> 162 | G4: =SUM(G5:G89) -> 7 | H4: =SUM(H5:H89) -> 32 | I4: =SUM(I5:I89) -> 108 | J4: =SUM(J5:J89) -> 13 | K4: =SUM(K5:K89) -> 25 | ... Q4: =SUM(Q5:Q89) -> 0
A5: 1 | B5: 강서 녹산수문공원 | C5: 강서구 | F5: 1 | I5: 1 | L5: 1 | N5: 0 | Q5: 스마트폴
A6: =A5+1 -> 2 | B6: 강서 산책로 및 자전거도로 | C6: 강서구 | F6: 1 | I6: 1 | L6: 1 | N6: 0 | Q6: 스마트폴
A7: =A6+1 -> 3 | B7: 강서체육관 앞 | C7: 강서구 | F7: 1 | H7: 1 | L7: 1 | N7: 0 | Q7: 대개체
A8: =A7+1 -> 4 | B8: 강서체육관 하키경기장 앞 | C8: 강서구 | F8: 1 | H8: 1 | L8: 0 | N8: 0 | Q8: 대개체
A9: =A8+1 -> 5 | B9: 낙동제방 | C9: 강서구 | E9: 5 | F9: 5 | I9: 2 | L9: 1 | N9: 0 | Q9: 0
A10: =A9+1 -> 6 | B10: 대저 낙동강 둔치공원 | C10: 강서구 | F10: 1 | I10: 1 | L10: 1 | N10: 0 | Q10: 스마트폴
A11: =A10+1 -> 7 | B11: 대저 산책로 및 자전거도로 | C11: 강서구 | F11: 1 | I11: 1 | L11: 1 | N11: 0 | Q11: 스마트폴
A12: =A11+1 -> 8 | B12: 대저생태공원 | C12: 강서구 | E12: 10 | F12: 10 | H12: 3 | I12: 9 | L12: 0 | N12: 0 | Q12: 0
A13: =A12+1 -> 9 | B13: 대저생태공원(SP) | C13: 강서구 | E13: 1 | F13: 1 | I13: 1 | L13: 1 | N13: 0 | Q13: 스마트폴
A14: =A13+1 -> 10 | B14: 대저생태공원 캠핑장(SP) | C14: 강서구 | E14: 1 | F14: 1 | I14: 1 | L14: 1 | N14: 0 | Q14: 스마트폴
A15: =A14+1 -> 11 | B15: 대항항 포진지 동굴 | C15: 강서구 | F15: 3 | G15: 2 | I15: 2 | L15: 1 | N15: 0 | Q15: 0
A16: =A15+1 -> 12 | B16: 맥도생태공원(45) | C16: 강서구 | F16: 1 | I16: 1 | L16: 1 | N16: 0 | Q16: 스마트폴
A17: =A16+1 -> 13 | B17: 맥도생태공원(42) | C17: 강서구 | F17: 1 | I17: 1 | L17: 1 | N17: 0 | Q17: 스마트폴
A18: =A17+1 -> 14 | B18: 맥도생태공원(40) | C18: 강서구 | F18: 1 | I18: 1 | L18: 1 | N18: 0 | Q18: 스마트폴
A19: =A18+1 -> 15 | B19: 외양포 일본군 포진지 | C19: 강서구 | F19: 2 | I19: 1 | J19: 1 | L19: 1 | N19: 0 | Q19: 0
A20: =A19+1 -> 16 | B20: 천성항 공영주차장 | C20: 강서구 | F20: 2 | I20: 1 | L20: 1 | N20: 1 | Q20: 0
A21: =A20+1 -> 17 | B21: 금정산성 물레방아집 앞 | C21: 금정구 | E21: 2 | F21: 1 | H21: 1 | L21: 1 | N21: 0 | Q21: 대개체(금성동주민센터)
A22: =A21+1 -> 18 | B22: 금정산성 새마을 금고 앞 | C22: 금정구 | E22: 1 | F22: 1 | H22: 1 | L22: 0 | N22: 0 | Q22: 대개체
A23: =A22+1 -> 19 | B23: 지하철 부산대역 앞 일원 | C23: 금정구 | F23: 2 | I23: 2 | L23: 1 | N23: 0 | Q23: 0
A24: =A23+1 -> 20 | B24: 산책로 및 자전거 도로(버스정류소 근처) | C24: 금정구 | F24: 1 | I24: 1 | L24: 1 | N24: 0 | Q24: 스마트폴
A25: =A24+1 -> 21 | B25: 산책로 및 자전거 도로(부광몰드) | C25: 금정구 | F25: 1 | I25: 1 | L25: 1 | N25: 0 | Q25: 스마트폴
A26: =A25+1 -> 22 | B26: 산책로 및 자전거 도로(석대천) | C26: 금정구 | F26: 1 | I26: 1 | L26: 1 | N26: 0 | Q26: 스마트폴
A27: =A26+1 -> 23 | B27: 산책로 및 자전거 도로(수영천 범호) | C27: 금정구 | F27: 1 | I27: 1 | L27: 1 | N27: 0 | Q27: 스마트폴
A28: =A27+1 -> 24 | B28: 임랑해수욕장 | C28: 기장군 | F28: 5 | I28: 3 | L28: 5 | N28: 0 | Q28: 0
A29: =A28+1 -> 25 | B29: UN공원 | C29: 남구 | F29: 4 | H29: 4 | I29: 3 | J29: 9 | K29: 5 | L29: 2 | N29: 0 | O29: 16 | P29: 6 | Q29: 0
A30: =A29+1 -> 26 | B30: 부산문화회관_관리동 옥상 | C30: 남구 | E30: 2 | F30: 1 | H30: 1 | L30: 1 | N30: 0 | Q30: 대개체
A31: =A30+1 -> 27 | B31: 부산문화회관_중극장 옥상1 | C31: 남구 | F31: 1 | H31: 1 | L31: 0 | N31: 0 | Q31: 대개체
A32: =A31+1 -> 28 | B32: 부산문화회관_중극장 옥상2 | C32: 남구 | F32: 1 | H32: 1 | L32: 0 | N32: 0 | Q32: 대개체
A33: =A32+1 -> 29 | B33: 이기대해안산책로 | C33: 남구 | F33: 5 | I33: 3 | L33: 5 | N33: 0 | Q33: 0
A34: =A33+1 -> 30 | B34: 부산역 계단 | C34: 동구 | E34: 2 | F34: 2 | H34: 2 | L34: 1 | N34: 0 | Q34: 대개체(초량2주민센터)
A35: =A34+1 -> 31 | B35: 사직운동장 광장 | C35: 동래구 | E35: 2 | F35: 1 | H35: 1 | L35: 0 | N35: 0 | Q35: 대개체
A36: =A35+1 -> 32 | B36: 사직운동장_실내체육관 옥상1 | C36: 동래구 | E36: 1 | F36: 1 | H36: 1 | L36: 1 | N36: 0 | Q36: 대개체(아시아드주경기장)
A37: =A36+1 -> 33 | B37: 사직운동장_실내체육관 옥상2 | C37: 동래구 | E37: 1 | F37: 1 | H37: 1 | L37: 0 | N37: 0 | Q37: 대개체
A38: =A37+1 -> 34 | B38: 허심청 일대(녹천탕앞) | C38: 동래구 | F38: 1 | I38: 1 | L38: 1 | N38: 0 | Q38: 0
A39: =A38+1 -> 35 | B39: 허심청 일대(호텔농심) | C39: 동래구 | F39: 1 | I39: 1 | L39: 1 | N39: 0 | Q39: 0
A40: =A39+1 -> 36 | B40: 스위첸공원 | C40: 동래구 | F40: 1 | H40: 1 | L40: 1 | N40: 0 | Q40: 0
A41: =A40+1 -> 37 | B41: 국민시장 | C41: 동래구 | F41: 1 | L41: 0 | N41: 0 | Q41: 0
...
