Workbook

Sheet 세부내역서
A1: 국제 관광도시 부산 공공 와이파이 구축공사
A2: 품 명 | B2: 규 격 | C2: 단위 | D2: 수량 | E2: 재료비 | G2: 노무비 | I2: 경 비 | K2: 합 계 | M2: 비 고
E3: 단 가 | F3: 금 액 | G3: 단 가 | H3: 금 액 | I3: 단 가 | J3: 금 액 | K3: 단 가 | L3: 금 액
A4: 1.통신공사 | L4: =SUM(F4,H4,J4) -> 0
A5: 유선 AP | B5: wifi | C5: EA | D5: =1+1 -> 2
A6: 무선 AP | B6: wifi | C6: EA | D6: 33
A7: AP 거치대 | B7: S/T 54C 1M 앵커고정형 | C7: EA | D7: 25
A8: SUS함체 | B8: SUS 200*300*150 (방수) | C8: EA | D8: =25+5+8 -> 38
A9: 울타리 고정용 기초 | B9: 400*500*565*400 | C9: EA | D9: 11
A10: 자립식 기초 | B10: 400*500*565*400 | C10: EA | D10: 11
A11: IP기 브라켓 | C11: EA | D11: 21
A12: 브라켓 조명탑용 | C12: EA | D12: =2+4+7 -> 13
A13: 브라켓 CCTV용 | C13: EA | D13: 1
A14: 브라켓 IP주용 | C14: EA | D14: 1
A15: 접지봉 | B15: 14Φ 1000 | C15: EA | D15: =22+5+8 -> 35
A16: GV 6SQ | C16: M | D16: =44+35+70 -> 149
A17: IP주 6M | C17: EA | D17: 3
A18: F-CV 10SQ * 3C | B18: 10SQ * 3C | C18: M | D18: =221+59+43+97+92+14 -> 526
A19: F-CV 6SQ * 3C | B19: 6SQ * 3C | C19: M | D19: =636+103+90+28+83+79+77+70 -> 1166
A20: UTP케이블 | B20: CAT 6 4P | C20: M | D20: 270
A21: 고장력 방수 후렉시블 | B21: 16C | C21: M | D21: =90+35+70 -> 195
A22: 고장력 방수 후렉시블 | B22: 28C | C22: M | D22: =807+295+351 -> 1453
A23: 후렉시블 콘넥타 | B23: 16C | C23: EA | D23: =50+8+14 -> 72
A24: 후렉시블 콘넥타 | B24: 28C | C24: EA | D24: =100+30+40 -> 170
A25: 새들 | B25: 16C | C25: EA | D25: 70
A26: 새들 | B26: 28C | C26: EA | D26: 920
A27: 칼블럭 | C27: EA | D27: 644
A28: 카프링 | B28: 28C S/T | C28: EA | D28: =50+6+10 -> 66
A29: 밴드 | B29: SUS 300Φ | C29: EA | D29: =75+20+35 -> 130
A32: [소 계]

Sheet 합산자재
B1: 29 | C1: [ 철마 농축산직판장 리모델링 정보통신공사 ] - 합산자재목록
A2: 번호 | B2: … | C2: 코드 | D2: 명 칭 | E2: 규 격 | F2: 단위 | G2: 수량 | H2: 재료비 | I2: 노무비 | J2: 경비 | K2: 지급비 | L2: 계 | M2: 비고
B4: 3913170610035664 | C4: 59753097002 | D4: 합성수지제 가요전선관 | E4: CD-난연성 16㎜ | F4: M | G4: 38 | H4: =ROUNDDOWN(#REF!*옵션!$D$11, 0) -> #REF! | L4: =SUM(H4,I4,J4) -> #REF!
B5: 3912130610036789 | C5: MM300003401 | D5: PVC BOX SW 1G | E5: SW 1구 | F5: 개 | G5: 6 | H5: =ROUNDDOWN(#REF!*옵션!$D$11, 0) -> #REF! | L5: =SUM(H5,I5,J5) -> #REF!
B6: 2612160621650577 | C6: 61454127541 | D6: 고발포동축케이블 | E6: 삼중차폐, 5C-HFBT | F6: M | G6: 17 | H6: =ROUNDDOWN(#REF!*옵션!$D$11, 0) -> #REF! | L6: =SUM(H6,I6,J6) -> #REF!
B7: 2612160921650753 | C7: 61452167502 | D7: UTP 케이블 | E7: Cat.6 0.5mm 4P | F7: M | G7: 78 | H7: =ROUNDDOWN(#REF!*옵션!$D$11, 0) -> #REF! | L7: =SUM(H7,I7,J7) -> #REF!
B8: 3912140620937656 | C8: 58051750201 | D8: 모듈라짹 | E8: 매입용, Cat.6 1구 | F8: 개 | G8: 4 | H8: =ROUNDDOWN(#REF!*옵션!$D$11, 0) -> #REF! | L8: =SUM(H8,I8,J8) -> #REF!
B9: InMastDBNonCode | C9: MM851736666 | D9: 국선단자함(노출,스텐레스) | E9: 국선20 + 사선50 | F9: 개 | G9: 1 | H9: =ROUNDDOWN(#REF!*옵션!$D$11, 0) -> #REF! | L9: =SUM(H9,I9,J9) -> #REF!
B10: 3912140620937621 | C10: BL01TVUT001 | D10: TV UNIT | E10: 단말 | F10: 개 | G10: 2 | H10: =ROUNDDOWN(#REF!*옵션!$D$11, 0) -> #REF! | L10: =SUM(H10,I10,J10) -> #REF!
B11: L001010101000086 | C11: 56900017113 | D11: 노 무 비 | E11: 통신내선공 | F11: 인 | G11: 3 | I11: =ROUNDDOWN(#REF!, 0) -> #REF! | L11: =SUM(H11,I11,J11) -> #REF!
B12: L001010101000089 | C12: 56900017116 | D12: 노 무 비 | E12: 통신케이블공 | F12: 인 | G12: 1 | I12: =ROUNDDOWN(#REF!, 0) -> #REF! | L12: =SUM(H12,I12,J12) -> #REF!
B13: L001010101000075 | C13: 56900017016 | D13: 노 무 비 | E13: 내선전공 | F13: 인 | G13: 1 | I13: =ROUNDDOWN(#REF!, 0) -> #REF! | L13: =SUM(H13,I13,J13) -> #REF!
B14: L001010101000002 | C14: 56900017041 | D14: 노 무 비 | E14: 보통인부 | F14: 인 | G14: 1 | I14: =ROUNDDOWN(#REF!, 0) -> #REF! | L14: =SUM(H14,I14,J14) -> #REF!

Sheet 옵션
B1: 재료비 | C1: 노무비 | D1: 경비 | F1: 계
A2: 총 급 액 | B2: =#REF! -> #REF! | C2: =#REF! -> #REF! | D2: =#REF! -> #REF! | F2: =SUM(B2,C2,D2) -> #REF!
A3: 관급 자재비 | F3: =SUM(B3,C3,D3) -> 0 | H3: 금액조정이 안되나요?
H6: 이지테크에서 변환할 때 2번 옵션을 지정하여 다시 해보세요
H9: 시트를 삭제할 때 에러가 뜨면 1번 옵션으로 하면 됩니다.
B10: 적용율(%) | C10: 끝자리 | D10: 적용율(%)/100 | E10: 일위대가소수
A11: 전체자재 적용율(%)(공종/일위대가) | B11: 100 | C11: 1 | D11: =$B$11/100 -> 1
A12: 전체노임 적용율(%)(공종) | B12: 100 | C12: 1 | D12: =$B$12/100 -> 1 | E12: 2 | H12: 2번 옵션으로 변환했을 때에는 결과값이 다를 수 있습니다.
A13: 전체노임 적용율(%)(일위대가) | B13: 100 | C13: 1 | D13: =$B$13/100 -> 1 | E13: 4
A20: *(그룹별 자재 단가 추가 할증)* | B20: 적용율(%) | D20: 적용율(%)/100
A21: Cable(CAB) 할증(%) | B21: =B11 -> 100 | D21: =$B$21/100 -> 1
A22: Wire (WIR) 할증(%) | B22: =B11 -> 100 | D22: =$B$22/100 -> 1
A23: Pipe (PIP) 할증(%) | B23: =B11 -> 100 | D23: =$B$23/100 -> 1
A24: 제 4그룹 할증(%) | B24: =B11 -> 100 | D24: =$B$24/100 -> 1
A25: 제 5그룹 할증(%) | B25: =B11 -> 100 | D25: =$B$25/100 -> 1
A30: *(그룹별 노임 추가 할증)* | B30: 적용율(%) | C30: 자동부속재(전기) | D30: 자동부속재(통신)
A31: 배관부속재(%) | B31: 15 | C31: 15 | D31: 20
A32: CD관부속재(%) | B32: 40 | C32: 40 | D32: 40
A33: 소모잡자재(%) | B33: 2 | H33: 본 파일은 이지테크에서 2번 옵션으로 만들었습니다.
A34: 방폭할증(%)
A35: 고소할증(%) | B35: 2
A36: 공구손료(%) | B36: 2
A40: *(공종별 노임 적용율(%))* | B40: 적용율(%) | C40: 소수자릿수
A41: 1.정보통신공사 | B41: 100 | C41: 0
