Workbook
Name asp두께: 0.15
Name solver_drv: 1
Name solver_est: 1
Name solver_itr: 100
Name solver_lin: 0
Name solver_num: 0
Name solver_nwt: 1
Name solver_pre: 0.000001
Name solver_scl: 0
Name solver_sho: 0
Name solver_tim: 100
Name solver_tol: 0.05
Name solver_typ: 1
Name solver_val: 0
Name TON: " Sheet1!$G$54"
Name 거제시청: "Chart 63"
Name 기계설치공: 57749
Name 다짐계수: 0.875
Name 보조기층두께: 0.2
Name 선택층두께: 0.2
Name 입찰처: "Text 64"
Name 전기기사1급: 64800
Name 전기기사2급: 62990
Name 제조원가율: "database+전체!$A$4:$W$825"
Name 철도신호공: 88110
Name 통신기사: 92355
Name 통신기사1급: 92355
Name 통신기사2급: 91949

Sheet 설계서표지
A1: 설 계 년월일 | B1: 2026년 08월 일 | E1: 설계자 | I1: 담당자 | M1: 심사자 | Q1: 관리장
B3: 2026년
B4: 부산실내빙상장 노후시설 개선 전기공사
C6: Ο공 사 개 요
E9: 1. 전기공사 | K9: 1 | L9: 식
C17: Ο공 사 금 액
D18: 총 공 사 비 | G18: : | M18: (￦ | Q18: )
D19: 도 급 액 | G19: =":일금"&NUMBERSTRING((N19),1)&"원정" -> :일금팔천이백육십삼만원정 | M19: (￦ | N19: 82630000 | Q19: )
D20: 도급자관급액 | G20: : | M20: (￦ | Q20: )
D21: 관급자관급액 | G21: : | M21: (￦ | Q21: )
D22: 사용전검사비 | G22: : | M22: (￦ | Q22: )

Sheet 전기공사원가계산서
A1: 설 치 원 가 계 산 서
B2: 공 사 명 : 부산실내빙상장 노후시설 개선 전기공사
B3: 비 목 | D3: 구 분 | E3: 금 액 | F3: 구 성 비 | H3: 비 고
B4: 순 공 사 비 | C4: 재 료 비 | D4: 직 접 재 료 비 | E4: =내역집계표!F3 -> 0
D5: 간 접 재 료 비
D6: [소 계] | E6: =SUM(E4:E5) -> 0
C7: 노무비 | D7: 직 접 노 무 비 | E7: =내역집계표!G3 -> 0
D8: 간 접 노 무 비 | E8: =TRUNC(E7*G8) -> 0 | F8: 직 접 노 무 비 의 | G8: 0.175
D9: [소 계] | E9: =SUM(E7:E8) -> 0
C10: 경 비 | D10: 기 계 경 비 | E10: =내역집계표!H3 -> 0
D11: 연 금 보 험 료 | E11: =TRUNC(E7*G11) -> 0 | F11: 직 접 노 무 비 의 | H11: 1개월미만 제외 | I11: 4.5
D12: 건 강 보 험 료 | E12: =TRUNC(E7*G12) -> 0 | F12: 직 접 노 무 비 의 | H12: 1개월미만 제외 | I12: 3.495
D13: 산 재 보 험 료 | E13: =TRUNC(E9*G13) -> 0 | F13: 노 무 비 의 | G13: 0.0356
D14: 고 용 보 험 료 | E14: =TRUNC(E9*G14) -> 0 | F14: 노 무 비 의 | G14: 0.0101
D15: 노인장기요양보험료 | E15: =TRUNC(E12*G15) -> 0 | F15: 건 강 보 험 료 의 | H15: 1개월미만 제외 | I15: 12.27
D16: 퇴직 공제 부금비 | E16: =TRUNC(E7*G16) -> 0 | F16: 직 접 노 무 비 의 | H16: 1억원미만 제외 | J16: 도급자관급포함 | M16: 2천만원 미만제외
D17: 산업안전보건관리비 | E17: =TRUNC((E6+E7+E31)*G17) -> 0 | F17: 재 료 비 + 직 접 노 무 비 + 도급자관급의 | G17: 0.0207 | J17: =TRUNC((E6+E7+E31)*G17) -> 0 | K17: =TRUNC((E6+E7)*G17)*1.2 -> 0
D18: 기 타 경 비 | E18: =TRUNC((E6+E9)*G18) -> 0 | F18: 재 료 비 + 노 무 비 의 | G18: 0.05
D19: 석면분담금 | E19: =TRUNC(E9*G19) -> 0 | F19: 노 무 비 의 | G19: 6e-05
D20: 임금채권부담금 | E20: =TRUNC(E9*G20) -> 0 | F20: 노 무 비 의 | G20: 0.0009
D21: [소 계] | E21: =SUM(E10:E20) -> 0
C22: 계 | E22: =TRUNC((E6+E9+E21)) -> 0
B23: 일 반 관 리 비 | E23: =TRUNC(E22*G23) -> 0 | F23: 순 공 사 비 의 | G23: 0.06
B24: 이 윤 | E24: =TRUNC((E9+E21+E23)*G24) -> 0 | F24: 노 무 비 + 경 비 + 일 반 관 리 비 의 | G24: 0.15
B25: 공 급 가 액 | E25: =TRUNC((E22+E23+E24)) -> 0 | F25: 순 공 사 비 + 일 반 관 리 비 + 이 윤
B26: 고 재 처 리 비 | E26: =내역집계표!E7 -> 0
B27: 전 기 공 사 손해배상공제 | E27: =TRUNC((E25+E26+E31)*G27) -> 0 | F27: 공 급 가 액 + 도급자관급액 의 | G27: 0.0026477
B28: 소 계 | E28: =ROUNDDOWN(E25+E27+E26,-4) -> 0
B29: 부 가 가 치 세 | E29: =TRUNC((E28)*G29) -> 0 | F29: 공 급 가 액 의 | G29: 0.1
B30: [도 급 액] | E30: =ROUNDDOWN(E29+E28,-4) -> 0 | F30: 천단위이하절사
B31: [도 급 자 관 급 액] | E31: =내역집계표!E9 -> 0
B32: [관 급 자 관 급 액]
B33: 사 용 전 검 사 비
B34: [합 계]
F41: =17.59*12.52 -> 220

Sheet 내역집계표
A1: 품 명 | B1: 규 격 | C1: 수량 | D1: 단위 | E1: 계 | F1: 재 료 비 | G1: 노 무 비 | H1: 경 비 | I1: 비고
A2: =내역서!B3 -> 부산실내빙상장 노후시설 개선 전기공사
A3: =내역서!B4 -> 01. 부대 공사 | E3: =SUM(F3:H3) -> 0 | F3: =SUM(F4:F5) -> 0 | G3: =SUM(G4:G5) -> 0 | H3: =SUM(H4:H5) -> 0
A4: =내역서!B5 -> 0101. 전력간선 설비공사 | C4: 1 | D4: 식 | E4: =SUM(F4+G4+H4) -> 0 | F4: =내역서!I65 -> 0 | G4: =내역서!K65 -> 0 | H4: =내역서!M65 -> 0
A5: =내역서!B66 -> 0102. 임시전원 공사 | C5: 1 | D5: 식 | E5: =SUM(F5+G5+H5) -> 0 | F5: =내역서!I86 -> 0 | G5: =내역서!K86 -> 0 | H5: =내역서!M86 -> 0
A7: =내역서!B87 -> 02. 고재처리 | E7: =SUM(F7:H7) -> 0 | F7: =내역서!G107 -> 0 | G7: =SUM(G8:G9) -> 0 | H7: =SUM(H8) -> 0
G9: =SUM(G10:G13) -> 0 | H9: =SUM(H10:H13) -> 0
G12: =SUM(G13:G16) -> 0 | H12: =SUM(H13:H16) -> 0

Sheet 내역서
B1: 품 명 | C1: 규 격 | D1: 단위 | E1: 수량 | F1: 합 계 | H1: 재 료 비 | J1: 노 무 비 | L1: 경 비 | N1: 비 고
F2: 단 가 | G2: 금 액 | H2: 단 가 | I2: 금 액 | J2: 단 가 | K2: 금 액 | L2: 단 가 | M2: 금 액
A3: =CONCATENATE(B3,C3,D3) -> 부산실내빙상장 노후시설 개선 전기공사 | B3: 부산실내빙상장 노후시설 개선 전기공사
A4: =CONCATENATE(B4,C4,D4) -> 01. 부대 공사 | B4: 01. 부대 공사
A5: =CONCATENATE(B5,C5,D5) -> 0101. 전력간선 설비공사 | B5: 0101. 전력간선 설비공사
A6: =CONCATENATE(B6,C6,D6) -> 전력케이블 3열CNCV-W 1C/60㎟m | B6: 전력케이블 3열 | C6: CNCV-W 1C/60㎟ | D6: m | E6: 42
A7: =CONCATENATE(B7,C7,D7) -> 0.6/1kV 전력케이블 8열F-CV 1C/240㎟m | B7: 0.6/1kV 전력케이블 8열 | C7: F-CV 1C/240㎟ | D7: m | E7: 160
A8: =CONCATENATE(B8,C8,D8) -> 0.6/1kV 전력케이블 4열F-CV 1C/300㎟m | B8: 0.6/1kV 전력케이블 4열 | C8: F-CV 1C/300㎟ | D8: m | E8: 80
A9: =CONCATENATE(B9,C9,D9) -> 0.6/1kV 전력케이블 4열F-CV 1C/70㎟m | B9: 0.6/1kV 전력케이블 4열 | C9: F-CV 1C/70㎟ | D9: m | E9: 104
A10: =CONCATENATE(B10,C10,D10) -> 0.6/1kV 전력케이블F-CV 4C/25㎟m | B10: 0.6/1kV 전력케이블 | C10: F-CV 4C/25㎟ | D10: m | E10: 10
A11: =CONCATENATE(B11,C11,D11) -> 0.6/1kV 전력케이블F-CV 2C/4㎟m | B11: 0.6/1kV 전력케이블 | C11: F-CV 2C/4㎟ | D11: m | E11: 7
A12: =CONCATENATE(B12,C12,D12) -> 내화케이블 8열FR-8 185㎟/1Cm | B12: 내화케이블 8열 | C12: FR-8 185㎟/1C | D12: m | E12: 88
A13: =CONCATENATE(B13,C13,D13) -> 내화케이블 4열FR-8 240㎟/1Cm | B13: 내화케이블 4열 | C13: FR-8 240㎟/1C | D13: m | E13: 104
A14: =CONCATENATE(B14,C14,D14) -> 내화케이블 4열FR-8 120㎟/1Cm | B14: 내화케이블 4열 | C14: FR-8 120㎟/1C | D14: m | E14: 116
A15: =CONCATENATE(B15,C15,D15) -> 내화케이블FR-8 6㎟/2Cm | B15: 내화케이블 | C15: FR-8 6㎟/2C | D15: m | E15: 26
A16: =CONCATENATE(B16,C16,D16) -> 내화케이블FR-8 2.5㎟/2Cm | B16: 내화케이블 | C16: FR-8 2.5㎟/2C | D16: m | E16: 18
A17: =CONCATENATE(B17,C17,D17) -> 접지용전선F-GV 4㎟m | B17: 접지용전선 | C17: F-GV 4㎟ | D17: m | E17: 7
... A44: =CONCATENATE(B44,C44,D44) -> 연료탱크 별치형990L, 배관설치 포함식 | B44: 연료탱크 별치형 | C44: 990L, 배관설치 포함 | D44: 식 | E44: 1
A45: =CONCATENATE(B45,C45,D45) -> 계전기 정전 및 종합시험비식 | B45: 계전기 정전 및 종합시험비 | D45: 식 | E45: 1
A65: =CONCATENATE(B65,C65,D65) -> [ 합 계 ] | B65: [ 합 계 ] | G65: =I65+K65+M65 -> 0 | I65: =SUM(I6:I46) -> 0 | K65: =SUM(K6:K46) -> 0 | M65: =SUM(M6:M45) -> 0
A66: =CONCATENATE(B66,C66,D66) -> 0102. 임시전원 공사 | B66: 0102. 임시전원 공사
A67: =CONCATENATE(B67,C67,D67) -> 임대 전력케이블F-CV 4C/185㎟m | B67: 임대 전력케이블 | C67: F-CV 4C/185㎟ | D67: m | E67: 40
A68: =CONCATENATE(B68,C68,D68) -> 임대 전력케이블 2열F-CV 4C/185㎟m | B68: 임대 전력케이블 2열 | C68: F-CV 4C/185㎟ | D68: m | E68: 40
A69: =CONCATENATE(B69,C69,D69) -> 임대 발전기380/220V 600KVA일 | B69: 임대 발전기 | C69: 380/220V 600KVA | D69: 일 | E69: 3
A70: =CONCATENATE(B70,C70,D70) -> 임대 발전기 운임비5톤회 | B70: 임대 발전기 운임비 | C70: 5톤 | D70: 회 | E70: 2
A71: =CONCATENATE(B71,C71,D71) -> 발전기 연료비경유L | B71: 발전기 연료비 | C71: 경유 | D71: L | E71: 2100
A72: =CONCATENATE(B72,C72,D72) -> 발전기 상하차지게차hr | B72: 발전기 상하차 | C72: 지게차 | D72: hr | E72: 1
A86: =CONCATENATE(B86,C86,D86) -> [ 합 계 ] | B86: [ 합 계 ] | K86: =SUM(K67:K85) -> 0 | M86: =SUM(M67:M85) -> 0
A87: =CONCATENATE(B87,C87,D87) -> 02. 고재처리 | B87: 02. 고재처리
A88: =CONCATENATE(B88,C88,D88) -> 고재처리(경량A)경량Akg | B88: 고재처리(경량A) | C88: 경량A | D88: kg | E88: 1000 | K88: =TRUNC(E88*J88,0) -> 0
A89: =CONCATENATE(B89,C89,D89) -> 고재처리(파동)파동kg | B89: 고재처리(파동) | C89: 파동 | D89: kg | E89: 783 | K89: =TRUNC(E89*J89,0) -> 0
A107: =CONCATENATE(B107,C107,D107) -> [ 합 계 ] | B107: [ 합 계 ] | G107: =I107+K107+M107 -> 0 | I107: =SUM(I88:I106) -> 0 | K107: =SUM(K89:K106) -> 0 | M107: =SUM(M89:M106) -> 0
