Workbook
Name ___________ju8: {"'광피스표'!$A$3:$N$54"}
Name ___________ju8: {"'광피스표'!$A$3:$N$54"}
Name ___________ju8: {"'광피스표'!$A$3:$N$54"}
Name ___________ju8: {"'광피스표'!$A$3:$N$54"}
Name ___________ju8: {"'광피스표'!$A$3:$N$54"}
Name ___________ju8: {"'광피스표'!$A$3:$N$54"}
Name ___________ju8: {"'광피스표'!$A$3:$N$54"}
Name ___________ju8: {"'광피스표'!$A$3:$N$54"}
Name ___________ju8: {"'광피스표'!$A$3:$N$54"}
Name ___________ju8: {"'광피스표'!$A$3:$N$54"}
Name ___________ju8: {"'광피스표'!$A$3:$N$54"}
Name ___________ju8: {"'광피스표'!$A$3:$N$54"}
Name ___________q45: {"'용역비'!$A$4:$C$8"}
Name ___________q45: {"'용역비'!$A$4:$C$8"}
Name ___________q45: {"'용역비'!$A$4:$C$8"}
Name ___________q45: {"'용역비'!$A$4:$C$8"}
Name ___________q45: {"'용역비'!$A$4:$C$8"}
Name ___________q45: {"'용역비'!$A$4:$C$8"}
Name ___________q45: {"'용역비'!$A$4:$C$8"}
Name ___________q45: {"'용역비'!$A$4:$C$8"}
Name ___________q45: {"'용역비'!$A$4:$C$8"}
Name ___________q45: {"'용역비'!$A$4:$C$8"}
Name ___________q45: {"'용역비'!$A$4:$C$8"}
Name ___________q45: {"'용역비'!$A$4:$C$8"}
Name __________ju8: {"'광피스표'!$A$3:$N$54"}
Name __________ju8: {"'광피스표'!$A$3:$N$54"}
Name __________ju8: {"'광피스표'!$A$3:$N$54"}
Name __________ju8: {"'광피스표'!$A$3:$N$54"}
Name __________ju8: {"'광피스표'!$A$3:$N$54"}
Name __________ju8: {"'광피스표'!$A$3:$N$54"}
Name __________ju8: {"'광피스표'!$A$3:$N$54"}
Name __________ju8: {"'광피스표'!$A$3:$N$54"}
Name __________ju8: {"'광피스표'!$A$3:$N$54"}
Name __________ju8: {"'광피스표'!$A$3:$N$54"}
Name __________ju8: {"'광피스표'!$A$3:$N$54"}
Name __________ju8: {"'광피스표'!$A$3:$N$54"}
Name __________q45: {"'용역비'!$A$4:$C$8"}
Name __________q45: {"'용역비'!$A$4:$C$8"}
Name __________q45: {"'용역비'!$A$4:$C$8"}
Name __________q45: {"'용역비'!$A$4:$C$8"}
Name __________q45: {"'용역비'!$A$4:$C$8"}
Name __________q45: {"'용역비'!$A$4:$C$8"}
Name __________q45: {"'용역비'!$A$4:$C$8"}
Name __________q45: {"'용역비'!$A$4:$C$8"}
Name __________q45: {"'용역비'!$A$4:$C$8"}
Name __________q45: {"'용역비'!$A$4:$C$8"}
Name __________q45: {"'용역비'!$A$4:$C$8"}
Name __________q45: {"'용역비'!$A$4:$C$8"}
Name _________ju8: {"'광피스표'!$A$3:$N$54"}
Name _________ju8: {"'광피스표'!$A$3:$N$54"}
Name _________ju8: {"'광피스표'!$A$3:$N$54"}
Name _________ju8: {"'광피스표'!$A$3:$N$54"}
Name _________ju8: {"'광피스표'!$A$3:$N$54"}
Name _________ju8: {"'광피스표'!$A$3:$N$54"}
Name _________ju8: {"'광피스표'!$A$3:$N$54"}
Name _________ju8: {"'광피스표'!$A$3:$N$54"}
Name _________ju8: {"'광피스표'!$A$3:$N$54"}
Name _________ju8: {"'광피스표'!$A$3:$N$54"}
Name _________ju8: {"'광피스표'!$A$3:$N$54"}
Name _________ju8: {"'광피스표'!$A$3:$N$54"}

Sheet 설계내역서
A1: 설 계 년월일 | B1: 2026. 7. | C1: 설 | D1: （주）협성임프 | E1: 심 | G1: 팀 | I1: 소
C2: 계 | E2: 사
C3: 자 | E3: 자 | G3: 장 | I3: 장
A5: 2026년도
A7: 부산실내빙상장 노후 통신시설 보수공사
A8: 설 계 내 역 서
A10: □ 공사개요
A11: - 부산실내빙상장 노후 통신시설 보수공사 1식
A14: =" ○ 총 사업비: 금"&TEXT(원가계산서!L28,"###,0")&"원(금"&NUMBERSTRING(원가계산서!L28,1)&"원) " -> ○ 총 사업비: 금0원(금영원)
A15: (※ 부가세 포함)
A18: =" - 도급공사 : 금"&TEXT(원가계산서!L26,"###,0")&"원(금"&NUMBERSTRING(원가계산서!L26,1)&"원)" -> - 도급공사 : 금0원(금영원)
A19: =" - 관급자재 : 금"&TEXT(원가계산서!L27,"###,0")&"원(금"&NUMBERSTRING(원가계산서!L27,1)&"원)" -> - 관급자재 : 금0원(금영원)
J29: "총공사 7.2 -전기2.8-용역0.9=3.5억

Sheet 원가계산서
A1: 원 가 계 산 서
A2: 사업명 : 부산실내빙상장 노후 통신시설 보수공사 | Z2: 제비율 : 2026년 4월13일 기준 적용
A3: 비 목 | C3: 구 분 | L3: 금 액 | S3: 구 성 비 | AF3: 비 고
A4: 순 공 사 비 원 가 | C4: 재료비 | E4: 직 접 재 료 비 | L4: ='내역서(총괄)'!D22 -> 0
E5: 간 접 재 료 비
E6: 소 계 | L6: =SUM(L4:R5) -> 0
C7: 노무비 | E7: 직접노무비(가) | L7: ='내역서(총괄)'!E22 -> 0
E8: 간접노무비(나) | L8: =L7*AQ8% -> 0 | S8: ="직접노무비*"&AQ8&"%" -> 직접노무비*17.5% | AQ8: 17.5
E9: 소 계 | L9: =SUM(L7:R8) -> 0
E10: 고 용 보 험 료 | L10: =ROUNDDOWN(L9*AQ10%,0) -> 0 | S10: ="노무비*"&AQ10&"%" -> 노무비*1.01% | AQ10: 1.01
E11: 산 재 보 험 료 | L11: =ROUNDDOWN(L9*AQ11%,0) -> 0 | S11: ="노무비*"&AQ11&"%" -> 노무비*3.56% | AQ11: 3.56 | AS11: 도급자관급 미포함 공사 | AT11: =(L6+L7)*AQ12% -> 0 | AU11: (재료비+직접노무비)*2.07%
E12: 산업안전보건관리비 | L12: =AT11 -> 0 | S12: =AU11 -> (재료비+직접노무비)*2.07% | AF12: 공사금액 2천 이상 | AQ12: 2.07 | AS12: 도급자관급 포함공사 | AT12: =(L6+L7+#REF!)*AQ12% -> #REF! | AU12: ="(재료비+직접노무비+도급자관급)*"&AQ12&"%" -> (재료비+직접노무비+도급자관급)*2.07%
E13: 건 강 보 험 료 | L13: =ROUNDDOWN(L7*AQ13%,0) -> 0 | S13: ="직접노무비*"&AQ13&"%" -> 직접노무비*3.595% | AF13: 공사기간 1개월 이상 | AQ13: 3.595 | AS13: 도급자관급 포함공사 | AT13: =((L6+L7)*AQ12%)*1.2 -> 0 | AU13: ="[재료비+직접노무비)*"&AQ12&"%]*1.2" -> [재료비+직접노무비)*2.07%]*1.2
E14: 연 금 보 험 료 | L14: =ROUNDDOWN(L7*AQ14%,0) -> 0 | S14: ="직접노무비*"&AQ14&"%" -> 직접노무비*4.75% | AF14: 공사기간 1개월 이상 | AQ14: 4.75
E15: 퇴직공제부금비 | L15: =L7*AQ15% -> 0 | S15: ="직접노무비*"&AQ15&"%" -> 직접노무비*2.3% | AF15: 공사금액 1억 이상 | AQ15: 2.3
E16: 노인장기요양보험료 | L16: =ROUNDDOWN(L13*AQ16%,0) -> 0 | S16: ="건강보험료*"&AQ16&"%" -> 건강보험료*13.14% | AF16: 공사기간 1개월 이상 | AQ16: 13.14
E17: 기 타 경 비 | L17: =ROUNDDOWN((L6+L9)*AQ17%,0) -> 0 | S17: ="(재료비+노무비)*"&AQ17&"%" -> (재료비+노무비)*5% | AQ17: 5
E18: 석면분담금 | L18: =ROUNDDOWN((L9)*AQ18%,0) -> 0 | S18: ="노무비*"&AQ18&"%" -> 노무비*0.006% | AQ18: 0.006
E19: 임금채권부담금 | L19: =ROUNDDOWN((L9)*AQ19%,0) -> 0 | S19: ="노무비*"&AQ19&"%" -> 노무비*0.09% | AQ19: 0.09
E20: 소 계 | L20: =SUM(L10:R19) -> 0
C21: 계 | L21: =L6+L9+L20 -> 0
A22: 일 반 관 리 비 | L22: =ROUNDDOWN(L21*AQ22%,0) -> 0 | S22: ="(재료비+노무비+경비)*"&AQ22&"%" -> (재료비+노무비+경비)*8% | AQ22: 8
A23: 이 윤 | L23: =ROUNDDOWN((L9+L20+L22)*AQ23%,0) -> 0 | S23: ="(노무비+경비+일반관리비)*"&AQ23&"%" -> (노무비+경비+일반관리비)*15% | AQ23: 15
A24: 총원가 | L24: =ROUNDDOWN(SUM(L21:R23),) -> 0 | S24: (순공사원가 + 일반관리비 + 이윤)
A25: 부가가치세 | L25: =L24*0.1 -> 0 | S25: ="공사원가*"&AQ25&"%" -> 공사원가*10% | AQ25: 10
A26: 도급 공사비 | L26: =TRUNC(SUM(L24:R25),-3) -> 0 | S26: (총원가+부가가치세) | AF26: 천단위 미만 절사
A27: 관급자재 | L27: =관급자재조서!G107 -> 0
A28: 공사비 총계 | L28: =SUM(L26:R27) -> 0 | S28: (예정가격+관급자재)
L29: 0
V33: `

Sheet 내역서(총괄)
A1: 내 역 집 계 표
A2: 사업명 : 부산실내빙상장 노후 통신시설 보수공사
A3: 품 명 | B3: 단위 | C3: 수량 | D3: 재료비 | E3: 노무비 | F3: 경비 | G3: 계 | H3: 비고
A4: =내역서!D5 -> 부산실내빙상장 노후 통신시설 보수공사 | B4: 식 | D4: =내역서!I52 -> 0 | E4: =내역서!K52 -> 0 | F4: 0 | G4: =D4+E4+F4 -> 0
A22: [합 계] | D22: =SUM(D4:D18) -> 0 | E22: =SUM(E4:E18) -> 0 | F22: =F4+F5+F6+F7 -> 0 | G22: =SUM(G4:G18) -> 0

Sheet 일위대가목록
A1: 1022 | D1: 일 위 대 가 목 록 표
D2: 항 목 번 호 | E2: 명 칭 | F2: 규 격 | G2: 단위 | H2: 수량 | I2: 재료비 | J2: 노무비 | K2: 경 비 | L2: 계 | M2: 비고
A3: 4 | B3: 1항목 | C3: 1계 | D3: 1 | E3: =VLOOKUP($B$3:$B$281,일위대가!$B$4:$O$905,4,0) -> 카메라 철거 | F3: =VLOOKUP($B$3:$B$281,일위대가!$B$4:$O$905,5,0) -> 돔 | G3: =VLOOKUP($B$3:$B$281,일위대가!$B$4:$O$905,6,0) -> 대 | H3: 1 | I3: =VLOOKUP($C$3:$C$281,일위대가!$B$4:$O$905,9,0) -> 0 | J3: =VLOOKUP($C$3:$C$281,일위대가!$B$4:$O$905,11,0) -> 0 | K3: =VLOOKUP($C$3:$C$281,일위대가!$B$4:$O$905,13,0) -> 0 | L3: =SUM(I3:K3) -> 0
A4: 5 | B4: 2항목 | C4: 2계 | D4: 2 | E4: =VLOOKUP($B$3:$B$281,일위대가!$B$4:$O$905,4,0) -> 카메라 철거 | F4: =VLOOKUP($B$3:$B$281,일위대가!$B$4:$O$905,5,0) -> 뷸렛 | G4: =VLOOKUP($B$3:$B$281,일위대가!$B$4:$O$905,6,0) -> 대 | H4: 1 | I4: =VLOOKUP($C$3:$C$281,일위대가!$B$4:$O$905,9,0) -> 0 | J4: =VLOOKUP($C$3:$C$281,일위대가!$B$4:$O$905,11,0) -> 0 | K4: =VLOOKUP($C$3:$C$281,일위대가!$B$4:$O$905,13,0) -> 0 | L4: =SUM(I4:K4) -> 0
A5: 6 | B5: 3항목 | C5: 3계 | D5: 3 | E5: =VLOOKUP($B$3:$B$281,일위대가!$B$4:$O$905,4,0) -> 카메라 철거 | F5: =VLOOKUP($B$3:$B$281,일위대가!$B$4:$O$905,5,0) -> PTZ | G5: =VLOOKUP($B$3:$B$281,일위대가!$B$4:$O$905,6,0) -> 대 | H5: 1 | I5: =VLOOKUP($C$3:$C$281,일위대가!$B$4:$O$905,9,0) -> 0 | J5: =VLOOKUP($C$3:$C$281,일위대가!$B$4:$O$905,11,0) -> 0 | K5: =VLOOKUP($C$3:$C$281,일위대가!$B$4:$O$905,13,0) -> 0 | L5: =SUM(I5:K5) -> 0
A6: 1022 | B6: 4항목 | C6: 4계 | D6: 4 | E6: =VLOOKUP($B$3:$B$281,일위대가!$B$4:$O$905,4,0) -> NVR 철거 | F6: =VLOOKUP($B$3:$B$281,일위대가!$B$4:$O$905,5,0) -> 32CH | G6: =VLOOKUP($B$3:$B$281,일위대가!$B$4:$O$905,6,0) -> 대 | H6: 1 | I6: =VLOOKUP($C$3:$C$281,일위대가!$B$4:$O$905,9,0) -> 0 | J6: =VLOOKUP($C$3:$C$281,일위대가!$B$4:$O$905,11,0) -> 0 | K6: =VLOOKUP($C$3:$C$281,일위대가!$B$4:$O$905,13,0) -> 0 | L6: =SUM(I6:K6) -> 0
A7: 2001 | B7: 5항목 | C7: 5계 | D7: 5 | E7: =VLOOKUP($B$3:$B$281,일위대가!$B$4:$O$905,4,0) -> 광 케이블 | F7: =VLOOKUP($B$3:$B$281,일위대가!$B$4:$O$905,5,0) -> SM-8Core | G7: =VLOOKUP($B$3:$B$281,일위대가!$B$4:$O$905,6,0) -> m | H7: 1 | I7: =VLOOKUP($C$3:$C$281,일위대가!$B$4:$O$905,9,0) -> 0 | J7: =VLOOKUP($C$3:$C$281,일위대가!$B$4:$O$905,11,0) -> 0 | K7: =VLOOKUP($C$3:$C$281,일위대가!$B$4:$O$905,13,0) -> 0 | L7: =SUM(I7:K7) -> 0
A8: 2002 | B8: 6항목 | C8: 6계 | D8: 6 | E8: =VLOOKUP($B$3:$B$281,일위대가!$B$4:$O$905,4,0) -> UTP | F8: =VLOOKUP($B$3:$B$281,일위대가!$B$4:$O$905,5,0) -> CAT6 4P(1조) | G8: =VLOOKUP($B$3:$B$281,일위대가!$B$4:$O$905,6,0) -> m | H8: 1 | I8: =VLOOKUP($C$3:$C$281,일위대가!$B$4:$O$905,9,0) -> 0 | J8: =VLOOKUP($C$3:$C$281,일위대가!$B$4:$O$905,11,0) -> 0 | K8: =VLOOKUP($C$3:$C$281,일위대가!$B$4:$O$905,13,0) -> 0 | L8: =SUM(I8:K8) -> 0
A9: 2003 | B9: 7항목 | C9: 7계 | D9: 7 | E9: =VLOOKUP($B$3:$B$281,일위대가!$B$4:$O$905,4,0) -> UTP | F9: =VLOOKUP($B$3:$B$281,일위대가!$B$4:$O$905,5,0) -> CAT6 4P(2조) | G9: =VLOOKUP($B$3:$B$281,일위대가!$B$4:$O$905,6,0) -> m | H9: 1 | I9: =VLOOKUP($C$3:$C$281,일위대가!$B$4:$O$905,9,0) -> 0 | J9: =VLOOKUP($C$3:$C$281,일위대가!$B$4:$O$905,11,0) -> 0 | K9: =VLOOKUP($C$3:$C$281,일위대가!$B$4:$O$905,13,0) -> 0 | L9: =SUM(I9:K9) -> 0
A10: 2004 | B10: 8항목 | C10: 8계 | D10: 8 | E10: =VLOOKUP($B$3:$B$281,일위대가!$B$4:$O$905,4,0) -> UTP | F10: =VLOOKUP($B$3:$B$281,일위대가!$B$4:$O$905,5,0) -> CAT6 4P(3조) | G10: =VLOOKUP($B$3:$B$281,일위대가!$B$4:$O$905,6,0) -> m | H10: 1 | I10: =VLOOKUP($C$3:$C$281,일위대가!$B$4:$O$905,9,0) -> 0 | J10: =VLOOKUP($C$3:$C$281,일위대가!$B$4:$O$905,11,0) -> 0 | K10: =VLOOKUP($C$3:$C$281,일위대가!$B$4:$O$905,13,0) -> 0 | L10: =SUM(I10:K10) -> 0
A11: 2005 | B11: 9항목 | C11: 9계 | D11: 9 | E11: =VLOOKUP($B$3:$B$281,일위대가!$B$4:$O$905,4,0) -> UTP | F11: =VLOOKUP($B$3:$B$281,일위대가!$B$4:$O$905,5,0) -> CAT6 4P(4조) | G11: =VLOOKUP($B$3:$B$281,일위대가!$B$4:$O$905,6,0) -> m | H11: 1 | I11: =VLOOKUP($C$3:$C$281,일위대가!$B$4:$O$905,9,0) -> 0 | J11: =VLOOKUP($C$3:$C$281,일위대가!$B$4:$O$905,11,0) -> 0 | K11: =VLOOKUP($C$3:$C$281,일위대가!$B$4:$O$905,13,0) -> 0 | L11: =SUM(I11:K11) -> 0
A12: 2006 | B12: 10항목 | C12: 10계 | D12: 10 | E12: =VLOOKUP($B$3:$B$281,일위대가!$B$4:$O$905,4,0) -> UTP | F12: =VLOOKUP($B$3:$B$281,일위대가!$B$4:$O$905,5,0) -> CAT6 4P(6조) | G12: =VLOOKUP($B$3:$B$281,일위대가!$B$4:$O$905,6,0) -> m | H12: 1 | I12: =VLOOKUP($C$3:$C$281,일위대가!$B$4:$O$905,9,0) -> 0 | J12: =VLOOKUP($C$3:$C$281,일위대가!$B$4:$O$905,11,0) -> 0 | K12: =VLOOKUP($C$3:$C$281,일위대가!$B$4:$O$905,13,0) -> 0 | L12: =SUM(I12:K12) -> 0
A13: 2007 | B13: 11항목 | C13: 11계 | D13: 11 | E13: =VLOOKUP($B$3:$B$281,일위대가!$B$4:$O$905,4,0) -> UTP | F13: =VLOOKUP($B$3:$B$281,일위대가!$B$4:$O$905,5,0) -> CAT6 4P(7조) | G13: =VLOOKUP($B$3:$B$281,일위대가!$B$4:$O$905,6,0) -> m | H13: 1 | I13: =VLOOKUP($C$3:$C$281,일위대가!$B$4:$O$905,9,0) -> 0 | J13: =VLOOKUP($C$3:$C$281,일위대가!$B$4:$O$905,11,0) -> 0 | K13: =VLOOKUP($C$3:$C$281,일위대가!$B$4:$O$905,13,0) -> 0 | L13: =SUM(I13:K13) -> 0
A14: 2008 | B14: 12항목 | C14: 12계 | D14: 12 | E14: =VLOOKUP($B$3:$B$281,일위대가!$B$4:$O$905,4,0) -> UTP | F14: =VLOOKUP($B$3:$B$281,일위대가!$B$4:$O$905,5,0) -> CAT6 4P(9조) | G14: =VLOOKUP($B$3:$B$281,일위대가!$B$4:$O$905,6,0) -> m | H14: 1 | I14: =VLOOKUP($C$3:$C$281,일위대가!$B$4:$O$905,9,0) -> 0 | J14: =VLOOKUP($C$3:$C$281,일위대가!$B$4:$O$905,11,0) -> 0 | K14: =VLOOKUP($C$3:$C$281,일위대가!$B$4:$O$905,13,0) -> 0 | L14: =SUM(I14:K14) -> 0
... A39: 5008 | B39: 37항목 | C39: 37계 | D39: 37 | E39: =VLOOKUP($B$3:$B$281,일위대가!$B$4:$O$905,4,0) -> 방송 단자함 철거 | F39: =VLOOKUP($B$3:$B$281,일위대가!$B$4:$O$905,5,0) -> SP 10P | G39: =VLOOKUP($B$3:$B$281,일위대가!$B$4:$O$905,6,0) -> 개 | H39: 1 | I39: =VLOOKUP($C$3:$C$281,일위대가!$B$4:$O$905,9,0) -> 0 | J39: =VLOOKUP($C$3:$C$281,일위대가!$B$4:$O$905,11,0) -> 0 | K39: =VLOOKUP($C$3:$C$281,일위대가!$B$4:$O$905,13,0) -> 0 | L39: =SUM(I39:K39) -> 0
A40: 4017 | B40: 38항목 | C40: 38계 | D40: 38 | E40: =VLOOKUP($B$3:$B$281,일위대가!$B$4:$O$905,4,0) -> MIC JACK PLATE 철거 | F40: =VLOOKUP($B$3:$B$281,일위대가!$B$4:$O$905,5,0) -> 2CH | G40: =VLOOKUP($B$3:$B$281,일위대가!$B$4:$O$905,6,0) -> 개 | H40: 1 | I40: =VLOOKUP($C$3:$C$281,일위대가!$B$4:$O$905,9,0) -> 0 | J40: =VLOOKUP($C$3:$C$281,일위대가!$B$4:$O$905,11,0) -> 0 | K40: =VLOOKUP($C$3:$C$281,일위대가!$B$4:$O$905,13,0) -> 0 | L40: =SUM(I40:K40) -> 0 | N40: `
A41: 4018 | B41: 39항목 | C41: 39계 | D41: 39 | E41: =VLOOKUP($B$3:$B$281,일위대가!$B$4:$O$905,4,0) -> Wireless Ant 철거 | F41: =VLOOKUP($B$3:$B$281,일위대가!$B$4:$O$905,5,0) -> 900MHz | G41: =VLOOKUP($B$3:$B$281,일위대가!$B$4:$O$905,6,0) -> 대 | H41: 1 | I41: =VLOOKUP($C$3:$C$281,일위대가!$B$4:$O$905,9,0) -> 0 | J41: =VLOOKUP($C$3:$C$281,일위대가!$B$4:$O$905,11,0) -> 0 | K41: =VLOOKUP($C$3:$C$281,일위대가!$B$4:$O$905,13,0) -> 0 | L41: =SUM(I41:K41) -> 0
A42: 5009 | B42: 40항목 | C42: 40계 | D42: 40 | E42: =VLOOKUP($B$3:$B$281,일위대가!$B$4:$O$905,4,0) -> 19"RACK 철거 | F42: =VLOOKUP($B$3:$B$281,일위대가!$B$4:$O$905,5,0) -> H:1600 | G42: =VLOOKUP($B$3:$B$281,일위대가!$B$4:$O$905,6,0) -> 대 | H42: 1 | I42: =VLOOKUP($C$3:$C$281,일위대가!$B$4:$O$905,9,0) -> 0 | J42: =VLOOKUP($C$3:$C$281,일위대가!$B$4:$O$905,11,0) -> 0 | K42: =VLOOKUP($C$3:$C$281,일위대가!$B$4:$O$905,13,0) -> 0 | L42: =SUM(I42:K42) -> 0
A43: 5010 | B43: 41항목 | C43: 41계 | D43: 41 | E43: =VLOOKUP($B$3:$B$281,일위대가!$B$4:$O$905,4,0) -> SATELLITE SPEAKER 철거 | F43: =VLOOKUP($B$3:$B$281,일위대가!$B$4:$O$905,5,0) -> 120W | G43: =VLOOKUP($B$3:$B$281,일위대가!$B$4:$O$905,6,0) -> 대 | H43: 1 | I43: =VLOOKUP($C$3:$C$281,일위대가!$B$4:$O$905,9,0) -> 0 | J43: =VLOOKUP($C$3:$C$281,일위대가!$B$4:$O$905,11,0) -> 0 | K43: =VLOOKUP($C$3:$C$281,일위대가!$B$4:$O$905,13,0) -> 0 | L43: =SUM(I43:K43) -> 0
A44: 5011 | B44: 42항목 | C44: 42계 | D44: 42 | E44: =VLOOKUP($B$3:$B$281,일위대가!$B$4:$O$905,4,0) -> CENTER CLUSTER SPEAKER 철거 | F44: =VLOOKUP($B$3:$B$281,일위대가!$B$4:$O$905,5,0) -> 300W | G44: =VLOOKUP($B$3:$B$281,일위대가!$B$4:$O$905,6,0) -> 대 | H44: 1 | I44: =VLOOKUP($C$3:$C$281,일위대가!$B$4:$O$905,9,0) -> 0 | J44: =VLOOKUP($C$3:$C$281,일위대가!$B$4:$O$905,11,0) -> 0 | K44: =VLOOKUP($C$3:$C$281,일위대가!$B$4:$O$905,13,0) -> 0 | L44: =SUM(I44:K44) -> 0

Sheet 내역서
D1: 내 역 서
D2: 품 명 | E2: 규 격 | F2: 단위 | G2: 수량 | H2: 재 료 비 | J2: 노 무 비 | L2: 경 비 | N2: 계 | O2: 비 고
H3: 단가 | I3: 금액 | J3: 단가 | K3: 금액 | L3: 단가 | M3: 금액
B5: 일위목록KEY | C5: 집계표KEY | D5: 부산실내빙상장 노후 통신시설 보수공사
D6: 1. CCTV 교체
B7: 4 | C7: 4 | D7: =VLOOKUP($C:$C,집계표!$B$4:$J$155,3,0) -> 카메라철거 | E7: =VLOOKUP($C:$C,집계표!$B$4:$J$155,4,0) -> 돔 | F7: =VLOOKUP($C:$C,집계표!$B$4:$J$119,5,0) -> 대 | G7: =VLOOKUP($C:$C,집계표!$B$4:$J$155,6,0) -> 0 | H7: =VLOOKUP($B:$B,일위대가목록!$A$3:$L$87,9,0) -> 0 | I7: =TRUNC(G7*H7) -> 0 | J7: =VLOOKUP($B:$B,일위대가목록!$A$3:$L$79,10,0) -> 0 | K7: =TRUNC(G7*J7) -> 0 | L7: 0 | M7: =TRUNC(G7*L7) -> 0 | N7: =I7+K7+M7 -> 0 | O7: ="[대가 "&VLOOKUP($B:$B,일위대가목록!$A$3:$L$81,4,0)&" 호표]" -> [대가 1 호표]
B8: 5 | C8: 5 | D8: =VLOOKUP($C:$C,집계표!$B$4:$J$155,3,0) -> 카메라철거 | E8: =VLOOKUP($C:$C,집계표!$B$4:$J$155,4,0) -> 뷰렛 | F8: =VLOOKUP($C:$C,집계표!$B$4:$J$119,5,0) -> 대 | G8: =VLOOKUP($C:$C,집계표!$B$4:$J$155,6,0) -> 0 | H8: =VLOOKUP($B:$B,일위대가목록!$A$3:$L$87,9,0) -> 0 | I8: =TRUNC(G8*H8) -> 0 | J8: =VLOOKUP($B:$B,일위대가목록!$A$3:$L$79,10,0) -> 0 | K8: =TRUNC(G8*J8) -> 0 | L8: 0 | M8: =TRUNC(G8*L8) -> 0 | N8: =I8+K8+M8 -> 0 | O8: ="[대가 "&VLOOKUP($B:$B,일위대가목록!$A$3:$L$81,4,0)&" 호표]" -> [대가 2 호표]
B9: 6 | C9: 6 | D9: =VLOOKUP($C:$C,집계표!$B$4:$J$155,3,0) -> 카메라철거 | E9: =VLOOKUP($C:$C,집계표!$B$4:$J$155,4,0) -> PTZ | F9: =VLOOKUP($C:$C,집계표!$B$4:$J$119,5,0) -> 대 | G9: =VLOOKUP($C:$C,집계표!$B$4:$J$155,6,0) -> 0 | H9: =VLOOKUP($B:$B,일위대가목록!$A$3:$L$87,9,0) -> 0 | I9: =TRUNC(G9*H9) -> 0 | J9: =VLOOKUP($B:$B,일위대가목록!$A$3:$L$79,10,0) -> 0 | K9: =TRUNC(G9*J9) -> 0 | L9: 0 | M9: =TRUNC(G9*L9) -> 0 | N9: =I9+K9+M9 -> 0 | O9: ="[대가 "&VLOOKUP($B:$B,일위대가목록!$A$3:$L$81,4,0)&" 호표]" -> [대가 3 호표]
B10: 1022 | C10: 1022 | D10: =VLOOKUP($C:$C,집계표!$B$4:$J$155,3,0) -> NVR 철거 | E10: =VLOOKUP($C:$C,집계표!$B$4:$J$155,4,0) -> 32CH | F10: =VLOOKUP($C:$C,집계표!$B$4:$J$119,5,0) -> 대 | G10: =VLOOKUP($C:$C,집계표!$B$4:$J$155,6,0) -> 0 | H10: =VLOOKUP($B:$B,일위대가목록!$A$3:$L$87,9,0) -> 0 | I10: =TRUNC(G10*H10) -> 0 | J10: =VLOOKUP($B:$B,일위대가목록!$A$3:$L$79,10,0) -> 0 | K10: =TRUNC(G10*J10) -> 0 | L10: 0 | M10: =TRUNC(G10*L10) -> 0 | N10: =I10+K10+M10 -> 0 | O10: ="[대가 "&VLOOKUP($B:$B,일위대가목록!$A$3:$L$81,4,0)&" 호표]" -> [대가 4 호표]
B11: 2001 | C11: 2001 | D11: =VLOOKUP($C:$C,집계표!$B$4:$J$155,3,0) -> 광 케이블 | E11: =VLOOKUP($C:$C,집계표!$B$4:$J$155,4,0) -> SM-8Core | F11: =VLOOKUP($C:$C,집계표!$B$4:$J$119,5,0) -> m | G11: =VLOOKUP($C:$C,집계표!$B$4:$J$155,6,0) -> 0 | H11: =VLOOKUP($B:$B,일위대가목록!$A$3:$L$87,9,0) -> 0 | I11: =TRUNC(G11*H11) -> 0 | J11: =VLOOKUP($B:$B,일위대가목록!$A$3:$L$79,10,0) -> 0 | K11: =TRUNC(G11*J11) -> 0 | L11: 0 | M11: =TRUNC(G11*L11) -> 0 | N11: =I11+K11+M11 -> 0 | O11: ="[대가 "&VLOOKUP($B:$B,일위대가목록!$A$3:$L$81,4,0)&" 호표]" -> [대가 5 호표]
B12: 2002 | C12: 2002 | D12: =VLOOKUP($C:$C,집계표!$B$4:$J$155,3,0) -> UTP | E12: =VLOOKUP($C:$C,집계표!$B$4:$J$155,4,0) -> CAT6 4P(1조) | F12: =VLOOKUP($C:$C,집계표!$B$4:$J$119,5,0) -> m | G12: =VLOOKUP($C:$C,집계표!$B$4:$J$155,6,0) -> 0 | H12: =VLOOKUP($B:$B,일위대가목록!$A$3:$L$87,9,0) -> 0 | I12: =TRUNC(G12*H12) -> 0 | J12: =VLOOKUP($B:$B,일위대가목록!$A$3:$L$79,10,0) -> 0 | K12: =TRUNC(G12*J12) -> 0 | L12: 0 | M12: =TRUNC(G12*L12) -> 0 | N12: =I12+K12+M12 -> 0 | O12: ="[대가 "&VLOOKUP($B:$B,일위대가목록!$A$3:$L$81,4,0)&" 호표]" -> [대가 6 호표]
B13: 2003 | C13: 2003 | D13: =VLOOKUP($C:$C,집계표!$B$4:$J$155,3,0) -> UTP | E13: =VLOOKUP($C:$C,집계표!$B$4:$J$155,4,0) -> CAT6 4P(2조) | F13: =VLOOKUP($C:$C,집계표!$B$4:$J$119,5,0) -> m | G13: =VLOOKUP($C:$C,집계표!$B$4:$J$155,6,0) -> 0 | H13: =VLOOKUP($B:$B,일위대가목록!$A$3:$L$87,9,0) -> 0 | I13: =TRUNC(G13*H13) -> 0 | J13: =VLOOKUP($B:$B,일위대가목록!$A$3:$L$79,10,0) -> 0 | K13: =TRUNC(G13*J13) -> 0 | L13: 0 | M13: =TRUNC(G13*L13) -> 0 | N13: =I13+K13+M13 -> 0 | O13: ="[대가 "&VLOOKUP($B:$B,일위대가목록!$A$3:$L$81,4,0)&" 호표]" -> [대가 7 호표]
B14: 2004 | C14: 2004 | D14: =VLOOKUP($C:$C,집계표!$B$4:$J$155,3,0) -> UTP | E14: =VLOOKUP($C:$C,집계표!$B$4:$J$155,4,0) -> CAT6 4P(3조) | F14: =VLOOKUP($C:$C,집계표!$B$4:$J$119,5,0) -> m | G14: =VLOOKUP($C:$C,집계표!$B$4:$J$155,6,0) -> 0 | H14: =VLOOKUP($B:$B,일위대가목록!$A$3:$L$87,9,0) -> 0 | I14: =TRUNC(G14*H14) -> 0 | J14: =VLOOKUP($B:$B,일위대가목록!$A$3:$L$79,10,0) -> 0 | K14: =TRUNC(G14*J14) -> 0 | L14: 0 | M14: =TRUNC(G14*L14) -> 0 | N14: =I14+K14+M14 -> 0 | O14: ="[대가 "&VLOOKUP($B:$B,일위대가목록!$A$3:$L$81,4,0)&" 호표]" -> [대가 8 호표]
B15: 2005 | C15: 2005 | D15: =VLOOKUP($C:$C,집계표!$B$4:$J$155,3,0) -> UTP | E15: =VLOOKUP($C:$C,집계표!$B$4:$J$155,4,0) -> CAT6 4P(4조) | F15: =VLOOKUP($C:$C,집계표!$B$4:$J$119,5,0) -> m | G15: =VLOOKUP($C:$C,집계표!$B$4:$J$155,6,0) -> 0 | H15: =VLOOKUP($B:$B,일위대가목록!$A$3:$L$87,9,0) -> 0 | I15: =TRUNC(G15*H15) -> 0 | J15: =VLOOKUP($B:$B,일위대가목록!$A$3:$L$79,10,0) -> 0 | K15: =TRUNC(G15*J15) -> 0 | L15: 0 | M15: =TRUNC(G15*L15) -> 0 | N15: =I15+K15+M15 -> 0 | O15: ="[대가 "&VLOOKUP($B:$B,일위대가목록!$A$3:$L$81,4,0)&" 호표]" -> [대가 9 호표]
B16: 2006 | C16: 2006 | D16: =VLOOKUP($C:$C,집계표!$B$4:$J$155,3,0) -> UTP | E16: =VLOOKUP($C:$C,집계표!$B$4:$J$155,4,0) -> CAT6 4P(6조) | F16: =VLOOKUP($C:$C,집계표!$B$4:$J$119,5,0) -> m | G16: =VLOOKUP($C:$C,집계표!$B$4:$J$155,6,0) -> 0 | H16: =VLOOKUP($B:$B,일위대가목록!$A$3:$L$87,9,0) -> 0 | I16: =TRUNC(G16*H16) -> 0 | J16: =VLOOKUP($B:$B,일위대가목록!$A$3:$L$79,10,0) -> 0 | K16: =TRUNC(G16*J16) -> 0 | L16: 0 | M16: =TRUNC(G16*L16) -> 0 | N16: =I16+K16+M16 -> 0 | O16: ="[대가 "&VLOOKUP($B:$B,일위대가목록!$A$3:$L$81,4,0)&" 호표]" -> [대가 10 호표]
B17: 2007 | C17: 2007 | D17: =VLOOKUP($C:$C,집계표!$B$4:$J$155,3,0) -> UTP | E17: =VLOOKUP($C:$C,집계표!$B$4:$J$155,4,0) -> CAT6 4P(7조) | F17: =VLOOKUP($C:$C,집계표!$B$4:$J$119,5,0) -> m | G17: =VLOOKUP($C:$C,집계표!$B$4:$J$155,6,0) -> 0 | H17: =VLOOKUP($B:$B,일위대가목록!$A$3:$L$87,9,0) -> 0 | I17: =TRUNC(G17*H17) -> 0 | J17: =VLOOKUP($B:$B,일위대가목록!$A$3:$L$79,10,0) -> 0 | K17: =TRUNC(G17*J17) -> 0 | L17: 0 | M17: =TRUNC(G17*L17) -> 0 | N17: =I17+K17+M17 -> 0 | O17: ="[대가 "&VLOOKUP($B:$B,일위대가목록!$A$3:$L$81,4,0)&" 호표]" -> [대가 11 호표]
B18: 2008 | C18: 2008 | D18: =VLOOKUP($C:$C,집계표!$B$4:$J$155,3,0) -> UTP | E18: =VLOOKUP($C:$C,집계표!$B$4:$J$155,4,0) -> CAT6 4P(9조) | F18: =VLOOKUP($C:$C,집계표!$B$4:$J$119,5,0) -> m | G18: =VLOOKUP($C:$C,집계표!$B$4:$J$155,6,0) -> 0 | H18: =VLOOKUP($B:$B,일위대가목록!$A$3:$L$87,9,0) -> 0 | I18: =TRUNC(G18*H18) -> 0 | J18: =VLOOKUP($B:$B,일위대가목록!$A$3:$L$79,10,0) -> 0 | K18: =TRUNC(G18*J18) -> 0 | L18: 0 | M18: =TRUNC(G18*L18) -> 0 | N18: =I18+K18+M18 -> 0 | O18: ="[대가 "&VLOOKUP($B:$B,일위대가목록!$A$3:$L$81,4,0)&" 호표]" -> [대가 12 호표]
... B31: 2010 | C31: 2010 | D31: =VLOOKUP($C:$C,집계표!$B$4:$J$155,3,0) -> PTZ전력 케이블 | E31: =VLOOKUP($C:$C,집계표!$B$4:$J$155,4,0) -> HFCO(0.6/1kV 3C-1.5㎟) | F31: =VLOOKUP($C:$C,집계표!$B$4:$J$119,5,0) -> m | G31: =VLOOKUP($C:$C,집계표!$B$4:$J$155,6,0) -> 0 | H31: =VLOOKUP($B:$B,일위대가목록!$A$3:$L$87,9,0) -> 0 | I31: =TRUNC(G31*H31) -> 0 | J31: =VLOOKUP($B:$B,일위대가목록!$A$3:$L$79,10,0) -> 0 | K31: =TRUNC(G31*J31) -> 0 | L31: 0 | M31: =TRUNC(G31*L31) -> 0 | N31: =I31+K31+M31 -> 0 | O31: ="[대가 "&VLOOKUP($B:$B,일위대가목록!$A$3:$L$81,4,0)&" 호표]" -> [대가 25 호표]
D32: [소 계] | I32: =SUM(I7:I31) -> 0 | K32: =SUM(K7:K31) -> 0 | M32: =SUM(M7:M26) -> 0 | N32: =SUM(N7:N31) -> 0
D33: 2. 방송장비 교체
B34: 2014 | C34: 2014 | D34: =VLOOKUP($C:$C,집계표!$B$4:$J$155,3,0) -> 빙상장 스피커 케이블 | E34: =VLOOKUP($C:$C,집계표!$B$4:$J$155,4,0) -> F-FR-8 2C-4㎟ | F34: =VLOOKUP($C:$C,집계표!$B$4:$J$119,5,0) -> m | G34: =VLOOKUP($C:$C,집계표!$B$4:$J$155,6,0) -> 0 | H34: =VLOOKUP($B:$B,일위대가목록!$A$3:$L$87,9,0) -> 0 | I34: =TRUNC(G34*H34) -> 0 | J34: =VLOOKUP($B:$B,일위대가목록!$A$3:$L$79,10,0) -> 0 | K34: =TRUNC(G34*J34) -> 0 | L34: 0 | M34: =TRUNC(G34*L34) -> 0 | N34: =I34+K34+M34 -> 0 | O34: ="[대가 "&VLOOKUP($B:$B,일위대가목록!$A$3:$L$81,4,0)&" 호표]" -> [대가 26 호표]
B35: 2015 | C35: 2015 | D35: =VLOOKUP($C:$C,집계표!$B$4:$J$155,3,0) -> 빙상장 스피커 케이블 철거 | E35: =VLOOKUP($C:$C,집계표!$B$4:$J$155,4,0) -> 난연 16C | F35: =VLOOKUP($C:$C,집계표!$B$4:$J$119,5,0) -> m | G35: =VLOOKUP($C:$C,집계표!$B$4:$J$155,6,0) -> 0 | H35: =VLOOKUP($B:$B,일위대가목록!$A$3:$L$87,9,0) -> 0 | I35: =TRUNC(G35*H35) -> 0 | J35: =VLOOKUP($B:$B,일위대가목록!$A$3:$L$79,10,0) -> 0 | K35: =TRUNC(G35*J35) -> 0 | L35: 0 | M35: =TRUNC(G35*L35) -> 0 | N35: =I35+K35+M35 -> 0 | O35: ="[대가 "&VLOOKUP($B:$B,일위대가목록!$A$3:$L$81,4,0)&" 호표]" -> [대가 27 호표]
B36: 3017 | C36: 3017 | D36: =VLOOKUP($C:$C,집계표!$B$4:$J$155,3,0) -> ST관 | E36: =VLOOKUP($C:$C,집계표!$B$4:$J$155,4,0) -> 28C | F36: =VLOOKUP($C:$C,집계표!$B$4:$J$119,5,0) -> m | G36: =VLOOKUP($C:$C,집계표!$B$4:$J$155,6,0) -> 0 | H36: =VLOOKUP($B:$B,일위대가목록!$A$3:$L$87,9,0) -> 0 | I36: =TRUNC(G36*H36) -> 0 | J36: =VLOOKUP($B:$B,일위대가목록!$A$3:$L$79,10,0) -> 0 | K36: =TRUNC(G36*J36) -> 0 | L36: 0 | M36: =TRUNC(G36*L36) -> 0 | N36: =I36+K36+M36 -> 0 | O36: ="[대가 "&VLOOKUP($B:$B,일위대가목록!$A$3:$L$81,4,0)&" 호표]" -> [대가 28 호표]
B37: 3018 | C37: 3018 | D37: =VLOOKUP($C:$C,집계표!$B$4:$J$155,3,0) -> ST관 | E37: =VLOOKUP($C:$C,집계표!$B$4:$J$155,4,0) -> 42C | F37: =VLOOKUP($C:$C,집계표!$B$4:$J$119,5,0) -> m | G37: =VLOOKUP($C:$C,집계표!$B$4:$J$155,6,0) -> 0 | H37: =VLOOKUP($B:$B,일위대가목록!$A$3:$L$87,9,0) -> 0 | I37: =TRUNC(G37*H37) -> 0 | J37: =VLOOKUP($B:$B,일위대가목록!$A$3:$L$79,10,0) -> 0 | K37: =TRUNC(G37*J37) -> 0 | L37: 0 | M37: =TRUNC(G37*L37) -> 0 | N37: =I37+K37+M37 -> 0 | O37: ="[대가 "&VLOOKUP($B:$B,일위대가목록!$A$3:$L$81,4,0)&" 호표]" -> [대가 29 호표]
B38: 5001 | C38: 5001 | D38: =VLOOKUP($C:$C,집계표!$B$4:$J$155,3,0) -> 스피커 설치 | E38: =VLOOKUP($C:$C,집계표!$B$4:$J$155,4,0) -> 3W 천정형 | F38: =VLOOKUP($C:$C,집계표!$B$4:$J$119,5,0) -> 대 | G38: =VLOOKUP($C:$C,집계표!$B$4:$J$155,6,0) -> 0 | H38: =VLOOKUP($B:$B,일위대가목록!$A$3:$L$87,9,0) -> 0 | I38: =TRUNC(G38*H38) -> 0 | J38: =VLOOKUP($B:$B,일위대가목록!$A$3:$L$79,10,0) -> 0 | K38: =TRUNC(G38*J38) -> 0 | L38: 0 | M38: =TRUNC(G38*L38) -> 0 | N38: =I38+K38+M38 -> 0 | O38: ="[대가 "&VLOOKUP($B:$B,일위대가목록!$A$3:$L$81,4,0)&" 호표]" -> [대가 30 호표]
B39: 5002 | C39: 5002 | D39: =VLOOKUP($C:$C,집계표!$B$4:$J$155,3,0) -> 스피커 설치 | E39: =VLOOKUP($C:$C,집계표!$B$4:$J$155,4,0) -> 3W 벽부형 | F39: =VLOOKUP($C:$C,집계표!$B$4:$J$119,5,0) -> 대 | G39: =VLOOKUP($C:$C,집계표!$B$4:$J$155,6,0) -> 0 | H39: =VLOOKUP($B:$B,일위대가목록!$A$3:$L$87,9,0) -> 0 | I39: =TRUNC(G39*H39) -> 0 | J39: =VLOOKUP($B:$B,일위대가목록!$A$3:$L$79,10,0) -> 0 | K39: =TRUNC(G39*J39) -> 0 | L39: 0 | M39: =TRUNC(G39*L39) -> 0 | N39: =I39+K39+M39 -> 0 | O39: ="[대가 "&VLOOKUP($B:$B,일위대가목록!$A$3:$L$81,4,0)&" 호표]" -> [대가 31 호표]
B40: 5003 | C40: 5003 | D40: =VLOOKUP($C:$C,집계표!$B$4:$J$155,3,0) -> 스피커 설치 | E40: =VLOOKUP($C:$C,집계표!$B$4:$J$155,4,0) -> 20W 벽부형 | F40: =VLOOKUP($C:$C,집계표!$B$4:$J$119,5,0) -> 대 | G40: =VLOOKUP($C:$C,집계표!$B$4:$J$155,6,0) -> 0 | H40: =VLOOKUP($B:$B,일위대가목록!$A$3:$L$87,9,0) -> 0 | I40: =TRUNC(G40*H40) -> 0 | J40: =VLOOKUP($B:$B,일위대가목록!$A$3:$L$79,10,0) -> 0 | K40: =TRUNC(G40*J40) -> 0 | L40: 0 | M40: =TRUNC(G40*L40) -> 0 | N40: =I40+K40+M40 -> 0 | O40: ="[대가 "&VLOOKUP($B:$B,일위대가목록!$A$3:$L$81,4,0)&" 호표]" -> [대가 32 호표]
B41: 5004 | C41: 5004 | D41: =VLOOKUP($C:$C,집계표!$B$4:$J$155,3,0) -> 스피커 철거 | E41: =VLOOKUP($C:$C,집계표!$B$4:$J$155,4,0) -> 3W 천정형 | F41: =VLOOKUP($C:$C,집계표!$B$4:$J$119,5,0) -> 대 | G41: =VLOOKUP($C:$C,집계표!$B$4:$J$155,6,0) -> 0 | H41: =VLOOKUP($B:$B,일위대가목록!$A$3:$L$87,9,0) -> 0 | I41: =TRUNC(G41*H41) -> 0 | J41: =VLOOKUP($B:$B,일위대가목록!$A$3:$L$79,10,0) -> 0 | K41: =TRUNC(G41*J41) -> 0 | L41: 0 | M41: =TRUNC(G41*L41) -> 0 | N41: =I41+K41+M41 -> 0 | O41: ="[대가 "&VLOOKUP($B:$B,일위대가목록!$A$3:$L$81,4,0)&" 호표]" -> [대가 33 호표]
B42: 5005 | C42: 5005 | D42: =VLOOKUP($C:$C,집계표!$B$4:$J$155,3,0) -> 스피커 철거 | E42: =VLOOKUP($C:$C,집계표!$B$4:$J$155,4,0) -> 3W 벽부형 | F42: =VLOOKUP($C:$C,집계표!$B$4:$J$119,5,0) -> 대 | G42: =VLOOKUP($C:$C,집계표!$B$4:$J$155,6,0) -> 0 | H42: =VLOOKUP($B:$B,일위대가목록!$A$3:$L$87,9,0) -> 0 | I42: =TRUNC(G42*H42) -> 0 | J42: =VLOOKUP($B:$B,일위대가목록!$A$3:$L$79,10,0) -> 0 | K42: =TRUNC(G42*J42) -> 0 | L42: 0 | M42: =TRUNC(G42*L42) -> 0 | N42: =I42+K42+M42 -> 0 | O42: ="[대가 "&VLOOKUP($B:$B,일위대가목록!$A$3:$L$81,4,0)&" 호표]" -> [대가 34 호표]
B43: 5006 | C43: 5006 | D43: =VLOOKUP($C:$C,집계표!$B$4:$J$155,3,0) -> 스피커 철거 | E43: =VLOOKUP($C:$C,집계표!$B$4:$J$155,4,0) -> 20W 벽부형 | F43: =VLOOKUP($C:$C,집계표!$B$4:$J$119,5,0) -> 대 | G43: =VLOOKUP($C:$C,집계표!$B$4:$J$155,6,0) -> 0 | H43: =VLOOKUP($B:$B,일위대가목록!$A$3:$L$87,9,0) -> 0 | I43: =TRUNC(G43*H43) -> 0 | J43: =VLOOKUP($B:$B,일위대가목록!$A$3:$L$79,10,0) -> 0 | K43: =TRUNC(G43*J43) -> 0 | L43: 0 | M43: =TRUNC(G43*L43) -> 0 | N43: =I43+K43+M43 -> 0 | O43: ="[대가 "&VLOOKUP($B:$B,일위대가목록!$A$3:$L$81,4,0)&" 호표]" -> [대가 35 호표]
B44: 5007 | C44: 5007 | D44: =VLOOKUP($C:$C,집계표!$B$4:$J$155,3,0) -> 방송단자함 | E44: =VLOOKUP($C:$C,집계표!$B$4:$J$155,4,0) -> ST 20P | F44: =VLOOKUP($C:$C,집계표!$B$4:$J$119,5,0) -> 개 | G44: =VLOOKUP($C:$C,집계표!$B$4:$J$155,6,0) -> 0 | H44: =VLOOKUP($B:$B,일위대가목록!$A$3:$L$87,9,0) -> 0 | I44: =TRUNC(G44*H44) -> 0 | J44: =VLOOKUP($B:$B,일위대가목록!$A$3:$L$79,10,0) -> 0 | K44: =TRUNC(G44*J44) -> 0 | L44: 0 | M44: =TRUNC(G44*L44) -> 0 | N44: =I44+K44+M44 -> 0 | O44: ="[대가 "&VLOOKUP($B:$B,일위대가목록!$A$3:$L$81,4,0)&" 호표]" -> [대가 36 호표]
B45: 5008 | C45: 5008 | D45: =VLOOKUP($C:$C,집계표!$B$4:$J$155,3,0) -> 방송단자함 철거 | E45: =VLOOKUP($C:$C,집계표!$B$4:$J$155,4,0) -> SP 10P | F45: =VLOOKUP($C:$C,집계표!$B$4:$J$119,5,0) -> 개 | G45: =VLOOKUP($C:$C,집계표!$B$4:$J$155,6,0) -> 0 | H45: =VLOOKUP($B:$B,일위대가목록!$A$3:$L$87,9,0) -> 0 | I45: =TRUNC(G45*H45) -> 0 | J45: =VLOOKUP($B:$B,일위대가목록!$A$3:$L$79,10,0) -> 0 | K45: =TRUNC(G45*J45) -> 0 | L45: 0 | M45: =TRUNC(G45*L45) -> 0 | N45: =I45+K45+M45 -> 0 | O45: ="[대가 "&VLOOKUP($B:$B,일위대가목록!$A$3:$L$81,4,0)&" 호표]" -> [대가 37 호표]
... B50: 4018 | C50: 4018 | D50: =VLOOKUP($C:$C,집계표!$B$4:$J$155,3,0) -> Wireless Ant 철거 | E50: =VLOOKUP($C:$C,집계표!$B$4:$J$155,4,0) -> 900MHz | F50: =VLOOKUP($C:$C,집계표!$B$4:$J$119,5,0) -> EA | G50: =VLOOKUP($C:$C,집계표!$B$4:$J$155,6,0) -> 0 | H50: =VLOOKUP($B:$B,일위대가목록!$A$3:$L$87,9,0) -> 0 | I50: =TRUNC(G50*H50) -> 0 | J50: =VLOOKUP($B:$B,일위대가목록!$A$3:$L$79,10,0) -> 0 | K50: =TRUNC(G50*J50) -> 0 | L50: 0 | M50: =TRUNC(G50*L50) -> 0 | N50: =I50+K50+M50 -> 0 | O50: ="[대가 "&VLOOKUP($B:$B,일위대가목록!$A$3:$L$81,4,0)&" 호표]" -> [대가 39 호표]
D51: [소 계] | I51: =SUM(I34:I50) -> 0 | K51: =SUM(K34:K50) -> 0 | M51: =SUM(M7:M11) -> 0 | N51: =SUM(N34:N50) -> 0
D52: [합 계] | I52: =I32+I51 -> 0 | K52: =K32+K51 -> 0 | M52: =M51 -> 0 | N52: =N32+N51 -> 0

Sheet 일위대가
D1: 일 위 대 가 표 | P1: 1
D2: 번호 | E2: 공 종 명 | F2: 규 격 | G2: 단위 | H2: 수 량 | I2: 재 료 비 | K2: 노 무 비 | M2: 경 비 | O2: 비 고
C3: 집계/단가KEY | I3: 단 가 | J3: 금 액 | K3: 단 가 | L3: 금 액 | M3: 단 가 | N3: 금 액
B4: =D4&"항목" -> 1항목 | C4: 5 | D4: 1 | E4: 카메라 철거 | F4: 돔 | G4: 대 | O4: [통신 9-2-1-1]
T5: 1단위 | U5: 철거 | V5: 고소할증
Q6: =T6*U6*V6*W6*X6 -> 0.33 | T6: 1 | U6: 0.3 | V6: 1.1 | W6: 1 | X6: 1
D7: 노무 | E7: 카메라/돔(Dome)형 | F7: 통신설비공 | G7: 인 | O7: 철거30% | P7: =Q7*R7 -> 0.0594 | Q7: =Q6 -> 0.33 | R7: 0.18
F8: 특별인부 | G8: 인 | O8: 고소할증 10% | P8: =Q8*R8 -> 0.0594 | Q8: =Q7 -> 0.33 | R8: 0.18
D14: 손료 | E14: 공구손료 | F14: 노무비의 3% | G14: 식
B15: =D4&D15 -> 1계 | D15: 계
B16: =D16&"항목" -> 2항목 | C16: 6 | D16: =D4+1 -> 2 | E16: 카메라 철거 | F16: 뷸렛 | G16: 대 | O16: [통신 9-2-1-1]
T17: 1단위 | U17: 철거 | V17: 고소할증
Q18: =T18*U18*V18*W18*X18 -> 0.33 | T18: 1 | U18: 0.3 | V18: 1.1 | W18: 1 | X18: 1
D19: 노무 | E19: 카메라/일반형 | F19: 통신설비공 | G19: 인 | O19: 철거30% | P19: =Q19*R19 -> 0.0792 | Q19: =Q18 -> 0.33 | R19: 0.24
F20: 특별인부 | G20: 인 | O20: 고소할증 10% | P20: =Q20*R20 -> 0.0792 | Q20: =Q19 -> 0.33 | R20: 0.24
D26: 손료 | E26: 공구손료 | F26: 노무비의 3% | G26: 식
B27: =D16&D27 -> 2계 | D27: 계
B28: =D28&"항목" -> 3항목 | C28: 7 | D28: =D16+1 -> 3 | E28: 카메라 철거 | F28: PTZ | G28: 대 | O28: [통신 9-2-1-1]
T29: 1단위 | U29: 철거 | V29: 고소할증
Q30: =T30*U30*V30*W30*X30 -> 0.33 | T30: 1 | U30: 0.3 | V30: 1.1 | W30: 1 | X30: 1
D31: 노무 | E31: 카메라/PT일체형 | F31: 통신설비공 | G31: 인 | O31: 철거30% | P31: =Q31*R31 -> 0.1056 | Q31: =Q30 -> 0.33 | R31: 0.32
F32: 특별인부 | G32: 인 | O32: 고소할증 10% | P32: =Q32*R32 -> 0.1056 | Q32: =Q31 -> 0.33 | R32: 0.32
D37: 손료 | E37: 공구손료 | F37: 노무비의 3% | G37: 식
B38: =D28&D38 -> 3계 | D38: 계
B39: =D39&"항목" -> 4항목 | C39: 7 | D39: =D28+1 -> 4 | E39: NVR 철거 | F39: 32CH | G39: 대 | O39: [통신 9-2-1-1]
T40: 1단위 | U40: 철거 | V40: 고소할증
Q41: =T41*U41*V41*W41*X41 -> 0.3 | T41: 1 | U41: 0.3 | V41: 1 | W41: 1 | X41: 1
D42: 노무 | E42: 영상저장장치 | F42: 통신관련산업기사 | G42: 인 | O42: 철거30% | P42: =Q42*R42 -> 0.054 | Q42: =Q41 -> 0.3 | R42: 0.18
F43: 통신설비공 | G43: 인 | P43: =Q43*R43 -> 0.054 | Q43: =Q42 -> 0.3 | R43: 0.18
D48: 손료 | E48: 공구손료 | F48: 노무비의 3% | G48: 식
B49: =D39&D49 -> 4계 | D49: 계
B50: =D50&"항목" -> 5항목 | C50: 1 | D50: =D39+1 -> 5 | E50: 광 케이블 | F50: SM-8Core | G50: m | O50: [통신 4-1-1]
T51: 100M단위 | V51: 고소할증 | Y51: 품의할증
C52: 1 | D52: 재료 | E52: 광 케이블 | F52: SM-8Core | G52: m | Q52: =T52*U52*V52*W52*X52*Y52 -> 0.0088 | T52: 0.01 | U52: 1 | V52: 1.1 | W52: 1 | X52: 1 | Y52: 0.8
D53: 노무 | E53: 지중/인력견인포설 | F53: 광케이블설치사 | G53: 인 | O53: 고소할증 10% | P53: =Q53*R53 -> 0.008272 | Q53: =Q52 -> 0.0088 | R53: 0.94
F54: 보통인부 | G54: 인 | P54: =Q54*R54 -> 0.012408 | Q54: =Q53 -> 0.0088 | R54: 1.41
D55: 손료 | E55: 잡재료비 | F55: 배관배선의 2% | G55: 요율
D61: 손료 | E61: 공구손료 | F61: 노무비의 3% | G61: 식
B62: =D50&D62 -> 5계 | D62: 계
B63: =D63&"항목" -> 6항목 | C63: 2003 | D63: =D50+1 -> 6 | E63: UTP | F63: CAT6 4P(1조) | G63: m | O63: [통신 4-3-1]
T64: 10M단위 | V64: 고소할증 | Y64: 품의할증
C65: 2 | D65: 재료 | E65: UTP | F65: CAT6 4P | G65: m | Q65: =T65*U65*V65*W65*X65*Y65 -> 0.088 | T65: 0.1 | U65: 1 | V65: 1.1 | W65: 1 | X65: 1 | Y65: 0.8
D66: 노무 | E66: 구내/4P | F66: 통신케이블공 | G66: 인 | O66: 고소할증 10% | P66: =Q66*R66 -> 0.0132 | Q66: =Q65 -> 0.088 | R66: 0.15
D67: 손료 | E67: 잡재료비 | F67: 배관배선의 2% | G67: 요율
D72: 손료 | E72: 공구손료 | F72: 노무비의 3% | G72: 식
B73: =D63&D73 -> 6계 | D73: 계
B74: =D74&"항목" -> 7항목 | C74: 2004 | D74: =D63+1 -> 7 | E74: UTP | F74: CAT6 4P(2조) | G74: m | O74: [통신 4-3-1]
T75: 10M단위 | V75: 고소할증 | W75: 동시포설 | Y75: 품의할증
C76: 2 | D76: 재료 | E76: UTP | F76: CAT6 4P | G76: m | Q76: =T76*U76*V76*W76*X76*Y76 -> 0.1584 | T76: 0.1 | U76: 1 | V76: 1.1 | W76: 1.8 | X76: 1 | Y76: 0.8
D77: 노무 | E77: 구내/4P | F77: 통신케이블공 | G77: 인 | O77: 고소할증 10% | P77: =Q77*R77 -> 0.02376 | Q77: =Q76 -> 0.1584 | R77: 0.15
D78: 손료 | E78: 잡재료비 | F78: 배관배선의 2% | G78: 요율 | O78: 동시포설 180%
D84: 손료 | E84: 공구손료 | F84: 노무비의 3% | G84: 식
B85: =D74&D85 -> 7계 | D85: 계
B86: =D86&"항목" -> 8항목 | C86: 2005 | D86: =D74+1 -> 8 | E86: UTP | F86: CAT6 4P(3조) | G86: m | O86: [통신 4-3-1]
T87: 10M단위 | V87: 고소할증 | W87: 동시포설 | Y87: 품의할증
C88: 2 | D88: 재료 | E88: UTP | F88: CAT6 4P | G88: m | Q88: =T88*U88*V88*W88*X88*Y88 -> 0.2288 | T88: 0.1 | U88: 1 | V88: 1.1 | W88: 2.6 | X88: 1 | Y88: 0.8
D89: 노무 | E89: 구내/4P | F89: 통신케이블공 | G89: 인 | O89: 고소할증 10% | P89: =Q89*R89 -> 0.03432 | Q89: =Q88 -> 0.2288 | R89: 0.15
D90: 손료 | E90: 잡재료비 | F90: 배관배선의 2% | G90: 요율 | O90: 동시포설 260%
D95: 손료 | E95: 공구손료 | F95: 노무비의 3% | G95: 식
B96: =D86&D96 -> 8계 | D96: 계
B97: =D97&"항목" -> 9항목 | C97: 2006 | D97: =D86+1 -> 9 | E97: UTP | F97: CAT6 4P(4조) | G97: m | O97: [통신 4-3-1]
T98: 10M단위 | V98: 고소할증 | W98: 동시포설 | Y98: 품의할증
C99: 2 | D99: 재료 | E99: UTP | F99: CAT6 4P | G99: m | Q99: =T99*U99*V99*W99*X99*Y99 -> 0.2992 | T99: 0.1 | U99: 1 | V99: 1.1 | W99: 3.4 | X99: 1 | Y99: 0.8
D100: 노무 | E100: 구내/4P | F100: 통신케이블공 | G100: 인 | O100: 고소할증 10% | P100: =Q100*R100 -> 0.04488 | Q100: =Q99 -> 0.2992 | R100: 0.15
D101: 손료 | E101: 잡재료비 | F101: 배관배선의 2% | G101: 요율 | O101: 동시포설 340%
D107: 손료 | E107: 공구손료 | F107: 노무비의 3% | G107: 식
B108: =D97&D108 -> 9계 | D108: 계
B109: =D109&"항목" -> 10항목 | C109: 2008 | D109: =D97+1 -> 10 | E109: UTP | F109: CAT6 4P(6조) | G109: m | O109: [통신 4-3-1]
T110: 10M단위 | V110: 고소할증 | W110: 동시포설 | Y110: 품의할증
C111: 2 | D111: 재료 | E111: UTP | F111: CAT6 4P | G111: m | Q111: =T111*U111*V111*W111*X111*Y111 -> 0.44 | T111: 0.1 | U111: 1 | V111: 1.1 | W111: 5 | X111: 1 | Y111: 0.8
D112: 노무 | E112: 구내/4P | F112: 통신케이블공 | G112: 인 | O112: 고소할증 10% | P112: =Q112*R112 -> 0.066 | Q112: =Q111 -> 0.44 | R112: 0.15
D113: 손료 | E113: 잡재료비 | F113: 배관배선의 2% | G113: 요율 | O113: 동시포설 500%
D119: 손료 | E119: 공구손료 | F119: 노무비의 3% | G119: 식
B120: =D109&D120 -> 10계 | D120: 계
B121: =D121&"항목" -> 11항목 | C121: 2009 | D121: =D109+1 -> 11 | E121: UTP | F121: CAT6 4P(7조) | G121: m | O121: [통신 4-3-1]
T122: 10M단위 | V122: 고소할증 | W122: 동시포설 | Y122: 품의할증
C123: 2 | D123: 재료 | E123: UTP | F123: CAT6 4P | G123: m | Q123: =T123*U123*V123*W123*X123*Y123 -> 0.5104 | T123: 0.1 | U123: 1 | V123: 1.1 | W123: 5.8 | X123: 1 | Y123: 0.8
D124: 노무 | E124: 구내/4P | F124: 통신케이블공 | G124: 인 | O124: 고소할증 10% | P124: =Q124*R124 -> 0.07656 | Q124: =Q123 -> 0.5104 | R124: 0.15
D125: 손료 | E125: 잡재료비 | F125: 배관배선의 2% | G125: 요율 | O125: 동시포설 580%
D131: 손료 | E131: 공구손료 | F131: 노무비의 3% | G131: 식
B132: =D121&D132 -> 11계 | D132: 계
B133: =D133&"항목" -> 12항목 | C133: 39 | D133: =D121+1 -> 12 | E133: UTP | F133: CAT6 4P(9조) | G133: m | O133: [통신 4-3-1]
T134: 10M단위 | V134: 고소할증 | W134: 동시포설 | Y134: 품의할증
C135: 2 | D135: 재료 | E135: UTP | F135: CAT6 4P | G135: m | Q135: =T135*U135*V135*W135*X135*Y135 -> 0.6512 | T135: 0.1 | U135: 1 | V135: 1.1 | W135: 7.4 | X135: 1 | Y135: 0.8
D136: 노무 | E136: 구내/4P | F136: 통신케이블공 | G136: 인 | O136: 고소할증 10% | P136: =Q136*R136 -> 0.09768 | Q136: =Q135 -> 0.6512 | R136: 0.15
D137: 손료 | E137: 잡재료비 | F137: 배관배선의 2% | G137: 요율 | O137: 동시포설 740%
D142: 손료 | E142: 공구손료 | F142: 노무비의 3% | G142: 식
B143: =D133&D143 -> 12계 | D143: 계
B144: =D144&"항목" -> 13항목 | C144: 11 | D144: =D133+1 -> 13 | E144: CD관 | F144: 난연 16C | G144: m | O144: [통신 3-1-1]
T145: 10M단위 | V145: 고소할증 | W145: CD관80%
C146: 3 | D146: 재료 | E146: CD관 | F146: 난연 16C | G146: m | O146: CD관 80% | Q146: =T146*U146*V146*W146*X146 -> 0.088 | T146: 0.1 | U146: 1 | V146: 1.1 | W146: 0.8 | X146: 1
D147: 노무 | E147: CD관 | F147: 통신내선공 | G147: 인 | O147: 고소할증 10% | P147: =Q147*R147 -> 0.044 | Q147: =Q146 -> 0.088 | R147: 0.5
D148: 손료 | E148: 잡재료비 | F148: 배관배선의 2% | G148: 요율
D149: 손료 | E149: 전선관 부속품비 | F149: 배관의 40% | G149: 요율
D153: 손료 | E153: 공구손료 | F153: 노무비의 3% | G153: 식
B154: =D144&D154 -> 13계 | D154: 계
B155: =D155&"항목" -> 14항목 | C155: 12 | D155: =D144+1 -> 14 | E155: CD관 | F155: 난연 28C | G155: m | O155: [통신 3-1-1]
T156: 10M단위 | V156: 고소할증 | W156: CD관80%
C157: 4 | D157: 재료 | E157: CD관 | F157: 난연 28C | G157: m | O157: CD관 80% | Q157: =T157*U157*V157*W157*X157 -> 0.088 | T157: 0.1 | U157: 1 | V157: 1.1 | W157: 0.8 | X157: 1
D158: 노무 | E158: CD관 | F158: 통신내선공 | G158: 인 | O158: 고소할증 10% | P158: =Q158*R158 -> 0.0704 | Q158: =Q157 -> 0.088 | R158: 0.8
...

Sheet 집계표
C1: 수 량 집 계 표
B2: 수량산출KEY | C2: 순번 | D2: 품 명 | E2: 규 격 | F2: 단위 | G2: 설계수량 | I2: 계 | J2: 비고
B4: 1 | D4: =공정산출!F4 -> 카메라설치 | E4: =공정산출!F5 -> 돔 | F4: 대 | J4: 관급자관급
B5: 2 | D5: =공정산출!G4 -> 카메라설치 | E5: =공정산출!G5 -> 뷰렛 | F5: 대 | J5: 관급자관급
B6: 3 | D6: =공정산출!H4 -> 카메라설치 | E6: =공정산출!H5 -> PTZ(실내) | F6: 대 | J6: 관급자관급
B7: 4 | D7: =공정산출!I4 -> 카메라철거 | E7: =공정산출!I5 -> 돔 | F7: 대
B8: 5 | D8: =공정산출!J4 -> 카메라철거 | E8: =공정산출!J5 -> 뷰렛 | F8: 대
B9: 6 | D9: =공정산출!K4 -> 카메라철거 | E9: =공정산출!K5 -> PTZ | F9: 대
B10: 1001 | D10: =공정산출!L4 -> 네트워크스위치 | E10: =공정산출!L5 -> CSI-G2404FPM, 28port) | F10: 대 | J10: 관급자관급
B11: 1002 | D11: =공정산출!M4 -> 네트워크스위치 | E11: =공정산출!M5 -> SFP모듈 | F11: 대 | J11: 관급자관급
B12: 1003 | D12: =공정산출!N4 -> NVR | E12: =공정산출!N5 -> 64CH | F12: 조 | J12: 관급자관급
B13: 1004 | D13: =공정산출!O4 -> NVR | E13: =공정산출!O5 -> 32CH | F13: 조 | J13: 관급자관급
B14: 1005 | D14: =공정산출!P4 -> 랙캐비닛용패널 | E14: =공정산출!P5 -> 키보드 선반 | F14: 개 | J14: 관급자관급
B15: 1006 | D15: =공정산출!Q4 -> 데스크톱컴퓨터 | E15: =공정산출!Q5 -> DT281-GD51E | F15: 대 | J15: 관급자관급
B16: 1007 | D16: =공정산출!R4 -> 액정모니터 | E16: =공정산출!R5 -> 6240V, 60.4cm | F16: 대 | J16: 관급자관급
B17: 1008 | D17: =공정산출!S4 -> 전원공급장치 | E17: =공정산출!S5 -> CPC-6008, 8채널 | F17: 대 | J17: 관급자관급
B18: 1009 | D18: =공정산출!T4 -> 하드디스크드라이브 | E18: =공정산출!T5 -> HDD 10TB, Western Digital | F18: 대 | J18: 관급자관급
B19: 1010 | D19: =공정산출!U4 -> 광점퍼코드 | E19: =공정산출!U5 -> SM-3 ST | F19: 개 | J19: 관급자관급
B20: 1011 | D20: =공정산출!V4 -> 광분배함 | E20: =공정산출!V5 -> 4C | F20: 개 | J20: 관급자관급
B21: 1012 | D21: =공정산출!W4 -> 정보통신공사 | E21: =공정산출!W5 -> 광케이블보통12코어이하접속 | F21: 식 | J21: 관급자관급
B22: 1013 | D22: =공정산출!X4 -> 정보통신공사 | E22: =공정산출!X5 -> 종합시험 | F22: 식 | J22: 관급자관급
B23: 1014 | D23: =공정산출!Y4 -> 카메라브래킷 | E23: =공정산출!Y5 -> 스피드돔 벽부형 | F23: 개 | J23: 관급자관급
B24: 1015 | D24: =공정산출!Z4 -> 카메라브래킷 | E24: =공정산출!Z5 -> 벽부형 | F24: 개 | J24: 관급자관급
B25: 1016 | D25: =공정산출!AA4 -> 컴퓨터및주변기기설치 | E25: =공정산출!AA5 -> 포장해체, PC설치, 주변기기연결, 기본S/W설치, 환경설정 및 작동상태확인 | F25: 개 | J25: 관급자관급
A26: I | B26: 1017 | D26: =공정산출!AB4 -> 운영체제 | E26: =공정산출!AB5 -> Microsoft, Windows 11 Pro | F26: 조 | J26: 관급자관급
B27: 1018 | D27: =공정산출!AC4 -> 영상정보디스플레이장치 | E27: =공정산출!AC5 -> (ID)75QNED85AKS, mini LED 4K, 189cm | F27: 대 | J27: 관급자관급
B28: 1019 | D28: =공정산출!AD4 -> 텔레비전거치대 | E28: =공정산출!AD5 -> WB24GCA, 450×19×440mm, 벽걸이형 | F28: 대 | J28: 관급자관급
B29: 1020 | D29: =공정산출!AE4 -> PoE함체 | E29: =공정산출!AE5 -> 500*600*200 | F29: 개
B30: 1021 | D30: =공정산출!AF4 -> PoE함체 철거 | E30: =공정산출!AF5 -> 400*500*200 | F30: 개
B31: 2001 | D31: =공정산출!AH4 -> 광 케이블 | E31: =공정산출!AH5 -> SM-8Core | F31: m
B32: 2002 | D32: =공정산출!AI4 -> UTP | E32: =공정산출!AI5 -> CAT6 4P(1조) | F32: m
B33: 2003 | D33: =공정산출!AJ4 -> UTP | E33: =공정산출!AJ5 -> CAT6 4P(2조) | F33: m
B34: 2004 | D34: =공정산출!AK4 -> UTP | E34: =공정산출!AK5 -> CAT6 4P(3조) | F34: m
B35: 2005 | D35: =공정산출!AL4 -> UTP | E35: =공정산출!AL5 -> CAT6 4P(4조) | F35: m
B36: 2006 | D36: =공정산출!AM4 -> UTP | E36: =공정산출!AM5 -> CAT6 4P(6조) | F36: m
B37: 2007 | D37: =공정산출!AN4 -> UTP | E37: =공정산출!AN5 -> CAT6 4P(7조) | F37: m
B38: 2008 | D38: =공정산출!AO4 -> UTP | E38: =공정산출!AO5 -> CAT6 4P(9조) | F38: m
B39: 2009 | D39: =공정산출!AP4 -> UTP 철거 | E39: =공정산출!AP5 -> CAT5 | F39: m
B40: 2014 | D40: =공정산출!AR4 -> 빙상장 스피커 케이블 | E40: =공정산출!AR5 -> F-FR-8 2C-4㎟ | F40: m
B41: 2015 | D41: =공정산출!AS4 -> 빙상장 스피커 케이블 철거 | E41: =공정산출!AT5 -> 난연 16C | F41: m
B42: 3001 | D42: =공정산출!AT4 -> CD관 | E42: =공정산출!AT5 -> 난연 16C | F42: m
B43: 3002 | D43: =공정산출!AU4 -> CD관 | E43: =공정산출!AU5 -> 난연 28C | F43: m
B44: 3003 | D44: =공정산출!AV4 -> CD관 | E44: =공정산출!AV5 -> 난연 36C | F44: m
B45: 3004 | D45: =공정산출!AW4 -> ST관 | E45: =공정산출!AW5 -> 16C | F45: m
B46: 3005 | D46: =공정산출!AX4 -> ST관 | E46: =공정산출!AX5 -> 22C | F46: m
B47: 3006 | D47: =공정산출!AY4 -> GW관 | E47: =공정산출!AY5 -> 방수 16C | F47: m
B48: 3007 | D48: =공정산출!AZ4 -> GW관 | E48: =공정산출!AZ5 -> 방수 22C | F48: m
B49: 3008 | D49: =공정산출!BA4 -> 풀박스 | E49: =공정산출!BA5 -> 100*100*100 | F49: 개
B50: 3009 | D50: =공정산출!BB4 -> 풀박스 | E50: =공정산출!BB5 -> 200*200*100 | F50: 개
B51: 4001 | D51: =공정산출!BL4 -> 방송기기 시스템 | E51: =공정산출!BL5 -> LB-AV297 | F51: 식 | J51: 관급자관급
B52: 4002 | D52: =공정산출!BM4 -> POWER SUPPLY | E52: =공정산출!BM5 -> 8CH, 순차전원 | F52: EA | J52: 관급자관급
B53: 4003 | D53: =공정산출!BN4 -> WIRELESS RECEIVER | E53: =공정산출!BN5 -> 900MHz, 2CH | F53: EA | J53: 관급자관급
B54: 4004 | D54: =공정산출!BO4 -> WIRELESS HAND MIC | E54: =공정산출!BO5 -> 900MHz | F54: EA | J54: 관급자관급
B55: 4005 | D55: =공정산출!BP4 -> WIRELESS ANT DISTRIBUTOR | E55: =공정산출!BP5 -> 900MHz | F55: EA | J55: 관급자관급
B56: 4006 | D56: =공정산출!BQ4 -> CHIME & SIREN | E56: =공정산출!BQ5 -> 4음계 | F56: EA | J56: 관급자관급
B57: 4007 | D57: =공정산출!BR4 -> EVENT PLAYER | E57: =공정산출!BR5 -> 음원재생 | F57: EA | J57: 관급자관급
B58: 4008 | D58: =공정산출!BS4 -> PROCESSOR | E58: =공정산출!BS5 -> 4IN8OUT | F58: EA | J58: 관급자관급
B59: 4009 | D59: =공정산출!BT4 -> 중계실 모니터 SPEAKER | E59: =공정산출!BT5 -> 70W, POWERD | F59: EA | J59: 관급자관급
B60: 4010 | D60: =공정산출!BU4 -> 빙상장 AMP | E60: =공정산출!BU5 -> 450W x 2CH | F60: EA | J60: 관급자관급
B61: 4011 | D61: =공정산출!BV4 -> 빙상장 SPEAKER | E61: =공정산출!BV5 -> 300W, IP55 | F61: EA | J61: 관급자관급
B62: 4012 | D62: =공정산출!BW4 -> 관람석 AMP | E62: =공정산출!BW5 -> 300W x 2CH | F62: EA | J62: 관급자관급
B63: 4013 | D63: =공정산출!BX4 -> 관람석 SPEAKER | E63: =공정산출!BX5 -> 150W, IP55 | F63: EA | J63: 관급자관급
B64: 4014 | D64: =공정산출!BY4 -> SPEAKER BRACKET | E64: =공정산출!BY5 -> STEEL(중), FLYING | F64: EA | J64: 관급자관급
B65: 4015 | D65: =공정산출!BZ4 -> RACK CABINET | E65: =공정산출!BZ5 -> 33H | F65: EA | J65: 관급자관급
B66: 4016 | D66: =공정산출!CA4 -> AUDIO MIXER STAND | E66: =공정산출!CA5 -> MIXER 전용 | F66: EA | J66: 관급자관급
B67: 4017 | D67: =공정산출!CB4 -> MIC JACK PLATE 철거 | E67: =공정산출!CB5 -> 2ch | F67: EA
B68: 4018 | D68: =공정산출!CC4 -> Wireless Ant 철거 | E68: =공정산출!CC5 -> 900MHz | F68: EA
B69: 4019 | D69: =공정산출!CD4 -> 빙상장 AMP | E69: =공정산출!CD5 -> 600W x 2CH (bridge) | F69: EA | J69: 관급자관급
B70: 5001 | D70: =공정산출!CE4 -> 스피커 설치 | E70: =공정산출!CE5 -> 3W 천정형 | F70: 대
B71: 5002 | D71: =공정산출!CF4 -> 스피커 설치 | E71: =공정산출!CF5 -> 3W 벽부형 | F71: 대
B72: 5003 | D72: =공정산출!CG4 -> 스피커 설치 | E72: =공정산출!CG5 -> 20W 벽부형 | F72: 대
B73: 5004 | D73: =공정산출!CH4 -> 스피커 철거 | E73: =공정산출!CH5 -> 3W 천정형 | F73: 대
B74: 5005 | D74: =공정산출!CI4 -> 스피커 철거 | E74: =공정산출!CI5 -> 3W 벽부형 | F74: 대
B75: 5006 | D75: =공정산출!CJ4 -> 스피커 철거 | E75: =공정산출!CJ5 -> 20W 벽부형 | F75: 대
B76: 5007 | D76: =공정산출!CK4 -> 방송단자함 | E76: =공정산출!CK5 -> ST 20P | F76: 개
B77: 5008 | D77: =공정산출!CL4 -> 방송단자함 철거 | E77: =공정산출!CL5 -> SP 10P | F77: 개
B78: 5009 | D78: =공정산출!CM4 -> 19"RACK 철거 | E78: =공정산출!CM5 -> H:1600 | F78: 대
B79: 5010 | D79: =공정산출!CN4 -> SATELLITE SPEAKER 철거 | E79: =공정산출!CN5 -> 120W | F79: 대
B80: 5011 | D80: =공정산출!CO4 -> CENTER CLUSTER SPEAKER 철거 | E80: =공정산출!CO5 -> 300W | F80: 대
B81: 5012 | D81: =공정산출!CP4 -> 방송기기 시스템 | E81: =공정산출!CP5 -> LB-P012 | F81: 식 | J81: 관급자관급
B82: 5013 | D82: =공정산출!CQ4 -> TTS SOFTWARE | E82: =공정산출!CQ5 -> 2화자 | F82: EA | J82: 관급자관급
B83: 5014 | D83: =공정산출!CR4 -> POWER AMP | E83: =공정산출!CR5 -> 240W | F83: EA | J83: 관급자관급
B84: 5015 | D84: =공정산출!CS4 -> DIGITAL REMOTE CONTROLLER | E84: =공정산출!CS5 -> 32CH, DC24V, CAN통신 | F84: EA | J84: 관급자관급
B85: 5016 | D85: =공정산출!CT4 -> 관람석 PA SPEAKER | E85: =공정산출!CT5 -> 60W, WALL | F85: EA | J85: 관급자관급
B86: 3017 | D86: =공정산출!BJ4 -> ST관 | E86: =공정산출!BJ5 -> 28C | F86: m
B87: 3018 | D87: =공정산출!BK4 -> ST관 | E87: =공정산출!BK5 -> 42C | F87: m
B88: 1022 | D88: =공정산출!AG4 -> NVR 철거 | E88: =공정산출!AG5 -> 32CH | F88: 대
B89: 2010 | D89: =공정산출!AQ4 -> PTZ전력 케이블 | E89: =공정산출!AQ5 -> HFCO(0.6/1kV 3C-1.5㎟) | F89: m

Sheet 공정산출
F2: 1 | G2: 2 | H2: 3 | I2: 4 | J2: 5 | K2: 6 | L2: 1001 | M2: 1002 | N2: 1003 | O2: 1004 | P2: 1005 | Q2: 1006 | R2: 1007 | S2: 1008 | T2: 1009 | U2: 1010 | V2: 1011 | W2: 1012 | X2: 1013 | Y2: 1014 | Z2: 1015 | AA2: 1016 | AB2: 1017 | AC2: 1018 | AD2: 1019 | AE2: 1020 | AF2: 1021 | AG2: 1022 | AH2: 2001 | AI2: 2002 | AJ2: 2003 | AK2: 2004 | AL2: 2005 | AM2: 2006 | AN2: 2007 | AO2: 2008 | AP2: 2009 | AQ2: 2010 | AR2: 2014 | AS2: 2015 | AT2: 3001 | AU2: 3002 | AV2: 3003 | AW2: 3004 | AX2: 3005 | AY2: 3006 | AZ2: 3007 | BA2: 3008 | BB2: 3009 | BC2: 3010 | BD2: 3011 | BE2: 3012 | BF2: 3013 | BG2: 3014 | BH2: 3015 | BI2: 3016 | BJ2: 3017 | BK2: 3018 | BL2: 4001 | BM2: 4002 | BN2: 4003 | BO2: 4004 | BP2: 4005 | BQ2: 4006 | BR2: 4007 | BS2: 4008 | BT2: 4009 | BU2: 4010 | BV2: 4011 | BW2: 4012 | BX2: 4013 | BY2: 4014 | BZ2: 4015 | CA2: 4016 | CB2: 4017 | CC2: 4018 | CD2: 4019 | CE2: 5001 | CF2: 5002 | CG2: 5003 | CH2: 5004 | CI2: 5005 | CJ2: 5006 | CK2: 5007 | CL2: 5008 | CM2: 5009 | CN2: 5010 | CO2: 5011 | CP2: 5012 | CQ2: 5013 | CR2: 5014 | CS2: 5015 | CT2: 5016
A3: 순번 | B3: 층 구분 | C3: 시점 (인출점) | D3: ~ | E3: 종점 (위치) | F3: 카메라 | L3: 네트워크 설비 | V3: 네트워크 설비 | AH3: 케이블 설비 | AK3: 케이블 설비 | AT3: 배관 설비 | AX3: 배관 설비 | BL3: 빙상장 방송기기 시스템 | BQ3: 빙상장 방송기기 시스템 | CA3: 빙상장 방송기기 시스템 | CE3: 전관 방송기기 시스템 | CK3: 전관 방송기기 시스템
F4: 카메라설치 | G4: 카메라설치 | H4: 카메라설치 | I4: 카메라철거 | J4: 카메라철거 | K4: 카메라철거 | L4: 네트워크스위치 | M4: 네트워크스위치 | N4: NVR | O4: NVR | P4: 랙캐비닛용패널 | Q4: 데스크톱컴퓨터 | R4: 액정모니터 | S4: 전원공급장치 | T4: 하드디스크드라이브 | U4: 광점퍼코드 | V4: 광분배함 | W4: 정보통신공사 | X4: 정보통신공사 | Y4: 카메라브래킷 | Z4: 카메라브래킷 | AA4: 컴퓨터및주변기기설치 | AB4: 운영체제 | AC4: 영상정보디스플레이장치 | AD4: 텔레비전거치대 | AE4: PoE함체 | AF4: PoE함체 철거 | AG4: NVR 철거 | AH4: 광 케이블 | AI4: UTP | AJ4: UTP | AK4: UTP | AL4: UTP | AM4: UTP | AN4: UTP | AO4: UTP | AP4: UTP 철거 | AQ4: PTZ전력 케이블 | AR4: 빙상장 스피커 케이블 | AS4: 빙상장 스피커 케이블 철거 | AT4: CD관 | AU4: CD관 | AV4: CD관 | AW4: ST관 | AX4: ST관 | AY4: GW관 | AZ4: GW관 | BA4: 풀박스 | BB4: 풀박스 | BC4: CD관 철거 | BD4: CD관 철거 | BE4: CD관 철거 | BF4: ST관 철거 | BG4: ST관 철거 | BH4: GW관 철거 | BI4: GW관 철거 | BJ4: ST관 | BK4: ST관 | BL4: 방송기기 시스템 | BM4: POWER SUPPLY | BN4: WIRELESS RECEIVER | BO4: WIRELESS HAND MIC | BP4: WIRELESS ANT DISTRIBUTOR | BQ4: CHIME & SIREN | BR4: EVENT PLAYER | BS4: PROCESSOR | BT4: 중계실 모니터 SPEAKER | BU4: 빙상장 AMP | BV4: 빙상장 SPEAKER | BW4: 관람석 AMP | BX4: 관람석 SPEAKER | BY4: SPEAKER BRACKET | BZ4: RACK CABINET | CA4: AUDIO MIXER STAND | CB4: MIC JACK PLATE 철거 | CC4: Wireless Ant 철거 | CD4: 빙상장 AMP | CE4: 스피커 설치 | CF4: 스피커 설치 | CG4: 스피커 설치 | CH4: 스피커 철거 | CI4: 스피커 철거 | CJ4: 스피커 철거 | CK4: 방송단자함 | CL4: 방송단자함 철거 | CM4: 19"RACK 철거 | CN4: SATELLITE SPEAKER 철거 | CO4: CENTER CLUSTER SPEAKER 철거 | CP4: 방송기기 시스템 | CQ4: TTS SOFTWARE | CR4: POWER AMP | CS4: DIGITAL REMOTE CONTROLLER | CT4: 관람석 PA SPEAKER
F5: 돔 | G5: 뷰렛 | H5: PTZ(실내) | I5: 돔 | J5: 뷰렛 | K5: PTZ | L5: CSI-G2404FPM, 28port) | M5: SFP모듈 | N5: 64CH | O5: 32CH | P5: 키보드 선반 | Q5: DT281-GD51E | R5: 6240V, 60.4cm | S5: CPC-6008, 8채널 | T5: HDD 10TB, Western Digital | U5: SM-3 ST | V5: 4C | W5: 광케이블보통12코어이하접속 | X5: 종합시험 | Y5: 스피드돔 벽부형 | Z5: 벽부형 | AA5: 포장해체, PC설치, 주변기기연결, 기본S/W설치, 환경설정 및 작동상태확인 | AB5: Microsoft, Windows 11 Pro | AC5: (ID)75QNED85AKS, mini LED 4K, 189cm | AD5: WB24GCA, 450×19×440mm, 벽걸이형 | AE5: 500*600*200 | AF5: 400*500*200 | AG5: 32CH | AH5: SM-8Core | AI5: CAT6 4P(1조) | AJ5: CAT6 4P(2조) | AK5: CAT6 4P(3조) | AL5: CAT6 4P(4조) | AM5: CAT6 4P(6조) | AN5: CAT6 4P(7조) | AO5: CAT6 4P(9조) | AP5: CAT5 | AQ5: HFCO(0.6/1kV 3C-1.5㎟) | AR5: F-FR-8 2C-4㎟ | AS5: F-FR-8 2C-3.5㎟ *4 | AT5: 난연 16C | AU5: 난연 28C | AV5: 난연 36C | AW5: 16C | AX5: 22C | AY5: 방수 16C | AZ5: 방수 22C | BA5: 100*100*100 | BB5: 200*200*100 | BC5: 난연 16C | BD5: 난연 22C | BE5: 난연 28C | BF5: 16C | BG5: 22C | BH5: 방수 16C | BI5: 방수 22C | BJ5: 28C | BK5: 42C | BL5: LB-AV297 | BM5: 8CH, 순차전원 | BN5: 900MHz, 2CH | BO5: 900MHz | BP5: 900MHz | BQ5: 4음계 | BR5: 음원재생 | BS5: 4IN8OUT | BT5: 70W, POWERD | BU5: 450W x 2CH | BV5: 300W, IP55 | BW5: 300W x 2CH | BX5: 150W, IP55 | BY5: STEEL(중), FLYING | BZ5: 33H | CA5: MIXER 전용 | CB5: 2ch | CC5: 900MHz | CD5: 600W x 2CH (bridge) | CE5: 3W 천정형 | CF5: 3W 벽부형 | CG5: 20W 벽부형 | CH5: 3W 천정형 | CI5: 3W 벽부형 | CJ5: 20W 벽부형 | CK5: ST 20P | CL5: SP 10P | CM5: H:1600 | CN5: 120W | CO5: 300W | CP5: LB-P012 | CQ5: 2화자 | CR5: 240W | CS5: 32CH, DC24V, CAN통신 | CT5: 60W, WALL
B6: 실내빙상장 보수공사 | F6: =SUM(F7:F80) -> 0 | G6: =SUM(G7:G80) -> 0 | H6: =SUM(H7:H80) -> 0 | I6: =SUM(I7:I80) -> 0 | J6: =SUM(J7:J80) -> 0 | K6: =SUM(K7:K80) -> 0 | L6: =SUM(L7:L80) -> 0 | M6: =SUM(M7:M80) -> 0 | ... AO6: =SUM(AO7:AO80) -> 0 | AP6: =AI6+AJ6+AK6+AL6+AM6+AN6 -> 0 | AQ6: =SUM(AQ7:AQ79) -> 0 | AR6: =SUM(AR7:AR80) -> 0 | AS6: =SUM(AS7:AS80) -> 0 | AT6: =SUM(AT7:AT80) -> 0 | AU6: =SUM(AU7:AU80) -> 0 | AV6: =SUM(AV7:AV80) -> 0 | AW6: =SUM(AW7:AW80) -> 0 | AX6: =SUM(AX7:AX80) -> 0 | AY6: =SUM(AY7:AY80) -> 0 | ... CT6: =SUM(CT7:CT80) -> 0
A7: 1 | B7: 지하1층 | C7: C-40 (교체후신설) | E7: POE#1(교체후신설)
A8: 2 | C8: S7 | D8: ~ | E8: PIT 스피커단자함
A9: 3 | B9: PIT | C9: S7 | D9: ~ | E9: PIT 단자함
A10: 4 | B10: 지상1층 | E10: 지상1층
A11: 5 | C11: C-01 (교체후신설) | D11: ~ | E11: POE#1(교체후신설)
A12: 6 | C12: C-02 (신설) | D12: ~ | E12: POE#1(신설)
A13: 7 | C13: C-03 (신설) | D13: ~ | E13: POE#1(신설)
A14: 8 | C14: C-04 (신설) | D14: ~ | E14: POE#1(신설)
A15: 9 | C15: C-05 (신설) | D15: ~ | E15: POE#1(신설)
A16: 10 | C16: C-06 (교체후신설) | D16: ~ | E16: POE#1(교체후신설)
A17: 11 | C17: C-07 (신설) | D17: ~ | E17: POE#1(신설)
A18: 12 | C18: C-08 (신설) | D18: ~ | E18: POE#1(신설)
A19: 13 | C19: C-09 (신설) | D19: ~ | E19: POE#2(신설)
A20: 14 | C20: C-10 (신설) | D20: ~ | E20: POE#2(신설)
A21: 15 | C21: C-11 (신설) | D21: ~ | E21: POE#1(신설)
A22: 16 | C22: C-12 (신설) | D22: ~ | E22: POE#1(신설)
... A29: 23 | C29: C-19 (교체후신설) | D29: ~ | E29: POE#2,3(교체후신설)
A30: 24 | B30: 지상1층 | C30: C-20 (교체후신설) | D30: ~ | E30: POE#2,3(교체후신설)
A31: 25 | C31: C-21 (교체후신설) | D31: ~ | E31: POE#2,3(교체후신설)
A32: 26 | C32: C-22 (교체후신설) | D32: ~ | E32: POE#2,3(교체후신설)
A33: 27 | C33: C-23 (교체후신설) | D33: ~ | E33: POE#2,3(교체후신설)
A34: 28 | C34: C-24 (교체후신설) | D34: ~ | E34: POE#2,3(교체후신설)
A35: 29 | C35: C-25 (신설) | D35: ~ | E35: POE#2,3(신설)
A36: 30 | C36: C-26 (교체후신설) | D36: ~ | E36: POE#2,3(교체후신설)
A37: 31 | C37: C-27 (교체후신설) | D37: ~ | E37: POE#2,3(교체후신설)
A38: 32 | C38: C-28 (신설) | D38: ~ | E38: POE#2,3(신설)
A39: 33 | C39: C-29 (교체후신설) | D39: ~ | E39: POE#2,3(교체후신설)
A40: 34 | C40: C-30 (신설) | D40: ~ | E40: POE#2,3(신설)
A41: 35 | C41: C-31 (교체후신설) | D41: ~ | E41: POE#2,3(교체후신설)
A42: 36 | C42: C-53 (신설) | D42: ~ | E42: POE#2,3(신설)
... A44: 38 | C44: C-55 (신설) | D44: ~ | E44: POE#2,3(신설)
A45: 39 | C45: C-56 (신설) | E45: POE#2,3(신설)
A46: 40 | C46: S2 | D46: ~ | E46: 운영실 단자함
A47: 41 | C47: S3 | D47: ~ | E47: 운영실 단자함
A48: 42 | C48: S3 | D48: ~ | E48: 운영실 단자함
A49: 43 | C49: S4 | D49: ~ | E49: 운영실 단자함
A50: 44 | C50: S5 | D50: ~ | E50: 운영실 단자함
A51: 45 | C51: S6 | D51: ~ | E51: 운영실 단자함
A52: 46 | E52: 지상2층
A53: 47 | C53: POE#1 (신설) | D53: ~ | E53: 통신실 MDF
A54: 48 | B54: 지상2층 | C54: POE#2,3 (신설) | D54: ~ | E54: 통신실 MDF
A55: 49 | C55: C-32 (교체후신설) | D55: ~ | E55: POE#1(교체후신설)
A56: 50 | C56: C-33 (교체후신설) | D56: ~ | E56: POE#1(교체후신설)
A57: 51 | C57: C-34 (교체후신설) | D57: ~ | E57: POE#1(교체후신설)
A58: 52 | C58: C-35 (교체후신설) | D58: ~ | E58: POE#1(교체후신설)
A59: 53 | C59: C-36 (교체후신설) | D59: ~ | E59: POE#1(교체후신설)
A60: 54 | C60: C-37 (교체후신설) | D60: ~ | E60: POE#1(교체후신설)
A61: 55 | C61: C-38 (신설) | D61: ~ | E61: POE#1(신설)
A62: 56 | C62: C-39 (신설) | D62: ~ | E62: POE#1(신설)
A63: 57 | B63: 지상 3층 | C63: S1 | D63: ~ | E63: 1F 운영실 단자함
A64: 58 | B64: 주차빌딩 1층 | E64: 주차빌딩 1층
A65: 59 | C65: C-41 (교체후신설) | D65: ~ | E65: POE#4(교체후신설)
A66: 60 | C66: C-42 (교체후신설) | D66: ~ | E66: POE#4(교체후신설)
A67: 61 | C67: C-43 (교체후신설) | D67: ~ | E67: POE#4(교체후신설)
A68: 62 | C68: C-44 (교체후신설) | D68: ~ | E68: POE#4(교체후신설)
A69: 63 | B69: 주차빌딩 2층 | E69: 주차빌딩 1층
A70: 64 | C70: POE#4 (교체후신설) | D70: ~ | E70: 통신실 MDF
A71: 65 | C71: C-45 (교체후신설) | D71: ~ | E71: POE#4(교체후신설)
A72: 66 | C72: C-46 (교체후신설) | D72: ~ | E72: POE#4(교체후신설)
A73: 67 | C73: C-47 (교체후신설) | D73: ~ | E73: POE#4(교체후신설)
A74: 68 | C74: C-48 (교체후신설) | D74: ~ | E74: POE#4(교체후신설)
A75: 69 | B75: 주차빌딩 RF층 | E75: 주차빌딩 1층
A76: 70 | C76: C-49 (교체후신설) | D76: ~ | E76: POE#4(교체후신설)
A77: 71 | C77: C-50 (교체후신설) | D77: ~ | E77: POE#4(교체후신설)
A78: 72 | C78: C-51 (교체후신설) | D78: ~ | E78: POE#4(교체후신설)
A79: 73 | C79: C-52 (교체후신설) | D79: ~ | E79: POE#4(교체후신설)
A80: 74 | C80: C-57 (신설) | D80: ~ | E80: POE#4(신설)

Sheet 단가 조사표
B1: 단가조사표(단가조사 정보기준 : 2026년07월)
B2: 품 명 | C2: 규 격 | D2: 단위 | E2: 물가자료 | G2: 물가정보 | I2: 거래가격 | K2: 조달물자 | M2: 적용가격 | N2: 비고
E3: 금 액 | F3: Page | G3: 금 액 | H3: Page | I3: 금액 | J3: page | K3: 금액 | L3: 물품식별번호
A4: 1 | B4: 광 케이블 | C4: SM-8Core | D4: m | M4: =MIN(E4,G4,I4,K4) -> 0
A5: 2 | B5: UTP | C5: CAT6 4P | D5: m | M5: =MIN(E5,G5,I5,K5) -> 0
A6: 3 | B6: CD관 | C6: 난연 16C | D6: m | M6: =MIN(E6,G6,I6,K6) -> 0
A7: 4 | B7: CD관 | C7: 난연 28C | D7: m | M7: =MIN(E7,G7,I7,K7) -> 0
A8: 5 | B8: CD관 | C8: 난연 36C | D8: m | M8: =MIN(E8,G8,I8,K8) -> 0
A9: 6 | B9: ST관 | C9: 16C | D9: m | M9: =MIN(E9,G9,I9,K9) -> 0
A10: 7 | B10: ST관 | C10: 22C | D10: m | M10: =MIN(E10,G10,I10,K10) -> 0
A11: 8 | B11: ST관 | C11: 28C | D11: m | M11: =MIN(E11,G11,I11,K11) -> 0
A12: 9 | B12: ST관 | C12: 42C | D12: m | M12: =MIN(E12,G12,I12,K12) -> 0
A13: 10 | B13: 풀박스 | C13: 100*100*100 | D13: 개 | M13: =MIN(E13,G13,I13,K13) -> 0
A14: 11 | B14: 풀박스 | C14: 200*200*100 | D14: 개 | M14: =MIN(E14,G14,I14,K14) -> 0
A15: 12 | B15: 저독성난연케이블 | C15: 0.6/1kV 3C-1.5㎟ | D15: m | M15: =MIN(E15,G15,I15,K15) -> 0
... A23: 20 | B23: 스피커케이블 | C23: F-FR-8 2C-4㎟ | D23: m | M23: =MIN(E23,G23,I23,K23) -> 0

Sheet 관급자재조서
A1: 관급자재 조서
A2: [관급자관급]
A3: 순번 | B3: 품명 | C3: 규격 | D3: 단위 | E3: 수량 | F3: 단가 | G3: 금액 | H3: 조달번호 | I3: 옵션 | J3: 비 고 | K3: 제조사 | L3: 구분
A4: Ⅰ. 카메라 부분
A5: 1 | B5: 영상감시장치 | C5: 실내 돔카메라, Sentry NVR-1074 | D5: 대 | J5: 우수조달제품,현장설치도 | K5: 시큐인포 | L5: MAS
A6: 2 | B6: 보안용카메라 | C6: 실내 돔카메라, CSI-681IRD, 9.07mmCMOS | D6: 대 | J6: 다수공급자,현장설치도 | K6: 씨에스엔아이 | L6: MAS
A7: 3 | B7: 보안용카메라 | C7: 옥외 블렛카메라, CSI-682IRB, 9.07mmCMOS | D7: 대 | J7: 다수공급자,현장설치도 | K7: 씨에스엔아이 | L7: MAS
A8: 4 | B8: 보안용카메라 | C8: 스피드돔 카메라, CSI-673PTZ, 12.7mmCMOS | D8: 대 | J8: 다수공급자,현장설치도 | K8: 씨에스엔아이 | L8: MAS
A9: 5 | B9: 네트워크스위치 | C9: CSI-G2404FPM, 28port | D9: 대 | J9: 다수공급자,현장설치도 | K9: 씨에스엔아이 | L9: MAS
A10: 6 | B10: 네트워크스위치 | C10: CSI-LXWA, (부품)SFP모듈 | D10: 대 | J10: 다수공급자,현장설치도 | K10: 씨에스엔아이 | L10: MAS
A11: 7 | B11: 영상감시장치 | C11: NVR 64CH, BSCSI-NVR64MT(CSI-NVR64) | D11: 조 | J11: 다수공급자,현장설치도 | K11: 씨에스엔아이 | L11: MAS
A12: 8 | B12: 영상감시장치 | C12: NVR 32CH, BSCSI-NVR32MT(CSI-NVR32) | D12: 조 | J12: 다수공급자,현장설치도 | K12: 씨에스엔아이 | L12: MAS
A13: 9 | B13: 랙캐비닛용패널 | C13: 키보드 선반, IMP-KRS-2000, 2U | D13: 개 | J13: 다수공급자,납품장소도 | K13: 아이엠피 | L13: MAS
A14: 10 | B14: 데스크톱컴퓨터 | C14: DT281-GD51E-004, Intel Core Ultra 5235(3.4GHz), 5060 D7 8GB | D14: 대 | J14: 다수공급자,현장설치도 | K14: 삼보컴퓨터 | L14: MAS
A15: 11 | B15: 액정모니터 | C15: 삼보컴퓨터, (CN)6240V, 60.4cm | D15: 대 | J15: 다수공급자,현장설치도 | K15: 삼보컴퓨터 | L15: MAS
A17: Ⅱ. 카메라 부분 물품설치 부속 자재(옵션)
A18: 12 | B18: 전원공급장치 | C18: 이레씨즈, CPC-6008, 8채널 | D18: 대 | J18: 우수조달제품, 현장설치도 추가선택(주품목 24510541) | K18: 시큐인포 | L18: MAS
A19: 13 | B19: 하드디스크드라이브 | C19: HDD 10TB, Western Digital, (TH)DCHC510(HUH721010ALE600) | D19: 대 | J19: 우수조달제품, 현장설치도 선택부품(주품목 24510541) | K19: 시큐인포 | L19: MAS
A20: 14 | B20: 광점퍼코드 | C20: 광점퍼코드, SM-3 ST | D20: 개 | J20: 다수공급자, 현장설치도 추가선택(주품목 25416328) | K20: 다인정보 | L20: MAS
A21: 15 | B21: 광분배함 | C21: 광분배함, 4C | D21: 개 | J21: 다수공급자, 현장설치도 추가선택(주품목 25416328) | K21: 다인정보 | L21: MAS
A22: 16 | B22: 정보통신공사 | C22: 광케이블보통12코어이하접속 | D22: 식 | J22: 다수공급자, 현장설치도 추가선택(주품목 25416328) | K22: 다인정보 | L22: MAS
A23: 17 | B23: 정보통신공사 | C23: 종합시험 | D23: 식 | J23: 다수공급자, 현장설치도 추가선택(주품목 25416328) | K23: 다인정보 | L23: MAS
A24: 18 | B24: 카메라브래킷 | C24: 스피드돔 벽부형(알루미늄 다이케스팅) | D24: 개 | J24: 다수공급자, 현장설치도 추가선택(주품목 25416328) | K24: 다인정보 | L24: MAS
A25: 19 | B25: 카메라브래킷 | C25: 벽부형(steel) | D25: 개 | J25: 다수공급자, 현장설치도 추가선택(주품목 25416328) | K25: 다인정보 | L25: MAS
A26: 20 | B26: 컴퓨터및주변기기설치 | C26: 포장해체, PC설치, 주변기기연결, 기본S/W설치, 환경설정 및 작동상태확인 | D26: 개 | J26: 다수공급자, 납품장소도 추가선택(주품목 26063775) | K26: 삼보컴퓨터 | L26: MAS
A27: 21 | B27: 운영체제 | C27: Microsoft, Windows 11 Pro | D27: 조 | J27: 다수공급자, 납품장소도 추가선택(주품목 26063775) | K27: 삼보컴퓨터 | L27: MAS
A28: 22 | B28: 영상정보디스플레이장치 | C28: (ID)75QNED85AKS, mini LED 4K, 189cm | D28: 대 | J28: 다수공급자, 현장설치도 | K28: 시큐인포 | L28: MAS
A29: 23 | B29: 텔레비전거치대 | C29: WB24GCA, 450×19×440mm, 벽걸이형 | D29: 대 | J29: 다수공급자, 현장설치도 추가선택(주품목 25510521) | K29: 시큐인포 | L29: MAS
A32: Ⅲ. 빙상장방송 부분
A33: 24 | B33: 실내빙상장 방송기기 시스템 | C33: LB-AV299 | D33: 식 | J33: 조달우수제품 | K33: 엘앤비기술 | L33: MAS
B34: ▣세부내역▣
B35: DIGITAL POWER SUPPLY | C35: 전력제어형, 10CH | D35: EA
B36: WIRELESS RECEIVER | C36: 900MHz, 2CH | D36: EA
B37: WIRELESS HAND MIC | C37: 900MHz | D37: EA
B38: WIRELESS ANTENNA | C38: 900MHz | D38: EA
B39: CD PLAYER | C39: 1CD,USB | D39: EA
B40: DIGITAL CAN DATA CONTROLLER | C40: CAN통신,4CH,우선순위제어 | D40: EA
B41: AUDIO MIXER | C41: 16CH | D41: EA
B42: PROCESSOR | C42: 4IN8OUT | D42: EA
B43: AMP | C43: 450W x 2CH | D43: EA
B44: BLANK PANEL | C44: 1H 열방출 통풍구 | D44: EA
B45: RACK CABINET | C45: AL. 33H | D45: EA
B46: SPEAKER | C46: 300W | D46: EA
B47: SPEAKER BRACKET | C47: STEEL(중) | D47: EA | J47: FLYING TYPE
B48: MICROPHONE | C48: DYNAMIC | D48: EA
B49: CONDENSER MIC | C49: 구즈넥 | D49: EA
B50: MIC EXT CORD | C50: 5M | D50: EA
B51: MIC STAND | C51: 탁상형 | D51: EA
B52: MIC STAND | C52: 일자형 | D52: EA
B53: MIC STAND | C53: T자형 | D53: EA
B54: MIC FLOOR BOX | C54: 2CH | D54: EA | J54: JACK PLATE로 교체
A56: Ⅳ. 빙상장방송 부분 추가품목(옵션)
A57: 25 | B57: POWER SUPPLY | C57: 8CH, 순차전원 | D57: EA | J57: 다수공급자,현장설치도 | K57: 엘앤비기술 | L57: MAS
A58: 26 | B58: WIRELESS RECEIVER | C58: 900MHz, 2CH | D58: EA | J58: 다수공급자,현장설치도 | K58: 엘앤비기술 | L58: MAS
A59: 27 | B59: WIRELESS HAND MIC | C59: 900MHz | D59: EA | J59: 다수공급자,현장설치도 | K59: 엘앤비기술 | L59: MAS
A60: 28 | B60: WIRELESS ANT DISTRIBUTOR | C60: 900MHz | D60: EA | J60: 다수공급자,현장설치도 | K60: 엘앤비기술 | L60: MAS
A61: 29 | B61: CHIME & SIREN | C61: 4음계 | D61: EA | J61: 다수공급자,현장설치도 | K61: 젠프로 | L61: MAS
A62: 30 | B62: EVENT PLAYER | C62: 음원재생 | D62: EA | J62: 다수공급자,현장설치도 | K62: 엘앤비기술 | L62: MAS
A63: 31 | B63: PROCESSOR | C63: 4IN8OUT | D63: EA | J63: 다수공급자,현장설치도 | K63: 한일미디어텍 | L63: MAS
A64: 32 | B64: 중계실 모니터 SPEAKER | C64: 70W, POWERD | D64: EA | J64: 다수공급자,현장설치도 | K64: 마하사운드 | L64: MAS
A65: 33 | B65: 빙상장 AMP | C65: 450W x 2CH | D65: EA | J65: 다수공급자,현장설치도 | K65: 엘앤비기술 | L65: MAS
A66: 34 | B66: 빙상장 SPEAKER | C66: 300W, IP55 | D66: EA | J66: 다수공급자,현장설치도 | K66: 마하사운드 | L66: MAS
A67: 35 | B67: 관람석 AMP | C67: 300W x 2CH | D67: EA | J67: 다수공급자,현장설치도 | K67: 엘앤비기술 | L67: MAS
A68: 36 | B68: 관람석 SPEAKER | C68: 150W, IP55 | D68: EA | J68: 다수공급자,현장설치도 | K68: 마하사운드 | L68: MAS
... A71: 39 | B71: AUDIO MIXER STAND | C71: MIXER 전용 | D71: EA | J71: 다수공급자,현장설치도 | K71: 디라직 | L71: MAS
A73: Ⅴ. 전관방송 부분
A74: 40 | B74: 전관 방송기기 시스템 | C74: LB-P012 | D74: 식 | J74: 조달우수제품 | K74: 엘앤비기술 | L74: MAS
B75: ▣세부내역▣
B76: DIGITAL POWER SUPPLY | C76: 전력제어형, 10CH | D76: EA
B77: DIGITAL TUNER | C77: DIGITAL | D77: EA
B78: CD PLAYER | C78: 1CD,USB | D78: EA
B79: DIGITAL AUDIO MIXER | C79: 16IN 8OUT | D79: EA
B80: 운영프로그램 | C80: 장비운영 및 제어 | D80: EA
B81: DIGITAL MASTER CONTROLLER | C81: CAN통신,화재,리모트,음원제어,시보기 | D81: EA
B82: 시간보정기 | C82: GPS수신 | D82: EA
B83: DIGITAL SYSTEM MONITOR | C83: 입력/출력 FULL모니터링 | D83: EA
B84: POWER AMP | C84: 240W | D84: EA
B85: DIGITAL SPEAKER CONTROLLER | C85: 16CH,RG,단락보호기능 | D85: EA
B86: BLANK PANEL | C86: 1H 열방출 통풍구 | D86: EA
B87: CONTROL COMPUTER | C87: I7 | D87: EA
... B95: BATTERY CASE | C95: 목재제작 | D95: EA
A97: Ⅵ. 전관방송 부분 물품설치 부속 자재(옵션)
A98: 41 | B98: TTS SOFTWARE | C98: 2화자 - 한글, 영어 | D98: EA | J98: 다수공급자,현장설치도 | K98: 한일미디어텍 | L98: MAS
A99: 42 | B99: POWER AMP | C99: 240W | D99: EA | J99: 다수공급자,현장설치도 | K99: 한일미디어텍 | L99: MAS
A100: 43 | B100: DIGITAL REMOTE CONTROLLER | C100: 32CH, DC24V, CAN통신 | D100: EA | J100: 다수공급자,현장설치도 | K100: 한일미디어텍 | L100: MAS
A101: 44 | B101: 관람석 PA SPEAKER | C101: 60W, WALL | D101: EA | J101: 다수공급자,현장설치도 | K101: 마하사운드 | L101: MAS
A103: 소계 | J103: 관급자관급
A104: 조달수수료 | D104: 요율 | E104: 0.0054
A105: 안전관리비
A106: 조정액 | J106: 천단위 조정
A107: 총 합계 | G107: =SUM(G103:G106) -> 0

Sheet 산업안전보건관리비(관급)
A1: 산 업 안 전 보 건 관 리 비
B3: 1. 보안용카메라 및 영상감시장치 구매설치 - 본 품
C4: 조달청 다수공급자계약 물품 산업안전보건관리비 계상방안
D5: * 완제품 형태로 제작 또는 납품되어 철치되는 경우 : 다음 ①과 ② 중 작은금액 이상으로 계상
E6: ① (총납품요구금액 ×70%) × 요율
E7: ( | H7: x 70% | I7: ) | J7: x 2.07% | K7: = | L7: 1028500
E8: ② [{(총납품요구금액 –완제품 가액) ×70%} × 요율 ] x 1.2
E9: [{( | G9: - | I9: ) | J9: x 70%} | K9: x 2.07% ] x 1.2 | N9: =
D10: => 적용 금액
G11: 원

Sheet 노임
A1: 노 임 단 가 표(2026년 하반기)
A4: 직종번호 | B4: 직종명 | C4: 노임(원) | D4: 비고 | I4: 2026.9.1 | J4: 2026.1.1 | K4: 2025.9.1 | L4: 2025.1.1
A5: 1002 | B5: =VLOOKUP(A5,$G$5:$I$999,2,0) -> 보통인부 | G5: 1001 | H5: 작업반장 | I5: 218316 | J5: 215907 | K5: 214661 | L5: 213033
A6: 1003 | B6: =VLOOKUP(A6,$G$5:$I$999,2,0) -> 특별인부 | G6: 1002 | H6: 보통인부 | I6: 172698 | J6: 172068 | K6: 171037 | L6: 169804
A7: 1086 | B7: =VLOOKUP(A7,$G$5:$I$999,2,0) -> 통신내선공 | G7: 1003 | H7: 특별인부 | I7: 228717 | J7: 226122 | K7: 224490 | L7: 221506
A8: 1087 | B8: =VLOOKUP(A8,$G$5:$I$999,2,0) -> 통신설비공 | G8: 1004 | H8: 조력공 | I8: 181496 | J8: 179028 | K8: 179958 | L8: 180331
A9: 1089 | B9: =VLOOKUP(A9,$G$5:$I$999,2,0) -> 통신케이블공 | G9: 1005 | H9: 제도사 | I9: 242423 | J9: 237324 | K9: 239200 | L9: 232099
A10: 2001 | B10: =VLOOKUP(A10,$G$5:$I$999,2,0) -> 광케이블설치사 | G10: 1006 | H10: 비계공 | I10: 284440 | J10: 281939 | K10: 279613 | L10: 279433
A11: 5002 | B11: =VLOOKUP(A11,$G$5:$I$999,2,0) -> 통신관련산업기사 | G11: 1007 | H11: 형틀목공 | I11: 275379 | J11: 275790 | K11: 273074 | L11: 272831
G12: 1008 | H12: 철근공 | I12: 268932 | J12: 268187 | K12: 265818 | L12: 264104
G13: 1009 | H13: 철공 | I13: 243870 | J13: 239808 | K13: 237686 | L13: 237754
G14: 1010 | H14: 철판공 | I14: 220901 | J14: 221481 | K14: 219862 | L14: 219236
G15: 1011 | H15: 철골공 | I15: 255172 | J15: 252641 | K15: 251511 | L15: 250239
G16: 1012 | H16: 용접공 | I16: 286330 | J16: 282536 | K16: 280178 | L16: 278326
G17: 1013 | H17: 콘크리트공 | I17: 276285 | J17: 273540 | K17: 271064 | L17: 266361
G18: 1014 | H18: 보링공 | I18: 233503 | J18: 232562 | K18: 226520 | L18: 225273
G19: 1015 | H19: 착암공 | I19: 223246 | J19: 222306 | K19: 220354 | L19: 220081
G20: 1016 | H20: 화약취급공 | I20: 270444 | J20: 272448 | K20: 261462 | L20: 258751
G21: 1017 | H21: 할석공 | I21: 246224 | J21: 241932 | K21: 240163 | L21: 236986
G22: 1018 | H22: 포설공 | I22: 221306 | J22: 221015 | K22: 219579 | L22: 216121
G23: 1019 | H23: 포장공 | I23: 274873 | J23: 273308 | K23: 270747 | L23: 267989
... G35: 1031 | H35: 도배공 | I35: 229833 | J35: 227614 | K35: 226042 | L35: 222618
G36: 1032 | H36: 연마공 | I36: 208207 | J36: - | K36: 210772 | L36: -
G37: 1033 | H37: 석공 | I37: 270694 | J37: 268908 | K37: 267532 | L37: 266246
G38: 1034 | H38: 줄눈공 | I38: 212390 | J38: 211653 | K38: 207796 | L38: 202696
G39: 1035 | H39: 판넬조립공 | I39: 246986 | J39: 243121 | K39: 240735 | L39: 237854
G40: 1036 | H40: 지붕잇기공 | I40: - | J40: 233250 | K40: 229958 | L40: 224113
G41: 1037 | H41: 벌목부 | I41: 257444 | J41: 253243 | K41: 248140 | L41: 248681
G42: 1038 | H42: 조경공 | I42: 235843 | J42: 235204 | K42: 227176 | L42: 224132
G43: 1039 | H43: 배관공 | I43: 249073 | J43: 247897 | K43: 239439 | L43: 238145
G44: 1040 | H44: 배관공(수도) | I44: 260673 | J44: 262580 | K44: 257390 | L44: 250572
G45: 1041 | H45: 보일러공 | I45: 240647 | J45: 240120 | K45: - | L45: 233255
G46: 1042 | H46: 위생공 | I46: 221435 | J46: 218908 | K46: 220650 | L46: 219040
G47: 1043 | H47: 덕트공 | I47: 208140 | J47: 202472 | K47: 205696 | L47: 201482
G48: 1044 | H48: 보온공 | I48: 222151 | J48: 217012 | K48: 214975 | L48: 213722
G49: 1045 | H49: 인력운반공 | I49: 183687 | J49: 180193 | K49: 181753 | L49: 180404
G50: 1046 | H50: 궤도공 | I50: 220821 | J50: 218933 | K50: - | L50: -
G51: 1047 | H51: 건설기계조장 | I51: - | J51: 210909 | K51: - | L51: 202954
G52: 1048 | H52: 건설기계운전사 | I52: 283323 | J52: 283297 | K52: 279824 | L52: 273971
G53: 1049 | H53: 화물차운전사 | I53: 240042 | J53: 238936 | K53: 240685 | L53: 237500
G54: 1050 | H54: 일반기계운전사 | I54: - | J54: 173995 | K54: 172387 | L54: 170920
G55: 1051 | H55: 기계설비공 | I55: 242647 | J55: 241698 | K55: 241550 | L55: 237652
G56: 1052 | H56: 준설선선장 | I56: - | J56: - | K56: - | L56: -
G57: 1053 | H57: 준설선기관사 | I57: - | J57: - | K57: - | L57: -
G58: 1054 | H58: 준설선운전사 | I58: - | J58: - | K58: - | L58: -
G59: 1055 | H59: 선원 | I59: - | J59: - | K59: - | L59: -
G60: 1056 | H60: 플랜트배관공 | I60: 327442 | J60: 320480 | K60: 324800 | L60: 324130
G61: 1057 | H61: 플랜트제관공 | I61: 268949 | J61: 266029 | K61: 260644 | L61: 259128
G62: 1058 | H62: 플랜트용접공 | I62: 289745 | J62: 292640 | K62: 301090 | L62: 299776
G63: 1059 | H63: 플랜트특수용접공 | I63: 334739 | J63: - | K63: 337247 | L63: -
G64: 1060 | H64: 플랜트기계설치공 | I64: 234041 | J64: 230376 | K64: 238846 | L64: 236640
G65: 1061 | H65: 플랜트특별인부 | I65: 215601 | J65: 213074 | K65: 220283 | L65: 218614
G66: 1062 | H66: 플랜트케이블전공 | I66: 263300 | J66: 264269 | K66: 262679 | L66: 261587
G67: 1063 | H67: 플랜트계장공 | I67: 204167 | J67: 204377 | K67: 202691 | L67: 202712
G68: 1064 | H68: 플랜트덕트공 | I68: - | J68: - | K68: - | L68: -
G69: 1065 | H69: 플랜트보온공 | I69: 252567 | J69: 250140 | K69: 247756 | L69: 247028
G70: 1066 | H70: 제철축로공 | I70: 365714 | J70: 362985 | K70: 358786 | L70: -
G71: 1067 | H71: 비파괴시험공 | I71: 220565 | J71: 214553 | K71: 216404 | L71: 217619
G72: 1068 | H72: 특급품질관리원 | I72: 200971 | J72: 199588 | K72: 198613 | L72: -
G73: 1069 | H73: 고급품질관리원 | I73: 199200 | J73: 197788 | K73: 195243 | L73: -
G74: 1070 | H74: 중급품질관리원 | I74: 179012 | J74: 177841 | K74: 175633 | L74: 172227
G75: 1071 | H75: 초급품질관리원 | I75: 150049 | J75: 149081 | K75: 147438 | L75: 144810
G76: 1072 | H76: 지적기사 | I76: 283066 | J76: 275711 | K76: 274286 | L76: 263991
G77: 1073 | H77: 지적산업기사 | I77: 251236 | J77: 245000 | K77: 242724 | L77: 236718
G78: 1074 | H78: 지적기능사 | I78: 175118 | J78: 178874 | K78: 180875 | L78: 181822
G79: 1075 | H79: 내선전공 | I79: 276108 | J79: 273676 | K79: 273539 | L79: 268915
G80: 1076 | H80: 특고압케이블전공 | I80: 444519 | J80: 440616 | K80: 439248 | L80: 436458
G81: 1077 | H81: 고압케이블전공 | I81: 376049 | J81: 373640 | K81: 372997 | L81: 370529
G82: 1078 | H82: 저압케이블전공 | I82: 306274 | J82: 304156 | K82: 303632 | L82: 300337
G83: 1079 | H83: 송전전공 | I83: 645607 | J83: 638460 | K83: 637453 | L83: 627960
G84: 1080 | H84: 송전활선전공 | I84: 685744 | J84: 675173 | K84: 673714 | L84: 662709
G85: 1081 | H85: 배전전공 | I85: 420978 | J85: 414968 | K85: 413173 | L85: 408559
... G98: 2003 | H98: S/W시험사 | I98: 446560 | J98: 446358 | K98: 446000 | L98: 445000
G99: 3001 | H99: 도편수 | I99: 533333 | J99: - | K99: - | L99: -
G100: 3002 | H100: 드잡이공 | I100: - | J100: - | K100: - | L100: -
G101: 3003 | H101: 한식목공 | I101: 353383 | J101: 342273 | K101: 350828 | L101: 351481
G102: 3004 | H102: 한식목공조공 | I102: - | J102: 243009 | K102: - | L102: 246154
G103: 3005 | H103: 한식석공 | I103: 403594 | J103: 386079 | K103: 392588 | L103: 398051
G104: 3006 | H104: 한식미장공 | I104: - | J104: 321230 | K104: 339830 | L104: 342548
G105: 3007 | H105: 한식와공 | I105: 374046 | J105: 333250 | K105: 347811 | L105: 353051
G106: 3008 | H106: 한식와공조공 | I106: - | J106: 278180 | K106: 274659 | L106: 268333
G107: 3009 | H107: 목조각공 | I107: - | J107: - | K107: - | L107: -
G108: 3010 | H108: 석조각공 | I108: - | J108: - | K108: - | L108: -
G109: 3011 | H109: 특수화공 | I109: - | J109: 324326 | K109: - | L109: -
G110: 3012 | H110: 화공 | I110: 300798 | J110: 322920 | K110: 313333 | L110: 311263
G111: 3013 | H111: 드잡이공편수 | I111: - | J111: - | K111: - | L111: -
G112: 3014 | H112: 한식미장공편수 | I112: 395789 | J112: - | K112: - | L112: -
G113: 3015 | H113: 한식와공편수 | I113: - | J113: - | K113: - | L113: 457143
G114: 3016 | H114: 한식단청공편수 | I114: - | J114: 286887 | K114: - | L114: -
G115: 3017 | H115: 한식석공조공 | I115: - | J115: 321250 | K115: 320000 | L115: 311114
G116: 3018 | H116: 한식미장공조공 | I116: - | J116: 250000 | K116: 247982 | L116: 249266
G117: 4001 | H117: 원자력플랜트전공 | I117: 238957 | J117: 221727 | K117: 237846 | L117: 226275
G118: 4002 | H118: 원자력용접공 | I118: 220497 | J118: 217203 | K118: 211525 | L118: 215662
G119: 4003 | H119: 원자력기계설치공 | I119: 244723 | J119: 229770 | K119: 231539 | L119: 227074
G120: 4004 | H120: 원자력품질관리사 | I120: 287101 | J120: 285759 | K120: 284862 | L120: 270376
G121: 5001 | H121: 통신관련기사 | I121: 324979 | J121: 320449 | K121: 318479 | L121: 316183
G122: 5002 | H122: 통신관련산업기사 | I122: 304662 | J122: 304509 | K122: 303262 | L122: 297137
G123: 5003 | H123: 통신관련기능사 | I123: 250000 | J123: 249822 | K123: 249360 | L123: 244717
G124: 5004 | H124: 전기공사기사 | I124: 339070 | J124: 335319 | K124: 333866 | L124: 327381
G125: 5005 | H125: 전기공사산업기사 | I125: 298573 | J125: 294135 | K125: 292729 | L125: 289211
...

Sheet 건축제비율
B2: ※ 적용시기 : 2026. 04. 13. 입찰공고분부터 | AL2: 2026년 건축∙산업환경설비공사 원가계산 간접공사비(제비율) 적용기준 (참고: 간접노무비율, 기타경비율, 일반관리비율, 이윤율, 공사이행보증수수료율은 조달청 분석요율임)
AC3: [간접노무비] | AL3: [기타경비] | BE3: [일반관리비] | BR3: [이윤] | BY3: [건설기계대여대금 지급보증액 발급금액] | DJ3: [산업안전보건관리비]
B7: 공사규모 | M7: 공사기간 | AC7: (직노) x 율 | AL7: (재+노) x 율 | AU7: 공사규모 | BE7: (재+노+경) x 율 | BR7: (노+경+일) x 율 | BY7: (직접공사비) x 율 | DJ7: □ 도급자관급 미포함 공사 | EA7: (재+직노) x 율 + 기초액
B9: (직접공사비) | AC9: 건축 | AH9: 산업 설비 (건축) | AL9: 건축 | AQ9: 산업 설비 (건축) | AU9: (추정가격) | BE9: 건축, 산업설비(건축) | BK9: 전문· 전기·통신· 소방·기타
BY11: 종합건설업 | CM11: 전문건설업 | DJ11: □ 도급자관급 포함 공사 | EA11: (재+직노+도급자관급) x 요율주2) + 기초액과
EA13: [(재+직노) x 요율주3) + 기초액] x 1.2 중에 작은 금액
B15: 10억 미만 | M15: 6개월 이하 (183일) | AC15: 17.5 | AH15: =AC15 -> 17.5 | AL15: 5 | AQ15: =AL15 -> 5 | AU15: 5억 미만 | BE15: 8 | BK15: 8 | BR15: 15 | BY15: 구분 | CH15: 요율 | CM15: 구분 | DD15: 요율 | DJ15: 산업안전보건관리비 대상액주1) | EA15: 구분 | ER15: 요율 | EZ15: 기초액(천원)
M17: 7~12개월 (365일) | AC17: 17.9 | AH17: =AC17 -> 17.9 | AL17: 5.2 | AQ17: =AL17 -> 5.2
M19: 13~36개월 (1095일) | AC19: 18.2 | AH19: =AC19 -> 18.2 | AL19: 5.5 | AQ19: =AL19 -> 5.5 | BY19: 건축공사 | CH19: 0.07 | CM19: 비계·구조물해체공사 | DD19: 0.68 | DJ19: 5억 미만 | EA19: 건축공사 | ER19: 3.11
M21: 36개월 초과 (1096일) | AC21: 19.4 | AH21: =AC21 -> 19.4 | AL21: 6.1 | AQ21: =AL21 -> 6.1 | AU21: 5억 - 30억 미만 | BK21: 6.5 | EA21: 토목공사 | ER21: 3.15
B23: 10억 - 50억 미만 | M23: 6개월 이하 (183일) | AC23: 17.4 | AH23: =AC23 -> 17.4 | AL23: 5.2 | AQ23: =AL23 -> 5.2 | EA23: 중건설공사 | ER23: 3.64
M25: 7~12개월 (365일) | AC25: 17.8 | AH25: =AC25 -> 17.8 | AL25: 5.4 | AQ25: =AL25 -> 5.4 | BY25: 산업∙설비공사 | CH25: 0.16 | CM25: 석공사, 시설물유지관리, 철근콘크리트공사, 가스시설공사(1종) | DD25: 0.32 | EA25: 특수건설공사 | ER25: 2.07
M27: 13~36개월 (1095일) | AC27: 18.1 | AH27: =AC27 -> 18.1 | AL27: 5.7 | AQ27: =AL27 -> 5.7 | AU27: 30억 - 50억 미만 | BK27: 5 | DJ27: 5억 ~ 50억 미만 | EA27: 건축공사 | ER27: 2.28 | EZ27: 4325
M29: 36개월 초과 (1096일) | AC29: 19.2 | AH29: =AC29 -> 19.2 | AL29: 6.4 | AQ29: =AL29 -> 6.4 | EA29: 토목공사 | ER29: 2.53 | EZ29: 3300
B31: 50억 - 300억 미만 | M31: 6개월 이하 (183일) | AC31: 17.5 | AH31: =AC31 -> 17.5 | AL31: 5.9 | AQ31: =AL31 -> 5.9 | AU31: 50억 - 100억 미만 | BE31: 6.5 | BR31: 12 | CM31: 도장공사, 철강재설치공사 | DD31: 0.16 | EA31: 중건설공사 | ER31: 3.05 | EZ31: 2975
M33: 7~12개월 (365일) | AC33: 17.9 | AH33: =AC33 -> 17.9 | AL33: 6 | AQ33: =AL33 -> 6 | EA33: 특수건설공사 | ER33: 1.59 | EZ33: 2450
M35: 13~36개월 (1095일) | AC35: 18.2 | AH35: =AC35 -> 18.2 | AL35: 6.4 | AQ35: =AL35 -> 6.4 | AU35: 100억 - 300억 미만 | BK35: 4.5 | DJ35: 50억 이상 | DQ35: 추정금액 800억 미만 건설공사 | EA35: 건축공사 | ER35: 2.37
CM36: 기계설비공사업 및 그 외 | DD36: 0.1
M37: 36개월 초과 (1096일) | AC37: 19.4 | AH37: =AC37 -> 19.4 | AL37: 7 | AQ37: =AL37 -> 7 | EA37: 토목공사 | ER37: 2.6
B39: 300억 - 1000억 미만 | M39: 6개월 이하 (183일) | AC39: 17.5 | AH39: =AC39 -> 17.5 | AL39: 6.1 | AQ39: =AL39 -> 6.1 | AU39: 300억 - 1000억 미만 | BE39: 5 | BR39: 10 | EA39: 중건설공사 | ER39: 3.11
M41: 7~12개월 (365일) | AC41: 17.9 | AH41: =AC41 -> 17.9 | AL41: 6.3 | AQ41: =AL41 -> 6.3 | BY41: * 적용제외: 국가유산수리공사, 전기, 정보통신, 소방시설 | EA41: 특수건설공사 | ER41: 1.64
M43: 13~36개월 (1095일) | AC43: 18.2 | AH43: =AC43 -> 18.2 | AL43: 6.6 | AQ43: =AL43 -> 6.6 | AU43: 1000억 이상 | BE43: 4.5 | BR43: 9 | BY43: ※ 건설기계대여대금 지급보증서 발급금액 및 업종별 건설기계 | DQ43: 추정금액 800억 이상 건설공사 | EA43: 건축공사 | ER43: 2.64
M45: 36개월 초과 (1096일) | AC45: 19.4 | AH45: =AC45 -> 19.4 | AL45: 7.2 | AQ45: =AL45 -> 7.2 | BY45: 투입비율 산정기준(국토부 고시 제2019-286호, 2019.6.19.) | EA45: 토목공사 | ER45: 2.73
B47: 1000억 이상 | M47: 6개월 이하 (183일) | AC47: 17.4 | AH47: =AC47 -> 17.4 | AL47: 6.4 | AQ47: =AL47 -> 6.4 | AU47: [건강보험료] | BC47: [노인장기요양보험료] | BQ47: [연금보험료] | BY47: [산재보험료] | EA47: 중건설공사 | ER47: 3.39
M49: 7~12개월 (365일) | AC49: 17.8 | AH49: =AC49 -> 17.8 | AL49: 6.5 | AQ49: =AL49 -> 6.5 | EA49: 특수건설공사 | ER49: 1.78
M51: 13~36개월 (1095일) | AC51: 18.1 | AH51: =AC51 -> 18.1 | AL51: 6.9 | AQ51: =AL51 -> 6.9 | AU51: (직노) x 3.595 | BC51: (건강보험료) x 13.14 | BQ51: (직노) x 4.75 | BY51: (노) x 3.56 | DJ51: * 총 공사금액(도급금액+도급자설치 관급금액) 2천만원 이상 건설공사
M53: 36개월 초과 (1096일) | AC53: 19.3 | AH53: =AC53 -> 19.3 | AL53: 7.5 | AQ53: =AL53 -> 7.5 | AU53: * 공사기간 1개월(30일) 이상인 모든 건설공사 | BY53: * 모든 건설공사 적용. 노동부 고시 제2024-77호(2024. 12. 30.), 산업재해보상보험법시행령 | DJ53: 주1) 산업안전보건관리비 대상액
B55: * 기타경비항목: 수도광열비, 복리후생비, 소모품비 및 사무용품비, 여비∙교통∙통신비, 세금과공과, 도서인쇄비 | AU55: (노인장기요양보험료는 소수점 다섯째자리에서 반올림)
DJ56: - 재료비+직접노무비+도급자설치 관급금액
B57: □ 산업설비(건축) 해당공종 : 지열공사, 소각시설 등 | AU57: ※ 사회보험의 보험료 적용기준 (국토부 고시 제2021-905호, 2021.7.1.) | BY57: ※ 사회보험의 보험료 적용기준 (국토부 고시 제2021-905호, 2021.7.1.)
B59: [고용보험료] | AU59: [환경보전비] | BY59: [건설하도급대금지급보증서발급수수료] | DJ59: 주2) 대상액이 재료비, 직접노무비, 도급자관급의 합계금액인 요율
DJ62: 주3) 대상액이 재료비, 직접노무비의 합계금액인 요율
B63: (노) x 율 | AU63: (직접공사비) x 율 | BY63: (직접공사비) x 율
B65: 공사배정규모(추정금액) | AH65: 요율 | AU65: 구분 | BT65: 요율 | BY65: 공사규모(추정가격) | DB65: 요율 | DJ65: * 산업안전보건관리비 산출 건설공사의 종류
B67: [1등급] 1200억 이상 | AH67: 1.57
AU68: 도로(예시: 교량, 터널, 활주로 등) | BT68: 0.9 | BY68: 50억 미만 | DB68: 0.081 | DJ68: - [건축공사] 「건설산업기본법 시행령」 (별표 1) 제1호 '나'목 / 제2호의 전문공사로서 건축물과
B69: [2등급] 800억 ~ 1200억 미만 | AH69: 1.30
AU70: 플랜트(예시: 발전소, 쓰레기소각장 등) | BT70: 0.4
B71: [3등급] 520억 ~ 800억 미만 | AH71: 1.13 | BY71: 50억 이상 - 100억 미만 | DB71: 0.08 | DJ71: 관련하여 분리하여 발주되었고 시간적·장소적으로도 독립하여 행하는 공사
AU72: 지하철 | BT72: 0.5
B73: [4등급] 340억 ~ 520억 미만 | AH73: 1.06
AU74: 철도 | BT74: 1.5 | BY74: 100억 이상 - 300억 미만 | DB74: 0.075 | DJ74: - [토목공사] 「건설산업기본법 시행령」 (별표 1) 제1호 '가'목, '라'목 / 제2호의 전문공사로서
B75: [5등급] 210억 ~ 340억 미만 | AH75: 1.03
AU76: 상하수도(예시: 폐수, 하수처리장, 정수장 등) | BT76: 0.5
B77: [6등급] 130억 ~ 210억 미만 | AH77: 1.02 | BY77: 300억 이상 종심∙종평제(토목 및 산업설비) | DB77: 0.071 | DJ77: 건축공사 외의 시설물과 관련하여 분리하여 발주되었고 시간적·장소적으로도 독립하여 행하는 공사
AU78: 항만(간척, 준설): 오탁 또는 준설토 방지막 설치 | BT78: 1.8
B79: [7등급] 고시금액 ~ 130억 미만 | AH79: 1.01
AU80: 항만(간척, 준설): 오탁 또는 준설토 방지막 미설치 | BT80: 0.8 | BY80: 300억 이상 종심∙종평제(건축) | DB80: 0.068 | DJ80: - [중건설공사] 「건설산업기본법 시행령」 (별표 1) 제1호 '가'목, '라'목 해당공사 중
B81: 7등급 미만 | AH81: #REF!
AU82: 댐 | BT82: 1.1
B83: * 모든 건설공사에 적용, 국토부 고시 제2021-905호(2021.7.1.), 고용보험법 시행령 | BY83: 턴키∙대안공사 | DB83: 0.084 | DJ83: 다음과 같은 공사 및 이와 함께 부대하여 현장 내에서 행하는 공사
AU84: 택지개발 | BT84: 0.6
B85: * 총공사금액[(도급금액+관급금액)에서 부가세 제외] 2천만원 미만의 건설공사를 건설업자가 아닌 자가 시공 시 미적용
AU86: 기타 토목(하천 등) | BT86: 0.8 | BY86: * 적용제외: 전문공사, 국가유산수리공사 | DJ86: · 고제방 댐 공사 등 - 댐 신설공사, 제방신설공사와 관련한 제반시설공사
B87: ※ 등급기준: 조달청 등급별 유자격자 명부 등록 및 운용기준(조달청 공고 제2023-235호, 2023.7.6.)
AU88: 주택(재개발, 재건축) | BT88: 0.7 | BY88: ※ 하도급대금 지급보증서 발급금액 적용기준
B89: ※ 사회보험의 보험료 적용기준 (국토부 고시 제2021-905호, 2021.7.1.) | DJ89: · 화력, 수력, 원자력, 열병합 발전시설 등 설치공사 - 화력, 수력, 원자력, 열병합 발전시설과 관련된 신설공사 및 제반시설공사
AU90: 주택(신축) | BT90: 0.3 | BY90: (국토부 고시 제2016-921호, 2016.12.19.)
B91: [공사이행보증수수료]
AU92: 주택 외 건축 | BT92: 0.5 | BY92: [법정부담금] | DJ92: · 터널신설공사 등 - 도로, 철도, 지하철 공사로서 터널, 교량, 토공사 등이 포함된 복합시설물로 구성된 공사에 있어
AU94: 조경, 기타(전문, 개보수 공사) | BT94: 0.3
B95: 공사규모(직접공사비) | P95: 수수료 | DJ95: 터널공사비 비중이 가장 큰 비중을 차지하는 건설공사
AU96: * 환경관리비의 산출기준 및 관리에 관한 지침 | BY96: [석면분담금] | CR96: [임금채권부담금]
B98: 70억 미만 | P98: [직공비x0.0108%]x공기(년) | DJ98: - [특수건설공사] 「건설산업기본법 시행령」(별표1) 제1호 '마'목로서 시행규칙(별표3)에서 구분한 조경공사
AU99: (국토부 고시 제2018-528호, 2018.8.30.) | BY99: (노) x 0.006 | CR99: (노) x 0.09
B101: 70억이상~120억미만 | P101: [79만원+(직공비-75억원)x0.0070%]x공기(년) | AU101: ※ 적용제외: 전기공사, 정보통신공사, 소방시설공사, | DJ101: /아래 각목에 따른 건설공사 중 다른 공사와 분리하여 발주되었고 시간적·장소적으로도 독립하여 행하는 공사
BY102: * 모든 건설공사 적용.
B104: 120억이상~250억미만 | P104: [116만원+(직공비-130억원)x0.0059%]x공기(년) | AU104: 국가유산 수리공사 | BY104: 환경부 고시 제2025-25호(2025. 12. 22.), 2026년도 석면피해구제분담금률 | DJ104: · 「전기공사업법」, 「정보통신공사업법」, 「소방공사업법」, 「문화재수리공사업법」에 의한 공사
AU106: [퇴직공제부금비] | BY106: 노동부 고시 제2025-100호(2025.12.31.), 임금채권보장법 사업주 부담금비율 고시
B107: 250억이상~500억미만 | P107: [186만원+(직공비-250억원)x0.0048%]x공기(년) | DJ107: 비고 1 건축물과 관련하여 공사가 수행된다 하더라도 독립하여 행하는 공사가 토목공사, 중건설공사가 명백한 경우 해당 공사 종류로 분류
B110: 500억이상 | P110: [306만원+(직공비-500억원)x0.0040%]x공기(년) | AU110: (직노) x 2.3 | DJ110: 2 건축공사, 토목공사 및 중건설공사와 함께 부대하여 현장 내에서 이루어지는 공사는 개별 법령에 따라 수행되는 공사를 포함
B113: * 「지방계약법 시행령」 제51조제1항에 따른 적용 의무 대상 | AU113: * 추정금액이 1억 이상인 건설공사 | DJ113: ※ 건설업 산업안전보건관리비 계상 및 사용기준 (고용노동부 고시 제2025-11호, 2025.2.12.)
B115: - (시행령 제42조 제1항) 추정가격 300억 이상인 공사의 계약 | AU115: ※ 국토부 고시 제2015-610호(2015.8.20.) 요율 적용
B117: - (시행령 제6장) 대형공사계약(대안입찰, 일괄입찰), 특정공사의 계약 | BY117: □ 전기∙통신∙소방∙전문 및 기타공사의 경우 일반관리비요율을 제외한 각종 요율은 토목, 건축 등 관련 공사업종에 따라 적용
B119: - (시행령 제9장) 기술제안 입찰에 의한 계약 | BY119: (단. 공사규모 및 기간은 해당공종<전기∙통신∙소방∙전문 및 기타공사>을 기준으로 함)
B121: 위 적용기준은 조달청 발주공사에 적용하는 기준이므로 참고자료로 활용하시기 바랍니다.
