Workbook
Name ___________ju8: {"'광피스표'!$A$3:$N$54"}
Name ___________ju8: {"'광피스표'!$A$3:$N$54"}
Name ___________ju8: {"'광피스표'!$A$3:$N$54"}
Name ___________ju8: {"'광피스표'!$A$3:$N$54"}
Name ___________ju8: {"'광피스표'!$A$3:$N$54"}
Name ___________ju8: {"'광피스표'!$A$3:$N$54"}
Name ___________ju8: {"'광피스표'!$A$3:$N$54"}
Name ___________ju8: {"'광피스표'!$A$3:$N$54"}
Name ___________ju8: {"'광피스표'!$A$3:$N$54"}
Name ___________ju8: {"'광피스표'!$A$3:$N$54"}
Name ___________ju8: {"'광피스표'!$A$3:$N$54"}
Name ___________ju8: {"'광피스표'!$A$3:$N$54"}
Name ___________q45: {"'용역비'!$A$4:$C$8"}
Name ___________q45: {"'용역비'!$A$4:$C$8"}
Name ___________q45: {"'용역비'!$A$4:$C$8"}
Name ___________q45: {"'용역비'!$A$4:$C$8"}
Name ___________q45: {"'용역비'!$A$4:$C$8"}
Name ___________q45: {"'용역비'!$A$4:$C$8"}
Name ___________q45: {"'용역비'!$A$4:$C$8"}
Name ___________q45: {"'용역비'!$A$4:$C$8"}
Name ___________q45: {"'용역비'!$A$4:$C$8"}
Name ___________q45: {"'용역비'!$A$4:$C$8"}
Name ___________q45: {"'용역비'!$A$4:$C$8"}
Name ___________q45: {"'용역비'!$A$4:$C$8"}
Name __________ju8: {"'광피스표'!$A$3:$N$54"}
Name __________ju8: {"'광피스표'!$A$3:$N$54"}
Name __________ju8: {"'광피스표'!$A$3:$N$54"}
Name __________ju8: {"'광피스표'!$A$3:$N$54"}
Name __________ju8: {"'광피스표'!$A$3:$N$54"}
Name __________ju8: {"'광피스표'!$A$3:$N$54"}
Name __________ju8: {"'광피스표'!$A$3:$N$54"}
Name __________ju8: {"'광피스표'!$A$3:$N$54"}
Name __________ju8: {"'광피스표'!$A$3:$N$54"}
Name __________ju8: {"'광피스표'!$A$3:$N$54"}
Name __________ju8: {"'광피스표'!$A$3:$N$54"}
Name __________ju8: {"'광피스표'!$A$3:$N$54"}
Name __________q45: {"'용역비'!$A$4:$C$8"}
Name __________q45: {"'용역비'!$A$4:$C$8"}
Name __________q45: {"'용역비'!$A$4:$C$8"}
Name __________q45: {"'용역비'!$A$4:$C$8"}
Name __________q45: {"'용역비'!$A$4:$C$8"}
Name __________q45: {"'용역비'!$A$4:$C$8"}
Name __________q45: {"'용역비'!$A$4:$C$8"}
Name __________q45: {"'용역비'!$A$4:$C$8"}
Name __________q45: {"'용역비'!$A$4:$C$8"}
Name __________q45: {"'용역비'!$A$4:$C$8"}
Name __________q45: {"'용역비'!$A$4:$C$8"}
Name __________q45: {"'용역비'!$A$4:$C$8"}
Name _________ju8: {"'광피스표'!$A$3:$N$54"}
Name _________ju8: {"'광피스표'!$A$3:$N$54"}
Name _________ju8: {"'광피스표'!$A$3:$N$54"}
Name _________ju8: {"'광피스표'!$A$3:$N$54"}
Name _________ju8: {"'광피스표'!$A$3:$N$54"}
Name _________ju8: {"'광피스표'!$A$3:$N$54"}
Name _________ju8: {"'광피스표'!$A$3:$N$54"}
Name _________ju8: {"'광피스표'!$A$3:$N$54"}
Name _________ju8: {"'광피스표'!$A$3:$N$54"}
Name _________ju8: {"'광피스표'!$A$3:$N$54"}
Name _________ju8: {"'광피스표'!$A$3:$N$54"}
Name _________ju8: {"'광피스표'!$A$3:$N$54"}

Sheet 설계내역서
A1: 설 계 년월일 | B1: 2026. 7. | C1: 설 | D1: （주）협성임프 | E1: 심 | G1: 팀 | I1: 소
C2: 계 | E2: 사
C3: 자 | E3: 자 | G3: 장 | I3: 장
A5: 2026년도
A7: 부산실내빙상장 노후 통신시설 보수공사
A8: 설 계 내 역 서
A10: □ 공사개요
A11: - 부산실내빙상장 노후 통신시설 보수공사 1식
A14: =" ○ 총 사업비: 금"&TEXT(원가계산서!L28,"###,0")&"원(금"&NUMBERSTRING(원가계산서!L28,1)&"원) " -> ○ 총 사업비: 금0원(금영원)
A15: (※ 부가세 포함)
A18: =" - 도급공사 : 금"&TEXT(원가계산서!L26,"###,0")&"원(금"&NUMBERSTRING(원가계산서!L26,1)&"원)" -> - 도급공사 : 금0원(금영원)
A19: =" - 관급자재 : 금"&TEXT(원가계산서!L27,"###,0")&"원(금"&NUMBERSTRING(원가계산서!L27,1)&"원)" -> - 관급자재 : 금0원(금영원)
J29: "총공사 7.2 -전기2.8-용역0.9=3.5억

Sheet 원가계산서
A1: 원 가 계 산 서
A2: 사업명 : 부산실내빙상장 노후 통신시설 보수공사 | Z2: 제비율 : 2026년 4월13일 기준 적용
A3: 비 목 | C3: 구 분 | L3: 금 액 | S3: 구 성 비 | AF3: 비 고
A4: 순 공 사 비 원 가 | C4: 재료비 | E4: 직 접 재 료 비 | L4: ='내역서(총괄)'!D22 -> 0
E5: 간 접 재 료 비
E6: 소 계 | L6: =SUM(L4:R5) -> 0
C7: 노무비 | E7: 직접노무비(가) | L7: ='내역서(총괄)'!E22 -> 0
E8: 간접노무비(나) | L8: =L7*AQ8% -> 0 | S8: ="직접노무비*"&AQ8&"%" -> 직접노무비*17.5% | AQ8: 17.5
E9: 소 계 | L9: =SUM(L7:R8) -> 0
E10: 고 용 보 험 료 | L10: =ROUNDDOWN(L9*AQ10%,0) -> 0 | S10: ="노무비*"&AQ10&"%" -> 노무비*1.01% | AQ10: 1.01
E11: 산 재 보 험 료 | L11: =ROUNDDOWN(L9*AQ11%,0) -> 0 | S11: ="노무비*"&AQ11&"%" -> 노무비*3.56% | AQ11: 3.56 | AS11: 도급자관급 미포함 공사 | AT11: =(L6+L7)*AQ12% -> 0 | AU11: (재료비+직접노무비)*2.07%
E12: 산업안전보건관리비 | L12: =AT11 -> 0 | S12: =AU11 -> (재료비+직접노무비)*2.07% | AF12: 공사금액 2천 이상 | AQ12: 2.07 | AS12: 도급자관급 포함공사 | AT12: =(L6+L7+#REF!)*AQ12% -> #REF! | AU12: ="(재료비+직접노무비+도급자관급)*"&AQ12&"%" -> (재료비+직접노무비+도급자관급)*2.07%
E13: 건 강 보 험 료 | L13: =ROUNDDOWN(L7*AQ13%,0) -> 0 | S13: ="직접노무비*"&AQ13&"%" -> 직접노무비*3.595% | AF13: 공사기간 1개월 이상 | AQ13: 3.595 | AS13: 도급자관급 포함공사 | AT13: =((L6+L7)*AQ12%)*1.2 -> 0 | AU13: ="[재료비+직접노무비)*"&AQ12&"%]*1.2" -> [재료비+직접노무비)*2.07%]*1.2
E14: 연 금 보 험 료 | L14: =ROUNDDOWN(L7*AQ14%,0) -> 0 | S14: ="직접노무비*"&AQ14&"%" -> 직접노무비*4.75% | AF14: 공사기간 1개월 이상 | AQ14: 4.75
E15: 퇴직공제부금비 | L15: =L7*AQ15% -> 0 | S15: ="직접노무비*"&AQ15&"%" -> 직접노무비*2.3% | AF15: 공사금액 1억 이상 | AQ15: 2.3
E16: 노인장기요양보험료 | L16: =ROUNDDOWN(L13*AQ16%,0) -> 0 | S16: ="건강보험료*"&AQ16&"%" -> 건강보험료*13.14% | AF16: 공사기간 1개월 이상 | AQ16: 13.14
E17: 기 타 경 비 | L17: =ROUNDDOWN((L6+L9)*AQ17%,0) -> 0 | S17: ="(재료비+노무비)*"&AQ17&"%" -> (재료비+노무비)*5% | AQ17: 5
E18: 석면분담금 | L18: =ROUNDDOWN((L9)*AQ18%,0) -> 0 | S18: ="노무비*"&AQ18&"%" -> 노무비*0.006% | AQ18: 0.006
E19: 임금채권부담금 | L19: =ROUNDDOWN((L9)*AQ19%,0) -> 0 | S19: ="노무비*"&AQ19&"%" -> 노무비*0.09% | AQ19: 0.09
E20: 소 계 | L20: =SUM(L10:R19) -> 0
C21: 계 | L21: =L6+L9+L20 -> 0
A22: 일 반 관 리 비 | L22: =ROUNDDOWN(L21*AQ22%,0) -> 0 | S22: ="(재료비+노무비+경비)*"&AQ22&"%" -> (재료비+노무비+경비)*8% | AQ22: 8
A23: 이 윤 | L23: =ROUNDDOWN((L9+L20+L22)*AQ23%,0) -> 0 | S23: ="(노무비+경비+일반관리비)*"&AQ23&"%" -> (노무비+경비+일반관리비)*15% | AQ23: 15
A24: 총원가 | L24: =ROUNDDOWN(SUM(L21:R23),) -> 0 | S24: (순공사원가 + 일반관리비 + 이윤)
A25: 부가가치세 | L25: =L24*0.1 -> 0 | S25: ="공사원가*"&AQ25&"%" -> 공사원가*10% | AQ25: 10
A26: 도급 공사비 | L26: =TRUNC(SUM(L24:R25),-3) -> 0 | S26: (총원가+부가가치세) | AF26: 천단위 미만 절사
A27: 관급자재 | L27: =관급자재조서!G107 -> 0
A28: 공사비 총계 | L28: =SUM(L26:R27) -> 0 | S28: (예정가격+관급자재)
L29: 0
V33: `

Sheet 내역서(총괄)
A1: 내 역 집 계 표
A2: 사업명 : 부산실내빙상장 노후 통신시설 보수공사
A3: 품 명 | B3: 단위 | C3: 수량 | D3: 재료비 | E3: 노무비 | F3: 경비 | G3: 계 | H3: 비고
A4: =내역서!D5 -> 부산실내빙상장 노후 통신시설 보수공사 | B4: 식 | D4: =내역서!I52 -> 0 | E4: =내역서!K52 -> 0 | F4: 0 | G4: =D4+E4+F4 -> 0
A22: [합 계] | D22: =SUM(D4:D18) -> 0 | E22: =SUM(E4:E18) -> 0 | F22: =F4+F5+F6+F7 -> 0 | G22: =SUM(G4:G18) -> 0

Sheet 일위대가목록
A1: 1022 | D1: 일 위 대 가 목 록 표
D2: 항 목 번 호 | E2: 명 칭 | F2: 규 격 | G2: 단위 | H2: 수량 | I2: 재료비 | J2: 노무비 | K2: 경 비 | L2: 계 | M2: 비고
A3: 4 | B3: 1항목 | C3: 1계 | D3: 1 | E3: =VLOOKUP($B$3:$B$281,일위대가!$B$4:$O$905,4,0) -> 카메라 철거 | F3: =VLOOKUP($B$3:$B$281,일위대가!$B$4:$O$905,5,0) -> 돔 | G3: =VLOOKUP($B$3:$B$281,일위대가!$B$4:$O$905,6,0) -> 대 | H3: 1 | I3: =VLOOKUP($C$3:$C$281,일위대가!$B$4:$O$905,9,0) -> 0 | J3: =VLOOKUP($C$3:$C$281,일위대가!$B$4:$O$905,11,0) -> 0 | K3: =VLOOKUP($C$3:$C$281,일위대가!$B$4:$O$905,13,0) -> 0 | L3: =SUM(I3:K3) -> 0
A4: 5 | B4: 2항목 | C4: 2계 | D4: 2 | E4: =VLOOKUP($B$3:$B$281,일위대가!$B$4:$O$905,4,0) -> 카메라 철거 | F4: =VLOOKUP($B$3:$B$281,일위대가!$B$4:$O$905,5,0) -> 뷸렛 | G4: =VLOOKUP($B$3:$B$281,일위대가!$B$4:$O$905,6,0) -> 대 | H4: 1 | I4: =VLOOKUP($C$3:$C$281,일위대가!$B$4:$O$905,9,0) -> 0 | J4: =VLOOKUP($C$3:$C$281,일위대가!$B$4:$O$905,11,0) -> 0 | K4: =VLOOKUP($C$3:$C$281,일위대가!$B$4:$O$905,13,0) -> 0 | L4: =SUM(I4:K4) -> 0
A5: 6 | B5: 3항목 | C5: 3계 | D5: 3 | E5: =VLOOKUP($B$3:$B$281,일위대가!$B$4:$O$905,4,0) -> 카메라 철거 | F5: =VLOOKUP($B$3:$B$281,일위대가!$B$4:$O$905,5,0) -> PTZ | G5: =VLOOKUP($B$3:$B$281,일위대가!$B$4:$O$905,6,0) -> 대 | H5: 1 | I5: =VLOOKUP($C$3:$C$281,일위대가!$B$4:$O$905,9,0) -> 0 | J5: =VLOOKUP($C$3:$C$281,일위대가!$B$4:$O$905,11,0) -> 0 | K5: =VLOOKUP($C$3:$C$281,일위대가!$B$4:$O$905,13,0) -> 0 | L5: =SUM(I5:K5) -> 0
A6: 1022 | B6: 4항목 | C6: 4계 | D6: 4 | E6: =VLOOKUP($B$3:$B$281,일위대가!$B$4:$O$905,4,0) -> NVR 철거 | F6: =VLOOKUP($B$3:$B$281,일위대가!$B$4:$O$905,5,0) -> 32CH | G6: =VLOOKUP($B$3:$B$281,일위대가!$B$4:$O$905,6,0) -> 대 | H6: 1 | I6: =VLOOKUP($C$3:$C$281,일위대가!$B$4:$O$905,9,0) -> 0 | J6: =VLOOKUP($C$3:$C$281,일위대가!$B$4:$O$905,11,0) -> 0 | K6: =VLOOKUP($C$3:$C$281,일위대가!$B$4:$O$905,13,0) -> 0 | L6: =SUM(I6:K6) -> 0
A7: 2001 | B7: 5항목 | C7: 5계 | D7: 5 | E7: =VLOOKUP($B$3:$B$281,일위대가!$B$4:$O$905,4,0) -> 광 케이블 | F7: =VLOOKUP($B$3:$B$281,일위대가!$B$4:$O$905,5,0) -> SM-8Core | G7: =VLOOKUP($B$3:$B$281,일위대가!$B$4:$O$905,6,0) -> m | H7: 1 | I7: =VLOOKUP($C$3:$C$281,일위대가!$B$4:$O$905,9,0) -> 0 | J7: =VLOOKUP($C$3:$C$281,일위대가!$B$4:$O$905,11,0) -> 0 | K7: =VLOOKUP($C$3:$C$281,일위대가!$B$4:$O$905,13,0) -> 0 | L7: =SUM(I7:K7) -> 0
A8: 2002 | B8: 6항목 | C8: 6계 | D8: 6 | E8: =VLOOKUP($B$3:$B$281,일위대가!$B$4:$O$905,4,0) -> UTP | F8: =VLOOKUP($B$3:$B$281,일위대가!$B$4:$O$905,5,0) -> CAT6 4P(1조) | G8: =VLOOKUP($B$3:$B$281,일위대가!$B$4:$O$905,6,0) -> m | H8: 1 | I8: =VLOOKUP($C$3:$C$281,일위대가!$B$4:$O$905,9,0) -> 0 | J8: =VLOOKUP($C$3:$C$281,일위대가!$B$4:$O$905,11,0) -> 0 | K8: =VLOOKUP($C$3:$C$281,일위대가!$B$4:$O$905,13,0) -> 0 | L8: =SUM(I8:K8) -> 0
A9: 2003 | B9: 7항목 | C9: 7계 | D9: 7 | E9: =VLOOKUP($B$3:$B$281,일위대가!$B$4:$O$905,4,0) -> UTP | F9: =VLOOKUP($B$3:$B$281,일위대가!$B$4:$O$905,5,0) -> CAT6 4P(2조) | G9: =VLOOKUP($B$3:$B$281,일위대가!$B$4:$O$905,6,0) -> m | H9: 1 | I9: =VLOOKUP($C$3:$C$281,일위대가!$B$4:$O$905,9,0) -> 0 | J9: =VLOOKUP($C$3:$C$281,일위대가!$B$4:$O$905,11,0) -> 0 | K9: =VLOOKUP($C$3:$C$281,일위대가!$B$4:$O$905,13,0) -> 0 | L9: =SUM(I9:K9) -> 0
A10: 2004 | B10: 8항목 | C10: 8계 | D10: 8 | E10: =VLOOKUP($B$3:$B$281,일위대가!$B$4:$O$905,4,0) -> UTP | F10: =VLOOKUP($B$3:$B$281,일위대가!$B$4:$O$905,5,0) -> CAT6 4P(3조) | G10: =VLOOKUP($B$3:$B$281,일위대가!$B$4:$O$905,6,0) -> m | H10: 1 | I10: =VLOOKUP($C$3:$C$281,일위대가!$B$4:$O$905,9,0) -> 0 | J10: =VLOOKUP($C$3:$C$281,일위대가!$B$4:$O$905,11,0) -> 0 | K10: =VLOOKUP($C$3:$C$281,일위대가!$B$4:$O$905,13,0) -> 0 | L10: =SUM(I10:K10) -> 0
A11: 2005 | B11: 9항목 | C11: 9계 | D11: 9 | E11: =VLOOKUP($B$3:$B$281,일위대가!$B$4:$O$905,4,0) -> UTP | F11: =VLOOKUP($B$3:$B$281,일위대가!$B$4:$O$905,5,0) -> CAT6 4P(4조) | G11: =VLOOKUP($B$3:$B$281,일위대가!$B$4:$O$905,6,0) -> m | H11: 1 | I11: =VLOOKUP($C$3:$C$281,일위대가!$B$4:$O$905,9,0) -> 0 | J11: =VLOOKUP($C$3:$C$281,일위대가!$B$4:$O$905,11,0) -> 0 | K11: =VLOOKUP($C$3:$C$281,일위대가!$B$4:$O$905,13,0) -> 0 | L11: =SUM(I11:K11) -> 0
A12: 2006 | B12: 10항목 | C12: 10계 | D12: 10 | E12: =VLOOKUP($B$3:$B$281,일위대가!$B$4:$O$905,4,0) -> UTP | F12: =VLOOKUP($B$3:$B$281,일위대가!$B$4:$O$905,5,0) -> CAT6 4P(6조) | G12: =VLOOKUP($B$3:$B$281,일위대가!$B$4:$O$905,6,0) -> m | H12: 1 | I12: =VLOOKUP($C$3:$C$281,일위대가!$B$4:$O$905,9,0) -> 0 | J12: =VLOOKUP($C$3:$C$281,일위대가!$B$4:$O$905,11,0) -> 0 | K12: =VLOOKUP($C$3:$C$281,일위대가!$B$4:$O$905,13,0) -> 0 | L12: =SUM(I12:K12) -> 0
A13: 2007 | B13: 11항목 | C13: 11계 | D13: 11 | E13: =VLOOKUP($B$3:$B$281,일위대가!$B$4:$O$905,4,0) -> UTP | F13: =VLOOKUP($B$3:$B$281,일위대가!$B$4:$O$905,5,0) -> CAT6 4P(7조) | G13: =VLOOKUP($B$3:$B$281,일위대가!$B$4:$O$905,6,0) -> m | H13: 1 | I13: =VLOOKUP($C$3:$C$281,일위대가!$B$4:$O$905,9,0) -> 0 | J13: =VLOOKUP($C$3:$C$281,일위대가!$B$4:$O$905,11,0) -> 0 | K13: =VLOOKUP($C$3:$C$281,일위대가!$B$4:$O$905,13,0) -> 0 | L13: =SUM(I13:K13) -> 0
A14: 2008 | B14: 12항목 | C14: 12계 | D14: 12 | E14: =VLOOKUP($B$3:$B$281,일위대가!$B$4:$O$905,4,0) -> UTP | F14: =VLOOKUP($B$3:$B$281,일위대가!$B$4:$O$905,5,0) -> CAT6 4P(9조) | G14: =VLOOKUP($B$3:$B$281,일위대가!$B$4:$O$905,6,0) -> m | H14: 1 | I14: =VLOOKUP($C$3:$C$281,일위대가!$B$4:$O$905,9,0) -> 0 | J14: =VLOOKUP($C$3:$C$281,일위대가!$B$4:$O$905,11,0) -> 0 | K14: =VLOOKUP($C$3:$C$281,일위대가!$B$4:$O$905,13,0) -> 0 | L14: =SUM(I14:K14) -> 0
... A39: 5008 | B39: 37항목 | C39: 37계 | D39: 37 | E39: =VLOOKUP($B$3:$B$281,일위대가!$B$4:$O$905,4,0) -> 방송 단자함 철거 | F39: =VLOOKUP($B$3:$B$281,일위대가!$B$4:$O$905,5,0) -> SP 10P | G39: =VLOOKUP($B$3:$B$281,일위대가!$B$4:$O$905,6,0) -> 개 | H39: 1 | I39: =VLOOKUP($C$3:$C$281,일위대가!$B$4:$O$905,9,0) -> 0 | J39: =VLOOKUP($C$3:$C$281,일위대가!$B$4:$O$905,11,0) -> 0 | K39: =VLOOKUP($C$3:$C$281,일위대가!$B$4:$O$905,13,0) -> 0 | L39: =SUM(I39:K39) -> 0
A40: 4017 | B40: 38항목 | C40: 38계 | D40: 38 | E40: =VLOOKUP($B$3:$B$281,일위대가!$B$4:$O$905,4,0) -> MIC JACK PLATE 철거 | F40: =VLOOKUP($B$3:$B$281,일위대가!$B$4:$O$905,5,0) -> 2CH | G40: =VLOOKUP($B$3:$B$281,일위대가!$B$4:$O$905,6,0) -> 개 | H40: 1 | I40: =VLOOKUP($C$3:$C$281,일위대가!$B$4:$O$905,9,0) -> 0 | J40: =VLOOKUP($C$3:$C$281,일위대가!$B$4:$O$905,11,0) -> 0 | K40: =VLOOKUP($C$3:$C$281,일위대가!$B$4:$O$905,13,0) -> 0 | L40: =SUM(I40:K40) -> 0 | N40: `
A41: 4018 | B41: 39항목 | C41: 39계 | D41: 39 | E41: =VLOOKUP($B$3:$B$281,일위대가!$B$4:$O$905,4,0) -> Wireless Ant 철거 | F41: =VLOOKUP($B$3:$B$281,일위대가!$B$4:$O$905,5,0) -> 900MHz | G41: =VLOOKUP($B$3:$B$281,일위대가!$B$4:$O$905,6,0) -> 대 | H41: 1 | I41: =VLOOKUP($C$3:$C$281,일위대가!$B$4:$O$905,9,0) -> 0 | J41: =VLOOKUP($C$3:$C$281,일위대가!$B$4:$O$905,11,0) -> 0 | K41: =VLOOKUP($C$3:$C$281,일위대가!$B$4:$O$905,13,0) -> 0 | L41: =SUM(I41:K41) -> 0
A42: 5009 | B42: 40항목 | C42: 40계 | D42: 40 | E42: =VLOOKUP($B$3:$B$281,일위대가!$B$4:$O$905,4,0) -> 19"RACK 철거 | F42: =VLOOKUP($B$3:$B$281,일위대가!$B$4:$O$905,5,0) -> H:1600 | G42: =VLOOKUP($B$3:$B$281,일위대가!$B$4:$O$905,6,0) -> 대 | H42: 1 | I42: =VLOOKUP($C$3:$C$281,일위대가!$B$4:$O$905,9,0) -> 0 | J42: =VLOOKUP($C$3:$C$281,일위대가!$B$4:$O$905,11,0) -> 0 | K42: =VLOOKUP($C$3:$C$281,일위대가!$B$4:$O$905,13,0) -> 0 | L42: =SUM(I42:K42) -> 0
A43: 5010 | B43: 41항목 | C43: 41계 | D43: 41 | E43: =VLOOKUP($B$3:$B$281,일위대가!$B$4:$O$905,4,0) -> SATELLITE SPEAKER 철거 | F43: =VLOOKUP($B$3:$B$281,일위대가!$B$4:$O$905,5,0) -> 120W | G43: =VLOOKUP($B$3:$B$281,일위대가!$B$4:$O$905,6,0) -> 대 | H43: 1 | I43: =VLOOKUP($C$3:$C$281,일위대가!$B$4:$O$905,9,0) -> 0 | J43: =VLOOKUP($C$3:$C$281,일위대가!$B$4:$O$905,11,0) -> 0 | K43: =VLOOKUP($C$3:$C$281,일위대가!$B$4:$O$905,13,0) -> 0 | L43: =SUM(I43:K43) -> 0
A44: 5011 | B44: 42항목 | C44: 42계 | D44: 42 | E44: =VLOOKUP($B$3:$B$281,일위대가!$B$4:$O$905,4,0) -> CENTER CLUSTER SPEAKER 철거 | F44: =VLOOKUP($B$3:$B$281,일위대가!$B$4:$O$905,5,0) -> 300W | G44: =VLOOKUP($B$3:$B$281,일위대가!$B$4:$O$905,6,0) -> 대 | H44: 1 | I44: =VLOOKUP($C$3:$C$281,일위대가!$B$4:$O$905,9,0) -> 0 | J44: =VLOOKUP($C$3:$C$281,일위대가!$B$4:$O$905,11,0) -> 0 | K44: =VLOOKUP($C$3:$C$281,일위대가!$B$4:$O$905,13,0) -> 0 | L44: =SUM(I44:K44) -> 0

Sheet 내역서
D1: 내 역 서
D2: 품 명 | E2: 규 격 | F2: 단위 | G2: 수량 | H2: 재 료 비 | J2: 노 무 비 | L2: 경 비 | N2: 계 | O2: 비 고
H3: 단가 | I3: 금액 | J3: 단가 | K3: 금액 | L3: 단가 | M3: 금액
B5: 일위목록KEY | C5: 집계표KEY | D5: 부산실내빙상장 노후 통신시설 보수공사
D6: 1. CCTV 교체
B7: 4 | C7: 4 | D7: =VLOOKUP($C:$C,집계표!$B$4:$J$155,3,0) -> 카메라철거 | E7: =VLOOKUP($C:$C,집계표!$B$4:$J$155,4,0) -> 돔 | F7: =VLOOKUP($C:$C,집계표!$B$4:$J$119,5,0) -> 대 | G7: =VLOOKUP($C:$C,집계표!$B$4:$J$155,6,0) -> 0 | H7: =VLOOKUP($B:$B,일위대가목록!$A$3:$L$87,9,0) -> 0 | I7: =TRUNC(G7*H7) -> 0 | J7: =VLOOKUP($B:$B,일위대가목록!$A$3:$L$79,10,0) -> 0 | K7: =TRUNC(G7*J7) -> 0 | L7: 0 | M7: =TRUNC(G7*L7) -> 0 | N7: =I7+K7+M7 -> 0 | O7: ="[대가 "&VLOOKUP($B:$B,일위대가목록!$A$3:$L$81,4,0)&" 호표]" -> [대가 1 호표]
B8: 5 | C8: 5 | D8: =VLOOKUP($C:$C,집계표!$B$4:$J$155,3,0) -> 카메라철거 | E8: =VLOOKUP($C:$C,집계표!$B$4:$J$155,4,0) -> 뷰렛 | F8: =VLOOKUP($C:$C,집계표!$B$4:$J$119,5,0) -> 대 | G8: =VLOOKUP($C:$C,집계표!$B$4:$J$155,6,0) -> 0 | H8: =VLOOKUP($B:$B,일위대가목록!$A$3:$L$87,9,0) -> 0 | I8: =TRUNC(G8*H8) -> 0 | J8: =VLOOKUP($B:$B,일위대가목록!$A$3:$L$79,10,0) -> 0 | K8: =TRUNC(G8*J8) -> 0 | L8: 0 | M8: =TRUNC(G8*L8) -> 0 | N8: =I8+K8+M8 -> 0 | O8: ="[대가 "&VLOOKUP($B:$B,일위대가목록!$A$3:$L$81,4,0)&" 호표]" -> [대가 2 호표]
B9: 6 | C9: 6 | D9: =VLOOKUP($C:$C,집계표!$B$4:$J$155,3,0) -> 카메라철거 | E9: =VLOOKUP($C:$C,집계표!$B$4:$J$155,4,0) -> PTZ | F9: =VLOOKUP($C:$C,집계표!$B$4:$J$119,5,0) -> 대 | G9: =VLOOKUP($C:$C,집계표!$B$4:$J$155,6,0) -> 0 | H9: =VLOOKUP($B:$B,일위대가목록!$A$3:$L$87,9,0) -> 0 | I9: =TRUNC(G9*H9) -> 0 | J9: =VLOOKUP($B:$B,일위대가목록!$A$3:$L$79,10,0) -> 0 | K9: =TRUNC(G9*J9) -> 0 | L9: 0 | M9: =TRUNC(G9*L9) -> 0 | N9: =I9+K9+M9 -> 0 | O9: ="[대가 "&VLOOKUP($B:$B,일위대가목록!$A$3:$L$81,4,0)&" 호표]" -> [대가 3 호표]
B10: 1022 | C10: 1022 | D10: =VLOOKUP($C:$C,집계표!$B$4:$J$155,3,0) -> NVR 철거 | E10: =VLOOKUP($C:$C,집계표!$B$4:$J$155,4,0) -> 32CH | F10: =VLOOKUP($C:$C,집계표!$B$4:$J$119,5,0) -> 대 | G10: =VLOOKUP($C:$C,집계표!$B$4:$J$155,6,0) -> 0 | H10: =VLOOKUP($B:$B,일위대가목록!$A$3:$L$87,9,0) -> 0 | I10: =TRUNC(G10*H10) -> 0 | J10: =VLOOKUP($B:$B,일위대가목록!$A$3:$L$79,10,0) -> 0 | K10: =TRUNC(G10*J10) -> 0 | L10: 0 | M10: =TRUNC(G10*L10) -> 0 | N10: =I10+K10+M10 -> 0 | O10: ="[대가 "&VLOOKUP($B:$B,일위대가목록!$A$3:$L$81,4,0)&" 호표]" -> [대가 4 호표]
B11: 2001 | C11: 2001 | D11: =VLOOKUP($C:$C,집계표!$B$4:$J$155,3,0) -> 광 케이블 | E11: =VLOOKUP($C:$C,집계표!$B$4:$J$155,4,0) -> SM-8Core | F11: =VLOOKUP($C:$C,집계표!$B$4:$J$119,5,0) -> m | G11: =VLOOKUP($C:$C,집계표!$B$4:$J$155,6,0) -> 0 | H11: =VLOOKUP($B:$B,일위대가목록!$A$3:$L$87,9,0) -> 0 | I11: =TRUNC(G11*H11) -> 0 | J11: =VLOOKUP($B:$B,일위대가목록!$A$3:$L$79,10,0) -> 0 | K11: =TRUNC(G11*J11) -> 0 | L11: 0 | M11: =TRUNC(G11*L11) -> 0 | N11: =I11+K11+M11 -> 0 | O11: ="[대가 "&VLOOKUP($B:$B,일위대가목록!$A$3:$L$81,4,0)&" 호표]" -> [대가 5 호표]
B12: 2002 | C12: 2002 | D12: =VLOOKUP($C:$C,집계표!$B$4:$J$155,3,0) -> UTP | E12: =VLOOKUP($C:$C,집계표!$B$4:$J$155,4,0) -> CAT6 4P(1조) | F12: =VLOOKUP($C:$C,집계표!$B$4:$J$119,5,0) -> m | G12: =VLOOKUP($C:$C,집계표!$B$4:$J$155,6,0) -> 0 | H12: =VLOOKUP($B:$B,일위대가목록!$A$3:$L$87,9,0) -> 0 | I12: =TRUNC(G12*H12) -> 0 | J12: =VLOOKUP($B:$B,일위대가목록!$A$3:$L$79,10,0) -> 0 | K12: =TRUNC(G12*J12) -> 0 | L12: 0 | M12: =TRUNC(G12*L12) -> 0 | N12: =I12+K12+M12 -> 0 | O12: ="[대가 "&VLOOKUP($B:$B,일위대가목록!$A$3:$L$81,4,0)&" 호표]" -> [대가 6 호표]
B13: 2003 | C13: 2003 | D13: =VLOOKUP($C:$C,집계표!$B$4:$J$155,3,0) -> UTP | E13: =VLOOKUP($C:$C,집계표!$B$4:$J$155,4,0) -> CAT6 4P(2조) | F13: =VLOOKUP($C:$C,집계표!$B$4:$J$119,5,0) -> m | G13: =VLOOKUP($C:$C,집계표!$B$4:$J$155,6,0) -> 0 | H13: =VLOOKUP($B:$B,일위대가목록!$A$3:$L$87,9,0) -> 0 | I13: =TRUNC(G13*H13) -> 0 | J13: =VLOOKUP($B:$B,일위대가목록!$A$3:$L$79,10,0) -> 0 | K13: =TRUNC(G13*J13) -> 0 | L13: 0 | M13: =TRUNC(G13*L13) -> 0 | N13: =I13+K13+M13 -> 0 | O13: ="[대가 "&VLOOKUP($B:$B,일위대가목록!$A$3:$L$81,4,0)&" 호표]" -> [대가 7 호표]
B14: 2004 | C14: 2004 | D14: =VLOOKUP($C:$C,집계표!$B$4:$J$155,3,0) -> UTP | E14: =VLOOKUP($C:$C,집계표!$B$4:$J$155,4,0) -> CAT6 4P(3조) | F14: =VLOOKUP($C:$C,집계표!$B$4:$J$119,5,0) -> m | G14: =VLOOKUP($C:$C,집계표!$B$4:$J$155,6,0) -> 0 | H14: =VLOOKUP($B:$B,일위대가목록!$A$3:$L$87,9,0) -> 0 | I14: =TRUNC(G14*H14) -> 0 | J14: =VLOOKUP($B:$B,일위대가목록!$A$3:$L$79,10,0) -> 0 | K14: =TRUNC(G14*J14) -> 0 | L14: 0 | M14: =TRUNC(G14*L14) -> 0 | N14: =I14+K14+M14 -> 0 | O14: ="[대가 "&VLOOKUP($B:$B,일위대가목록!$A$3:$L$81,4,0)&" 호표]" -> [대가 8 호표]
B15: 2005 | C15: 2005 | D15: =VLOOKUP($C:$C,집계표!$B$4:$J$155,3,0) -> UTP | E15: =VLOOKUP($C:$C,집계표!$B$4:$J$155,4,0) -> CAT6 4P(4조) | F15: =VLOOKUP($C:$C,집계표!$B$4:$J$119,5,0) -> m | G15: =VLOOKUP($C:$C,집계표!$B$4:$J$155,6,0) -> 0 | H15: =VLOOKUP($B:$B,일위대가목록!$A$3:$L$87,9,0) -> 0 | I15: =TRUNC(G15*H15) -> 0 | J15: =VLOOKUP($B:$B,일위대가목록!$A$3:$L$79,10,0) -> 0 | K15: =TRUNC(G15*J15) -> 0 | L15: 0 | M15: =TRUNC(G15*L15) -> 0 | N15: =I15+K15+M15 -> 0 | O15: ="[대가 "&VLOOKUP($B:$B,일위대가목록!$A$3:$L$81,4,0)&" 호표]" -> [대가 9 호표]
B16: 2006 | C16: 2006 | D16: =VLOOKUP($C:$C,집계표!$B$4:$J$155,3,0) -> UTP | E16: =VLOOKUP($C:$C,집계표!$B$4:$J$155,4,0) -> CAT6 4P(6조) | F16: =VLOOKUP($C:$C,집계표!$B$4:$J$119,5,0) -> m | G16: =VLOOKUP($C:$C,집계표!$B$4:$J$155,6,0) -> 0 | H16: =VLOOKUP($B:$B,일위대가목록!$A$3:$L$87,9,0) -> 0 | I16: =TRUNC(G16*H16) -> 0 | J16: =VLOOKUP($B:$B,일위대가목록!$A$3:$L$79,10,0) -> 0 | K16: =TRUNC(G16*J16) -> 0 | L16: 0 | M16: =TRUNC(G16*L16) -> 0 | N16: =I16+K16+M16 -> 0 | O16: ="[대가 "&VLOOKUP($B:$B,일위대가목록!$A$3:$L$81,4,0)&" 호표]" -> [대가 10 호표]
B17: 2007 | C17: 2007 | D17: =VLOOKUP($C:$C,집계표!$B$4:$J$155,3,0) -> UTP | E17: =VLOOKUP($C:$C,집계표!$B$4:$J$155,4,0) -> CAT6 4P(7조) | F17: =VLOOKUP($C:$C,집계표!$B$4:$J$119,5,0) -> m | G17: =VLOOKUP($C:$C,집계표!$B$4:$J$155,6,0) -> 0 | H17: =VLOOKUP($B:$B,일위대가목록!$A$3:$L$87,9,0) -> 0 | I17: =TRUNC(G17*H17) -> 0 | J17: =VLOOKUP($B:$B,일위대가목록!$A$3:$L$79,10,0) -> 0 | K17: =TRUNC(G17*J17) -> 0 | L17: 0 | M17: =TRUNC(G17*L17) -> 0 | N17: =I17+K17+M17 -> 0 | O17: ="[대가 "&VLOOKUP($B:$B,일위대가목록!$A$3:$L$81,4,0)&" 호표]" -> [대가 11 호표]
B18: 2008 | C18: 2008 | D18: =VLOOKUP($C:$C,집계표!$B$4:$J$155,3,0) -> UTP | E18: =VLOOKUP($C:$C,집계표!$B$4:$J$155,4,0) -> CAT6 4P(9조) | F18: =VLOOKUP($C:$C,집계표!$B$4:$J$119,5,0) -> m | G18: =VLOOKUP($C:$C,집계표!$B$4:$J$155,6,0) -> 0 | H18: =VLOOKUP($B:$B,일위대가목록!$A$3:$L$87,9,0) -> 0 | I18: =TRUNC(G18*H18) -> 0 | J18: =VLOOKUP($B:$B,일위대가목록!$A$3:$L$79,10,0) -> 0 | K18: =TRUNC(G18*J18) -> 0 | L18: 0 | M18: =TRUNC(G18*L18) -> 0 | N18: =I18+K18+M18 -> 0 | O18: ="[대가 "&VLOOKUP($B:$B,일위대가목록!$A$3:$L$81,4,0)&" 호표]" -> [대가 12 호표]
... B31: 2010 | C31: 2010 | D31: =VLOOKUP($C:$C,집계표!$B$4:$J$155,3,0) -> PTZ전력 케이블 | E31: =VLOOKUP($C:$C,집계표!$B$4:$J$155,4,0) -> HFCO(0.6/1kV 3C-1.5㎟) | F31: =VLOOKUP($C:$C,집계표!$B$4:$J$119,5,0) -> m | G31: =VLOOKUP($C:$C,집계표!$B$4:$J$155,6,0) -> 0 | H31: =VLOOKUP($B:$B,일위대가목록!$A$3:$L$87,9,0) -> 0 | I31: =TRUNC(G31*H31) -> 0 | J31: =VLOOKUP($B:$B,일위대가목록!$A$3:$L$79,10,0) -> 0 | K31: =TRUNC(G31*J31) -> 0 | L31: 0 | M31: =TRUNC(G31*L31) -> 0 | N31: =I31+K31+M31 -> 0 | O31: ="[대가 "&VLOOKUP($B:$B,일위대가목록!$A$3:$L$81,4,0)&" 호표]" -> [대가 25 호표]
D32: [소 계] | I32: =SUM(I7:I31) -> 0 | K32: =SUM(K7:K31) -> 0 | M32: =SUM(M7:M26) -> 0 | N32: =SUM(N7:N31) -> 0
D33: 2. 방송장비 교체
B34: 2014 | C34: 2014 | D34: =VLOOKUP($C:$C,집계표!$B$4:$J$155,3,0) -> 빙상장 스피커 케이블 | E34: =VLOOKUP($C:$C,집계표!$B$4:$J$155,4,0) -> F-FR-8 2C-4㎟ | F34: =VLOOKUP($C:$C,집계표!$B$4:$J$119,5,0) -> m | G34: =VLOOKUP($C:$C,집계표!$B$4:$J$155,6,0) -> 0 | H34: =VLOOKUP($B:$B,일위대가목록!$A$3:$L$87,9,0) -> 0 | I34: =TRUNC(G34*H34) -> 0 | J34: =VLOOKUP($B:$B,일위대가목록!$A$3:$L$79,10,0) -> 0 | K34: =TRUNC(G34*J34) -> 0 | L34: 0 | M34: =TRUNC(G34*L34) -> 0 | N34: =I34+K34+M34 -> 0 | O34: ="[대가 "&VLOOKUP($B:$B,일위대가목록!$A$3:$L$81,4,0)&" 호표]" -> [대가 26 호표]
B35: 2015 | C35: 2015 | D35: =VLOOKUP($C:$C,집계표!$B$4:$J$155,3,0) -> 빙상장 스피커 케이블 철거 | E35: =VLOOKUP($C:$C,집계표!$B$4:$J$155,4,0) -> 난연 16C | F35: =VLOOKUP($C:$C,집계표!$B$4:$J$119,5,0) -> m | G35: =VLOOKUP($C:$C,집계표!$B$4:$J$155,6,0) -> 0 | H35: =VLOOKUP($B:$B,일위대가목록!$A$3:$L$87,9,0) -> 0 | I35: =TRUNC(G35*H35) -> 0 | J35: =VLOOKUP($B:$B,일위대가목록!$A$3:$L$79,10,0) -> 0 | K35: =TRUNC(G35*J35) -> 0 | L35: 0 | M35: =TRUNC(G35*L35) -> 0 | N35: =I35+K35+M35 -> 0 | O35: ="[대가 "&VLOOKUP($B:$B,일위대가목록!$A$3:$L$81,4,0)&" 호표]" -> [대가 27 호표]
B36: 3017 | C36: 3017 | D36: =VLOOKUP($C:$C,집계표!$B$4:$J$155,3,0) -> ST관 | E36: =VLOOKUP($C:$C,집계표!$B$4:$J$155,4,0) -> 28C | F36: =VLOOKUP($C:$C,집계표!$B$4:$J$119,5,0) -> m | G36: =VLOOKUP($C:$C,집계표!$B$4:$J$155,6,0) -> 0 | H36: =VLOOKUP($B:$B,일위대가목록!$A$3:$L$87,9,0) -> 0 | I36: =TRUNC(G36*H36) -> 0 | J36: =VLOOKUP($B:$B,일위대가목록!$A$3:$L$79,10,0) -> 0 | K36: =TRUNC(G36*J36) -> 0 | L36: 0 | M36: =TRUNC(G36*L36) -> 0 | N36: =I36+K36+M36 -> 0 | O36: ="[대가 "&VLOOKUP($B:$B,일위대가목록!$A$3:$L$81,4,0)&" 호표]" -> [대가 28 호표]
B37: 3018 | C37: 3018 | D37: =VLOOKUP($C:$C,집계표!$B$4:$J$155,3,0) -> ST관 | E37: =VLOOKUP($C:$C,집계표!$B$4:$J$155,4,0) -> 42C | F37: =VLOOKUP($C:$C,집계표!$B$4:$J$119,5,0) -> m | G37: =VLOOKUP($C:$C,집계표!$B$4:$J$155,6,0) -> 0 | H37: =VLOOKUP($B:$B,일위대가목록!$A$3:$L$87,9,0) -> 0 | I37: =TRUNC(G37*H37) -> 0 | J37: =VLOOKUP($B:$B,일위대가목록!$A$3:$L$79,10,0) -> 0 | K37: =TRUNC(G37*J37) -> 0 | L37: 0 | M37: =TRUNC(G37*L37) -> 0 | N37: =I37+K37+M37 -> 0 | O37: ="[대가 "&VLOOKUP($B:$B,일위대가목록!$A$3:$L$81,4,0)&" 호표]" -> [대가 29 호표]
B38: 5001 | C38: 5001 | D38: =VLOOKUP($C:$C,집계표!$B$4:$J$155,3,0) -> 스피커 설치 | E38: =VLOOKUP($C:$C,집계표!$B$4:$J$155,4,0) -> 3W 천정형 | F38: =VLOOKUP($C:$C,집계표!$B$4:$J$119,5,0) -> 대 | G38: =VLOOKUP($C:$C,집계표!$B$4:$J$155,6,0) -> 0 | H38: =VLOOKUP($B:$B,일위대가목록!$A$3:$L$87,9,0) -> 0 | I38: =TRUNC(G38*H38) -> 0 | J38: =VLOOKUP($B:$B,일위대가목록!$A$3:$L$79,10,0) -> 0 | K38: =TRUNC(G38*J38) -> 0 | L38: 0 | M38: =TRUNC(G38*L38) -> 0 | N38: =I38+K38+M38 -> 0 | O38: ="[대가 "&VLOOKUP($B:$B,일위대가목록!$A$3:$L$81,4,0)&" 호표]" -> [대가 30 호표]
B39: 5002 | C39: 5002 | D39: =VLOOKUP($C:$C,집계표!$B$4:$J$155,3,0) -> 스피커 설치 | E39: =VLOOKUP($C:$C,집계표!$B$4:$J$155,4,0) -> 3W 벽부형 | F39: =VLOOKUP($C:$C,집계표!$B$4:$J$119,5,0) -> 대 | G39: =VLOOKUP($C:$C,집계표!$B$4:$J$155,6,0) -> 0 | H39: =VLOOKUP($B:$B,일위대가목록!$A$3:$L$87,9,0) -> 0 | I39: =TRUNC(G39*H39) -> 0 | J39: =VLOOKUP($B:$B,일위대가목록!$A$3:$L$79,10,0) -> 0 | K39: =TRUNC(G39*J39) -> 0 | L39: 0 | M39: =TRUNC(G39*L39) -> 0 | N39: =I39+K39+M39 -> 0 | O39: ="[대가 "&VLOOKUP($B:$B,일위대가목록!$A$3:$L$81,4,0)&" 호표]" -> [대가 31 호표]
B40: 5003 | C40: 5003 | D40: =VLOOKUP($C:$C,집계표!$B$4:$J$155,3,0) -> 스피커 설치 | E40: =VLOOKUP($C:$C,집계표!$B$4:$J$155,4,0) -> 20W 벽부형 | F40: =VLOOKUP($C:$C,집계표!$B$4:$J$119,5,0) -> 대 | G40: =VLOOKUP($C:$C,집계표!$B$4:$J$155,6,0) -> 0 | H40: =VLOOKUP($B:$B,일위대가목록!$A$3:$L$87,9,0) -> 0 | I40: =TRUNC(G40*H40) -> 0 | J40: =VLOOKUP($B:$B,일위대가목록!$A$3:$L$79,10,0) -> 0 | K40: =TRUNC(G40*J40) -> 0 | L40: 0 | M40: =TRUNC(G40*L40) -> 0 | N40: =I40+K40+M40 -> 0 | O40: ="[대가 "&VLOOKUP($B:$B,일위대가목록!$A$3:$L$81,4,0)&" 호표]" -> [대가 32 호표]
B41: 5004 | C41: 5004 | D41: =VLOOKUP($C:$C,집계표!$B$4:$J$155,3,0) -> 스피커 철거 | E41: =VLOOKUP($C:$C,집계표!$B$4:$J$155,4,0) -> 3W 천정형 | F41: =VLOOKUP($C:$C,집계표!$B$4:$J$119,5,0) -> 대 | G41: =VLOOKUP($C:$C,집계표!$B$4:$J$155,6,0) -> 0 | H41: =VLOOKUP($B:$B,일위대가목록!$A$3:$L$87,9,0) -> 0 | I41: =TRUNC(G41*H41) -> 0 | J41: =VLOOKUP($B:$B,일위대가목록!$A$3:$L$79,10,0) -> 0 | K41: =TRUNC(G41*J41) -> 0 | L41: 0 | M41: =TRUNC(G41*L41) -> 0 | N41: =I41+K41+M41 -> 0 | O41: ="[대가 "&VLOOKUP($B:$B,일위대가목록!$A$3:$L$81,4,0)&" 호표]" -> [대가 33 호표]
B42: 5005 | C42: 5005 | D42: =VLOOKUP($C:$C,집계표!$B$4:$J$155,3,0) -> 스피커 철거 | E42: =VLOOKUP($C:$C,집계표!$B$4:$J$155,4,0) -> 3W 벽부형 | F42: =VLOOKUP($C:$C,집계표!$B$4:$J$119,5,0) -> 대 | G42: =VLOOKUP($C:$C,집계표!$B$4:$J$155,6,0) -> 0 | H42: =VLOOKUP($B:$B,일위대가목록!$A$3:$L$87,9,0) -> 0 | I42: =TRUNC(G42*H42) -> 0 | J42: =VLOOKUP($B:$B,일위대가목록!$A$3:$L$79,10,0) -> 0 | K42: =TRUNC(G42*J42) -> 0 | L42: 0 | M42: =TRUNC(G42*L42) -> 0 | N42: =I42+K42+M42 -> 0 | O42: ="[대가 "&VLOOKUP($B:$B,일위대가목록!$A$3:$L$81,4,0)&" 호표]" -> [대가 34 호표]
B43: 5006 | C43: 5006 | D43: =VLOOKUP($C:$C,집계표!$B$4:$J$155,3,0) -> 스피커 철거 | E43: =VLOOKUP($C:$C,집계표!$B$4:$J$155,4,0) -> 20W 벽부형 | F43: =VLOOKUP($C:$C,집계표!$B$4:$J$119,5,0) -> 대 | G43: =VLOOKUP($C:$C,집계표!$B$4:$J$155,6,0) -> 0 | H43: =VLOOKUP($B:$B,일위대가목록!$A$3:$L$87,9,0) -> 0 | I43: =TRUNC(G43*H43) -> 0 | J43: =VLOOKUP($B:$B,일위대가목록!$A$3:$L$79,10,0) -> 0 | K43: =TRUNC(G43*J43) -> 0 | L43: 0 | M43: =TRUNC(G43*L43) -> 0 | N43: =I43+K43+M43 -> 0 | O43: ="[대가 "&VLOOKUP($B:$B,일위대가목록!$A$3:$L$81,4,0)&" 호표]" -> [대가 35 호표]
B44: 5007 | C44: 5007 | D44: =VLOOKUP($C:$C,집계표!$B$4:$J$155,3,0) -> 방송단자함 | E44: =VLOOKUP($C:$C,집계표!$B$4:$J$155,4,0) -> ST 20P | F44: =VLOOKUP($C:$C,집계표!$B$4:$J$119,5,0) -> 개 | G44: =VLOOKUP($C:$C,집계표!$B$4:$J$155,6,0) -> 0 | H44: =VLOOKUP($B:$B,일위대가목록!$A$3:$L$87,9,0) -> 0 | I44: =TRUNC(G44*H44) -> 0 | J44: =VLOOKUP($B:$B,일위대가목록!$A$3:$L$79,10,0) -> 0 | K44: =TRUNC(G44*J44) -> 0 | L44: 0 | M44: =TRUNC(G44*L44) -> 0 | N44: =I44+K44+M44 -> 0 | O44: ="[대가 "&VLOOKUP($B:$B,일위대가목록!$A$3:$L$81,4,0)&" 호표]" -> [대가 36 호표]
B45: 5008 | C45: 5008 | D45: =VLOOKUP($C:$C,집계표!$B$4:$J$155,3,0) -> 방송단자함 철거 | E45: =VLOOKUP($C:$C,집계표!$B$4:$J$155,4,0) -> SP 10P | F45: =VLOOKUP($C:$C,집계표!$B$4:$J$119,5,0) -> 개 | G45: =VLOOKUP($C:$C,집계표!$B$4:$J$155,6,0) -> 0 | H45: =VLOOKUP($B:$B,일위대가목록!$A$3:$L$87,9,0) -> 0 | I45: =TRUNC(G45*H45) -> 0 | J45: =VLOOKUP($B:$B,일위대가목록!$A$3:$L$79,10,0) -> 0 | K45: =TRUNC(G45*J45) -> 0 | L45: 0 | M45: =TRUNC(G45*L45) -> 0 | N45: =I45+K45+M45 -> 0 | O45: ="[대가 "&VLOOKUP($B:$B,일위대가목록!$A$3:$L$81,4,0)&" 호표]" -> [대가 37 호표]
... B50: 4018 | C50: 4018 | D50: =VLOOKUP($C:$C,집계표!$B$4:$J$155,3,0) -> Wireless Ant 철거 | E50: =VLOOKUP($C:$C,집계표!$B$4:$J$155,4,0) -> 900MHz | F50: =VLOOKUP($C:$C,집계표!$B$4:$J$119,5,0) -> EA | G50: =VLOOKUP($C:$C,집계표!$B$4:$J$155,6,0) -> 0 | H50: =VLOOKUP($B:$B,일위대가목록!$A$3:$L$87,9,0) -> 0 | I50: =TRUNC(G50*H50) -> 0 | J50: =VLOOKUP($B:$B,일위대가목록!$A$3:$L$79,10,0) -> 0 | K50: =TRUNC(G50*J50) -> 0 | L50: 0 | M50: =TRUNC(G50*L50) -> 0 | N50: =I50+K50+M50 -> 0 | O50: ="[대가 "&VLOOKUP($B:$B,일위대가목록!$A$3:$L$81,4,0)&" 호표]" -> [대가 39 호표]
D51: [소 계] | I51: =SUM(I34:I50) -> 0 | K51: =SUM(K34:K50) -> 0 | M51: =SUM(M7:M11) -> 0 | N51: =SUM(N34:N50) -> 0
D52: [합 계] | I52: =I32+I51 -> 0 | K52: =K32+K51 -> 0 | M52: =M51 -> 0 | N52: =N32+N51 -> 0

Sheet 일위대가
D1: 일 위 대 가 표 | P1: 1
D2: 번호 | E2: 공 종 명 | F2: 규 격 | G2: 단위 | H2: 수 량 | I2: 재 료 비 | K2: 노 무 비 | M2: 경 비 | O2: 비 고
C3: 집계/단가KEY | I3: 단 가 | J3: 금 액 | K3: 단 가 | L3: 금 액 | M3: 단 가 | N3: 금 액
B4: =D4&"항목" -> 1항목 | C4: 5 | D4: 1 | E4: 카메라 철거 | F4: 돔 | G4: 대 | O4: [통신 9-2-1-1]
T5: 1단위 | U5: 철거 | V5: 고소할증
Q6: =T6*U6*V6*W6*X6 -> 0.33 | T6: 1 | U6: 0.3 | V6: 1.1 | W6: 1 | X6: 1
D7: 노무 | E7: 카메라/돔(Dome)형 | F7: 통신설비공 | G7: 인 | O7: 철거30% | P7: =Q7*R7 -> 0.0594 | Q7: =Q6 -> 0.33 | R7: 0.18
F8: 특별인부 | G8: 인 | O8: 고소할증 10% | P8: =Q8*R8 -> 0.0594 | Q8: =Q7 -> 0.33 | R8: 0.18
D14: 손료 | E14: 공구손료 | F14: 노무비의 3% | G14: 식
B15: =D4&D15 -> 1계 | D15: 계
B16: =D16&"항목" -> 2항목 | C16: 6 | D16: =D4+1 -> 2 | E16: 카메라 철거 | F16: 뷸렛 | G16: 대 | O16: [통신 9-2-1-1]
T17: 1단위 | U17: 철거 | V17: 고소할증
Q18: =T18*U18*V18*W18*X18 -> 0.33 | T18: 1 | U18: 0.3 | V18: 1.1 | W18: 1 | X18: 1
D19: 노무 | E19: 카메라/일반형 | F19: 통신설비공 | G19: 인 | O19: 철거30% | P19: =Q19*R19 -> 0.0792 | Q19: =Q18 -> 0.33 | R19: 0.24
F20: 특별인부 | G20: 인 | O20: 고소할증 10% | P20: =Q20*R20 -> 0.0792 | Q20: =Q19 -> 0.33 | R20: 0.24
D26: 손료 | E26: 공구손료 | F26: 노무비의 3% | G26: 식
B27: =D16&D27 -> 2계 | D27: 계
B28: =D28&"항목" -> 3항목 | C28: 7 | D28: =D16+1 -> 3 | E28: 카메라 철거 | F28: PTZ | G28: 대 | O28: [통신 9-2-1-1]
T29: 1단위 | U29: 철거 | V29: 고소할증
Q30: =T30*U30*V30*W30*X30 -> 0.33 | T30: 1 | U30: 0.3 | V30: 1.1 | W30: 1 | X30: 1
D31: 노무 | E31: 카메라/PT일체형 | F31: 통신설비공 | G31: 인 | O31: 철거30% | P31: =Q31*R31 -> 0.1056 | Q31: =Q30 -> 0.33 | R31: 0.32
F32: 특별인부 | G32: 인 | O32: 고소할증 10% | P32: =Q32*R32 -> 0.1056 | Q32: =Q31 -> 0.33 | R32: 0.32
D37: 손료 | E37: 공구손료 | F37: 노무비의 3% | G37: 식
B38: =D28&D38 -> 3계 | D38: 계
B39: =D39&"항목" -> 4항목 | C39: 7 | D39: =D28+1 -> 4 | E39: NVR 철거 | F39: 32CH | G39: 대 | O39: [통신 9-2-1-1]
T40: 1단위 | U40: 철거 | V40: 고소할증
Q41: =T41*U41*V41*W41*X41 -> 0.3 | T41: 1 | U41: 0.3 | V41: 1 | W41: 1 | X41: 1
D42: 노무 | E42: 영상저장장치 | F42: 통신관련산업기사 | G42: 인 | O42: 철거30% | P42: =Q42*R42 -> 0.054 | Q42: =Q41 -> 0.3 | R42: 0.18
F43: 통신설비공 | G43: 인 | P43: =Q43*R43 -> 0.054 | Q43: =Q42 -> 0.3 | R43: 0.18
D48: 손료 | E48: 공구손료 | F48: 노무비의 3% | G48: 식
B49: =D39&D49 -> 4계 | D49: 계
B50: =D50&"항목" -> 5항목 | C50: 1 | D50: =D39+1 -> 5 | E50: 광 케이블 | F50: SM-8Core | G50: m | O50: [통신 4-1-1]
T51: 100M단위 | V51: 고소할증 | Y51: 품의할증
C52: 1 | D52: 재료 | E52: 광 케이블 | F52: SM-8Core | G52: m | Q52: =T52*U52*V52*W52*X52*Y52 -> 0.0088 | T52: 0.01 | U52: 1 | V52: 1.1 | W52: 1 | X52: 1 | Y52: 0.8
D53: 노무 | E53: 지중/인력견인포설 | F53: 광케이블설치사 | G53: 인 | O53: 고소할증 10% | P53: =Q53*R53 -> 0.008272 | Q53: =Q52 -> 0.0088 | R53: 0.94
F54: 보통인부 | G54: 인 | P54: =Q54*R54 -> 0.012408 | Q54: =Q53 -> 0.0088 | R54: 1.41
D55: 손료 | E55: 잡재료비 | F55: 배관배선의 2% | G55: 요율
D61: 손료 | E61: 공구손료 | F61: 노무비의 3% | G61: 식
B62: =D50&D62 -> 5계 | D62: 계
B63: =D63&"항목" -> 6항목 | C63: 2003 | D63: =D50+1 -> 6 | E63: UTP | F63: CAT6 4P(1조) | G63: m | O63: [통신 4-3-1]
...

Sheet 집계표
C1: 수 량 집 계 표
B2: 수량산출KEY | C2: 순번 | D2: 품 명 | E2: 규 격 | F2: 단위 | G2: 설계수량 | I2: 계 | J2: 비고
B4: 1 | D4: =공정산출!F4 -> 카메라설치 | E4: =공정산출!F5 -> 돔 | F4: 대 | J4: 관급자관급
B5: 2 | D5: =공정산출!G4 -> 카메라설치 | E5: =공정산출!G5 -> 뷰렛 | F5: 대 | J5: 관급자관급
B6: 3 | D6: =공정산출!H4 -> 카메라설치 | E6: =공정산출!H5 -> PTZ(실내) | F6: 대 | J6: 관급자관급
B7: 4 | D7: =공정산출!I4 -> 카메라철거 | E7: =공정산출!I5 -> 돔 | F7: 대
B8: 5 | D8: =공정산출!J4 -> 카메라철거 | E8: =공정산출!J5 -> 뷰렛 | F8: 대
B9: 6 | D9: =공정산출!K4 -> 카메라철거 | E9: =공정산출!K5 -> PTZ | F9: 대
B10: 1001 | D10: =공정산출!L4 -> 네트워크스위치 | E10: =공정산출!L5 -> CSI-G2404FPM, 28port) | F10: 대 | J10: 관급자관급
B11: 1002 | D11: =공정산출!M4 -> 네트워크스위치 | E11: =공정산출!M5 -> SFP모듈 | F11: 대 | J11: 관급자관급
B12: 1003 | D12: =공정산출!N4 -> NVR | E12: =공정산출!N5 -> 64CH | F12: 조 | J12: 관급자관급
B13: 1004 | D13: =공정산출!O4 -> NVR | E13: =공정산출!O5 -> 32CH | F13: 조 | J13: 관급자관급
B14: 1005 | D14: =공정산출!P4 -> 랙캐비닛용패널 | E14: =공정산출!P5 -> 키보드 선반 | F14: 개 | J14: 관급자관급
B15: 1006 | D15: =공정산출!Q4 -> 데스크톱컴퓨터 | E15: =공정산출!Q5 -> DT281-GD51E | F15: 대 | J15: 관급자관급
B16: 1007 | D16: =공정산출!R4 -> 액정모니터 | E16: =공정산출!R5 -> 6240V, 60.4cm | F16: 대 | J16: 관급자관급
B17: 1008 | D17: =공정산출!S4 -> 전원공급장치 | E17: =공정산출!S5 -> CPC-6008, 8채널 | F17: 대 | J17: 관급자관급
B18: 1009 | D18: =공정산출!T4 -> 하드디스크드라이브 | E18: =공정산출!T5 -> HDD 10TB, Western Digital | F18: 대 | J18: 관급자관급
B19: 1010 | D19: =공정산출!U4 -> 광점퍼코드 | E19: =공정산출!U5 -> SM-3 ST | F19: 개 | J19: 관급자관급
B20: 1011 | D20: =공정산출!V4 -> 광분배함 | E20: =공정산출!V5 -> 4C | F20: 개 | J20: 관급자관급
B21: 1012 | D21: =공정산출!W4 -> 정보통신공사 | E21: =공정산출!W5 -> 광케이블보통12코어이하접속 | F21: 식 | J21: 관급자관급
B22: 1013 | D22: =공정산출!X4 -> 정보통신공사 | E22: =공정산출!X5 -> 종합시험 | F22: 식 | J22: 관급자관급
B23: 1014 | D23: =공정산출!Y4 -> 카메라브래킷 | E23: =공정산출!Y5 -> 스피드돔 벽부형 | F23: 개 | J23: 관급자관급
B24: 1015 | D24: =공정산출!Z4 -> 카메라브래킷 | E24: =공정산출!Z5 -> 벽부형 | F24: 개 | J24: 관급자관급
B25: 1016 | D25: =공정산출!AA4 -> 컴퓨터및주변기기설치 | E25: =공정산출!AA5 -> 포장해체, PC설치, 주변기기연결, 기본S/W설치, 환경설정 및 작동상태확인 | F25: 개 | J25: 관급자관급
A26: I | B26: 1017 | D26: =공정산출!AB4 -> 운영체제 | E26: =공정산출!AB5 -> Microsoft, Windows 11 Pro | F26: 조 | J26: 관급자관급
B27: 1018 | D27: =공정산출!AC4 -> 영상정보디스플레이장치 | E27: =공정산출!AC5 -> (ID)75QNED85AKS, mini LED 4K, 189cm | F27: 대 | J27: 관급자관급
B28: 1019 | D28: =공정산출!AD4 -> 텔레비전거치대 | E28: =공정산출!AD5 -> WB24GCA, 450×19×440mm, 벽걸이형 | F28: 대 | J28: 관급자관급
B29: 1020 | D29: =공정산출!AE4 -> PoE함체 | E29: =공정산출!AE5 -> 500*600*200 | F29: 개
B30: 1021 | D30: =공정산출!AF4 -> PoE함체 철거 | E30: =공정산출!AF5 -> 400*500*200 | F30: 개
B31: 2001 | D31: =공정산출!AH4 -> 광 케이블 | E31: =공정산출!AH5 -> SM-8Core | F31: m
B32: 2002 | D32: =공정산출!AI4 -> UTP | E32: =공정산출!AI5 -> CAT6 4P(1조) | F32: m
B33: 2003 | D33: =공정산출!AJ4 -> UTP | E33: =공정산출!AJ5 -> CAT6 4P(2조) | F33: m
B34: 2004 | D34: =공정산출!AK4 -> UTP | E34: =공정산출!AK5 -> CAT6 4P(3조) | F34: m
B35: 2005 | D35: =공정산출!AL4 -> UTP | E35: =공정산출!AL5 -> CAT6 4P(4조) | F35: m
B36: 2006 | D36: =공정산출!AM4 -> UTP | E36: =공정산출!AM5 -> CAT6 4P(6조) | F36: m
B37: 2007 | D37: =공정산출!AN4 -> UTP | E37: =공정산출!AN5 -> CAT6 4P(7조) | F37: m
B38: 2008 | D38: =공정산출!AO4 -> UTP | E38: =공정산출!AO5 -> CAT6 4P(9조) | F38: m
B39: 2009 | D39: =공정산출!AP4 -> UTP 철거 | E39: =공정산출!AP5 -> CAT5 | F39: m
B40: 2014 | D40: =공정산출!AR4 -> 빙상장 스피커 케이블 | E40: =공정산출!AR5 -> F-FR-8 2C-4㎟ | F40: m
B41: 2015 | D41: =공정산출!AS4 -> 빙상장 스피커 케이블 철거 | E41: =공정산출!AT5 -> 난연 16C | F41: m
...

Sheet 공정산출
F2: 1 | G2: 2 | H2: 3 | I2: 4 | J2: 5 | K2: 6 | L2: 1001 | M2: 1002 | N2: 1003 | O2: 1004 | P2: 1005 | Q2: 1006 | R2: 1007 | S2: 1008 | T2: 1009 | U2: 1010 | V2: 1011 | W2: 1012 | X2: 1013 | Y2: 1014 | Z2: 1015 | AA2: 1016 | AB2: 1017 | AC2: 1018 | AD2: 1019 | AE2: 1020 | AF2: 1021 | AG2: 1022 | AH2: 2001 | AI2: 2002 | AJ2: 2003 | AK2: 2004 | AL2: 2005 | AM2: 2006 | AN2: 2007 | AO2: 2008 | AP2: 2009 | AQ2: 2010 | AR2: 2014 | AS2: 2015 | AT2: 3001 | AU2: 3002 | AV2: 3003 | AW2: 3004 | AX2: 3005 | AY2: 3006 | AZ2: 3007 | BA2: 3008 | BB2: 3009 | BC2: 3010 | BD2: 3011 | BE2: 3012 | BF2: 3013 | BG2: 3014 | BH2: 3015 | BI2: 3016 | BJ2: 3017 | BK2: 3018 | BL2: 4001 | BM2: 4002 | BN2: 4003 | BO2: 4004 | BP2: 4005 | BQ2: 4006 | BR2: 4007 | BS2: 4008 | BT2: 4009 | BU2: 4010 | BV2: 4011 | BW2: 4012 | BX2: 4013 | BY2: 4014 | BZ2: 4015 | CA2: 4016 | CB2: 4017 | CC2: 4018 | CD2: 4019 | CE2: 5001 | CF2: 5002 | CG2: 5003 | CH2: 5004 | CI2: 5005 | CJ2: 5006 | CK2: 5007 | CL2: 5008 | CM2: 5009 | CN2: 5010 | CO2: 5011 | CP2: 5012 | CQ2: 5013 | CR2: 5014 | CS2: 5015 | CT2: 5016
A3: 순번 | B3: 층 구분 | C3: 시점 (인출점) | D3: ~ | E3: 종점 (위치) | F3: 카메라 | L3: 네트워크 설비 | V3: 네트워크 설비 | AH3: 케이블 설비 | AK3: 케이블 설비 | AT3: 배관 설비 | AX3: 배관 설비 | BL3: 빙상장 방송기기 시스템 | BQ3: 빙상장 방송기기 시스템 | CA3: 빙상장 방송기기 시스템 | CE3: 전관 방송기기 시스템 | CK3: 전관 방송기기 시스템
F4: 카메라설치 | G4: 카메라설치 | H4: 카메라설치 | I4: 카메라철거 | J4: 카메라철거 | K4: 카메라철거 | L4: 네트워크스위치 | M4: 네트워크스위치 | N4: NVR | O4: NVR | P4: 랙캐비닛용패널 | Q4: 데스크톱컴퓨터 | R4: 액정모니터 | S4: 전원공급장치 | T4: 하드디스크드라이브 | U4: 광점퍼코드 | V4: 광분배함 | W4: 정보통신공사 | X4: 정보통신공사 | Y4: 카메라브래킷 | Z4: 카메라브래킷 | AA4: 컴퓨터및주변기기설치 | AB4: 운영체제 | AC4: 영상정보디스플레이장치 | AD4: 텔레비전거치대 | AE4: PoE함체 | AF4: PoE함체 철거 | AG4: NVR 철거 | AH4: 광 케이블 | AI4: UTP | AJ4: UTP | AK4: UTP | AL4: UTP | AM4: UTP | AN4: UTP | AO4: UTP | AP4: UTP 철거 | AQ4: PTZ전력 케이블 | AR4: 빙상장 스피커 케이블 | AS4: 빙상장 스피커 케이블 철거 | AT4: CD관 | AU4: CD관 | AV4: CD관 | AW4: ST관 | AX4: ST관 | AY4: GW관 | AZ4: GW관 | BA4: 풀박스 | BB4: 풀박스 | BC4: CD관 철거 | BD4: CD관 철거 | BE4: CD관 철거 | BF4: ST관 철거 | BG4: ST관 철거 | BH4: GW관 철거 | BI4: GW관 철거 | BJ4: ST관 | BK4: ST관 | BL4: 방송기기 시스템 | BM4: POWER SUPPLY | BN4: WIRELESS RECEIVER | BO4: WIRELESS HAND MIC | BP4: WIRELESS ANT DISTRIBUTOR | BQ4: CHIME & SIREN | BR4: EVENT PLAYER | BS4: PROCESSOR | BT4: 중계실 모니터 SPEAKER | BU4: 빙상장 AMP | BV4: 빙상장 SPEAKER | BW4: 관람석 AMP | BX4: 관람석 SPEAKER | BY4: SPEAKER BRACKET | BZ4: RACK CABINET | CA4: AUDIO MIXER STAND | CB4: MIC JACK PLATE 철거 | CC4: Wireless Ant 철거 | CD4: 빙상장 AMP | CE4: 스피커 설치 | CF4: 스피커 설치 | CG4: 스피커 설치 | CH4: 스피커 철거 | CI4: 스피커 철거 | CJ4: 스피커 철거 | CK4: 방송단자함 | CL4: 방송단자함 철거 | CM4: 19"RACK 철거 | CN4: SATELLITE SPEAKER 철거 | CO4: CENTER CLUSTER SPEAKER 철거 | CP4: 방송기기 시스템 | CQ4: TTS SOFTWARE | CR4: POWER AMP | CS4: DIGITAL REMOTE CONTROLLER | CT4: 관람석 PA SPEAKER
F5: 돔 | G5: 뷰렛 | H5: PTZ(실내) | I5: 돔 | J5: 뷰렛 | K5: PTZ | L5: CSI-G2404FPM, 28port) | M5: SFP모듈 | N5: 64CH | O5: 32CH | P5: 키보드 선반 | Q5: DT281-GD51E | R5: 6240V, 60.4cm | S5: CPC-6008, 8채널 | T5: HDD 10TB, Western Digital | U5: SM-3 ST | V5: 4C | W5: 광케이블보통12코어이하접속 | X5: 종합시험 | Y5: 스피드돔 벽부형 | Z5: 벽부형 | AA5: 포장해체, PC설치, 주변기기연결, 기본S/W설치, 환경설정 및 작동상태확인 | AB5: Microsoft, Windows 11 Pro | AC5: (ID)75QNED85AKS, mini LED 4K, 189cm | AD5: WB24GCA, 450×19×440mm, 벽걸이형 | AE5: 500*600*200 | AF5: 400*500*200 | AG5: 32CH | AH5: SM-8Core | AI5: CAT6 4P(1조) | AJ5: CAT6 4P(2조) | AK5: CAT6 4P(3조) | AL5: CAT6 4P(4조) | AM5: CAT6 4P(6조) | AN5: CAT6 4P(7조) | AO5: CAT6 4P(9조) | AP5: CAT5 | AQ5: HFCO(0.6/1kV 3C-1.5㎟) | AR5: F-FR-8 2C-4㎟ | AS5: F-FR-8 2C-3.5㎟ *4 | AT5: 난연 16C | AU5: 난연 28C | AV5: 난연 36C | AW5: 16C | AX5: 22C | AY5: 방수 16C | AZ5: 방수 22C | BA5: 100*100*100 | BB5: 200*200*100 | BC5: 난연 16C | BD5: 난연 22C | BE5: 난연 28C | BF5: 16C | BG5: 22C | BH5: 방수 16C | BI5: 방수 22C | BJ5: 28C | BK5: 42C | BL5: LB-AV297 | BM5: 8CH, 순차전원 | BN5: 900MHz, 2CH | BO5: 900MHz | BP5: 900MHz | BQ5: 4음계 | BR5: 음원재생 | BS5: 4IN8OUT | BT5: 70W, POWERD | BU5: 450W x 2CH | BV5: 300W, IP55 | BW5: 300W x 2CH | BX5: 150W, IP55 | BY5: STEEL(중), FLYING | BZ5: 33H | CA5: MIXER 전용 | CB5: 2ch | CC5: 900MHz | CD5: 600W x 2CH (bridge) | CE5: 3W 천정형 | CF5: 3W 벽부형 | CG5: 20W 벽부형 | CH5: 3W 천정형 | CI5: 3W 벽부형 | CJ5: 20W 벽부형 | CK5: ST 20P | CL5: SP 10P | CM5: H:1600 | CN5: 120W | CO5: 300W | CP5: LB-P012 | CQ5: 2화자 | CR5: 240W | CS5: 32CH, DC24V, CAN통신 | CT5: 60W, WALL
B6: 실내빙상장 보수공사 | F6: =SUM(F7:F80) -> 0 | G6: =SUM(G7:G80) -> 0 | H6: =SUM(H7:H80) -> 0 | I6: =SUM(I7:I80) -> 0 | J6: =SUM(J7:J80) -> 0 | K6: =SUM(K7:K80) -> 0 | L6: =SUM(L7:L80) -> 0 | M6: =SUM(M7:M80) -> 0 | ... AO6: =SUM(AO7:AO80) -> 0 | AP6: =AI6+AJ6+AK6+AL6+AM6+AN6 -> 0 | AQ6: =SUM(AQ7:AQ79) -> 0 | AR6: =SUM(AR7:AR80) -> 0 | AS6: =SUM(AS7:AS80) -> 0 | AT6: =SUM(AT7:AT80) -> 0 | AU6: =SUM(AU7:AU80) -> 0 | AV6: =SUM(AV7:AV80) -> 0 | AW6: =SUM(AW7:AW80) -> 0 | AX6: =SUM(AX7:AX80) -> 0 | AY6: =SUM(AY7:AY80) -> 0 | ... CT6: =SUM(CT7:CT80) -> 0
A7: 1 | B7: 지하1층 | C7: C-40 (교체후신설) | E7: POE#1(교체후신설)
A8: 2 | C8: S7 | D8: ~ | E8: PIT 스피커단자함
A9: 3 | B9: PIT | C9: S7 | D9: ~ | E9: PIT 단자함
A10: 4 | B10: 지상1층 | E10: 지상1층
A11: 5 | C11: C-01 (교체후신설) | D11: ~ | E11: POE#1(교체후신설)
A12: 6 | C12: C-02 (신설) | D12: ~ | E12: POE#1(신설)
A13: 7 | C13: C-03 (신설) | D13: ~ | E13: POE#1(신설)
A14: 8 | C14: C-04 (신설) | D14: ~ | E14: POE#1(신설)
A15: 9 | C15: C-05 (신설) | D15: ~ | E15: POE#1(신설)
A16: 10 | C16: C-06 (교체후신설) | D16: ~ | E16: POE#1(교체후신설)
A17: 11 | C17: C-07 (신설) | D17: ~ | E17: POE#1(신설)
A18: 12 | C18: C-08 (신설) | D18: ~ | E18: POE#1(신설)
A19: 13 | C19: C-09 (신설) | D19: ~ | E19: POE#2(신설)
A20: 14 | C20: C-10 (신설) | D20: ~ | E20: POE#2(신설)
A21: 15 | C21: C-11 (신설) | D21: ~ | E21: POE#1(신설)
A22: 16 | C22: C-12 (신설) | D22: ~ | E22: POE#1(신설)
... A29: 23 | C29: C-19 (교체후신설) | D29: ~ | E29: POE#2,3(교체후신설)
A30: 24 | B30: 지상1층 | C30: C-20 (교체후신설) | D30: ~ | E30: POE#2,3(교체후신설)
A31: 25 | C31: C-21 (교체후신설) | D31: ~ | E31: POE#2,3(교체후신설)
A32: 26 | C32: C-22 (교체후신설) | D32: ~ | E32: POE#2,3(교체후신설)
A33: 27 | C33: C-23 (교체후신설) | D33: ~ | E33: POE#2,3(교체후신설)
A34: 28 | C34: C-24 (교체후신설) | D34: ~ | E34: POE#2,3(교체후신설)
A35: 29 | C35: C-25 (신설) | D35: ~ | E35: POE#2,3(신설)
A36: 30 | C36: C-26 (교체후신설) | D36: ~ | E36: POE#2,3(교체후신설)
A37: 31 | C37: C-27 (교체후신설) | D37: ~ | E37: POE#2,3(교체후신설)
A38: 32 | C38: C-28 (신설) | D38: ~ | E38: POE#2,3(신설)
A39: 33 | C39: C-29 (교체후신설) | D39: ~ | E39: POE#2,3(교체후신설)
A40: 34 | C40: C-30 (신설) | D40: ~ | E40: POE#2,3(신설)
A41: 35 | C41: C-31 (교체후신설) | D41: ~ | E41: POE#2,3(교체후신설)
A42: 36 | C42: C-53 (신설) | D42: ~ | E42: POE#2,3(신설)
... A44: 38 | C44: C-55 (신설) | D44: ~ | E44: POE#2,3(신설)
A45: 39 | C45: C-56 (신설) | E45: POE#2,3(신설)
A46: 40 | C46: S2 | D46: ~ | E46: 운영실 단자함
A47: 41 | C47: S3 | D47: ~ | E47: 운영실 단자함
A48: 42 | C48: S3 | D48: ~ | E48: 운영실 단자함
...

Sheet 단가 조사표
B1: 단가조사표(단가조사 정보기준 : 2026년07월)
B2: 품 명 | C2: 규 격 | D2: 단위 | E2: 물가자료 | G2: 물가정보 | I2: 거래가격 | K2: 조달물자 | M2: 적용가격 | N2: 비고
E3: 금 액 | F3: Page | G3: 금 액 | H3: Page | I3: 금액 | J3: page | K3: 금액 | L3: 물품식별번호
A4: 1 | B4: 광 케이블 | C4: SM-8Core | D4: m | M4: =MIN(E4,G4,I4,K4) -> 0
A5: 2 | B5: UTP | C5: CAT6 4P | D5: m | M5: =MIN(E5,G5,I5,K5) -> 0
A6: 3 | B6: CD관 | C6: 난연 16C | D6: m | M6: =MIN(E6,G6,I6,K6) -> 0
A7: 4 | B7: CD관 | C7: 난연 28C | D7: m | M7: =MIN(E7,G7,I7,K7) -> 0
A8: 5 | B8: CD관 | C8: 난연 36C | D8: m | M8: =MIN(E8,G8,I8,K8) -> 0
A9: 6 | B9: ST관 | C9: 16C | D9: m | M9: =MIN(E9,G9,I9,K9) -> 0
A10: 7 | B10: ST관 | C10: 22C | D10: m | M10: =MIN(E10,G10,I10,K10) -> 0
A11: 8 | B11: ST관 | C11: 28C | D11: m | M11: =MIN(E11,G11,I11,K11) -> 0
A12: 9 | B12: ST관 | C12: 42C | D12: m | M12: =MIN(E12,G12,I12,K12) -> 0
A13: 10 | B13: 풀박스 | C13: 100*100*100 | D13: 개 | M13: =MIN(E13,G13,I13,K13) -> 0
A14: 11 | B14: 풀박스 | C14: 200*200*100 | D14: 개 | M14: =MIN(E14,G14,I14,K14) -> 0
A15: 12 | B15: 저독성난연케이블 | C15: 0.6/1kV 3C-1.5㎟ | D15: m | M15: =MIN(E15,G15,I15,K15) -> 0
... A23: 20 | B23: 스피커케이블 | C23: F-FR-8 2C-4㎟ | D23: m | M23: =MIN(E23,G23,I23,K23) -> 0

Sheet 관급자재조서
A1: 관급자재 조서
A2: [관급자관급]
A3: 순번 | B3: 품명 | C3: 규격 | D3: 단위 | E3: 수량 | F3: 단가 | G3: 금액 | H3: 조달번호 | I3: 옵션 | J3: 비 고 | K3: 제조사 | L3: 구분
A4: Ⅰ. 카메라 부분
A5: 1 | B5: 영상감시장치 | C5: 실내 돔카메라, Sentry NVR-1074 | D5: 대 | J5: 우수조달제품,현장설치도 | K5: 시큐인포 | L5: MAS
A6: 2 | B6: 보안용카메라 | C6: 실내 돔카메라, CSI-681IRD, 9.07mmCMOS | D6: 대 | J6: 다수공급자,현장설치도 | K6: 씨에스엔아이 | L6: MAS
A7: 3 | B7: 보안용카메라 | C7: 옥외 블렛카메라, CSI-682IRB, 9.07mmCMOS | D7: 대 | J7: 다수공급자,현장설치도 | K7: 씨에스엔아이 | L7: MAS
A8: 4 | B8: 보안용카메라 | C8: 스피드돔 카메라, CSI-673PTZ, 12.7mmCMOS | D8: 대 | J8: 다수공급자,현장설치도 | K8: 씨에스엔아이 | L8: MAS
A9: 5 | B9: 네트워크스위치 | C9: CSI-G2404FPM, 28port | D9: 대 | J9: 다수공급자,현장설치도 | K9: 씨에스엔아이 | L9: MAS
A10: 6 | B10: 네트워크스위치 | C10: CSI-LXWA, (부품)SFP모듈 | D10: 대 | J10: 다수공급자,현장설치도 | K10: 씨에스엔아이 | L10: MAS
A11: 7 | B11: 영상감시장치 | C11: NVR 64CH, BSCSI-NVR64MT(CSI-NVR64) | D11: 조 | J11: 다수공급자,현장설치도 | K11: 씨에스엔아이 | L11: MAS
A12: 8 | B12: 영상감시장치 | C12: NVR 32CH, BSCSI-NVR32MT(CSI-NVR32) | D12: 조 | J12: 다수공급자,현장설치도 | K12: 씨에스엔아이 | L12: MAS
A13: 9 | B13: 랙캐비닛용패널 | C13: 키보드 선반, IMP-KRS-2000, 2U | D13: 개 | J13: 다수공급자,납품장소도 | K13: 아이엠피 | L13: MAS
A14: 10 | B14: 데스크톱컴퓨터 | C14: DT281-GD51E-004, Intel Core Ultra 5235(3.4GHz), 5060 D7 8GB | D14: 대 | J14: 다수공급자,현장설치도 | K14: 삼보컴퓨터 | L14: MAS
A15: 11 | B15: 액정모니터 | C15: 삼보컴퓨터, (CN)6240V, 60.4cm | D15: 대 | J15: 다수공급자,현장설치도 | K15: 삼보컴퓨터 | L15: MAS
A17: Ⅱ. 카메라 부분 물품설치 부속 자재(옵션)
A18: 12 | B18: 전원공급장치 | C18: 이레씨즈, CPC-6008, 8채널 | D18: 대 | J18: 우수조달제품, 현장설치도 추가선택(주품목 24510541) | K18: 시큐인포 | L18: MAS
A19: 13 | B19: 하드디스크드라이브 | C19: HDD 10TB, Western Digital, (TH)DCHC510(HUH721010ALE600) | D19: 대 | J19: 우수조달제품, 현장설치도 선택부품(주품목 24510541) | K19: 시큐인포 | L19: MAS
A20: 14 | B20: 광점퍼코드 | C20: 광점퍼코드, SM-3 ST | D20: 개 | J20: 다수공급자, 현장설치도 추가선택(주품목 25416328) | K20: 다인정보 | L20: MAS
A21: 15 | B21: 광분배함 | C21: 광분배함, 4C | D21: 개 | J21: 다수공급자, 현장설치도 추가선택(주품목 25416328) | K21: 다인정보 | L21: MAS
A22: 16 | B22: 정보통신공사 | C22: 광케이블보통12코어이하접속 | D22: 식 | J22: 다수공급자, 현장설치도 추가선택(주품목 25416328) | K22: 다인정보 | L22: MAS
A23: 17 | B23: 정보통신공사 | C23: 종합시험 | D23: 식 | J23: 다수공급자, 현장설치도 추가선택(주품목 25416328) | K23: 다인정보 | L23: MAS
A24: 18 | B24: 카메라브래킷 | C24: 스피드돔 벽부형(알루미늄 다이케스팅) | D24: 개 | J24: 다수공급자, 현장설치도 추가선택(주품목 25416328) | K24: 다인정보 | L24: MAS
A25: 19 | B25: 카메라브래킷 | C25: 벽부형(steel) | D25: 개 | J25: 다수공급자, 현장설치도 추가선택(주품목 25416328) | K25: 다인정보 | L25: MAS
A26: 20 | B26: 컴퓨터및주변기기설치 | C26: 포장해체, PC설치, 주변기기연결, 기본S/W설치, 환경설정 및 작동상태확인 | D26: 개 | J26: 다수공급자, 납품장소도 추가선택(주품목 26063775) | K26: 삼보컴퓨터 | L26: MAS
A27: 21 | B27: 운영체제 | C27: Microsoft, Windows 11 Pro | D27: 조 | J27: 다수공급자, 납품장소도 추가선택(주품목 26063775) | K27: 삼보컴퓨터 | L27: MAS
A28: 22 | B28: 영상정보디스플레이장치 | C28: (ID)75QNED85AKS, mini LED 4K, 189cm | D28: 대 | J28: 다수공급자, 현장설치도 | K28: 시큐인포 | L28: MAS
A29: 23 | B29: 텔레비전거치대 | C29: WB24GCA, 450×19×440mm, 벽걸이형 | D29: 대 | J29: 다수공급자, 현장설치도 추가선택(주품목 25510521) | K29: 시큐인포 | L29: MAS
A32: Ⅲ. 빙상장방송 부분
A33: 24 | B33: 실내빙상장 방송기기 시스템 | C33: LB-AV299 | D33: 식 | J33: 조달우수제품 | K33: 엘앤비기술 | L33: MAS
B34: ▣세부내역▣
B35: DIGITAL POWER SUPPLY | C35: 전력제어형, 10CH | D35: EA
B36: WIRELESS RECEIVER | C36: 900MHz, 2CH | D36: EA
B37: WIRELESS HAND MIC | C37: 900MHz | D37: EA
B38: WIRELESS ANTENNA | C38: 900MHz | D38: EA
B39: CD PLAYER | C39: 1CD,USB | D39: EA
B40: DIGITAL CAN DATA CONTROLLER | C40: CAN통신,4CH,우선순위제어 | D40: EA
B41: AUDIO MIXER | C41: 16CH | D41: EA
B42: PROCESSOR | C42: 4IN8OUT | D42: EA
B43: AMP | C43: 450W x 2CH | D43: EA
...

Sheet 산업안전보건관리비(관급)
A1: 산 업 안 전 보 건 관 리 비
B3: 1. 보안용카메라 및 영상감시장치 구매설치 - 본 품
C4: 조달청 다수공급자계약 물품 산업안전보건관리비 계상방안
D5: * 완제품 형태로 제작 또는 납품되어 철치되는 경우 : 다음 ①과 ② 중 작은금액 이상으로 계상
E6: ① (총납품요구금액 ×70%) × 요율
E7: ( | H7: x 70% | I7: ) | J7: x 2.07% | K7: = | L7: 1028500
E8: ② [{(총납품요구금액 –완제품 가액) ×70%} × 요율 ] x 1.2
E9: [{( | G9: - | I9: ) | J9: x 70%} | K9: x 2.07% ] x 1.2 | N9: =
D10: => 적용 금액
G11: 원

Sheet 노임
A1: 노 임 단 가 표(2026년 하반기)
A4: 직종번호 | B4: 직종명 | C4: 노임(원) | D4: 비고 | I4: 2026.9.1 | J4: 2026.1.1 | K4: 2025.9.1 | L4: 2025.1.1
A5: 1002 | B5: =VLOOKUP(A5,$G$5:$I$999,2,0) -> 보통인부 | G5: 1001 | H5: 작업반장 | I5: 218316 | J5: 215907 | K5: 214661 | L5: 213033
A6: 1003 | B6: =VLOOKUP(A6,$G$5:$I$999,2,0) -> 특별인부 | G6: 1002 | H6: 보통인부 | I6: 172698 | J6: 172068 | K6: 171037 | L6: 169804
A7: 1086 | B7: =VLOOKUP(A7,$G$5:$I$999,2,0) -> 통신내선공 | G7: 1003 | H7: 특별인부 | I7: 228717 | J7: 226122 | K7: 224490 | L7: 221506
A8: 1087 | B8: =VLOOKUP(A8,$G$5:$I$999,2,0) -> 통신설비공 | G8: 1004 | H8: 조력공 | I8: 181496 | J8: 179028 | K8: 179958 | L8: 180331
A9: 1089 | B9: =VLOOKUP(A9,$G$5:$I$999,2,0) -> 통신케이블공 | G9: 1005 | H9: 제도사 | I9: 242423 | J9: 237324 | K9: 239200 | L9: 232099
A10: 2001 | B10: =VLOOKUP(A10,$G$5:$I$999,2,0) -> 광케이블설치사 | G10: 1006 | H10: 비계공 | I10: 284440 | J10: 281939 | K10: 279613 | L10: 279433
A11: 5002 | B11: =VLOOKUP(A11,$G$5:$I$999,2,0) -> 통신관련산업기사 | G11: 1007 | H11: 형틀목공 | I11: 275379 | J11: 275790 | K11: 273074 | L11: 272831
G12: 1008 | H12: 철근공 | I12: 268932 | J12: 268187 | K12: 265818 | L12: 264104
G13: 1009 | H13: 철공 | I13: 243870 | J13: 239808 | K13: 237686 | L13: 237754
G14: 1010 | H14: 철판공 | I14: 220901 | J14: 221481 | K14: 219862 | L14: 219236
G15: 1011 | H15: 철골공 | I15: 255172 | J15: 252641 | K15: 251511 | L15: 250239
G16: 1012 | H16: 용접공 | I16: 286330 | J16: 282536 | K16: 280178 | L16: 278326
G17: 1013 | H17: 콘크리트공 | I17: 276285 | J17: 273540 | K17: 271064 | L17: 266361
G18: 1014 | H18: 보링공 | I18: 233503 | J18: 232562 | K18: 226520 | L18: 225273
G19: 1015 | H19: 착암공 | I19: 223246 | J19: 222306 | K19: 220354 | L19: 220081
G20: 1016 | H20: 화약취급공 | I20: 270444 | J20: 272448 | K20: 261462 | L20: 258751
G21: 1017 | H21: 할석공 | I21: 246224 | J21: 241932 | K21: 240163 | L21: 236986
G22: 1018 | H22: 포설공 | I22: 221306 | J22: 221015 | K22: 219579 | L22: 216121
G23: 1019 | H23: 포장공 | I23: 274873 | J23: 273308 | K23: 270747 | L23: 267989
... G35: 1031 | H35: 도배공 | I35: 229833 | J35: 227614 | K35: 226042 | L35: 222618
G36: 1032 | H36: 연마공 | I36: 208207 | J36: - | K36: 210772 | L36: -
G37: 1033 | H37: 석공 | I37: 270694 | J37: 268908 | K37: 267532 | L37: 266246
G38: 1034 | H38: 줄눈공 | I38: 212390 | J38: 211653 | K38: 207796 | L38: 202696
G39: 1035 | H39: 판넬조립공 | I39: 246986 | J39: 243121 | K39: 240735 | L39: 237854
G40: 1036 | H40: 지붕잇기공 | I40: - | J40: 233250 | K40: 229958 | L40: 224113
G41: 1037 | H41: 벌목부 | I41: 257444 | J41: 253243 | K41: 248140 | L41: 248681
G42: 1038 | H42: 조경공 | I42: 235843 | J42: 235204 | K42: 227176 | L42: 224132
G43: 1039 | H43: 배관공 | I43: 249073 | J43: 247897 | K43: 239439 | L43: 238145
G44: 1040 | H44: 배관공(수도) | I44: 260673 | J44: 262580 | K44: 257390 | L44: 250572
G45: 1041 | H45: 보일러공 | I45: 240647 | J45: 240120 | K45: - | L45: 233255
G46: 1042 | H46: 위생공 | I46: 221435 | J46: 218908 | K46: 220650 | L46: 219040
G47: 1043 | H47: 덕트공 | I47: 208140 | J47: 202472 | K47: 205696 | L47: 201482
G48: 1044 | H48: 보온공 | I48: 222151 | J48: 217012 | K48: 214975 | L48: 213722
G49: 1045 | H49: 인력운반공 | I49: 183687 | J49: 180193 | K49: 181753 | L49: 180404
G50: 1046 | H50: 궤도공 | I50: 220821 | J50: 218933 | K50: - | L50: -
G51: 1047 | H51: 건설기계조장 | I51: - | J51: 210909 | K51: - | L51: 202954
G52: 1048 | H52: 건설기계운전사 | I52: 283323 | J52: 283297 | K52: 279824 | L52: 273971
G53: 1049 | H53: 화물차운전사 | I53: 240042 | J53: 238936 | K53: 240685 | L53: 237500
...

Sheet 건축제비율
B2: ※ 적용시기 : 2026. 04. 13. 입찰공고분부터 | AL2: 2026년 건축∙산업환경설비공사 원가계산 간접공사비(제비율) 적용기준 (참고: 간접노무비율, 기타경비율, 일반관리비율, 이윤율, 공사이행보증수수료율은 조달청 분석요율임)
AC3: [간접노무비] | AL3: [기타경비] | BE3: [일반관리비] | BR3: [이윤] | BY3: [건설기계대여대금 지급보증액 발급금액] | DJ3: [산업안전보건관리비]
B7: 공사규모 | M7: 공사기간 | AC7: (직노) x 율 | AL7: (재+노) x 율 | AU7: 공사규모 | BE7: (재+노+경) x 율 | BR7: (노+경+일) x 율 | BY7: (직접공사비) x 율 | DJ7: □ 도급자관급 미포함 공사 | EA7: (재+직노) x 율 + 기초액
B9: (직접공사비) | AC9: 건축 | AH9: 산업 설비 (건축) | AL9: 건축 | AQ9: 산업 설비 (건축) | AU9: (추정가격) | BE9: 건축, 산업설비(건축) | BK9: 전문· 전기·통신· 소방·기타
BY11: 종합건설업 | CM11: 전문건설업 | DJ11: □ 도급자관급 포함 공사 | EA11: (재+직노+도급자관급) x 요율주2) + 기초액과
EA13: [(재+직노) x 요율주3) + 기초액] x 1.2 중에 작은 금액
B15: 10억 미만 | M15: 6개월 이하 (183일) | AC15: 17.5 | AH15: =AC15 -> 17.5 | AL15: 5 | AQ15: =AL15 -> 5 | AU15: 5억 미만 | BE15: 8 | BK15: 8 | BR15: 15 | BY15: 구분 | CH15: 요율 | CM15: 구분 | DD15: 요율 | DJ15: 산업안전보건관리비 대상액주1) | EA15: 구분 | ER15: 요율 | EZ15: 기초액(천원)
M17: 7~12개월 (365일) | AC17: 17.9 | AH17: =AC17 -> 17.9 | AL17: 5.2 | AQ17: =AL17 -> 5.2
M19: 13~36개월 (1095일) | AC19: 18.2 | AH19: =AC19 -> 18.2 | AL19: 5.5 | AQ19: =AL19 -> 5.5 | BY19: 건축공사 | CH19: 0.07 | CM19: 비계·구조물해체공사 | DD19: 0.68 | DJ19: 5억 미만 | EA19: 건축공사 | ER19: 3.11
M21: 36개월 초과 (1096일) | AC21: 19.4 | AH21: =AC21 -> 19.4 | AL21: 6.1 | AQ21: =AL21 -> 6.1 | AU21: 5억 - 30억 미만 | BK21: 6.5 | EA21: 토목공사 | ER21: 3.15
B23: 10억 - 50억 미만 | M23: 6개월 이하 (183일) | AC23: 17.4 | AH23: =AC23 -> 17.4 | AL23: 5.2 | AQ23: =AL23 -> 5.2 | EA23: 중건설공사 | ER23: 3.64
M25: 7~12개월 (365일) | AC25: 17.8 | AH25: =AC25 -> 17.8 | AL25: 5.4 | AQ25: =AL25 -> 5.4 | BY25: 산업∙설비공사 | CH25: 0.16 | CM25: 석공사, 시설물유지관리, 철근콘크리트공사, 가스시설공사(1종) | DD25: 0.32 | EA25: 특수건설공사 | ER25: 2.07
M27: 13~36개월 (1095일) | AC27: 18.1 | AH27: =AC27 -> 18.1 | AL27: 5.7 | AQ27: =AL27 -> 5.7 | AU27: 30억 - 50억 미만 | BK27: 5 | DJ27: 5억 ~ 50억 미만 | EA27: 건축공사 | ER27: 2.28 | EZ27: 4325
M29: 36개월 초과 (1096일) | AC29: 19.2 | AH29: =AC29 -> 19.2 | AL29: 6.4 | AQ29: =AL29 -> 6.4 | EA29: 토목공사 | ER29: 2.53 | EZ29: 3300
B31: 50억 - 300억 미만 | M31: 6개월 이하 (183일) | AC31: 17.5 | AH31: =AC31 -> 17.5 | AL31: 5.9 | AQ31: =AL31 -> 5.9 | AU31: 50억 - 100억 미만 | BE31: 6.5 | BR31: 12 | CM31: 도장공사, 철강재설치공사 | DD31: 0.16 | EA31: 중건설공사 | ER31: 3.05 | EZ31: 2975
M33: 7~12개월 (365일) | AC33: 17.9 | AH33: =AC33 -> 17.9 | AL33: 6 | AQ33: =AL33 -> 6 | EA33: 특수건설공사 | ER33: 1.59 | EZ33: 2450
M35: 13~36개월 (1095일) | AC35: 18.2 | AH35: =AC35 -> 18.2 | AL35: 6.4 | AQ35: =AL35 -> 6.4 | AU35: 100억 - 300억 미만 | BK35: 4.5 | DJ35: 50억 이상 | DQ35: 추정금액 800억 미만 건설공사 | EA35: 건축공사 | ER35: 2.37
CM36: 기계설비공사업 및 그 외 | DD36: 0.1
M37: 36개월 초과 (1096일) | AC37: 19.4 | AH37: =AC37 -> 19.4 | AL37: 7 | AQ37: =AL37 -> 7 | EA37: 토목공사 | ER37: 2.6
B39: 300억 - 1000억 미만 | M39: 6개월 이하 (183일) | AC39: 17.5 | AH39: =AC39 -> 17.5 | AL39: 6.1 | AQ39: =AL39 -> 6.1 | AU39: 300억 - 1000억 미만 | BE39: 5 | BR39: 10 | EA39: 중건설공사 | ER39: 3.11
M41: 7~12개월 (365일) | AC41: 17.9 | AH41: =AC41 -> 17.9 | AL41: 6.3 | AQ41: =AL41 -> 6.3 | BY41: * 적용제외: 국가유산수리공사, 전기, 정보통신, 소방시설 | EA41: 특수건설공사 | ER41: 1.64
M43: 13~36개월 (1095일) | AC43: 18.2 | AH43: =AC43 -> 18.2 | AL43: 6.6 | AQ43: =AL43 -> 6.6 | AU43: 1000억 이상 | BE43: 4.5 | BR43: 9 | BY43: ※ 건설기계대여대금 지급보증서 발급금액 및 업종별 건설기계 | DQ43: 추정금액 800억 이상 건설공사 | EA43: 건축공사 | ER43: 2.64
M45: 36개월 초과 (1096일) | AC45: 19.4 | AH45: =AC45 -> 19.4 | AL45: 7.2 | AQ45: =AL45 -> 7.2 | BY45: 투입비율 산정기준(국토부 고시 제2019-286호, 2019.6.19.) | EA45: 토목공사 | ER45: 2.73
B47: 1000억 이상 | M47: 6개월 이하 (183일) | AC47: 17.4 | AH47: =AC47 -> 17.4 | AL47: 6.4 | AQ47: =AL47 -> 6.4 | AU47: [건강보험료] | BC47: [노인장기요양보험료] | BQ47: [연금보험료] | BY47: [산재보험료] | EA47: 중건설공사 | ER47: 3.39
M49: 7~12개월 (365일) | AC49: 17.8 | AH49: =AC49 -> 17.8 | AL49: 6.5 | AQ49: =AL49 -> 6.5 | EA49: 특수건설공사 | ER49: 1.78
M51: 13~36개월 (1095일) | AC51: 18.1 | AH51: =AC51 -> 18.1 | AL51: 6.9 | AQ51: =AL51 -> 6.9 | AU51: (직노) x 3.595 | BC51: (건강보험료) x 13.14 | BQ51: (직노) x 4.75 | BY51: (노) x 3.56 | DJ51: * 총 공사금액(도급금액+도급자설치 관급금액) 2천만원 이상 건설공사
M53: 36개월 초과 (1096일) | AC53: 19.3 | AH53: =AC53 -> 19.3 | AL53: 7.5 | AQ53: =AL53 -> 7.5 | AU53: * 공사기간 1개월(30일) 이상인 모든 건설공사 | BY53: * 모든 건설공사 적용. 노동부 고시 제2024-77호(2024. 12. 30.), 산업재해보상보험법시행령 | DJ53: 주1) 산업안전보건관리비 대상액
B55: * 기타경비항목: 수도광열비, 복리후생비, 소모품비 및 사무용품비, 여비∙교통∙통신비, 세금과공과, 도서인쇄비 | AU55: (노인장기요양보험료는 소수점 다섯째자리에서 반올림)
DJ56: - 재료비+직접노무비+도급자설치 관급금액
B57: □ 산업설비(건축) 해당공종 : 지열공사, 소각시설 등 | AU57: ※ 사회보험의 보험료 적용기준 (국토부 고시 제2021-905호, 2021.7.1.) | BY57: ※ 사회보험의 보험료 적용기준 (국토부 고시 제2021-905호, 2021.7.1.)
B59: [고용보험료] | AU59: [환경보전비] | BY59: [건설하도급대금지급보증서발급수수료] | DJ59: 주2) 대상액이 재료비, 직접노무비, 도급자관급의 합계금액인 요율
DJ62: 주3) 대상액이 재료비, 직접노무비의 합계금액인 요율
B63: (노) x 율 | AU63: (직접공사비) x 율 | BY63: (직접공사비) x 율
B65: 공사배정규모(추정금액) | AH65: 요율 | AU65: 구분 | BT65: 요율 | BY65: 공사규모(추정가격) | DB65: 요율 | DJ65: * 산업안전보건관리비 산출 건설공사의 종류
B67: [1등급] 1200억 이상 | AH67: 1.57
AU68: 도로(예시: 교량, 터널, 활주로 등) | BT68: 0.9 | BY68: 50억 미만 | DB68: 0.081 | DJ68: - [건축공사] 「건설산업기본법 시행령」 (별표 1) 제1호 '나'목 / 제2호의 전문공사로서 건축물과
B69: [2등급] 800억 ~ 1200억 미만 | AH69: 1.30
AU70: 플랜트(예시: 발전소, 쓰레기소각장 등) | BT70: 0.4
B71: [3등급] 520억 ~ 800억 미만 | AH71: 1.13 | BY71: 50억 이상 - 100억 미만 | DB71: 0.08 | DJ71: 관련하여 분리하여 발주되었고 시간적·장소적으로도 독립하여 행하는 공사
AU72: 지하철 | BT72: 0.5
...
