Workbook

Sheet 대회일수 표시(소년체전)
A1: 연번 | B1: 소재지 | C1: 종목 | D1: 경기장 | E1: 대회일수 (연습일수 포함)
A4: 1 | B4: 부산 | C4: 검도 | D4: 한마음스포츠센터
A5: 2 | B5: 고성 | C5: 골프 | D5: 고성노벨CC
A6: 3 | B6: 부산 | C6: 근대3종 | D6: 부산체고 운동장
A7: 4 | B7: 부산 | C7: 농구 | D7: 부산대 경암체육관
A8: 5 | B8: 부산 | C8: 농구 | D8: 부산외국어대 체육관
A9: 6 | B9: 부산 | C9: 럭비 | D9: 삼락천연잔디축구장
A10: 7 | B10: 부산 | C10: 레슬링 | D10: 개성고등학교
A11: 8 | B11: 부산 | C11: 롤러 | D11: 을숙도 인라인스케이트장
A12: 9 | B12: 부산 | C12: 바둑 | D12: 해운대교육지원청
A13: 10 | B13: 부산 | C13: 배구 | D13: 성지고등학교
A14: 11 | B14: 부산 | C14: 배구 | D14: 백양고등학교
A15: 12 | B15: 부산 | C15: 배구 | D15: 동래중학교
... A60: 57 | B60: 부산 | C60: 합기도 | D60: 동의과학대학교
A61: 57 | B61: 부산 | C61: 골볼 | D61: 남구국민체육센터 2관 | E61: 2
A62: 58 | B62: 부산 | C62: 농구 | D62: 사직실내체육관 | E62: 3
A63: 59 | B63: 부산 | C63: 디스크골프 | D63: 기장월드컵빌리지(인조B) | E63: 3
A64: 60 | B64: 부산 | C64: 배구 | D64: 동의대학교 효민체육관 | E64: 4
A65: 61 | B65: 부산 | C65: 배드민턴 | D65: 강서실내체육관 | E65: 4
A66: 62 | B66: 부산 | C66: 보치아 | D66: 금정체육관 | E66: 5
A67: 63 | B67: 부산 | C67: 볼링 | D67: 반도볼링장 | E67: 3
A68: 64 | B68: 부산 | C68: 수영 | D68: 사직실내수영장 | E68: 5
A69: 65 | B69: 부산 | C69: 역도 | D69: 부산교육대학교 제1체육관 | E69: 4
A70: 66 | B70: 부산 | C70: 육상 | D70: 아시아드주경기장 | E70: 4
A71: 67 | B71: 부산 | C71: 조정 | D71: 부산은행 연수원 | E71: 4
A72: 68 | B72: 부산 | C72: 축구 | D72: 기장월드컵빌리지(인조A) | E72: 3
... A78: 74 | B78: 부산 | C78: e스포츠 | D78: 부산전자공업고등학교 | E78: 4

Sheet 갑지
B2: 설계년월일 | C2: 2026년 3월 | D2: 설 계 | H2: 심 사 | J2: 팀 장 | L2: 과 장
B3: 2026년도
B4: 2026년 전국장애학생(소년)체전 경기장 안내판 제작 및 설치
B5: 설 계 내 역 서
B6: ❍ 과업개요 | E6: 2026년 전국장애학생(소년)체전 안내판 제작 및 설치 1식
B7: ❍ 과업기간 | E7: 착수일로부터 3개월
B8: ❍ 사 업 비 | E8: 금68,145,000원(금육천팔백일십사만오천원) ※ 부가세 포함
B10: 부산광역시 (전국체전기획단)

Sheet 내역서
B1: 내 역 서
B2: 종 별 | C2: 규격 | D2: 수량 | E2: 단위 | F2: 총 계 | H2: 비 고
F3: 단 가 | G3: 금 액
B4: 1. 안내(종목) 표지판
B5: 가. 경기장 A형 간판(양면, 900Ⅹ1,800, 외부) | D5: ='전국장애학생(소년)체전 수량조사(안내판)'!F4 -> 119 | E5: 개 | F5: ='전국장애학생(소년)체전 수량조사(안내판)'!Q4 -> 0 | G5: =D5*F5 -> 0 | H5: 부가세 포함
B6: 나. 경기장 A형 간판(단면, 900Ⅹ1,800, 내부) | D6: ='전국장애학생(소년)체전 수량조사(안내판)'!G4 -> 81 | E6: 개 | F6: ='전국장애학생(소년)체전 수량조사(안내판)'!R4 -> 0 | G6: =D6*F6 -> 0 | H6: 부가세 포함
B7: 다. 경기장 유도 간판(양면, 600Ⅹ900) | D7: ='전국장애학생(소년)체전 수량조사(안내판)'!H4 -> 136 | E7: 개 | F7: ='전국장애학생(소년)체전 수량조사(안내판)'!S4 -> 0 | G7: =D7*F7 -> 0 | H7: 부가세 포함
B8: 라. 주차장 유도 간판(양면, 600Ⅹ900) | D8: ='전국장애학생(소년)체전 수량조사(안내판)'!I4 -> 122 | E8: 개 | F8: ='전국장애학생(소년)체전 수량조사(안내판)'!T4 -> 0 | G8: =D8*F8 -> 0 | H8: 부가세 포함
B9: 소 계 | G9: =SUM(G5:G8) -> 0 | H9: 부가세 포함

Sheet 전국장애학생(소년)체전 수량조사(안내판)
A1: 26년 전국장애학생(소년)체전 안내판 설치 수량
A2: 일반현황 | F2: 필요수량 | J2: 금액 | O2: 기타 | Q2: 단가
A3: 연번 | B3: 소재지 | C3: 종목 | D3: 종별 | E3: 경기장 | F3: 경기장 입간판 (900*1800) (양면, 도로) | G3: 경기장 입간판 (900*1800) (단면, 경기장 내) | H3: 경기장 유도 (600*900) (양면) | I3: 주차장 유도 (600*900) (양면) | J3: 경기장 입간판 (900*1800) (양면, 도로) | K3: 경기장 입간판 (900*1800) (단면, 경기장 내) | L3: 주차장 유도 (600*900) (양면) | M3: 경기장 유도 (600*900) (양면) | N3: 총금액 | Q3: 안내표지판 (900*1800) (양면) | R3: 안내표지판 (900*1800) (단면) | S3: 안내표지판 (600*900) (양면) | T3: 안내표지판 (600*900) (양면)
A4: 계 | F4: =SUM(F$6:F$81) -> 119 | G4: =SUM(G$6:G$81) -> 81 | H4: =SUM(H$6:H$81) -> 136 | I4: =SUM(I$6:I$81) -> 122 | J4: =SUM(J$6:J$81) -> 0 | K4: =SUM(K$6:K$81) -> 0 | L4: =SUM(L$6:L$81) -> 0 | M4: =SUM(M$6:M$81) -> 0 | N4: =SUM(N6:N81) -> 0 | O4: ※ 종목별 단체 제출 수량 반영 | P4: 견적1 | U4: 적 용
A5: 전국소년체전
A6: 1 | B6: ='대회일수 표시(소년체전)'!B4 -> 부산 | C6: ='대회일수 표시(소년체전)'!C4 -> 검도 | D6: 전종별 | E6: ='대회일수 표시(소년체전)'!D4 -> 한마음스포츠센터 | F6: 2 | G6: 2 | H6: 4 | I6: 2 | J6: =$F6*$Q$4 -> 0 | K6: =$G6*$R$4 -> 0 | L6: =$H6*$S$4 -> 0 | M6: =$I6*$T$4 -> 0 | N6: =SUM(J6:M6) -> 0 | P6: 견적2
A7: 2 | B7: ='대회일수 표시(소년체전)'!B5 -> 고성 | C7: ='대회일수 표시(소년체전)'!C5 -> 골프 | D7: 전종별 | E7: ='대회일수 표시(소년체전)'!D5 -> 고성노벨CC | F7: 1 | G7: 1 | H7: 2 | I7: 2 | J7: =$F7*$Q$4 -> 0 | K7: =$G7*$R$4 -> 0 | L7: =$H7*$S$4 -> 0 | M7: =$I7*$T$4 -> 0 | N7: =SUM(J7:M7) -> 0 | P7: 견적3
A8: 3 | B8: ='대회일수 표시(소년체전)'!B6 -> 부산 | C8: ='대회일수 표시(소년체전)'!C6 -> 근대3종 | D8: 전종별 | E8: ='대회일수 표시(소년체전)'!D6 -> 부산체고 운동장 | F8: 2 | G8: 2 | H8: 2 | I8: 2 | J8: =$F8*$Q$4 -> 0 | K8: =$G8*$R$4 -> 0 | L8: =$H8*$S$4 -> 0 | M8: =$I8*$T$4 -> 0 | N8: =SUM(J8:M8) -> 0
A9: 4 | B9: ='대회일수 표시(소년체전)'!B7 -> 부산 | C9: ='대회일수 표시(소년체전)'!C7 -> 농구 | D9: 전종별 | E9: ='대회일수 표시(소년체전)'!D7 -> 부산대 경암체육관 | F9: 2 | H9: 3 | I9: 2 | J9: =$F9*$Q$4 -> 0 | K9: =$G9*$R$4 -> 0 | L9: =$H9*$S$4 -> 0 | M9: =$I9*$T$4 -> 0 | N9: =SUM(J9:M9) -> 0
A10: 5 | B10: ='대회일수 표시(소년체전)'!B8 -> 부산 | C10: ='대회일수 표시(소년체전)'!C8 -> 농구 | D10: 전종별 | E10: ='대회일수 표시(소년체전)'!D8 -> 부산외국어대 체육관 | F10: 2 | H10: 2 | I10: 2 | J10: =$F10*$Q$4 -> 0 | K10: =$G10*$R$4 -> 0 | L10: =$H10*$S$4 -> 0 | M10: =$I10*$T$4 -> 0 | N10: =SUM(J10:M10) -> 0
A11: 6 | B11: ='대회일수 표시(소년체전)'!B9 -> 부산 | C11: ='대회일수 표시(소년체전)'!C9 -> 럭비 | D11: 전종별 | E11: ='대회일수 표시(소년체전)'!D9 -> 삼락천연잔디축구장 | F11: 2 | G11: 1 | H11: 4 | I11: 3 | J11: =$F11*$Q$4 -> 0 | K11: =$G11*$R$4 -> 0 | L11: =$H11*$S$4 -> 0 | M11: =$I11*$T$4 -> 0 | N11: =SUM(J11:M11) -> 0
A12: 7 | B12: ='대회일수 표시(소년체전)'!B10 -> 부산 | C12: ='대회일수 표시(소년체전)'!C10 -> 레슬링 | D12: 전종별 | E12: ='대회일수 표시(소년체전)'!D10 -> 개성고등학교 | F12: 1 | G12: 2 | I12: 2 | J12: =$F12*$Q$4 -> 0 | K12: =$G12*$R$4 -> 0 | L12: =$H12*$S$4 -> 0 | M12: =$I12*$T$4 -> 0 | N12: =SUM(J12:M12) -> 0
A13: 8 | B13: ='대회일수 표시(소년체전)'!B11 -> 부산 | C13: ='대회일수 표시(소년체전)'!C11 -> 롤러 | D13: 전종별 | E13: ='대회일수 표시(소년체전)'!D11 -> 을숙도 인라인스케이트장 | F13: 2 | H13: 2 | I13: 2 | J13: =$F13*$Q$4 -> 0 | K13: =$G13*$R$4 -> 0 | L13: =$H13*$S$4 -> 0 | M13: =$I13*$T$4 -> 0 | N13: =SUM(J13:M13) -> 0
A14: 9 | B14: ='대회일수 표시(소년체전)'!B12 -> 부산 | C14: ='대회일수 표시(소년체전)'!C12 -> 바둑 | D14: 전종별 | E14: ='대회일수 표시(소년체전)'!D12 -> 해운대교육지원청 | F14: 2 | G14: 1 | H14: 4 | J14: =$F14*$Q$4 -> 0 | K14: =$G14*$R$4 -> 0 | L14: =$H14*$S$4 -> 0 | M14: =$I14*$T$4 -> 0 | N14: =SUM(J14:M14) -> 0
A15: 10 | B15: ='대회일수 표시(소년체전)'!B13 -> 부산 | C15: ='대회일수 표시(소년체전)'!C13 -> 배구 | D15: 전종별 | E15: ='대회일수 표시(소년체전)'!D13 -> 성지고등학교 | F15: 1 | G15: 2 | H15: 0 | I15: 1 | J15: =$F15*$Q$4 -> 0 | K15: =$G15*$R$4 -> 0 | L15: =$H15*$S$4 -> 0 | M15: =$I15*$T$4 -> 0 | N15: =SUM(J15:M15) -> 0
A16: 11 | B16: ='대회일수 표시(소년체전)'!B14 -> 부산 | C16: ='대회일수 표시(소년체전)'!C14 -> 배구 | D16: 전종별 | E16: ='대회일수 표시(소년체전)'!D14 -> 백양고등학교 | F16: 1 | G16: 2 | H16: 0 | I16: 1 | J16: =$F16*$Q$4 -> 0 | K16: =$G16*$R$4 -> 0 | L16: =$H16*$S$4 -> 0 | M16: =$I16*$T$4 -> 0 | N16: =SUM(J16:M16) -> 0
A17: 12 | B17: ='대회일수 표시(소년체전)'!B15 -> 부산 | C17: ='대회일수 표시(소년체전)'!C15 -> 배구 | D17: 전종별 | E17: ='대회일수 표시(소년체전)'!D15 -> 동래중학교 | F17: 1 | G17: 1 | H17: 0 | I17: 1 | J17: =$F17*$Q$4 -> 0 | K17: =$G17*$R$4 -> 0 | L17: =$H17*$S$4 -> 0 | M17: =$I17*$T$4 -> 0 | N17: =SUM(J17:M17) -> 0
A18: 13 | B18: ='대회일수 표시(소년체전)'!B16 -> 부산 | C18: ='대회일수 표시(소년체전)'!C16 -> 배구 | D18: 전종별 | E18: ='대회일수 표시(소년체전)'!D16 -> 부산학생교육문화회관 | F18: 1 | G18: 2 | H18: 0 | I18: 1 | J18: =$F18*$Q$4 -> 0 | K18: =$G18*$R$4 -> 0 | L18: =$H18*$S$4 -> 0 | M18: =$I18*$T$4 -> 0 | N18: =SUM(J18:M18) -> 0
A19: 14 | B19: ='대회일수 표시(소년체전)'!B17 -> 양산 | C19: ='대회일수 표시(소년체전)'!C17 -> 배드민턴 | D19: 전종별 | E19: ='대회일수 표시(소년체전)'!D17 -> 양산종합실내체육관 | F19: 2 | G19: 1 | H19: 1 | I19: 1 | J19: =$F19*$Q$4 -> 0 | K19: =$G19*$R$4 -> 0 | L19: =$H19*$S$4 -> 0 | M19: =$I19*$T$4 -> 0 | N19: =SUM(J19:M19) -> 0
A20: 15 | B20: ='대회일수 표시(소년체전)'!B18 -> 부산 | C20: ='대회일수 표시(소년체전)'!C18 -> 복싱 | D20: 전종별 | E20: ='대회일수 표시(소년체전)'!D18 -> 부산기계공고 | F20: 2 | G20: 1 | H20: 3 | J20: =$F20*$Q$4 -> 0 | K20: =$G20*$R$4 -> 0 | L20: =$H20*$S$4 -> 0 | M20: =$I20*$T$4 -> 0 | N20: =SUM(J20:M20) -> 0
A21: 16 | B21: ='대회일수 표시(소년체전)'!B19 -> 부산 | C21: ='대회일수 표시(소년체전)'!C19 -> 볼링 | D21: 전종별 | E21: ='대회일수 표시(소년체전)'!D19 -> 대연킴스볼링장 | F21: 2 | J21: =$F21*$Q$4 -> 0 | K21: =$G21*$R$4 -> 0 | L21: =$H21*$S$4 -> 0 | M21: =$I21*$T$4 -> 0 | N21: =SUM(J21:M21) -> 0
A22: 17 | B22: ='대회일수 표시(소년체전)'!B20 -> 부산 | C22: ='대회일수 표시(소년체전)'!C20 -> 볼링 | D22: 전종별 | E22: ='대회일수 표시(소년체전)'!D20 -> 레인보우스퀘어락 | F22: 2 | J22: =$F22*$Q$4 -> 0 | K22: =$G22*$R$4 -> 0 | L22: =$H22*$S$4 -> 0 | M22: =$I22*$T$4 -> 0 | N22: =SUM(J22:M22) -> 0
A23: 18 | B23: ='대회일수 표시(소년체전)'!B21 -> 창원 | C23: ='대회일수 표시(소년체전)'!C21 -> 사격 | D23: 전종별 | E23: ='대회일수 표시(소년체전)'!D21 -> 창원국제사격장 | F23: 1 | G23: 1 | H23: 1 | I23: 1 | J23: =$F23*$Q$4 -> 0 | K23: =$G23*$R$4 -> 0 | L23: =$H23*$S$4 -> 0 | M23: =$I23*$T$4 -> 0 | N23: =SUM(J23:M23) -> 0
A24: 19 | B24: ='대회일수 표시(소년체전)'!B22 -> 부산 | C24: ='대회일수 표시(소년체전)'!C22 -> 소프트테니스 | D24: 전종별 | E24: ='대회일수 표시(소년체전)'!D22 -> 을숙도 실내테니스장 | F24: 3 | G24: 1 | H24: 3 | I24: 3 | J24: =$F24*$Q$4 -> 0 | K24: =$G24*$R$4 -> 0 | L24: =$H24*$S$4 -> 0 | M24: =$I24*$T$4 -> 0 | N24: =SUM(J24:M24) -> 0
A25: 20 | B25: ='대회일수 표시(소년체전)'!B23 -> 부산 | C25: ='대회일수 표시(소년체전)'!C23 -> 수영 | D25: 전종별 | E25: ='대회일수 표시(소년체전)'!D23 -> 사직실내수영장 | F25: 1 | H25: 2 | I25: 2 | J25: =$F25*$Q$4 -> 0 | K25: =$G25*$R$4 -> 0 | L25: =$H25*$S$4 -> 0 | M25: =$I25*$T$4 -> 0 | N25: =SUM(J25:M25) -> 0
A26: 21 | B26: ='대회일수 표시(소년체전)'!B24 -> 상주 | C26: ='대회일수 표시(소년체전)'!C24 -> 승마 | D26: 전종별 | E26: ='대회일수 표시(소년체전)'!D24 -> 상주국제승마장 | H26: 2 | J26: =$F26*$Q$4 -> 0 | K26: =$G26*$R$4 -> 0 | L26: =$H26*$S$4 -> 0 | M26: =$I26*$T$4 -> 0 | N26: =SUM(J26:M26) -> 0
A27: 22 | B27: ='대회일수 표시(소년체전)'!B25 -> 부산 | C27: ='대회일수 표시(소년체전)'!C25 -> 씨름 | D27: 전종별 | E27: ='대회일수 표시(소년체전)'!D25 -> 부산보건대학교 | F27: 1 | G27: 1 | H27: 3 | I27: 3 | J27: =$F27*$Q$4 -> 0 | K27: =$G27*$R$4 -> 0 | L27: =$H27*$S$4 -> 0 | M27: =$I27*$T$4 -> 0 | N27: =SUM(J27:M27) -> 0
A28: 23 | B28: ='대회일수 표시(소년체전)'!B26 -> 전주 | C28: ='대회일수 표시(소년체전)'!C26 -> 사이클 | D28: 전종별 | E28: ='대회일수 표시(소년체전)'!D26 -> 전주경륜장 | F28: 1 | G28: 1 | H28: 1 | I28: 2 | J28: =$F28*$Q$4 -> 0 | K28: =$G28*$R$4 -> 0 | L28: =$H28*$S$4 -> 0 | M28: =$I28*$T$4 -> 0 | N28: =SUM(J28:M28) -> 0
A29: 24 | B29: ='대회일수 표시(소년체전)'!B27 -> 부산 | C29: ='대회일수 표시(소년체전)'!C27 -> 야구·소프트볼 | D29: 전종별 | E29: ='대회일수 표시(소년체전)'!D27 -> 기장현대차드림볼파크 보조2 | F29: 1 | H29: 1 | I29: 2 | J29: =$F29*$Q$4 -> 0 | K29: =$G29*$R$4 -> 0 | L29: =$H29*$S$4 -> 0 | M29: =$I29*$T$4 -> 0 | N29: =SUM(J29:M29) -> 0
A30: 25 | B30: ='대회일수 표시(소년체전)'!B28 -> 부산 | C30: ='대회일수 표시(소년체전)'!C28 -> 야구·소프트볼 | D30: 전종별 | E30: ='대회일수 표시(소년체전)'!D28 -> 기장현대차드림볼파크 공원구장 | F30: 1 | I30: 1 | J30: =$F30*$Q$4 -> 0 | K30: =$G30*$R$4 -> 0 | L30: =$H30*$S$4 -> 0 | M30: =$I30*$T$4 -> 0 | N30: =SUM(J30:M30) -> 0
A31: 26 | B31: ='대회일수 표시(소년체전)'!B29 -> 부산 | C31: ='대회일수 표시(소년체전)'!C29 -> 야구·소프트볼 | D31: 전종별 | E31: ='대회일수 표시(소년체전)'!D29 -> 리틀야구장 소프트볼경기장 | F31: 1 | I31: 3 | J31: =$F31*$Q$4 -> 0 | K31: =$G31*$R$4 -> 0 | L31: =$H31*$S$4 -> 0 | M31: =$I31*$T$4 -> 0 | N31: =SUM(J31:M31) -> 0
A32: 27 | B32: ='대회일수 표시(소년체전)'!B30 -> 부산 | C32: ='대회일수 표시(소년체전)'!C30 -> 양궁 | D32: 전종별 | E32: ='대회일수 표시(소년체전)'!D30 -> 을숙도공원 축구장 | G32: 1 | H32: 2 | J32: =$F32*$Q$4 -> 0 | K32: =$G32*$R$4 -> 0 | L32: =$H32*$S$4 -> 0 | M32: =$I32*$T$4 -> 0 | N32: =SUM(J32:M32) -> 0
A33: 28 | B33: ='대회일수 표시(소년체전)'!B31 -> 부산 | C33: ='대회일수 표시(소년체전)'!C31 -> 양궁 | D33: 전종별 | E33: ='대회일수 표시(소년체전)'!D31 -> 강서양궁장 | F33: 1 | I33: 1 | J33: =$F33*$Q$4 -> 0 | K33: =$G33*$R$4 -> 0 | L33: =$H33*$S$4 -> 0 | M33: =$I33*$T$4 -> 0 | N33: =SUM(J33:M33) -> 0
A34: 29 | B34: ='대회일수 표시(소년체전)'!B32 -> 부산 | C34: ='대회일수 표시(소년체전)'!C32 -> 에어로빅·힙합 | D34: 전종별 | E34: ='대회일수 표시(소년체전)'!D32 -> 남구국민체육센터 2관 | F34: 1 | G34: 1 | H34: 5 | I34: 5 | J34: =$F34*$Q$4 -> 0 | K34: =$G34*$R$4 -> 0 | L34: =$H34*$S$4 -> 0 | M34: =$I34*$T$4 -> 0 | N34: =SUM(J34:M34) -> 0
A35: 30 | B35: ='대회일수 표시(소년체전)'!B33 -> 고성 | C35: ='대회일수 표시(소년체전)'!C33 -> 역도 | D35: 전종별 | E35: ='대회일수 표시(소년체전)'!D33 -> 고성역도경기장 | F35: 8 | J35: =$F35*$Q$4 -> 0 | K35: =$G35*$R$4 -> 0 | L35: =$H35*$S$4 -> 0 | M35: =$I35*$T$4 -> 0 | N35: =SUM(J35:M35) -> 0
A36: 31 | B36: ='대회일수 표시(소년체전)'!B34 -> 거제 | C36: ='대회일수 표시(소년체전)'!C34 -> 요트 | D36: 전종별 | E36: ='대회일수 표시(소년체전)'!D34 -> 거제해양레포츠센터 | F36: 1 | G36: 1 | H36: 2 | I36: 2 | J36: =$F36*$Q$4 -> 0 | K36: =$G36*$R$4 -> 0 | L36: =$H36*$S$4 -> 0 | M36: =$I36*$T$4 -> 0 | N36: =SUM(J36:M36) -> 0
A37: 32 | B37: ='대회일수 표시(소년체전)'!B35 -> 부산 | C37: ='대회일수 표시(소년체전)'!C35 -> 유도 | D37: 전종별 | E37: ='대회일수 표시(소년체전)'!D35 -> 부경대학교 | F37: 2 | G37: 1 | H37: 2 | I37: 3 | J37: =$F37*$Q$4 -> 0 | K37: =$G37*$R$4 -> 0 | L37: =$H37*$S$4 -> 0 | M37: =$I37*$T$4 -> 0 | N37: =SUM(J37:M37) -> 0
A38: 33 | B38: ='대회일수 표시(소년체전)'!B36 -> 부산 | C38: ='대회일수 표시(소년체전)'!C36 -> 육상 | D38: 전종별 | E38: ='대회일수 표시(소년체전)'!D36 -> 아시아드 주경기장 | F38: 3 | G38: 2 | H38: 5 | I38: 2 | J38: =$F38*$Q$4 -> 0 | K38: =$G38*$R$4 -> 0 | L38: =$H38*$S$4 -> 0 | M38: =$I38*$T$4 -> 0 | N38: =SUM(J38:M38) -> 0
A39: 34 | B39: ='대회일수 표시(소년체전)'!B37 -> 부산 | C39: ='대회일수 표시(소년체전)'!C37 -> 조정 | D39: 전종별 | E39: ='대회일수 표시(소년체전)'!D37 -> 서낙동강 조정카누경기장_사전 | F39: 3 | G39: 1 | I39: 6 | J39: =$F39*$Q$4 -> 0 | K39: =$G39*$R$4 -> 0 | L39: =$H39*$S$4 -> 0 | M39: =$I39*$T$4 -> 0 | N39: =SUM(J39:M39) -> 0
A40: 35 | B40: ='대회일수 표시(소년체전)'!B38 -> 부산 | C40: ='대회일수 표시(소년체전)'!C38 -> 철인3종 | D40: 전종별 | E40: ='대회일수 표시(소년체전)'!D38 -> 기장군 임랑 일원 | F40: 2 | G40: 1 | H40: 3 | I40: 3 | J40: =$F40*$Q$4 -> 0 | K40: =$G40*$R$4 -> 0 | L40: =$H40*$S$4 -> 0 | M40: =$I40*$T$4 -> 0 | N40: =SUM(J40:M40) -> 0
A41: 36 | B41: ='대회일수 표시(소년체전)'!B39 -> 부산 | C41: ='대회일수 표시(소년체전)'!C39 -> 체조 | D41: 전종별 | E41: ='대회일수 표시(소년체전)'!D39 -> 사직실내체육관(기계) | F41: 2 | G41: 1 | H41: 2 | I41: 1 | J41: =$F41*$Q$4 -> 0 | K41: =$G41*$R$4 -> 0 | L41: =$H41*$S$4 -> 0 | M41: =$I41*$T$4 -> 0 | N41: =SUM(J41:M41) -> 0
A42: 37 | B42: ='대회일수 표시(소년체전)'!B40 -> 부산 | C42: ='대회일수 표시(소년체전)'!C40 -> 체조 | D42: 전종별 | E42: ='대회일수 표시(소년체전)'!D40 -> 사직실내체육관(리듬)_사전 | J42: =$F42*$Q$4 -> 0 | K42: =$G42*$R$4 -> 0 | L42: =$H42*$S$4 -> 0 | M42: =$I42*$T$4 -> 0 | N42: =SUM(J42:M42) -> 0
A43: 38 | B43: ='대회일수 표시(소년체전)'!B41 -> 부산 | C43: ='대회일수 표시(소년체전)'!C41 -> 축구 | D43: 전종별 | E43: ='대회일수 표시(소년체전)'!D41 -> 월드컵빌리지 천연A구장 | F43: 2 | G43: 3 | H43: 2 | I43: 7 | J43: =$F43*$Q$4 -> 0 | K43: =$G43*$R$4 -> 0 | L43: =$H43*$S$4 -> 0 | M43: =$I43*$T$4 -> 0 | N43: =SUM(J43:M43) -> 0
A44: 39 | B44: ='대회일수 표시(소년체전)'!B42 -> 부산 | C44: ='대회일수 표시(소년체전)'!C42 -> 축구 | D44: 전종별 | E44: ='대회일수 표시(소년체전)'!D42 -> 월드컵빌리지 천연B구장
A45: 40 | B45: ='대회일수 표시(소년체전)'!B43 -> 부산 | C45: ='대회일수 표시(소년체전)'!C43 -> 축구 | D45: 전종별 | E45: ='대회일수 표시(소년체전)'!D43 -> 월드컵빌리지 인조A구장 | J45: =$F45*$Q$4 -> 0 | K45: =$G45*$R$4 -> 0 | L45: =$H45*$S$4 -> 0 | M45: =$I45*$T$4 -> 0 | N45: =SUM(J45:M45) -> 0
B46: ='대회일수 표시(소년체전)'!B44 -> 부산 | C46: ='대회일수 표시(소년체전)'!C44 -> 축구 | D46: 전종별 | E46: ='대회일수 표시(소년체전)'!D44 -> 월드컵빌리지 인조B구장 | J46: =$F46*$Q$4 -> 0 | K46: =$G46*$R$4 -> 0 | L46: =$H46*$S$4 -> 0 | M46: =$I46*$T$4 -> 0 | N46: =SUM(J46:M46) -> 0
A47: 41 | B47: ='대회일수 표시(소년체전)'!B45 -> 부산 | C47: ='대회일수 표시(소년체전)'!C45 -> 축구 | D47: 전종별 | E47: ='대회일수 표시(소년체전)'!D45 -> 정관스포츠힐링파크 | F47: 3 | H47: 2 | I47: 3 | J47: =$F47*$Q$4 -> 0 | K47: =$G47*$R$4 -> 0 | L47: =$H47*$S$4 -> 0 | M47: =$I47*$T$4 -> 0 | N47: =SUM(J47:M47) -> 0
A48: 42 | B48: ='대회일수 표시(소년체전)'!B46 -> 부산 | C48: ='대회일수 표시(소년체전)'!C46 -> 축구 | D48: 전종별 | E48: ='대회일수 표시(소년체전)'!D46 -> 화명생태공원 축구장D | F48: 2 | G48: 2 | H48: 2 | I48: 2 | J48: =$F48*$Q$4 -> 0 | K48: =$G48*$R$4 -> 0 | L48: =$H48*$S$4 -> 0 | M48: =$I48*$T$4 -> 0 | N48: =SUM(J48:M48) -> 0
A49: 43 | B49: ='대회일수 표시(소년체전)'!B47 -> 부산 | C49: ='대회일수 표시(소년체전)'!C47 -> 축구 | D49: 전종별 | E49: ='대회일수 표시(소년체전)'!D47 -> 명지근린공원 | F49: 0 | G49: 3 | H49: 3 | I49: 4 | J49: =$F49*$Q$4 -> 0 | K49: =$G49*$R$4 -> 0 | L49: =$H49*$S$4 -> 0 | M49: =$I49*$T$4 -> 0 | N49: =SUM(J49:M49) -> 0
A50: 44 | B50: ='대회일수 표시(소년체전)'!B48 -> 부산 | C50: ='대회일수 표시(소년체전)'!C48 -> 카누 | D50: 전종별 | E50: ='대회일수 표시(소년체전)'!D48 -> 서낙동강 조정카누경기장 | F50: 3 | G50: 2 | I50: 2 | J50: =$F50*$Q$4 -> 0 | K50: =$G50*$R$4 -> 0 | L50: =$H50*$S$4 -> 0 | M50: =$I50*$T$4 -> 0 | N50: =SUM(J50:M50) -> 0
A51: 45 | B51: ='대회일수 표시(소년체전)'!B49 -> 부산 | C51: ='대회일수 표시(소년체전)'!C49 -> 탁구 | D51: 전종별 | E51: ='대회일수 표시(소년체전)'!D49 -> 기장실내체육관 | F51: 2 | G51: 1 | H51: 1 | I51: 2 | J51: =$F51*$Q$4 -> 0 | K51: =$G51*$R$4 -> 0 | L51: =$H51*$S$4 -> 0 | M51: =$I51*$T$4 -> 0 | N51: =SUM(J51:M51) -> 0
A52: 46 | B52: ='대회일수 표시(소년체전)'!B50 -> 부산 | C52: ='대회일수 표시(소년체전)'!C50 -> 태권도 | D52: 전종별 | E52: ='대회일수 표시(소년체전)'!D50 -> 강서실내체육관 | F52: 0 | G52: 0 | H52: 0 | I52: 0 | J52: =$F52*$Q$4 -> 0 | K52: =$G52*$R$4 -> 0 | L52: =$H52*$S$4 -> 0 | M52: =$I52*$T$4 -> 0 | N52: =SUM(J52:M52) -> 0
A53: 47 | B53: ='대회일수 표시(소년체전)'!B51 -> 부산 | C53: ='대회일수 표시(소년체전)'!C51 -> 테니스 | D53: 전종별 | E53: ='대회일수 표시(소년체전)'!D51 -> 화명생태공원 테니스장 | F53: 2 | G53: 2 | I53: 1 | J53: =$F53*$Q$4 -> 0 | K53: =$G53*$R$4 -> 0 | L53: =$H53*$S$4 -> 0 | M53: =$I53*$T$4 -> 0 | N53: =SUM(J53:M53) -> 0
A54: 48 | B54: ='대회일수 표시(소년체전)'!B52 -> 부산 | C54: ='대회일수 표시(소년체전)'!C52 -> 테니스 | D54: 전종별 | E54: ='대회일수 표시(소년체전)'!D52 -> 스포원파크 테니스장 | F54: 2 | G54: 2 | H54: 4 | I54: 4 | J54: =$F54*$Q$4 -> 0 | K54: =$G54*$R$4 -> 0 | L54: =$H54*$S$4 -> 0 | M54: =$I54*$T$4 -> 0 | N54: =SUM(J54:M54) -> 0
A55: 49 | B55: ='대회일수 표시(소년체전)'!B53 -> 부산 | C55: ='대회일수 표시(소년체전)'!C53 -> 펜싱 | D55: 전종별 | E55: ='대회일수 표시(소년체전)'!D53 -> 스포원파크 실내체육관 | F55: 1 | G55: 2 | H55: 4 | I55: 2 | J55: =$F55*$Q$4 -> 0 | K55: =$G55*$R$4 -> 0 | L55: =$H55*$S$4 -> 0 | M55: =$I55*$T$4 -> 0 | N55: =SUM(J55:M55) -> 0
A56: 50 | B56: ='대회일수 표시(소년체전)'!B54 -> 부산 | C56: ='대회일수 표시(소년체전)'!C54 -> 하키 | D56: 전종별 | E56: ='대회일수 표시(소년체전)'!D54 -> 강서체육공원 하키경기장 | F56: 2 | G56: 3 | H56: 2 | I56: 3 | J56: =$F56*$Q$4 -> 0 | K56: =$G56*$R$4 -> 0 | L56: =$H56*$S$4 -> 0 | M56: =$I56*$T$4 -> 0 | N56: =SUM(J56:M56) -> 0
A57: 51 | B57: ='대회일수 표시(소년체전)'!B55 -> 부산 | C57: ='대회일수 표시(소년체전)'!C55 -> 핸드볼 | D57: 전종별 | E57: ='대회일수 표시(소년체전)'!D55 -> 동서대학교 | F57: 1 | G57: 1 | H57: 1 | J57: =$F57*$Q$4 -> 0 | K57: =$G57*$R$4 -> 0 | L57: =$H57*$S$4 -> 0 | M57: =$I57*$T$4 -> 0 | N57: =SUM(J57:M57) -> 0
A58: 52 | B58: ='대회일수 표시(소년체전)'!B56 -> 부산 | C58: ='대회일수 표시(소년체전)'!C56 -> 핸드볼 | D58: 전종별 | E58: ='대회일수 표시(소년체전)'!D56 -> 경남정보대학교 | J58: =$F58*$Q$4 -> 0 | K58: =$G58*$R$4 -> 0 | L58: =$H58*$S$4 -> 0 | M58: =$I58*$T$4 -> 0 | N58: =SUM(J58:M58) -> 0
A59: 53 | B59: ='대회일수 표시(소년체전)'!B57 -> 부산 | C59: ='대회일수 표시(소년체전)'!C57 -> 산악 | D59: 전종별 | E59: ='대회일수 표시(소년체전)'!D57 -> 부산국제스포츠클라이밍장 | F59: 1 | J59: =$F59*$Q$4 -> 0 | K59: =$G59*$R$4 -> 0 | L59: =$H59*$S$4 -> 0 | M59: =$I59*$T$4 -> 0 | N59: =SUM(J59:M59) -> 0
A60: 54 | B60: ='대회일수 표시(소년체전)'!B58 -> 부산 | C60: ='대회일수 표시(소년체전)'!C58 -> 스쿼시 | D60: 전종별 | E60: ='대회일수 표시(소년체전)'!D58 -> 경성대 스쿼시장 | F60: 1 | G60: 2 | H60: 1 | I60: 1 | J60: =$F60*$Q$4 -> 0 | K60: =$G60*$R$4 -> 0 | L60: =$H60*$S$4 -> 0 | M60: =$I60*$T$4 -> 0 | N60: =SUM(J60:M60) -> 0
A61: 55 | B61: ='대회일수 표시(소년체전)'!B59 -> 부산 | C61: ='대회일수 표시(소년체전)'!C59 -> e스포츠 | D61: 전종별 | E61: ='대회일수 표시(소년체전)'!D59 -> BUSAN ARENA | F61: 2 | G61: 4 | H61: 13 | J61: =$F61*$Q$4 -> 0 | K61: =$G61*$R$4 -> 0 | L61: =$H61*$S$4 -> 0 | M61: =$I61*$T$4 -> 0 | N61: =SUM(J61:M61) -> 0
A62: 56 | B62: ='대회일수 표시(소년체전)'!B60 -> 부산 | C62: ='대회일수 표시(소년체전)'!C60 -> 합기도 | D62: 전종별 | E62: ='대회일수 표시(소년체전)'!D60 -> 동의과학대학교 | F62: 2 | G62: 1 | H62: 1 | I62: 1 | J62: =$F62*$Q$4 -> 0 | K62: =$G62*$R$4 -> 0 | L62: =$H62*$S$4 -> 0 | M62: =$I62*$T$4 -> 0 | N62: =SUM(J62:M62) -> 0
A63: 전국장애학생체전
A64: 1 | B64: ='대회일수 표시(소년체전)'!B61 -> 부산 | C64: ='대회일수 표시(소년체전)'!C61 -> 골볼 | D64: 전종별 | E64: ='대회일수 표시(소년체전)'!D61 -> 남구국민체육센터 2관 | F64: 1 | G64: 1 | H64: 5 | I64: 1 | J64: =$F64*$Q$4 -> 0 | K64: =$G64*$R$4 -> 0 | L64: =$H64*$S$4 -> 0 | M64: =$I64*$T$4 -> 0 | N64: =SUM(J64:M64) -> 0
A65: 2 | B65: ='대회일수 표시(소년체전)'!B62 -> 부산 | C65: ='대회일수 표시(소년체전)'!C62 -> 농구 | D65: 전종별 | E65: ='대회일수 표시(소년체전)'!D62 -> 사직실내체육관 | F65: 2 | G65: 2 | H65: 2 | I65: 2 | J65: =$F65*$Q$4 -> 0 | K65: =$G65*$R$4 -> 0 | L65: =$H65*$S$4 -> 0 | M65: =$I65*$T$4 -> 0 | N65: =SUM(J65:M65) -> 0
A66: 3 | B66: ='대회일수 표시(소년체전)'!B63 -> 부산 | C66: ='대회일수 표시(소년체전)'!C63 -> 디스크골프 | D66: 전종별 | E66: ='대회일수 표시(소년체전)'!D63 -> 기장월드컵빌리지(인조B) | F66: 2 | G66: 1 | H66: 2 | I66: 3 | J66: =$F66*$Q$4 -> 0 | K66: =$G66*$R$4 -> 0 | L66: =$H66*$S$4 -> 0 | M66: =$I66*$T$4 -> 0 | N66: =SUM(J66:M66) -> 0
A67: 4 | B67: ='대회일수 표시(소년체전)'!B64 -> 부산 | C67: ='대회일수 표시(소년체전)'!C64 -> 배구 | D67: 전종별 | E67: ='대회일수 표시(소년체전)'!D64 -> 동의대학교 효민체육관 | F67: 1 | G67: 1 | H67: 4 | I67: 1 | J67: =$F67*$Q$4 -> 0 | K67: =$G67*$R$4 -> 0 | L67: =$H67*$S$4 -> 0 | M67: =$I67*$T$4 -> 0 | N67: =SUM(J67:M67) -> 0
A68: 5 | B68: ='대회일수 표시(소년체전)'!B65 -> 부산 | C68: ='대회일수 표시(소년체전)'!C65 -> 배드민턴 | D68: 전종별 | E68: ='대회일수 표시(소년체전)'!D65 -> 강서실내체육관 | F68: 3 | G68: 1 | H68: 1 | I68: 1 | J68: =$F68*$Q$4 -> 0 | K68: =$G68*$R$4 -> 0 | L68: =$H68*$S$4 -> 0 | M68: =$I68*$T$4 -> 0 | N68: =SUM(J68:M68) -> 0
A69: 6 | B69: ='대회일수 표시(소년체전)'!B66 -> 부산 | C69: ='대회일수 표시(소년체전)'!C66 -> 보치아 | D69: 전종별 | E69: ='대회일수 표시(소년체전)'!D66 -> 금정체육관 | F69: 2 | G69: 2 | H69: 2 | I69: 1 | J69: =$F69*$Q$4 -> 0 | K69: =$G69*$R$4 -> 0 | L69: =$H69*$S$4 -> 0 | M69: =$I69*$T$4 -> 0 | N69: =SUM(J69:M69) -> 0
A70: 7 | B70: ='대회일수 표시(소년체전)'!B67 -> 부산 | C70: ='대회일수 표시(소년체전)'!C67 -> 볼링 | D70: 전종별 | E70: ='대회일수 표시(소년체전)'!D67 -> 반도볼링장 | F70: 3 | H70: 2 | J70: =$F70*$Q$4 -> 0 | K70: =$G70*$R$4 -> 0 | L70: =$H70*$S$4 -> 0 | M70: =$I70*$T$4 -> 0 | N70: =SUM(J70:M70) -> 0
A71: 8 | B71: ='대회일수 표시(소년체전)'!B68 -> 부산 | C71: ='대회일수 표시(소년체전)'!C68 -> 수영 | D71: 전종별 | E71: ='대회일수 표시(소년체전)'!D68 -> 사직실내수영장 | F71: 1 | H71: 1 | I71: 1 | J71: =$F71*$Q$4 -> 0 | K71: =$G71*$R$4 -> 0 | L71: =$H71*$S$4 -> 0 | M71: =$I71*$T$4 -> 0 | N71: =SUM(J71:M71) -> 0
A72: 9 | B72: ='대회일수 표시(소년체전)'!B69 -> 부산 | C72: ='대회일수 표시(소년체전)'!C69 -> 역도 | D72: 전종별 | E72: ='대회일수 표시(소년체전)'!D69 -> 부산교육대학교 제1체육관 | F72: 2 | G72: 1 | H72: 5 | I72: 4 | J72: =$F72*$Q$4 -> 0 | K72: =$G72*$R$4 -> 0 | L72: =$H72*$S$4 -> 0 | M72: =$I72*$T$4 -> 0 | N72: =SUM(J72:M72) -> 0
A73: 10 | B73: ='대회일수 표시(소년체전)'!B70 -> 부산 | C73: ='대회일수 표시(소년체전)'!C70 -> 육상 | D73: 전종별 | E73: ='대회일수 표시(소년체전)'!D70 -> 아시아드주경기장 | F73: 3 | G73: 2 | I73: 2 | J73: =$F73*$Q$4 -> 0 | K73: =$G73*$R$4 -> 0 | L73: =$H73*$S$4 -> 0 | M73: =$I73*$T$4 -> 0 | N73: =SUM(J73:M73) -> 0
A74: 11 | B74: ='대회일수 표시(소년체전)'!B71 -> 부산 | C74: ='대회일수 표시(소년체전)'!C71 -> 조정 | D74: 전종별 | E74: ='대회일수 표시(소년체전)'!D71 -> 부산은행 연수원 | F74: 3 | G74: 2 | H74: 2 | I74: 3 | J74: =$F74*$Q$4 -> 0 | K74: =$G74*$R$4 -> 0 | L74: =$H74*$S$4 -> 0 | M74: =$I74*$T$4 -> 0 | N74: =SUM(J74:M74) -> 0
A75: 12 | B75: ='대회일수 표시(소년체전)'!B72 -> 부산 | C75: ='대회일수 표시(소년체전)'!C72 -> 축구 | D75: 전종별 | E75: ='대회일수 표시(소년체전)'!D72 -> 기장월드컵빌리지(인조A) | F75: 2 | G75: 2 | H75: 4 | I75: 2 | J75: =$F75*$Q$4 -> 0 | K75: =$G75*$R$4 -> 0 | L75: =$H75*$S$4 -> 0 | M75: =$I75*$T$4 -> 0 | N75: =SUM(J75:M75) -> 0
A76: 13 | B76: ='대회일수 표시(소년체전)'!B73 -> 부산 | D76: 전종별 | E76: ='대회일수 표시(소년체전)'!D73 -> 기장월드컵빌리지(천연B)
A77: 14 | B77: ='대회일수 표시(소년체전)'!B74 -> 부산 | C77: ='대회일수 표시(소년체전)'!C74 -> 탁구 | D77: 전종별 | E77: ='대회일수 표시(소년체전)'!D74 -> 기장체육관 | F77: 1 | G77: 1 | H77: 1 | I77: 1 | J77: =$F77*$Q$4 -> 0 | K77: =$G77*$R$4 -> 0 | L77: =$H77*$S$4 -> 0 | M77: =$I77*$T$4 -> 0 | N77: =SUM(J77:M77) -> 0
A78: 15 | B78: ='대회일수 표시(소년체전)'!B75 -> 부산 | C78: ='대회일수 표시(소년체전)'!C75 -> 쇼다운 | D78: 전종별 | E78: ='대회일수 표시(소년체전)'!D75 -> 부산사회복지종합센터 | F78: 1 | G78: 2 | H78: 2 | I78: 1 | J78: =$F78*$Q$4 -> 0 | K78: =$G78*$R$4 -> 0 | L78: =$H78*$S$4 -> 0 | M78: =$I78*$T$4 -> 0 | N78: =SUM(J78:M78) -> 0
A79: 16 | B79: ='대회일수 표시(소년체전)'!B76 -> 부산 | C79: ='대회일수 표시(소년체전)'!C76 -> 슐런 | D79: 전종별 | E79: ='대회일수 표시(소년체전)'!D76 -> 부산대학교 경암체육관 | F79: 2 | G79: 1 | H79: 3 | I79: 1 | J79: =$F79*$Q$4 -> 0 | K79: =$G79*$R$4 -> 0 | L79: =$H79*$S$4 -> 0 | M79: =$I79*$T$4 -> 0 | N79: =SUM(J79:M79) -> 0
A80: 17 | B80: ='대회일수 표시(소년체전)'!B77 -> 부산 | C80: ='대회일수 표시(소년체전)'!C77 -> 플로어볼 | D80: 전종별 | E80: ='대회일수 표시(소년체전)'!D77 -> 한마음스포츠센터 | F80: 1 | G80: 2 | H80: 1 | I80: 2 | J80: =$F80*$Q$4 -> 0 | K80: =$G80*$R$4 -> 0 | L80: =$H80*$S$4 -> 0 | M80: =$I80*$T$4 -> 0 | N80: =SUM(J80:M80) -> 0
A81: 18 | B81: ='대회일수 표시(소년체전)'!B78 -> 부산 | C81: ='대회일수 표시(소년체전)'!C78 -> e스포츠 | D81: 전종별 | E81: ='대회일수 표시(소년체전)'!D78 -> 부산전자공업고등학교 | F81: 2 | G81: 1 | H81: 2 | I81: 2 | J81: =$F81*$Q$4 -> 0 | K81: =$G81*$R$4 -> 0 | L81: =$H81*$S$4 -> 0 | M81: =$I81*$T$4 -> 0 | N81: =SUM(J81:M81) -> 0
