Workbook
Name _: #REF!
Name _: #REF!
Name _.사급자재대: #REF!
Name _.사급자재대: #REF!
Name _?: #REF!
Name _?: #REF!
Name __: #REF!
Name __: #REF!
Name __?: #REF!
Name __?: #REF!
Name __?Crite: #REF!
Name __?Crite: #REF!
Name __?Crite_18: #REF!
Name __?Crite_18: #REF!
Name __?Crite_6: #REF!
Name __?Crite_6: #REF!
Name __?Crite_7: #REF!
Name __?Crite_7: #REF!
Name __?Crite_8: #REF!
Name __?Crite_8: #REF!
Name __?Criteria: #REF!
Name __?Criteria: #REF!
Name __?Criteria_18: #REF!
Name __?Criteria_18: #REF!
Name __?Criteria_6: #REF!
Name __?Criteria_6: #REF!
Name __?Criteria_7: #REF!
Name __?Criteria_7: #REF!
Name __?Criteria_8: #REF!
Name __?Criteria_8: #REF!
Name ___: #REF!
Name ___: #REF!
Name ___?: #REF!
Name ___?: #REF!
Name ____: #REF!
Name ____: #REF!
Name _____: #REF!
Name _____: #REF!
Name ______: #REF!
Name ______: #REF!
Name _______: #REF!
Name _______: #REF!
Name __________: #REF!
Name __________: #REF!
Name _____________0: #REF!
Name _____________0: #REF!
Name _____________11: #REF!
Name _____________11: #REF!
Name _____________12: #REF!
Name _____________12: #REF!
Name __________0: #REF!
Name __________0: #REF!
Name __________11: #REF!
Name __________11: #REF!
Name __________12: #REF!
Name __________12: #REF!
Name _________0: #REF!
Name _________0: #REF!
Name _________10: #REF!
Name _________10: #REF!

Sheet 표지
A5: 출입카드관리시스템 노후 장비 교체(출입리더기 등 구매·설치) 산출내역서
A12: 2026. 3. .

Sheet 원가계산서
A1: 원 가 계 산 서
A2: 사업명: | B2: 출입카드관리시스템 노후 장비 교체(출입리더기 등 구매·설치) | G2: (단위:원)
A3: 구 분 비 목 | D3: 금 액 | E3: 구 성 비 | G3: 비 고
A4: 순 공 사 비 | B4: 재료비 | C4: 직접재료비 | D4: ='설계내역서(재료비 및 노무비)'!F27 -> 0
C5: 간접재료비
C6: 소계 | D6: =SUM(D4:D5) -> 0
B7: 노무비 | C7: 직접노무비 | D7: ='설계내역서(재료비 및 노무비)'!H27 -> 0
C8: 간접노무비
C9: 소계 | D9: =SUM(D7:D8) -> 0
B10: 경비 | C10: 산재보험료 | D10: =TRUNC(D9*F10,0) -> 0 | E10: 노무비× | F10: 0.0356
C11: 고용보험료 | D11: =TRUNC(D9*F11,0) -> 0 | E11: 노무비× | F11: 0.0101
C12: 건강보험료 | D12: =TRUNC(D7*F12,0) -> 0 | E12: 직접노무비× | F12: 0.03595
C13: 연금보험료 | D13: =TRUNC(D7*F13,0) -> 0 | E13: 직접노무비× | F13: 0.0475
C14: 노인장기요양보험료 | D14: =TRUNC(D12*F14,0) -> 0 | E14: 건강보험료× | F14: 0.1314
C15: 산업안전보건관리비 | D15: =TRUNC((D6+D7)*F15,0) -> 0 | E15: (재료비+직접노무비)× | F15: 0.0207
C16: 소계 | D16: =SUM(D10:D15) -> 0
B17: 순공사비 합계 | D17: =D6+D9+D16 -> 0 | E17: 재료비+노무비+경비
A18: 주 요 자 재 비 | D18: =주요자재내역서!I16 -> 0
A19: 일 반 관 리 비 | D19: =TRUNC((D6+D9+D16)*F19,0) -> 0 | E19: (재료비+노무비+경비)× | F19: 0.05
A20: 이 윤 | D20: =TRUNC((D9+D16+D19)*F20,0) -> 0 | E20: (노무비+경비+일반관리비)× | F20: 0.1
A21: 공 급 가 액 | D21: =SUM(D17:D20) -> 0
A22: 부 가 가 치 세 | D22: =D21*10% -> 0 | E22: 공급가액의 10%
A23: 총 합 계 | D23: =TRUNC(D21+D22,-4) -> 0 | E23: 만원단위 이하 절사
A24: 관 급 자 재 | E24: 조달구매(출입게이트 26대)
A25: 총 사 업 비

Sheet 설계내역서(재료비 및 노무비)
A1: [ 설계내역서 ] 출입카드관리시스템 노후 장비 교체 (출입리더기 등 구매·설치)
A2: 품 명 | B2: 규 격 | C2: 단위 | D2: 수량 | E2: 재 료 비 | G2: 노 무 비 | I2: 계 | J2: 호표 | K2: 비 고
E3: 단 가 | F3: 금 액 | G3: 단 가 | H3: 금 액
A4: 출입통제 운영서버(WAS,D/B) | B4: Xeon E-2434, 3.4GHz(1P/4Core),32GB RAM,960GB SATA RI SSD * 2ea(RAID1)/1.2TB SAS HDD * 2ea(RAID1), MR216i-o control, 1GbE 4p NIC * 1ea, 500W Power * 2ea | C4: EA | D4: 2
A5: OS | B5: Windows Server 2022 for EMD STD (CAL Less) | C5: EA | D5: 2
A6: DBMS | B6: DBMS | C6: EA | D6: 1
A7: 내방객용 운영PC(얼굴표출확인) | B7: Core Ultra 5-235 vPro(5.0GHz,14C,24MB,65W)/16GB/256G SSD/700W/WIN11/Nvidia A400 4GB(고사양 그래픽카드) (24인치 모니터 2대 포함) | C7: EA | D7: 3
A8: 내방신청 스마트패드 | B8: SM-X730NZAEKOO, Octa-Core 3.73Hz, 3.3GHz,8GB,Android, 278.1mm, 2,560X1,600 | C8: EA | D8: 3
A9: 리더기 브래킷 | B9: Steel 분체도장,내부 매립 형태로 게이트 하부에 리더기 고정용 | C9: EA | D9: 43
A10: 리더기 브래킷 | B10: 얼굴리더 고정용,알루미늄,원형 나사식 방식,높이 최대 30cm 조절 | C10: EA | D10: 43
A11: 스위치허브(24포트) | B11: Managed, 24Port 1Gbps UTP + 4 Slot 1Gbps SFP, 보안기능확인서 | C11: EA | D11: 3
A12: 스위치허브(8포트) | B12: Managed, 8Port 1Gbps UTP + 2 Slot 1Gbps SFP,보안기능확인서 | C12: EA | D12: 7
A27: 합 계

Sheet 주요자재내역서
A1: [ 주요자재내역서 ] 출입카드관리시스템 노후 장비 교체 (출입리더기 등 구매·설치)
A2: 품 명 | B2: 규 격 | C2: 단위 | D2: 수량 | E2: 재 료 비 | G2: 노 무 비 | I2: 계 | J2: 호표 | K2: 비 고
E3: 단 가 | F3: 금 액 | G3: 단 가 | H3: 금 액
A4: Card Reader(LCD) | B4: CDR-10010(13.56MHz A/B Type), iOS인증모듈 및 펌웨어 포함 | C4: EA | D4: 178 | K4: 제조사 물품공급 및 기술지원협약
A5: Card Reader(LED) | B5: CDR-10012(13.56MHz A/B Type), iOS인증모듈 및 펌웨어 포함 | C5: EA | D5: 43 | K5: 제조사 물품공급 및 기술지원협약
A6: 얼굴인식 Reader | B6: CDR-10029(13.56MHz A/B Type,얼굴인식), 펌웨어 포함 | C6: EA | D6: 34 | K6: 제조사 물품공급 및 기술지원협약
A7: 얼굴인식 Reader(발열인식모듈) | B7: CDR-10029(13.56MHz A/B Type,얼굴인식), 발열인식모듈, 펌웨어 포함 | C7: EA | D7: 9 | K7: 제조사 물품공급 및 기술지원협약
A8: 지문 Reader | B8: CDR-10007(13.56MHz A/B Type,지문인식), iOS인증모듈 및 펌웨어 포함 | C8: EA | D8: 5 | K8: 제조사 물품공급 및 기술지원협약
A9: 복합전원장치 | B9: POW-10006,입력 AC220V,1.7A / 출력 12V(2A),24V(4A) / 출력단자[과전류,과전압] 보호회로 | C9: EA | D9: 43 | K9: 제조사 물품공급 및 기술지원협약
A10: 출입통제프로그램 S/W | B10: Access Manager v5.0 라이선스 기능 □ 라이선스 구성 - Access Manager v5.0 라이선스 제공 □ 출입 권한 관리 기능 - 출입권한, 출입 카드, 출입정책 설정, 출입문 및 출입리더기 관리 - 시스템 이력 관리, 출입이력 관리 및 조회 - 사용자 관리 ※ 사용자 정보(공무원)는 발주기관의 업무시스템의 사용자 정보와 연계함 □ 입통제 내방객 관리 기능 - 방문자 및 방문 정보 등록·관리 - 내방객 전용 단말기(스마트패드, PC) 등록·관리 - 출입통제시스템과 연동하여 방문기록 통합 관리 - 게이트 출입자(얼굴인식리더기 입력정보) 확인 등 | C10: 식 | D10: 1 | K10: 제조사 물품공급 및 기술지원협약
A16: 합 계

Sheet 일대목차
A1: [ 일위대가목록표 ] 출입카드관리시스템 노후 장비 교체 (출입리더기 등 구매·설치)
A2: 코 드 | B2: 품 명 | C2: 규 격 | D2: 단위 | E2: 수량 | F2: 재 료 비 | H2: 노 무 비 | J2: 경 비 | L2: 계 | M2: 비 고
F3: 단 가 | G3: 금 액 | H3: 단 가 | I3: 금 액 | J3: 단 가 | K3: 금 액
A4: 제 1호표 | B4: 스위치허브(24포트) | C4: Managed, 24Port 1Gbps UTP + 4 Slot 1Gbps SFP, 보안기능확인서 | D4: EA | E4: 1 | F4: 650000 | G4: =TRUNC(E4*F4,2) -> 650000 | H4: =일위대가표!H8 -> 247168.68 | I4: =TRUNC(E4*H4,2) -> 247168.68 | L4: =SUM(G4,I4,K4) -> 897168.68
A5: 제 2호표 | B5: 스위치허브(8포트) | C5: Managed, 8Port 1Gbps UTP + 2 Slot 1Gbps SFP,보안기능확인서 | D5: EA | E5: 1 | F5: 420000 | G5: =TRUNC(E5*F5,2) -> 420000 | H5: =일위대가표!H14 -> 247168.68 | I5: =TRUNC(E5*H5,2) -> 247168.68 | L5: =SUM(G5,I5,K5) -> 667168.68

Sheet 일위대가표
A1: [ 일위대가표 ] 출입카드관리시스템 노후 장비 교체 (출입리더기 등 구매·설치) | G1: ※ 2026년 정보통신공사 표준품셈 적용
A2: 품 명 | B2: 규 격 | C2: 단위 | D2: 수량 | E2: 재 료 비 | G2: 노 무 비 | I2: 경 비 | K2: 계 | L2: 비 고
E3: 단 가 | F3: 금 액 | G3: 단 가 | H3: 금 액 | I3: 단 가 | J3: 금 액
A4: ▶제 1호표 | B4: ▶품명 : 스위치허브(24포트) | I4: ▶단위: EA
A5: 스위치허브(24포트) | B5: 24Port 1Gbps UTP | C5: EA | D5: 1 | E5: 650000 | F5: =E5 -> 650000 | H5: 0 | K5: =F5 -> 650000
A6: 노무비 | B6: S/W시험사 | C6: 인 | D6: 0.36 | G6: =노무비단가내역!F13 -> 446358 | H6: =D6*G6 -> 160688.88 | K6: =H6 -> 160688.88 | L6: 통신 8-1-1
B7: H/W시험사 | C7: 인 | D7: 0.22 | G7: =노무비단가내역!F12 -> 393090 | H7: =D7*G7 -> 86479.8 | K7: =H7 -> 86479.8
A8: 합 계 | F8: =SUM(F5:F7) -> 650000 | H8: =SUM(H5:H7) -> 247168.68 | K8: =SUM(K5:K7) -> 897168.68
A10: ▶제 2호표 | B10: ▶품명 : 스위치허브(8포트) | I10: ▶단위: EA
A11: 스위치허브(8포트) | B11: 8Port 1Gbps UTP | C11: EA | D11: 1 | E11: 420000 | F11: =E11 -> 420000 | H11: 0 | K11: =F11 -> 420000
A12: 노무비 | B12: S/W시험사 | C12: 인 | D12: 0.36 | G12: =노무비단가내역!F13 -> 446358 | H12: =D12*G12 -> 160688.88 | K12: =H12 -> 160688.88 | L12: 통신 8-1-1
B13: H/W시험사 | C13: 인 | D13: 0.22 | G13: =노무비단가내역!F12 -> 393090 | H13: =D13*G13 -> 86479.8 | K13: =H13 -> 86479.8
A14: 합 계 | F14: =SUM(F11:F13) -> 420000 | H14: =SUM(H11:H13) -> 247168.68 | K14: =SUM(K11:K13) -> 667168.68

Sheet 노무비단가내역
A1: 【노무비 단가 내역】
B2: ※ 2026년 상반기 적용 건설업 임금실태 조사 보고서(시중노임단가)
A3: NO | B3: 규 격 | C3: 단위 | D3: 수량 | E3: 산출기초 (2026년 상반기 노임) | F3: 적용단가 | G3: 비 고
F4: 1 | I4: 1
A5: 1 | B5: 통신관련기사 | C5: 인 | D5: 1 | E5: 320449 | F5: =E5*$I$4 -> 320449
A6: 2 | B6: 통신관련산업기사 | C6: 인 | D6: 1 | E6: 304509 | F6: =E6*$I$4 -> 304509
A7: 3 | B7: 통신설비공 | C7: 인 | D7: 1 | E7: 315528 | F7: =E7*$I$4 -> 315528
A8: 4 | B8: 통신케이블공 | C8: 인 | D8: 1 | E8: 436224 | F8: =E8*$I$4 -> 436224
A9: 5 | B9: 보통인부 | C9: 인 | D9: 1 | E9: 172068 | F9: =E9*$I$4 -> 172068
A10: 6 | B10: 통신내선공 | C10: 인 | D10: 1 | E10: 284880 | F10: =E10*$I$4 -> 284880
A11: 7 | B11: 통신외선공 | C11: 인 | D11: 1 | E11: 408942 | F11: =E11*$I$4 -> 408942
A12: 8 | B12: H/W시험사 | C12: 인 | D12: 1 | E12: 393090 | F12: =E12*$I$4 -> 393090
A13: 9 | B13: S/W시험사 | C13: 인 | D13: 1 | E13: 446358 | F13: =E13*$I$4 -> 446358
A14: 10 | B14: 특별인부 | C14: 인 | D14: 1 | E14: 226122 | F14: =E14*$I$4 -> 226122
A15: 11 | B15: 광케이블설치사 | C15: 인 | D15: 1 | E15: 471349 | F15: =E15*$I$4 -> 471349
A16: 12 | B16: 통신관련기능사 | C16: 인 | D16: 1 | E16: 249822 | F16: =E16*$I$4 -> 249822
A17: 13 | B17: 내선전공 | C17: 인 | D17: 1 | E17: 273676 | F17: =E17*$I$4 -> 273676
